{"text_format":"1","workbook":"xlsx","n_sheets":27,"sheets":["Instructions","Tailoring","Version","Hidden Data","Specs Import","DB Export","MDV","JMF Summary","Volumetrics","Gmm","Stability","TSR","Gradation","Agg - Coarse","Agg - Fine","Agg Gsb","Binder Report","JMF Summary (MDV)","Volumetrics (MDV)","Gmm (MDV)","Stability (MDV)","TSR (MDV)","Gradation (MDV)","Agg - Coarse (MDV)","Agg - Fine (MDV)","Agg Gsb (MDV)","Binder Report (MDV)"],"not_rendered":{"charts":22,"images":20,"macros":1,"external_links":0,"defined_names":515,"comments":19,"pivot_tables":0},"unopened":[],"bounds":{"document_bytes":16777216,"sheet_cells":100000,"rows_first":2000,"rows_last":500,"rows_between":2000,"halvings":0,"cell_chars":16384,"cell_head_chars":4096},"cells_cut":0,"cells_raw":0,"read":"whole","date_system":"1900"}

{"sheet":"Instructions","index":0,"n_rows":49,"n_cols":2,"rows_kept":49,"cut":false,"hidden":false,"merged":[[7,1,7,2],[2,1,2,2],[3,1,3,2],[4,1,4,2],[5,1,5,2],[6,1,6,2],[19,1,19,2],[8,1,8,2],[9,1,9,2],[10,1,10,2],[11,1,11,2],[12,1,12,2],[13,1,13,2],[14,1,14,2],[15,1,15,2],[16,1,16,2],[17,1,17,2],[18,1,18,2],[31,1,31,2],[20,1,20,2],[21,1,21,2],[22,1,22,2],[23,1,23,2],[24,1,24,2],[25,1,25,2],[26,1,26,2],[27,1,27,2],[28,1,28,2],[29,1,29,2],[30,1,30,2],[38,1,38,2],[39,1,39,2],[40,1,40,2],[32,1,32,2],[33,1,33,2],[34,1,34,2],[35,1,35,2],[36,1,36,2],[37,1,37,2]]}
["UFGS 32 12 15.13 Asphalt Mix Design Template User Instructions"]
[]
["Worksheet","Instructions"]
["JMF Summary","1) Provide information in all header blocks."]
[null,"2) Input individual aggregate IDs, source information, blend percentages, and gradations."]
[null,"3) Input additive and RAP information as applicable."]
[null,"Note 1 - All aggregate specific gravities, aggregate consensus properties, mixture volumetrics, and mixture mechanical properties utilize formulas referencing other worksheets."]
["Volumetrics","1) Enter up to 5 trial asphalt contents, beginning with top row of table. If less than 5, leave unused cells at bottom of table blank or with dashes."]
[null,"2) Enter specimen height and bulk specific gravity data for each trial asphalt content."]
[null,"3) Click button to auto-scale charts to fit plotted data."]
[null,"4) Enter data for single-point verification at optimum asphalt content, if performed."]
[null,"Note 1 - Gmm, Stability (as applicable), Agg Gsb, and Binder Report worksheets must be completed for volumetric calculations to be performed."]
[null,"Note 2 - Chart auto-scale feature will require macros to be enabled if not already."]
["Gmm","1) Select container and procedure of test method. Check box if dry back procedure is conducted."]
[null,"2) Enter max specific gravity data for the applicable procedures for a minimum of two trial asphalt contents."]
[null,"Note 1 - Trial asphalt contents are referenced to the Volumetrics sheet, and binder specific gravity is references to the Binder Report sheet."]
["Stability","1) Enter date test performed."]
[null,"2) Enter stability and flow data, and select flow calculation method (peak or offset tangent)."]
[null,"Note 1 - Stability worksheet is only applicable for Marshall mix designs."]
[null,"Note 2 - Trial asphalt contents and specimen heights are referenced to the Volumetrics sheet."]
["TSR","1) Enter date test performed."]
[null,"2) Check box if freeze-thaw conditioning cycle performed."]
[null,"3) Enter specimen IDs and test data for unconditioned and conditioned specimens."]
[null,"Note 1 - Gmm at the optimum asphalt content is referenced to the Volumetrics sheet."]
["Gradation","Worksheet may be used if helpful but is not required for submittal. Use the JMF Summary Sheet to input proposed aggregate gradations and blend proportions."]
[null,"1) In addition to aggregates and gradations populated from the JMF Summary worksheet, manual entries may be entered in the Individual Stockpile Gradations table."]
[null,"2) Enter percentages in Trial Blends table to calculate trial blend gradations as needed."]
[null,"3) Check boxes as needed to plot desired trial blends. "]
["Agg - Coarse","1) Select solution used for ASTM C88 sulfate soundness testing."]
[null,"2) Enter date tested and test data for each applicable aggregate test."]
[null,"Note 1 - Coarse aggregate tests are required for coarse and intermediate size aggregates, as defined by the percent passing the No. 4 sieve."]
["Agg - Fine","1) Check boxes, as applicable, to indicate an aggregate is a natural sand."]
[null,"2) Enter date tested and test data for each applicable aggregate test."]
[null,"Note 1 - Fine aggregate tests are required for fine and intermediate size aggregates, as defined by the percent passing the No. 4 sieve."]
[null,"Note 2 - Uncompacted void content, or fine aggregate angularity, is measured on the passing No. 4 portion of the entire aggregate blend."]
["Agg Gsb","1) Select ASTM C128 procedure, and enter date test performed."]
[null,"2) Enter test data for coarse and fine aggregate specific gravity as applicable for each aggregate."]
[null,"Note 1 - ASTM C127 or C128 or both are to be performed based on aggregate size class, as defined by the percent passing the No. 4 sieve."]
["Binder Report","1) Check boxes to indicate whether or not anti-strip or warm mix additives were included in the binder when tested."]
[null,"2) Enter test results for each property that is required to be reported or is governed by a specification requirement."]
[null,"3) Indicate whether the binder is or is not a polymer-modified binder (PMB)."]
[]
[]
[]
["Yes","Clear and reset lab personnel title blocks on each sheet when resetting the sheet?"]
[]
[]
[]
["Note: If formulas appear not to update when expected, refresh Excel calculations by pressing Ctrl + Alt + F9."]

{"sheet":"Tailoring","index":1,"n_rows":15,"n_cols":2,"rows_kept":15,"cut":false,"hidden":false,"merged":[[2,0,2,1]]}
["UFGS 32 12 15.13 Asphalt Mix Design Template Manual Tailoring Options"]
[]
["Manual Tailoring Options"]
["Units","US"]
["Gradation",2]
["Design Method","75 Gyr"]
["Binder Grading System","PG"]
["Binder Grade","PG 64-22"]
["MSCR Designation",""]
["High-Polymer","No (most common)"]
["Climatic Grade","PG 64-22"]
["PG+ Test","None"]
[]
["Note: This feature is only for use with the generic template. For any file submitted through PaveMD, the appropriate template"]
["should be downloaded from the corresponding Project Task to ensure specification values are imported into this template."]

{"sheet":"Version","index":2,"n_rows":7,"n_cols":2,"rows_kept":7,"cut":false,"hidden":true,"merged":[]}
["Template Version","20260115 1408"]
["Last Updated (UTC)"]
["Default Spec Name"]
["UFGS Spec"]
["Default Spec Version"]
["Default Spec Created (UTC)"]
["Default Spec Updated (UTC)"]

{"sheet":"Hidden Data","index":3,"n_rows":53,"n_cols":10,"rows_kept":53,"cut":false,"hidden":true,"merged":[]}
["Hidden Background Data for Manual Tailoring Inputs"]
[]
[]
["Binder Grading Dropdowns on Tailoring Sheet"]
["Grading","PEN","AC","AR","PG","MSCR","MSCE Letter Options","MSCR_Letter","Climate","PG+"]
["PEN","40-50 PEN","AC-2.5","AR-1000","PG 46-46",{"$f":"IF(Tailoring!$B$7='Hidden Data'!$A$10,PG[[#This Row],[PG]],\"\")","v":""},"S",{"$f":"IF(Tailoring!$B$7='Hidden Data'!$A$10,G6,\"\")","v":""},{"$f":"IF(OR(Tailoring!$B$7='Hidden Data'!$A$9,Tailoring!$B$7='Hidden Data'!$A$10),PG[[#This Row],[PG]],\"\")","v":"PG 46-46"},"None"]
["AC","60-70 PEN","AC-5","AR-2000","PG 46-40",{"$f":"IF(Tailoring!$B$7='Hidden Data'!$A$10,PG[[#This Row],[PG]],\"\")","v":""},"H",{"$f":"IF(Tailoring!$B$7='Hidden Data'!$A$10,G7,\"\")","v":""},{"$f":"IF(OR(Tailoring!$B$7='Hidden Data'!$A$9,Tailoring!$B$7='Hidden Data'!$A$10),PG[[#This Row],[PG]],\"\")","v":"PG 46-40"},"Elastic Recovery"]
["AR","85-100 PEN","AC-10","AR-4000","PG 46-34",{"$f":"IF(Tailoring!$B$7='Hidden Data'!$A$10,PG[[#This Row],[PG]],\"\")","v":""},"V",{"$f":"IF(Tailoring!$B$7='Hidden Data'!$A$10,G8,\"\")","v":""},{"$f":"IF(OR(Tailoring!$B$7='Hidden Data'!$A$9,Tailoring!$B$7='Hidden Data'!$A$10),PG[[#This Row],[PG]],\"\")","v":"PG 46-34"},"Percent Recovery"]
["PG","120-150 PEN","AC-20","AR-8000","PG 52-46",{"$f":"IF(Tailoring!$B$7='Hidden Data'!$A$10,PG[[#This Row],[PG]],\"\")","v":""},"E",{"$f":"IF(Tailoring!$B$7='Hidden Data'!$A$10,G9,\"\")","v":""},{"$f":"IF(OR(Tailoring!$B$7='Hidden Data'!$A$9,Tailoring!$B$7='Hidden Data'!$A$10),PG[[#This Row],[PG]],\"\")","v":"PG 52-46"}]
["MSCR","200-300 PEN","AC-30","AR-16000","PG 52-40",{"$f":"IF(Tailoring!$B$7='Hidden Data'!$A$10,PG[[#This Row],[PG]],\"\")","v":""},null,null,{"$f":"IF(OR(Tailoring!$B$7='Hidden Data'!$A$9,Tailoring!$B$7='Hidden Data'!$A$10),PG[[#This Row],[PG]],\"\")","v":"PG 52-40"}]
[null,null,"AC-40",null,"PG 52-34",{"$f":"IF(Tailoring!$B$7='Hidden Data'!$A$10,PG[[#This Row],[PG]],\"\")","v":""},null,null,{"$f":"IF(OR(Tailoring!$B$7='Hidden Data'!$A$9,Tailoring!$B$7='Hidden Data'!$A$10),PG[[#This Row],[PG]],\"\")","v":"PG 52-34"}]
[null,null,null,null,"PG 52-28",{"$f":"IF(Tailoring!$B$7='Hidden Data'!$A$10,PG[[#This Row],[PG]],\"\")","v":""},null,null,{"$f":"IF(OR(Tailoring!$B$7='Hidden Data'!$A$9,Tailoring!$B$7='Hidden Data'!$A$10),PG[[#This Row],[PG]],\"\")","v":"PG 52-28"}]
[null,null,null,null,"PG 52-22",{"$f":"IF(Tailoring!$B$7='Hidden Data'!$A$10,PG[[#This Row],[PG]],\"\")","v":""},null,null,{"$f":"IF(OR(Tailoring!$B$7='Hidden Data'!$A$9,Tailoring!$B$7='Hidden Data'!$A$10),PG[[#This Row],[PG]],\"\")","v":"PG 52-22"}]
[null,null,null,null,"PG 52-16",{"$f":"IF(Tailoring!$B$7='Hidden Data'!$A$10,PG[[#This Row],[PG]],\"\")","v":""},null,null,{"$f":"IF(OR(Tailoring!$B$7='Hidden Data'!$A$9,Tailoring!$B$7='Hidden Data'!$A$10),PG[[#This Row],[PG]],\"\")","v":"PG 52-16"}]
[null,null,null,null,"PG 52-10",{"$f":"IF(Tailoring!$B$7='Hidden Data'!$A$10,PG[[#This Row],[PG]],\"\")","v":""},null,null,{"$f":"IF(OR(Tailoring!$B$7='Hidden Data'!$A$9,Tailoring!$B$7='Hidden Data'!$A$10),PG[[#This Row],[PG]],\"\")","v":"PG 52-10"}]
[null,null,null,null,"PG 58-40",{"$f":"IF(Tailoring!$B$7='Hidden Data'!$A$10,PG[[#This Row],[PG]],\"\")","v":""},null,null,{"$f":"IF(OR(Tailoring!$B$7='Hidden Data'!$A$9,Tailoring!$B$7='Hidden Data'!$A$10),PG[[#This Row],[PG]],\"\")","v":"PG 58-40"}]
[null,null,null,null,"PG 58-34",{"$f":"IF(Tailoring!$B$7='Hidden Data'!$A$10,PG[[#This Row],[PG]],\"\")","v":""},null,null,{"$f":"IF(OR(Tailoring!$B$7='Hidden Data'!$A$9,Tailoring!$B$7='Hidden Data'!$A$10),PG[[#This Row],[PG]],\"\")","v":"PG 58-34"}]
[null,null,null,null,"PG 58-28",{"$f":"IF(Tailoring!$B$7='Hidden Data'!$A$10,PG[[#This Row],[PG]],\"\")","v":""},null,null,{"$f":"IF(OR(Tailoring!$B$7='Hidden Data'!$A$9,Tailoring!$B$7='Hidden Data'!$A$10),PG[[#This Row],[PG]],\"\")","v":"PG 58-28"}]
[null,null,null,null,"PG 58-22",{"$f":"IF(Tailoring!$B$7='Hidden Data'!$A$10,PG[[#This Row],[PG]],\"\")","v":""},null,null,{"$f":"IF(OR(Tailoring!$B$7='Hidden Data'!$A$9,Tailoring!$B$7='Hidden Data'!$A$10),PG[[#This Row],[PG]],\"\")","v":"PG 58-22"}]
[null,null,null,null,"PG 58-16",{"$f":"IF(Tailoring!$B$7='Hidden Data'!$A$10,PG[[#This Row],[PG]],\"\")","v":""},null,null,{"$f":"IF(OR(Tailoring!$B$7='Hidden Data'!$A$9,Tailoring!$B$7='Hidden Data'!$A$10),PG[[#This Row],[PG]],\"\")","v":"PG 58-16"}]
[null,null,null,null,"PG 58-10",{"$f":"IF(Tailoring!$B$7='Hidden Data'!$A$10,PG[[#This Row],[PG]],\"\")","v":""},null,null,{"$f":"IF(OR(Tailoring!$B$7='Hidden Data'!$A$9,Tailoring!$B$7='Hidden Data'!$A$10),PG[[#This Row],[PG]],\"\")","v":"PG 58-10"}]
[null,null,null,null,"PG 64-40",{"$f":"IF(Tailoring!$B$7='Hidden Data'!$A$10,PG[[#This Row],[PG]],\"\")","v":""},null,null,{"$f":"IF(OR(Tailoring!$B$7='Hidden Data'!$A$9,Tailoring!$B$7='Hidden Data'!$A$10),PG[[#This Row],[PG]],\"\")","v":"PG 64-40"}]
[null,null,null,null,"PG 64-34",{"$f":"IF(Tailoring!$B$7='Hidden Data'!$A$10,PG[[#This Row],[PG]],\"\")","v":""},null,null,{"$f":"IF(OR(Tailoring!$B$7='Hidden Data'!$A$9,Tailoring!$B$7='Hidden Data'!$A$10),PG[[#This Row],[PG]],\"\")","v":"PG 64-34"}]
[null,null,null,null,"PG 64-28",{"$f":"IF(Tailoring!$B$7='Hidden Data'!$A$10,PG[[#This Row],[PG]],\"\")","v":""},null,null,{"$f":"IF(OR(Tailoring!$B$7='Hidden Data'!$A$9,Tailoring!$B$7='Hidden Data'!$A$10),PG[[#This Row],[PG]],\"\")","v":"PG 64-28"}]
[null,null,null,null,"PG 64-22",{"$f":"IF(Tailoring!$B$7='Hidden Data'!$A$10,PG[[#This Row],[PG]],\"\")","v":""},null,null,{"$f":"IF(OR(Tailoring!$B$7='Hidden Data'!$A$9,Tailoring!$B$7='Hidden Data'!$A$10),PG[[#This Row],[PG]],\"\")","v":"PG 64-22"}]
[null,null,null,null,"PG 64-16",{"$f":"IF(Tailoring!$B$7='Hidden Data'!$A$10,PG[[#This Row],[PG]],\"\")","v":""},null,null,{"$f":"IF(OR(Tailoring!$B$7='Hidden Data'!$A$9,Tailoring!$B$7='Hidden Data'!$A$10),PG[[#This Row],[PG]],\"\")","v":"PG 64-16"}]
[null,null,null,null,"PG 64-10",{"$f":"IF(Tailoring!$B$7='Hidden Data'!$A$10,PG[[#This Row],[PG]],\"\")","v":""},null,null,{"$f":"IF(OR(Tailoring!$B$7='Hidden Data'!$A$9,Tailoring!$B$7='Hidden Data'!$A$10),PG[[#This Row],[PG]],\"\")","v":"PG 64-10"}]
[null,null,null,null,"PG 67-22",{"$f":"IF(Tailoring!$B$7='Hidden Data'!$A$10,PG[[#This Row],[PG]],\"\")","v":""},null,null,{"$f":"IF(OR(Tailoring!$B$7='Hidden Data'!$A$9,Tailoring!$B$7='Hidden Data'!$A$10),PG[[#This Row],[PG]],\"\")","v":"PG 67-22"}]
[null,null,null,null,"PG 70-40",{"$f":"IF(Tailoring!$B$7='Hidden Data'!$A$10,PG[[#This Row],[PG]],\"\")","v":""},null,null,{"$f":"IF(OR(Tailoring!$B$7='Hidden Data'!$A$9,Tailoring!$B$7='Hidden Data'!$A$10),PG[[#This Row],[PG]],\"\")","v":"PG 70-40"}]
[null,null,null,null,"PG 70-34",{"$f":"IF(Tailoring!$B$7='Hidden Data'!$A$10,PG[[#This Row],[PG]],\"\")","v":""},null,null,{"$f":"IF(OR(Tailoring!$B$7='Hidden Data'!$A$9,Tailoring!$B$7='Hidden Data'!$A$10),PG[[#This Row],[PG]],\"\")","v":"PG 70-34"}]
[null,null,null,null,"PG 70-28",{"$f":"IF(Tailoring!$B$7='Hidden Data'!$A$10,PG[[#This Row],[PG]],\"\")","v":""},null,null,{"$f":"IF(OR(Tailoring!$B$7='Hidden Data'!$A$9,Tailoring!$B$7='Hidden Data'!$A$10),PG[[#This Row],[PG]],\"\")","v":"PG 70-28"}]
[null,null,null,null,"PG 70-22",{"$f":"IF(Tailoring!$B$7='Hidden Data'!$A$10,PG[[#This Row],[PG]],\"\")","v":""},null,null,{"$f":"IF(OR(Tailoring!$B$7='Hidden Data'!$A$9,Tailoring!$B$7='Hidden Data'!$A$10),PG[[#This Row],[PG]],\"\")","v":"PG 70-22"}]
[null,null,null,null,"PG 70-16",{"$f":"IF(Tailoring!$B$7='Hidden Data'!$A$10,PG[[#This Row],[PG]],\"\")","v":""},null,null,{"$f":"IF(OR(Tailoring!$B$7='Hidden Data'!$A$9,Tailoring!$B$7='Hidden Data'!$A$10),PG[[#This Row],[PG]],\"\")","v":"PG 70-16"}]
[null,null,null,null,"PG 70-10",{"$f":"IF(Tailoring!$B$7='Hidden Data'!$A$10,PG[[#This Row],[PG]],\"\")","v":""},null,null,{"$f":"IF(OR(Tailoring!$B$7='Hidden Data'!$A$9,Tailoring!$B$7='Hidden Data'!$A$10),PG[[#This Row],[PG]],\"\")","v":"PG 70-10"}]
[null,null,null,null,"PG 76-40",{"$f":"IF(Tailoring!$B$7='Hidden Data'!$A$10,PG[[#This Row],[PG]],\"\")","v":""},null,null,{"$f":"IF(OR(Tailoring!$B$7='Hidden Data'!$A$9,Tailoring!$B$7='Hidden Data'!$A$10),PG[[#This Row],[PG]],\"\")","v":"PG 76-40"}]
[null,null,null,null,"PG 76-34",{"$f":"IF(Tailoring!$B$7='Hidden Data'!$A$10,PG[[#This Row],[PG]],\"\")","v":""},null,null,{"$f":"IF(OR(Tailoring!$B$7='Hidden Data'!$A$9,Tailoring!$B$7='Hidden Data'!$A$10),PG[[#This Row],[PG]],\"\")","v":"PG 76-34"}]
[null,null,null,null,"PG 76-28",{"$f":"IF(Tailoring!$B$7='Hidden Data'!$A$10,PG[[#This Row],[PG]],\"\")","v":""},null,null,{"$f":"IF(OR(Tailoring!$B$7='Hidden Data'!$A$9,Tailoring!$B$7='Hidden Data'!$A$10),PG[[#This Row],[PG]],\"\")","v":"PG 76-28"}]
[null,null,null,null,"PG 76-22",{"$f":"IF(Tailoring!$B$7='Hidden Data'!$A$10,PG[[#This Row],[PG]],\"\")","v":""},null,null,{"$f":"IF(OR(Tailoring!$B$7='Hidden Data'!$A$9,Tailoring!$B$7='Hidden Data'!$A$10),PG[[#This Row],[PG]],\"\")","v":"PG 76-22"}]
[null,null,null,null,"PG 76-16",{"$f":"IF(Tailoring!$B$7='Hidden Data'!$A$10,PG[[#This Row],[PG]],\"\")","v":""},null,null,{"$f":"IF(OR(Tailoring!$B$7='Hidden Data'!$A$9,Tailoring!$B$7='Hidden Data'!$A$10),PG[[#This Row],[PG]],\"\")","v":"PG 76-16"}]
[null,null,null,null,"PG 76-10",{"$f":"IF(Tailoring!$B$7='Hidden Data'!$A$10,PG[[#This Row],[PG]],\"\")","v":""},null,null,{"$f":"IF(OR(Tailoring!$B$7='Hidden Data'!$A$9,Tailoring!$B$7='Hidden Data'!$A$10),PG[[#This Row],[PG]],\"\")","v":"PG 76-10"}]
[null,null,null,null,"PG 82-34",{"$f":"IF(Tailoring!$B$7='Hidden Data'!$A$10,PG[[#This Row],[PG]],\"\")","v":""},null,null,{"$f":"IF(OR(Tailoring!$B$7='Hidden Data'!$A$9,Tailoring!$B$7='Hidden Data'!$A$10),PG[[#This Row],[PG]],\"\")","v":"PG 82-34"}]
[null,null,null,null,"PG 82-28",{"$f":"IF(Tailoring!$B$7='Hidden Data'!$A$10,PG[[#This Row],[PG]],\"\")","v":""},null,null,{"$f":"IF(OR(Tailoring!$B$7='Hidden Data'!$A$9,Tailoring!$B$7='Hidden Data'!$A$10),PG[[#This Row],[PG]],\"\")","v":"PG 82-28"}]
[null,null,null,null,"PG 82-22",{"$f":"IF(Tailoring!$B$7='Hidden Data'!$A$10,PG[[#This Row],[PG]],\"\")","v":""},null,null,{"$f":"IF(OR(Tailoring!$B$7='Hidden Data'!$A$9,Tailoring!$B$7='Hidden Data'!$A$10),PG[[#This Row],[PG]],\"\")","v":"PG 82-22"}]
[null,null,null,null,"PG 82-16",{"$f":"IF(Tailoring!$B$7='Hidden Data'!$A$10,PG[[#This Row],[PG]],\"\")","v":""},null,null,{"$f":"IF(OR(Tailoring!$B$7='Hidden Data'!$A$9,Tailoring!$B$7='Hidden Data'!$A$10),PG[[#This Row],[PG]],\"\")","v":"PG 82-16"}]
[null,null,null,null,"PG 82-10",{"$f":"IF(Tailoring!$B$7='Hidden Data'!$A$10,PG[[#This Row],[PG]],\"\")","v":""},null,null,{"$f":"IF(OR(Tailoring!$B$7='Hidden Data'!$A$9,Tailoring!$B$7='Hidden Data'!$A$10),PG[[#This Row],[PG]],\"\")","v":"PG 82-10"}]
[null,null,null,null,"PG 88-34",{"$f":"IF(Tailoring!$B$7='Hidden Data'!$A$10,PG[[#This Row],[PG]],\"\")","v":""},null,null,{"$f":"IF(OR(Tailoring!$B$7='Hidden Data'!$A$9,Tailoring!$B$7='Hidden Data'!$A$10),PG[[#This Row],[PG]],\"\")","v":"PG 88-34"}]
[null,null,null,null,"PG 88-28",{"$f":"IF(Tailoring!$B$7='Hidden Data'!$A$10,PG[[#This Row],[PG]],\"\")","v":""},null,null,{"$f":"IF(OR(Tailoring!$B$7='Hidden Data'!$A$9,Tailoring!$B$7='Hidden Data'!$A$10),PG[[#This Row],[PG]],\"\")","v":"PG 88-28"}]
[null,null,null,null,"PG 88-22",{"$f":"IF(Tailoring!$B$7='Hidden Data'!$A$10,PG[[#This Row],[PG]],\"\")","v":""},null,null,{"$f":"IF(OR(Tailoring!$B$7='Hidden Data'!$A$9,Tailoring!$B$7='Hidden Data'!$A$10),PG[[#This Row],[PG]],\"\")","v":"PG 88-22"}]
[null,null,null,null,"PG 88-16",{"$f":"IF(Tailoring!$B$7='Hidden Data'!$A$10,PG[[#This Row],[PG]],\"\")","v":""},null,null,{"$f":"IF(OR(Tailoring!$B$7='Hidden Data'!$A$9,Tailoring!$B$7='Hidden Data'!$A$10),PG[[#This Row],[PG]],\"\")","v":"PG 88-16"}]
[null,null,null,null,"PG 88-10",{"$f":"IF(Tailoring!$B$7='Hidden Data'!$A$10,PG[[#This Row],[PG]],\"\")","v":""},null,null,{"$f":"IF(OR(Tailoring!$B$7='Hidden Data'!$A$9,Tailoring!$B$7='Hidden Data'!$A$10),PG[[#This Row],[PG]],\"\")","v":"PG 88-10"}]
[null,null,null,null,"PG 94-22",{"$f":"IF(Tailoring!$B$7='Hidden Data'!$A$10,PG[[#This Row],[PG]],\"\")","v":""},null,null,{"$f":"IF(OR(Tailoring!$B$7='Hidden Data'!$A$9,Tailoring!$B$7='Hidden Data'!$A$10),PG[[#This Row],[PG]],\"\")","v":"PG 94-22"}]
[null,null,null,null,"PG 94-16",{"$f":"IF(Tailoring!$B$7='Hidden Data'!$A$10,PG[[#This Row],[PG]],\"\")","v":""},null,null,{"$f":"IF(OR(Tailoring!$B$7='Hidden Data'!$A$9,Tailoring!$B$7='Hidden Data'!$A$10),PG[[#This Row],[PG]],\"\")","v":"PG 94-16"}]
[null,null,null,null,"PG 94-10",{"$f":"IF(Tailoring!$B$7='Hidden Data'!$A$10,PG[[#This Row],[PG]],\"\")","v":""},null,null,{"$f":"IF(OR(Tailoring!$B$7='Hidden Data'!$A$9,Tailoring!$B$7='Hidden Data'!$A$10),PG[[#This Row],[PG]],\"\")","v":"PG 94-10"}]

{"sheet":"Specs Import","index":4,"n_rows":227,"n_cols":28,"rows_kept":227,"cut":false,"hidden":true,"merged":[[7,0,8,0]]}
["Specs Import",null,null,null,null,null,null,null,null,null,null,null,null,null,null,null,null,null,null,null,null,null,null,null,null,null,1.2,"If avg lot pay factor exceeds 95.0% and no individal lot has a pay factor less than 75.0%, then percent payment for entire project is 100% of the unit bid price."]
[]
["Source","Tailoring Tab (Manual)","PaveMD Project (Auto)","Final"]
["Specs Type","Generic UFGS",null,{"$f":"IF(ISBLANK(C4),B4,C4)","v":"Generic UFGS"},"(Generic UFGS, Project Specification-UFGS Defaults, Project Specification-Modified)"]
["Units",{"$f":"Tailoring!B4","v":"US"},null,"US","(US or Metric)"]
["Unit Price",null,null,0,"($/ton or $/metric ton)"]
["Gradation",{"$f":"Tailoring!B5","v":2},null,2,"(1, 2, or 3)"]
["Compaction & Effort",{"$f":"IF(RIGHT(B9,3)=\"Gyr\",\"Gyratory\",\"Marshall\")","v":"Gyratory"},null,"Gyratory","(Marshall or Gyratory)"]
[null,{"$f":"Tailoring!B6","v":"75 Gyr"},null,"75 Gyr","(50 Blow, 75 Blow, 50 Gyr, or 75 Gyr)"]
["Binder Grading",{"$f":"Tailoring!B7","v":"PG"},null,"PG","(PEN, AC, AR, PG, or MSCR)"]
["Binder Grade",{"$f":"IF(B10=\"MSCR\",LEFT(Tailoring!B8,5)&Tailoring!B9&RIGHT(Tailoring!B8,3)&IF(Tailoring!B10=\"Yes\",\"HP\",\"\"),Tailoring!B8)","v":"PG 64-22"},null,"PG 64-22","(several long lists…)"]
["Climatic Grade",{"$f":"Tailoring!B11","v":"PG 64-22"},null,"PG 64-22","(long list, but same as PG grade list)"]
["PG+ Test",{"$f":"Tailoring!B12","v":"None"},null,"None","(None, Elastic Recovery, or Percent Recovery)"]
[null,null,null,null,null,null,null,null,null,null,null,null,null,null,null,null,null,null,null,null,null,null,null,null,null,null,1.2,"For any lots less than 2000 tons, a weighted pay factor will be used to calculate the average lot pay factor."]
[null,null,null,null,null,null,"US Units",null,null,null,null,null,null,"Metric Units"]
["MD vs LR","Category","Para. No.","Para. Title","Table","Parameter","Greater than (>)","Greater than or equal to (≥)","Equal to (=)","Less Than (<)","Less than or equal to (≤)","Tolerance (±)","Units","Greater than (>)","Greater than or equal to (≥)","Equal to (=)","Less Than (<)","Less than or equal to (≤)","Tolerance (±)","Units","Operator","Pay Factor","Details","Feature","Language"]
["Lot Report","Acceptance","1.1.2","Basis of Payment","---","Unit Price","---","---","Contract Specific","---","---","---","$/tons","---","---","Contract Specific","---","---","---","$/metric tons",null,null,"Lump sum contracts only"]
["Lot Report","Acceptance","1.2.1","Mat and Joint Densities",1,"In-Place Mat Density",97,null,null,null,null,null,"%Gmm",null,null,null,null,null,null,"%Gmm",">",0,"Reject"]
[null,null,null,null,null,null,null,null,97,null,null,null,null,null,null,97,null,null,null,null,null,75]
[null,null,null,null,null,null,null,null,96.9,null,null,null,null,null,null,96.9,null,null,null,null,null,80.599999999999994]
[null,null,null,null,null,null,null,null,96.8,null,null,null,null,null,null,96.8,null,null,null,null,null,85.7]
[null,null,null,null,null,null,null,null,96.7,null,null,null,null,null,null,96.7,null,null,null,null,null,90.3]
[null,null,null,null,null,null,null,null,96.6,null,null,null,null,null,null,96.6,null,null,null,null,null,94.1]
[null,null,null,null,null,null,null,null,96.5,null,null,null,null,null,null,96.5,null,null,null,null,null,97.3]
[null,null,null,null,null,null,null,null,96.4,null,null,null,null,null,null,96.4,null,null,null,null,null,98.3]
[null,null,null,null,null,null,null,null,96.3,null,null,null,null,null,null,96.3,null,null,null,null,null,99.1]
[null,null,null,null,null,null,null,null,96.2,null,null,null,null,null,null,96.2,null,null,null,null,null,99.6]
[null,null,null,null,null,null,null,null,96.1,null,null,null,null,null,null,96.100000000000094,null,null,null,null,null,99.9]
[null,null,null,null,null,null,null,null,96,null,null,null,null,null,null,96.000000000000099,null,null,null,null,null,100]
[null,null,null,null,null,null,null,null,94,null,null,null,null,null,null,94,null,null,null,null,null,100]
[null,null,null,null,null,null,null,null,93.9,null,null,null,null,null,null,93.9,null,null,null,null,null,100]
[null,null,null,null,null,null,null,null,93.8,null,null,null,null,null,null,93.8,null,null,null,null,null,99.9]
[null,null,null,null,null,null,null,null,93.7,null,null,null,null,null,null,93.7,null,null,null,null,null,99.8]
[null,null,null,null,null,null,null,null,93.6,null,null,null,null,null,null,93.6,null,null,null,null,null,99.6]
[null,null,null,null,null,null,null,null,93.5,null,null,null,null,null,null,93.5,null,null,null,null,null,99.4]
[null,null,null,null,null,null,null,null,93.4,null,null,null,null,null,null,93.4,null,null,null,null,null,99.1]
[null,null,null,null,null,null,null,null,93.3,null,null,null,null,null,null,93.3,null,null,null,null,null,98.7]
[null,null,null,null,null,null,null,null,93.2,null,null,null,null,null,null,93.2,null,null,null,null,null,98.3]
[null,null,null,null,null,null,null,null,93.1,null,null,null,null,null,null,93.100000000000094,null,null,null,null,null,97.8]
[null,null,null,null,null,null,null,null,93,null,null,null,null,null,null,93.000000000000099,null,null,null,null,null,97.3]
[null,null,null,null,null,null,null,null,92.9,null,null,null,null,null,null,92.900000000000105,null,null,null,null,null,96.3]
[null,null,null,null,null,null,null,null,92.8,null,null,null,null,null,null,92.800000000000097,null,null,null,null,null,94.1]
[null,null,null,null,null,null,null,null,92.7,null,null,null,null,null,null,92.700000000000102,null,null,null,null,null,92.2]
[null,null,null,null,null,null,null,null,92.6,null,null,null,null,null,null,92.600000000000094,null,null,null,null,null,90.3]
[null,null,null,null,null,null,null,null,92.5,null,null,null,null,null,null,92.500000000000099,null,null,null,null,null,87.9]
[null,null,null,null,null,null,null,null,92.4,null,null,null,null,null,null,92.400000000000105,null,null,null,null,null,85.7]
[null,null,null,null,null,null,null,null,92.3,null,null,null,null,null,null,92.300000000000097,null,null,null,null,null,83.3]
[null,null,null,null,null,null,null,null,92.2,null,null,null,null,null,null,92.200000000000102,null,null,null,null,null,80.599999999999994]
[null,null,null,null,null,null,null,null,92.1,null,null,null,null,null,null,92.100000000000094,null,null,null,null,null,78]
[null,null,null,null,null,null,null,null,92,null,null,null,null,null,null,92.000000000000099,null,null,null,null,null,75]
[null,null,null,null,null,null,null,null,null,92,null,null,null,null,null,null,92,null,null,null,"<",0,"Reject"]
[null,null,null,null,1,"In-Place Joint Density",92.5,null,null,null,null,null,"%Gmm",92.5,null,null,null,null,null,"%Gmm",">",100]
[null,null,null,null,null,null,null,null,92.4,null,null,null,null,null,null,92.4,null,null,null,null,null,100]
[null,null,null,null,null,null,null,null,92.3,null,null,null,null,null,null,92.3,null,null,null,null,null,99.9]
[null,null,null,null,null,null,null,null,92.2,null,null,null,null,null,null,92.2,null,null,null,null,null,99.8]
[null,null,null,null,null,null,null,null,92.1,null,null,null,null,null,null,92.1,null,null,null,null,null,99.6]
[null,null,null,null,null,null,null,null,92,null,null,null,null,null,null,92,null,null,null,null,null,99.4]
[null,null,null,null,null,null,null,null,91.9,null,null,null,null,null,null,91.9,null,null,null,null,null,99.1]
[null,null,null,null,null,null,null,null,91.8,null,null,null,null,null,null,91.8,null,null,null,null,null,98.7]
[null,null,null,null,null,null,null,null,91.7,null,null,null,null,null,null,91.699999999999903,null,null,null,null,null,98.3]
[null,null,null,null,null,null,null,null,91.6,null,null,null,null,null,null,91.599999999999895,null,null,null,null,null,97.8]
[null,null,null,null,null,null,null,null,91.5,null,null,null,null,null,null,91.499999999999901,null,null,null,null,null,97.3]
[null,null,null,null,null,null,null,null,91.4,null,null,null,null,null,null,91.399999999999906,null,null,null,null,null,96.3]
[null,null,null,null,null,null,null,null,91.3,null,null,null,null,null,null,91.299999999999898,null,null,null,null,null,94.1]
[null,null,null,null,null,null,null,null,91.2,null,null,null,null,null,null,91.199999999999903,null,null,null,null,null,92.2]
[null,null,null,null,null,null,null,null,91.1,null,null,null,null,null,null,91.099999999999895,null,null,null,null,null,90.3]
[null,null,null,null,null,null,null,null,91,null,null,null,null,null,null,90.999999999999901,null,null,null,null,null,87.9]
[null,null,null,null,null,null,null,null,90.9,null,null,null,null,null,null,90.899999999999906,null,null,null,null,null,85.7]
[null,null,null,null,null,null,null,null,90.8,null,null,null,null,null,null,90.799999999999898,null,null,null,null,null,83.3]
[null,null,null,null,null,null,null,null,90.7,null,null,null,null,null,null,90.699999999999903,null,null,null,null,null,80.599999999999994]
[null,null,null,null,null,null,null,null,90.6,null,null,null,null,null,null,90.599999999999895,null,null,null,null,null,78]
[null,null,null,null,null,null,null,null,90.5,null,null,null,null,null,null,90.499999999999901,null,null,null,null,null,75]
[null,null,null,null,null,null,null,null,null,90.5,null,null,null,null,null,null,90.499999999999801,null,null,null,"<",0,"Reject"]
["Lot Report","Acceptance","1.2.3.1","Longitudinal Smoothness",2,"Profile Index (PI)",null,null,0,null,null,null,"in/mi",null,null,0,null,null,null,"mm/km",null,100]
[null,null,null,null,null,null,0,null,null,1,null,null,null,0,null,null,16,null,null,null,null,95]
[null,null,null,null,null,null,null,1,null,2,null,null,null,null,16,null,32,null,null,null,null,90]
[null,null,null,null,null,null,null,2,null,3,null,null,null,null,32,null,47,null,null,null,null,75]
[null,null,null,null,null,null,null,3,null,null,null,null,null,null,47,null,null,null,null,null,null,0,"Remove and Replace"]
["Lot Report","Acceptance","1.2.4.1","Mean Absolute Deviation",3,"Mean Absolute Deviation (MAD)",null,null,null,null,0.6,null,"%",null,null,null,null,0.6,null,"%","≤",100]
[null,null,null,null,null,null,null,0.61,null,null,0.8,null,null,null,0.61,null,null,0.8,null,null,null,98]
[null,null,null,null,null,null,null,0.81,null,null,1,null,null,null,0.81,null,null,1,null,null,null,95]
[null,null,null,null,null,null,null,1.01,null,null,1.2,null,null,null,1.01,null,null,1.2,null,null,null,90]
[null,null,null,null,null,null,1.2,null,null,null,null,null,null,1.2,null,null,null,null,null,null,">",0,"Reject"]
["Lot Report","Acceptance","1.2.5","Pay Factor Based on Plan Grade",4,"Measurements Outside Tolerance (%)",null,null,null,5,null,null,"%",null,null,null,5,null,null,"%","<",100,"Pay factor only applicable to surface lifts."]
[null,null,null,null,null,null,null,5,null,10,null,null,null,null,5,null,10,null,null,null,null,90]
[null,null,null,null,null,null,null,10,null,15,null,null,null,null,10,null,15,null,null,null,null,75]
[null,null,null,null,null,null,null,15,null,null,null,null,null,null,15,null,null,null,null,null,"≥",0,"Remove and Replace Surface Lift"]
["Lot Report","Acceptance","1.7.9.1","Straightedge Testing",5,"Straightedge Surface Smoothness",null,null,null,null,0.125,null,"in.",null,null,null,null,3,null,"mm","≤","---","Longitudinal","Runways, taxiways, and landing zones"]
[null,null,null,null,null,null,null,null,null,null,0.25,null,null,null,null,null,null,6,null,null,"≤","---","Transverse","Runways, taxiways, and landing zones"]
[null,null,null,null,null,null,null,null,null,null,0.25,null,null,null,null,null,null,6,null,null,"≤","---","Longitudinal","Shoulders"]
[null,null,null,null,null,null,null,null,null,null,0.25,null,null,null,null,null,null,6,null,null,"≤","---","Transverse","Shoulders"]
[null,null,null,null,null,null,null,null,null,null,0.125,null,null,null,null,null,null,3,null,null,"≤","---","Longitudinal","Calibration hardstands and compass swinging bases"]
[null,null,null,null,null,null,null,null,null,null,0.125,null,null,null,null,null,null,3,null,null,"≤","---","Transverse","Calibration hardstands and compass swinging bases"]
[null,null,null,null,null,null,null,null,null,null,0.25,null,null,null,null,null,null,6,null,null,"≤","---","Longitudinal","Other (overruns, helicopter paved areas, etc.)"]
[null,null,null,null,null,null,null,null,null,null,0.25,null,null,null,null,null,null,6,null,null,"≤","---","Transverse","Other (overruns, helicopter paved areas, etc.)"]
["Lot Report","Acceptance","1.7.9.2","Profilograph Testing","---","Profile Index (PI)",null,null,null,null,7,null,"in.",null,null,null,null,110,null,"mm","≤","---","Longitudinal","Runways, taxiways, and landing zones","Not greater than 7 in."]
[null,null,null,null,null,null,null,null,null,null,9,null,null,null,null,null,null,140,null,null,"≤","---","Longitudinal","All other pavements","Not greater than 9 in."]
[null,null,null,null,null,"Must Gind Areas",null,0.4,null,null,null,null,"in.",null,10,null,null,null,null,"mm","≥","---","Longitudinal","Any bumps exceeding these values must be grinded to 0.3 in. or less."]
["Lot Report","Acceptance","1.7.10","Plan Grade","---","Plan Grade Deviations",null,null,null,null,0.03,null,"ft",null,null,null,null,9,null,"mm","≤","---",null,"Runways and landing zones","Not vary more than 0.03 ft"]
[null,null,null,null,null,null,null,null,null,null,0.05,null,null,null,null,null,null,15,null,null,"≤","---",null,"Taxiways, aprons, and shoulders","Not vary more than 0.05 ft"]
["Mix Design","Mix Design","2.3.1","Coarse Aggregate","---","C131 LA Abrasion",null,null,null,null,40,null,"%",null,null,null,null,40,null,"%","≤","---","500 revolutions",null,"not greater than 40%"]
[null,null,null,null,null,"C88 Sulfate Soundness, Sodium",null,null,null,null,12,null,"%",null,null,null,null,12,null,"%","≤","---","5 cycles, limit 12% for sodium sulfate or 18% for magnesium sulfate",null,"not exceeding 12 or 18%"]
[null,null,null,null,null,"C88 Sulfate Soundness, Magnesium",null,null,null,null,18,null,"%",null,null,null,null,18,null,"%","≤","---","5 cycles, limit 12% for sodium sulfate or 18% for magnesium sulfate"]
[null,null,null,null,null,"D5821 Fractured Faces",null,75,null,null,null,null,"%",null,75,null,null,null,null,"%","≥","---","Two or more fractured faces",null,"at least 75%"]
[null,null,null,null,null,"D4791 Flat and Elongated",null,null,null,null,5,null,"%",null,null,null,null,5,null,"%","≤","---","Flat and elongated particles by weight at 5:1 ratio by Method A",null,"not more than 5%"]
[null,null,null,null,null,"C29 Slag",null,75,null,null,null,null,"lb/ft3",null,1200,null,null,null,null,"kg/m3","≥","---","Minimum compacted weight",null,"not less than 1200 or 75"]
[null,null,null,null,null,"C142 Clay Lumps and Friable Particles",null,null,null,null,0.3,null,"%",null,null,null,null,0.3,null,"%","≤","---","By weight",null,"not exceeding 0.3%"]
["Mix Design","Mix Design","2.3.2","Fine Aggregate","---","Natural Sand",null,null,null,null,15,null,"%",null,null,null,null,15,null,"%","≤","---","By weight of total aggregate (intended to mean total agg blend including coarse agg, fine agg, and filler)",null,"not exceeding 15%"]
[null,null,null,null,null,"D2419 Sand Equivalency",45,null,null,null,null,null,"%",45,null,null,null,null,null,"%",">","---","Individual fine aggregate sources",null,"greater than 45%"]
[null,null,null,null,null,"C1252 Uncompacted Voids",45,null,null,null,null,null,"%",45,null,null,null,null,null,"%",">","---","Tested on fine agg blend by Method A",null,"greater than 45%"]
[null,null,null,null,null,"C142 Clay Lumps and Friable Particles",null,null,null,null,0.3,null,"%",null,null,null,null,0.3,null,"%","≤","---","By weight",null,"not exceeding 0.3%"]
["Mix Design","Mix Design","2.3.3","Mineral Filler","---","D242 Plasticity",null,null,"NP",null,null,null,null,null,null,"NP",null,null,null,null,null,"---","Nonplastic (NP)",null,"Nonplastic"]
["Mix Design","Mix Design","2.3.4","Aggregate Gradation",7,"Gradation 1","---","---","---","---","---","---","---","---","---","---","---","---","---","---",null,"---"]
[null,null,null,null,null,"25.0 mm, 1 in.",null,null,null,null,100,null,"%",null,null,null,null,100,null,"%",null,"---"]
[null,null,null,null,null,"19.0 mm, 3/4 in.",null,90,null,null,100,null,"%",null,90,null,null,100,null,"%",null,"---"]
[null,null,null,null,null,"12.5 mm, 1/2 in.",null,68,null,null,88,null,"%",null,68,null,null,88,null,"%",null,"---"]
[null,null,null,null,null,"9.5 mm, 3/8 in.",null,60,null,null,82,null,"%",null,60,null,null,82,null,"%",null,"---"]
[null,null,null,null,null,"4.75 mm, No. 4",null,45,null,null,67,null,"%",null,45,null,null,67,null,"%",null,"---"]
[null,null,null,null,null,"2.36 mm, No. 8",null,32,null,null,54,null,"%",null,32,null,null,54,null,"%",null,"---"]
[null,null,null,null,null,"1.18 mm, No. 16",null,22,null,null,44,null,"%",null,22,null,null,44,null,"%",null,"---"]
[null,null,null,null,null,"0.60 mm, No. 30",null,15,null,null,35,null,"%",null,15,null,null,35,null,"%",null,"---"]
[null,null,null,null,null,"0.30 mm, No. 50",null,9,null,null,25,null,"%",null,9,null,null,25,null,"%",null,"---"]
[null,null,null,null,null,"0.15 mm, No. 100",null,6,null,null,18,null,"%",null,6,null,null,18,null,"%",null,"---"]
[null,null,null,null,null,"0.075 mm, No. 200",null,3,null,null,6,null,"%",null,3,null,null,6,null,"%",null,"---"]
[null,null,null,null,null,"Gradation 2","---","---","---","---","---","---","---","---","---","---","---","---","---","---",null,"---"]
[null,null,null,null,null,"25.0 mm, 1 in.",null,null,null,null,"---",null,"---",null,null,null,null,"---",null,"---",null,"---"]
[null,null,null,null,null,"19.0 mm, 3/4 in.",null,null,null,null,100,null,"%",null,null,null,null,100,null,"%",null,"---"]
[null,null,null,null,null,"12.5 mm, 1/2 in.",null,90,null,null,100,null,"%",null,90,null,null,100,null,"%",null,"---"]
[null,null,null,null,null,"9.5 mm, 3/8 in.",null,69,null,null,89,null,"%",null,69,null,null,89,null,"%",null,"---"]
[null,null,null,null,null,"4.75 mm, No. 4",null,53,null,null,73,null,"%",null,53,null,null,73,null,"%",null,"---"]
[null,null,null,null,null,"2.36 mm, No. 8",null,38,null,null,60,null,"%",null,38,null,null,60,null,"%",null,"---"]
[null,null,null,null,null,"1.18 mm, No. 16",null,26,null,null,48,null,"%",null,26,null,null,48,null,"%",null,"---"]
[null,null,null,null,null,"0.60 mm, No. 30",null,18,null,null,38,null,"%",null,18,null,null,38,null,"%",null,"---"]
[null,null,null,null,null,"0.30 mm, No. 50",null,11,null,null,27,null,"%",null,11,null,null,27,null,"%",null,"---"]
[null,null,null,null,null,"0.15 mm, No. 100",null,6,null,null,18,null,"%",null,6,null,null,18,null,"%",null,"---"]
[null,null,null,null,null,"0.075 mm, No. 200",null,3,null,null,6,null,"%",null,3,null,null,6,null,"%",null,"---"]
[null,null,null,null,null,"Gradation 3","---","---","---","---","---","---","---","---","---","---","---","---","---","---",null,"---"]
[null,null,null,null,null,"25.0 mm, 1 in.",null,null,null,null,"---",null,"---",null,null,null,null,"---",null,"---",null,"---"]
[null,null,null,null,null,"19.0 mm, 3/4 in.",null,null,null,null,"---",null,"---",null,null,null,null,"---",null,"---",null,"---"]
[null,null,null,null,null,"12.5 mm, 1/2 in.",null,null,null,null,100,null,"%",null,null,null,null,100,null,"%",null,"---"]
[null,null,null,null,null,"9.5 mm, 3/8 in.",null,90,null,null,100,null,"%",null,90,null,null,100,null,"%",null,"---"]
[null,null,null,null,null,"4.75 mm, No. 4",null,58,null,null,78,null,"%",null,58,null,null,78,null,"%",null,"---"]
[null,null,null,null,null,"2.36 mm, No. 8",null,40,null,null,60,null,"%",null,40,null,null,60,null,"%",null,"---"]
[null,null,null,null,null,"1.18 mm, No. 16",null,28,null,null,48,null,"%",null,28,null,null,48,null,"%",null,"---"]
[null,null,null,null,null,"0.60 mm, No. 30",null,18,null,null,38,null,"%",null,18,null,null,38,null,"%",null,"---"]
[null,null,null,null,null,"0.30 mm, No. 50",null,11,null,null,27,null,"%",null,11,null,null,27,null,"%",null,"---"]
[null,null,null,null,null,"0.15 mm, No. 100",null,6,null,null,18,null,"%",null,6,null,null,18,null,"%",null,"---"]
[null,null,null,null,null,"0.075 mm, No. 200",null,3,null,null,6,null,"%",null,3,null,null,6,null,"%",null,"---"]
["Mix Design","Mix Design",2.4,"Asphalt Binder","---","D6373 Performance Grade (PG)",null,null,"Select from List",null,null,null,null,null,null,"Select from List",null,null,null,null,null,"---","Contract specific (PG 46-34, PG 46-40, PG 46-46; PG 52-22, PG 52-28, PG 52-34, PG 52-40, PG 52-46; PG 58-22, PG 58-28, PG 58-34, PG 58-40; PG 64-22, PG 64-28, PG 64-34, PG 64-40; PG 67-22, PG 67-28, PG 67-34, PG 67-40; PG 70-22, PG 70-28, PG 70-34, PG 70-40; PG 76-22, PG 76-28, PG 76-34, PG 76-40; PG 82-22, PG 82-28, PG 82-34; PG 88-22, PG 88-28, PG 88-34; PG 94-22, PG 94-28)"]
[null,null,null,null,null,"D946 Penetration Grade (Pen)",null,null,"Select from List",null,null,null,null,null,null,"Select from List",null,null,null,null,null,"---","Contract specific (20/30 Pen, 40/50 Pen, 60/70 Pen, 85/100 Pen, 120/150 Pen, 200/300 Pen)"]
[null,null,null,null,null,"D3381 Viscosity Grade (AC)",null,null,"Select from List",null,null,null,null,null,null,"Select from List",null,null,null,null,null,"---","Contract specific (AC-2.5, AC-5, AC-10, AC-20, AC-25, AC-30, AC-40)"]
[null,null,null,null,null,"D6084 Elastic Recovery (%)",null,75,null,null,null,null,null,null,75,null,null,null,null,null,"≥","---","Requirement for polymer modified binders, Measured on RTFO binder by D6084 Procedure B"]
["Mix Design","Mix Design",2.6,"Mix Design",8,"Marshall Design, 75 Blow","---","---","---","---","---","---","---","---","---","---","---","---","---","---",null,"---"]
[null,null,null,null,null,"Stability",null,2150,null,null,null,null,"lb",null,9560,null,null,null,null,"N","≥","---"]
[null,null,null,null,null,"Flow",null,"was 8",null,null,"was 16",null,"0.01 in.",null,8,null,null,16,null,"0.25 mm",null,"---","N/A for polymer-modified binders"]
[null,null,null,null,null,"Air Voids",null,null,4,null,null,null,"%",null,null,4,null,null,null,"%",null,"---"]
[null,null,null,null,null,"Dust Proportion",null,0.8,null,null,1.2,null,"---",null,0.8,null,null,1.2,null,"---",null,"---"]
[null,null,null,null,null,"TSR",null,75,null,null,null,null,"%",null,75,null,null,null,null,"%","≥","---"]
[null,null,null,null,null,"TSR Conditioned Strength",null,60,null,null,null,null,"psi",null,415,null,null,null,null,"kPa","≥","---"]
[null,null,null,null,null,"Marshall Design, 50 Blow","---","---","---","---","---","---","---","---","---","---","---","---","---","---",null,"---"]
[null,null,null,null,null,"Stability",null,1350,null,null,null,null,"lb",null,6000,null,null,null,null,"N","≥","---"]
[null,null,null,null,null,"Flow",null,8,null,null,18,null,"0.01 in.",null,8,null,null,18,null,"0.25 mm",null,"---","N/A for polymer-modified binders"]
[null,null,null,null,null,"Air Voids",null,null,4,null,null,null,"%",null,null,4,null,null,null,"%",null,"---"]
[null,null,null,null,null,"Dust Proportion",null,0.8,null,null,1.2,null,"---",null,0.8,null,null,1.2,null,"---",null,"---"]
[null,null,null,null,null,"TSR",null,75,null,null,null,null,"%",null,75,null,null,null,null,"%","≥","---"]
[null,null,null,null,null,"TSR Conditioned Strength",null,60,null,null,null,null,"psi",null,415,null,null,null,null,"kPa","≥","---"]
[null,null,null,null,null,"Superpave Design, 75 Gyrations","---","---","---","---","---","---","---","---","---","---","---","---","---","---",null,"---"]
[null,null,null,null,null,"Air Voids",null,null,4,null,null,null,"%",null,null,4,null,null,null,"%",null,"---"]
[null,null,null,null,null,"Dust Proportion",null,0.8,null,null,1.2,null,"---",null,0.8,null,null,1.2,null,"---",null,"---"]
[null,null,null,null,null,"TSR",null,75,null,null,null,null,"%",null,75,null,null,null,null,"%","≥","---"]
[null,null,null,null,null,"TSR Conditioned Strength",null,60,null,null,null,null,"psi",null,415,null,null,null,null,"kPa","≥","---"]
[null,null,null,null,null,"Superpave Design, 50 Gyrations","---","---","---","---","---","---","---","---","---","---","---","---","---","---",null,"---"]
[null,null,null,null,null,"Air Voids",null,null,4,null,null,null,"%",null,null,4,null,null,null,"%",null,"---"]
[null,null,null,null,null,"Dust Proportion",null,0.8,null,null,1.2,null,"---",null,0.8,null,null,1.2,null,"---",null,"---"]
[null,null,null,null,null,"TSR",null,75,null,null,null,null,"%",null,75,null,null,null,null,"%","≥","---"]
[null,null,null,null,null,"TSR Conditioned Strength",null,60,null,null,null,null,"psi",null,415,null,null,null,null,"kPa","≥","---"]
[null,null,null,null,9,"Voids in Mineral Aggregate (VMA)","---","---","---","---","---","---","---","---","---","---","---","---","---","---",null,"---"]
[null,null,null,null,null,"Gradation 1",null,13,null,null,null,null,"%",null,13,null,null,null,null,"%","≥","---"]
[null,null,null,null,null,"Gradation 2",null,14,null,null,null,null,"%",null,14,null,null,null,null,"%","≥","---"]
[null,null,null,null,null,"Gradation 3",null,15,null,null,null,null,"%",null,15,null,null,null,null,"%","≥","---"]
["Mix Design","Mix Design",2.7,"Reclaimed Asphalt Pavement","---","Reclaimed Asphalt Pavement (RAP)",null,null,null,null,20,null,"%",null,null,null,null,20,null,"%","≤","---","N/A if RAP is not allowed",null,"Not exceeding 20%"]
["Lot Report","CQC","3.1.5","Control Charts",10,"No. 4 Sieve (4.75 mm), Deviation from JMF",null,null,null,null,null,6,"%",null,null,null,null,null,6,"%",null,"---","Individual sample, action limit"]
[null,null,null,null,null,null,null,null,null,null,null,8,"%",null,null,null,null,null,8,"%",null,"---","Individual sample, suspension limit"]
[null,null,null,null,null,null,null,null,null,null,null,4,"%",null,null,null,null,null,4,"%",null,"---","Running avg of last four samples, action limit"]
[null,null,null,null,null,null,null,null,null,null,null,5,"%",null,null,null,null,null,5,"%",null,"---","Running avg of last four samples, suspension limit"]
[null,null,null,null,null,"No. 30 Sieve (0.6 mm), Deviation from JMF",null,null,null,null,null,4,"%",null,null,null,null,null,4,"%",null,"---","Individual sample, action limit"]
[null,null,null,null,null,null,null,null,null,null,null,6,"%",null,null,null,null,null,6,"%",null,"---","Individual sample, suspension limit"]
[null,null,null,null,null,null,null,null,null,null,null,3,"%",null,null,null,null,null,3,"%",null,"---","Running avg of last four samples, action limit"]
[null,null,null,null,null,null,null,null,null,null,null,4,"%",null,null,null,null,null,4,"%",null,"---","Running avg of last four samples, suspension limit"]
[null,null,null,null,null,"No. 200 Sieve (0.075 mm), Deviation from JMF",null,null,null,null,null,1.4,"%",null,null,null,null,null,1.4,"%",null,"---","Individual sample, action limit"]
[null,null,null,null,null,null,null,null,null,null,null,2,"%",null,null,null,null,null,2,"%",null,"---","Individual sample, suspension limit"]
[null,null,null,null,null,null,null,null,null,null,null,1.1000000000000001,"%",null,null,null,null,null,1.1000000000000001,"%",null,"---","Running avg of last four samples, action limit"]
[null,null,null,null,null,null,null,null,null,null,null,1.5,"%",null,null,null,null,null,1.5,"%",null,"---","Running avg of last four samples, suspension limit"]
[null,null,null,null,null,"Asphalt Content, Deviation from JMF",null,null,null,null,null,0.4,"%",null,null,null,null,null,0.4,"%",null,"---","Individual sample, action limit"]
[null,null,null,null,null,null,null,null,null,null,null,0.5,"%",null,null,null,null,null,0.5,"%",null,"---","Individual sample, suspension limit"]
[null,null,null,null,null,null,null,null,null,null,null,0.2,"%",null,null,null,null,null,0.2,"%",null,"---","Running avg of last four samples, action limit"]
[null,null,null,null,null,null,null,null,null,null,null,0.3,"%",null,null,null,null,null,0.3,"%",null,"---","Running avg of last four samples, suspension limit"]
[null,null,null,null,null,"Laboratory Air Voids, Deviation from JMF",null,"Plot ind. and running avg only, controlled through pay factors",null,null,null,null,null,null,"Plot ind. and running avg only, controlled through pay factors",null,null,null,null,null,null,"Para 1.2.4.1"]
[null,null,null,null,null,"In-Place Mat Density, %Gmm",null,"Plot ind. and running avg only, controlled through pay factors",null,null,null,null,null,null,"Plot ind. and running avg only, controlled through pay factors",null,null,null,null,null,null,"Para 1.2.1"]
[null,null,null,null,null,"In-Place Joint Density, %Gmm",null,"Plot ind. and running avg only, controlled through pay factors",null,null,null,null,null,null,"Plot ind. and running avg only, controlled through pay factors",null,null,null,null,null,null,"Para 1.2.1"]
[null,null,null,null,null,"VMA, Drop from JMF",null,null,null,null,0.5,null,"%",null,null,null,null,0.5,null,"%",null,"---","Individual sample, action limit"]
[null,null,null,null,null,null,null,null,null,null,1,null,"%",null,null,null,null,1,null,"%",null,"---","Individual sample, suspension limit"]
[null,null,null,null,null,null,null,null,null,null,0.25,null,"%",null,null,null,null,0.25,null,"%",null,"---","Running avg of last four samples, action limit"]
[null,null,null,null,null,null,null,null,null,null,0.5,null,"%",null,null,null,null,0.5,null,"%",null,"---","Running avg of last four samples, suspension limit"]
[null,null,null,null,null,"Dust Proportion, Deviation from 1.0",null,null,null,null,null,0.7,"%",null,null,null,null,null,0.7,"%",null,"---","Individual sample, action limit"]
[null,null,null,null,null,null,null,null,null,null,null,0.8,"%",null,null,null,null,null,0.8,"%",null,"---","Individual sample, suspension limit"]
[null,null,null,null,null,null,null,null,null,null,null,0.3,"%",null,null,null,null,null,0.3,"%",null,"---","Running avg of last four samples, action limit"]
[null,null,null,null,null,null,null,null,null,null,null,0.4,"%",null,null,null,null,null,0.4,"%",null,"---","Running avg of last four samples, suspension limit"]
[null,null,null,null,null,"Stability, minimum","---","---","---","---","---",null,"---","---","---","---","---","---",null,"---",null,"---","---"]
[null,null,null,null,null,"75 Blow Marshall",null,1760,null,null,null,null,"lb",null,7830,null,null,null,null,"N",null,"---","Individual sample, action limit"]
[null,null,null,null,null,null,null,1640,null,null,null,null,null,null,7290,null,null,null,null,null,null,"---","Individual sample, suspension limit"]
[null,null,null,null,null,null,null,2150,null,null,null,null,null,null,9560,null,null,null,null,null,null,"---","Running avg of last four samples, action limit"]
[null,null,null,null,null,null,null,2030,null,null,null,null,null,null,9030,null,null,null,null,null,null,"---","Running avg of last four samples, suspension limit"]
[null,null,null,null,null,"50 Blow Marshall",null,950,null,null,null,null,"lb",null,4230,null,null,null,null,"N",null,"---","Individual sample, action limit"]
[null,null,null,null,null,null,null,830,null,null,null,null,null,null,3690,null,null,null,null,null,null,"---","Individual sample, suspension limit"]
[null,null,null,null,null,null,null,1350,null,null,null,null,null,null,6000,null,null,null,null,null,null,"---","Running avg of last four samples, action limit"]
[null,null,null,null,null,null,null,1230,null,null,null,null,null,null,5470,null,null,null,null,null,null,"---","Running avg of last four samples, suspension limit"]
[null,null,null,null,null,"Flow","---","---","---","---","---",null,"---","---","---","---","---","---",null,"---",null,"---","---"]
[null,null,null,null,null,"75 Blow Marshall",null,8,null,null,16,null,"0.01 in.",null,8,null,null,16,null,"0.25 mm",null,"---","Individual sample, action limit"]
[null,null,null,null,null,null,null,7,null,null,17,null,null,null,7,null,null,17,null,null,null,"---","Individual sample, suspension limit"]
[null,null,null,null,null,null,null,9,null,null,15,null,null,null,9,null,null,15,null,null,null,"---","Running avg of last four samples, action limit"]
[null,null,null,null,null,null,null,8,null,null,16,null,null,null,8,null,null,16,null,null,null,"---","Running avg of last four samples, suspension limit"]
[null,null,null,null,null,"50 Blow Marshall",null,8,null,null,18,null,"0.01 in.",null,8,null,null,18,null,"0.25 mm",null,"---","Individual sample, action limit"]
[null,null,null,null,null,null,null,7,null,null,19,null,null,null,7,null,null,19,null,null,null,"---","Individual sample, suspension limit"]
[null,null,null,null,null,null,null,9,null,null,17,null,null,null,9,null,null,17,null,null,null,"---","Running avg of last four samples, action limit"]
[null,null,null,null,null,null,null,8,null,null,18,null,null,null,8,null,null,18,null,null,null,"---","Running avg of last four samples, suspension limit"]
["Test Section ???"]

{"sheet":"DB Export","index":5,"n_rows":2520,"n_cols":22,"rows_kept":2520,"cut":false,"hidden":true,"merged":[]}
["Book","Sheet","Column","Row","Tier 1","Tier 2","Tier 3","Tier 4","Field","US \nUnit","Metric Unit","Value (Project)","Value (Global)","Legend","PaveMD Value (Project)","PaveMD Value (Global)","Required (Spec Limit)","Required (Report Only)","Required (Lot Report)",null,"Units",{"$f":"'Specs Import'!D5","v":"US"}]
["'[Asphalt Mix Design - Template (20260115 1305 BC).xlsm]","JMF Summary'!","B",3,"Mix Information",null,null,null,"Mix ID",null,null,{"$f":"INDIRECT(\"'\" & B2 & C2 & D2)","v":0},null,null,{"$f":"IF(ISBLANK(N2),L2,N2)","v":0},{"$f":"IF(ISBLANK(N2),IF(OR(ISBLANK(M2),ISERROR(M2)),L2,M2),N2)","v":0},false,true,true]
["'[Asphalt Mix Design - Template (20260115 1305 BC).xlsm]","JMF Summary'!","B",4,"Mix Information",null,null,null,"Date",null,null,{"$f":"INDIRECT(\"'\" & B3 & C3 & D3)","v":"00:00:00"},null,null,"00:00:00","00:00:00",false,true,false]
["'[Asphalt Mix Design - Template (20260115 1305 BC).xlsm]","JMF Summary'!","B",5,"Mix Information",null,null,null,"Project",null,null,{"$f":"INDIRECT(\"'\" & B4 & C4 & D4)","v":0},null,null,0,0,false,true,false]
["'[Asphalt Mix Design - Template (20260115 1305 BC).xlsm]","JMF Summary'!","B",6,"Mix Information",null,null,null,"Producer",null,null,{"$f":"INDIRECT(\"'\" & B5 & C5 & D5)","v":0},null,null,0,0,false,true,false]
["'[Asphalt Mix Design - Template (20260115 1305 BC).xlsm]","JMF Summary'!","B",7,"Mix Information",null,null,null,"Mix Designer",null,null,{"$f":"INDIRECT(\"'\" & B6 & C6 & D6)","v":0},null,null,0,0,false,true,false]
["'[Asphalt Mix Design - Template (20260115 1305 BC).xlsm]","JMF Summary'!","B",8,"Mix Information",null,null,null,"Contract No.",null,null,{"$f":"INDIRECT(\"'\" & B7 & C7 & D7)","v":0},null,null,0,0,false,true,true]
["'[Asphalt Mix Design - Template (20260115 1305 BC).xlsm]","JMF Summary'!","F",3,"Mix Information",null,null,null,"Gradation",null,null,{"$f":"INDIRECT(\"'\" & B8 & C8 & D8)","v":2},null,null,2,2,false,true,true]
["'[Asphalt Mix Design - Template (20260115 1305 BC).xlsm]","JMF Summary'!","F",4,"Mix Information",null,null,null,"Compaction",null,null,{"$f":"INDIRECT(\"'\" & B9 & C9 & D9)","v":"75 Gyr"},null,null,"75 Gyr","75 Gyr",false,true,true]
["'[Asphalt Mix Design - Template (20260115 1305 BC).xlsm]","JMF Summary'!","F",5,"Mix Information",null,null,null,"Binder Grade",null,null,{"$f":"INDIRECT(\"'\" & B10 & C10 & D10)","v":"PG 64-22"},null,null,"PG 64-22","PG 64-22",false,true,true]
["'[Asphalt Mix Design - Template (20260115 1305 BC).xlsm]","JMF Summary'!","F",6,"Mix Information",null,null,null,"Source",null,null,{"$f":"INDIRECT(\"'\" & B11 & C11 & D11)","v":0},null,null,0,0,false,true,true]
["'[Asphalt Mix Design - Template (20260115 1305 BC).xlsm]","JMF Summary'!","K",4,"Temperatures",null,null,null,"Units",null,null,{"$f":"INDIRECT(\"'\" & B12 & C12 & D12)","v":"°F"},null,null,"°F","°F",false,true,false]
["'[Asphalt Mix Design - Template (20260115 1305 BC).xlsm]","JMF Summary'!","I",4,"Temperatures","Mixing",null,null,"Range","°F","°C",{"$f":"INDIRECT(\"'\" & B13 & C13 & D13)","v":"0 - 0"},{"$f":"IF($V$1=\"Metric\",CONVERT(LEFT(L13,3),\"C\",\"F\") & \" - \" & CONVERT(RIGHT(L13,3),\"C\",\"F\"),#N/A)","v":{"$error":"#N/A"}},null,"0 - 0","0 - 0",false,true,false]
["'[Asphalt Mix Design - Template (20260115 1305 BC).xlsm]","JMF Summary'!","J",4,"Temperatures","Mixing",null,null,"Target","°F","°C",{"$f":"INDIRECT(\"'\" & B14 & C14 & D14)","v":0},{"$f":"IF($V$1=\"Metric\",CONVERT(L14,\"C\",\"F\"),#N/A)","v":{"$error":"#N/A"}},null,0,0,false,true,false]
["'[Asphalt Mix Design - Template (20260115 1305 BC).xlsm]","JMF Summary'!","I",5,"Temperatures","Compaction",null,null,"Range","°F","°C",{"$f":"INDIRECT(\"'\" & B15 & C15 & D15)","v":"0 - 0"},{"$f":"IF($V$1=\"Metric\",CONVERT(LEFT(L15,3),\"C\",\"F\") & \" - \" & CONVERT(RIGHT(L15,3),\"C\",\"F\"),#N/A)","v":{"$error":"#N/A"}},null,"0 - 0","0 - 0",false,true,false]
["'[Asphalt Mix Design - Template (20260115 1305 BC).xlsm]","JMF Summary'!","J",5,"Temperatures","Compaction",null,null,"Target","°F","°C",{"$f":"INDIRECT(\"'\" & B16 & C16 & D16)","v":0},{"$f":"IF($V$1=\"Metric\",CONVERT(L16,\"C\",\"F\"),#N/A)","v":{"$error":"#N/A"}},null,0,0,false,true,false]
["'[Asphalt Mix Design - Template (20260115 1305 BC).xlsm]","JMF Summary'!","I",6,"Temperatures","STMC",null,null,"Duration, hrs","hr","hr",{"$f":"INDIRECT(\"'\" & B17 & C17 & D17)","v":0},null,null,0,0,false,true,false]
["'[Asphalt Mix Design - Template (20260115 1305 BC).xlsm]","JMF Summary'!","J",6,"Temperatures","STMC",null,null,"Temp,","°F","°C",{"$f":"INDIRECT(\"'\" & B18 & C18 & D18)","v":0},{"$f":"IF($V$1=\"Metric\",CONVERT(L18,\"C\",\"F\"),#N/A)","v":{"$error":"#N/A"}},null,0,0,false,true,false]
["'[Asphalt Mix Design - Template (20260115 1305 BC).xlsm]","JMF Summary'!","B",11,"Aggregates","Agg 1",null,null,"Agg ID",null,null,{"$f":"INDIRECT(\"'\" & B19 & C19 & D19)","v":0},null,null,0,0,false,"CONDITIONAL",false,"Note: CONDITIONAL here means if the aggregate is present in the mix, then properties are required to be reported."]
["'[Asphalt Mix Design - Template (20260115 1305 BC).xlsm]","JMF Summary'!","B",12,"Aggregates","Agg 1",null,null,"Source",null,null,{"$f":"INDIRECT(\"'\" & B20 & C20 & D20)","v":0},null,null,0,0,false,"CONDITIONAL",false]
["'[Asphalt Mix Design - Template (20260115 1305 BC).xlsm]","JMF Summary'!","B",13,"Aggregates","Agg 1",null,null,"Type",null,null,{"$f":"INDIRECT(\"'\" & B21 & C21 & D21)","v":"---"},null,null,"---","---",false,"CONDITIONAL",false]
["'[Asphalt Mix Design - Template (20260115 1305 BC).xlsm]","JMF Summary'!","B",14,"Aggregates","Agg 1",null,null,"Classification",null,null,{"$f":"INDIRECT(\"'\" & B22 & C22 & D22)","v":"---"},null,null,"---","---",false,"CONDITIONAL",false]
["'[Asphalt Mix Design - Template (20260115 1305 BC).xlsm]","JMF Summary'!","B",15,"Aggregates","Agg 1",null,null,"Blend %","%","%",{"$f":"INDIRECT(\"'\" & B23 & C23 & D23)","v":0},null,null,0,0,false,"CONDITIONAL",false]
["'[Asphalt Mix Design - Template (20260115 1305 BC).xlsm]","JMF Summary'!","B",16,"Aggregates","Agg 1",null,null,"1.0\" / 25.0 mm","%","%",{"$f":"INDIRECT(\"'\" & B24 & C24 & D24)","v":0},null,null,0,0,false,"CONDITIONAL",false]
["'[Asphalt Mix Design - Template (20260115 1305 BC).xlsm]","JMF Summary'!","B",17,"Aggregates","Agg 1",null,null,"3/4\" / 19.0 mm","%","%",{"$f":"INDIRECT(\"'\" & B25 & C25 & D25)","v":0},null,null,0,0,false,"CONDITIONAL",false]
["'[Asphalt Mix Design - Template (20260115 1305 BC).xlsm]","JMF Summary'!","B",18,"Aggregates","Agg 1",null,null,"1/2\" / 12.5 mm","%","%",{"$f":"INDIRECT(\"'\" & B26 & C26 & D26)","v":0},null,null,0,0,false,"CONDITIONAL",false]
["'[Asphalt Mix Design - Template (20260115 1305 BC).xlsm]","JMF Summary'!","B",19,"Aggregates","Agg 1",null,null,"3/8\" / 9.5 mm","%","%",{"$f":"INDIRECT(\"'\" & B27 & C27 & D27)","v":0},null,null,0,0,false,"CONDITIONAL",false]
["'[Asphalt Mix Design - Template (20260115 1305 BC).xlsm]","JMF Summary'!","B",20,"Aggregates","Agg 1",null,null,"#4 / 4.75 mm","%","%",{"$f":"INDIRECT(\"'\" & B28 & C28 & D28)","v":0},null,null,0,0,false,"CONDITIONAL",false]
["'[Asphalt Mix Design - Template (20260115 1305 BC).xlsm]","JMF Summary'!","B",21,"Aggregates","Agg 1",null,null,"#8 / 2.36 mm","%","%",{"$f":"INDIRECT(\"'\" & B29 & C29 & D29)","v":0},null,null,0,0,false,"CONDITIONAL",false]
["'[Asphalt Mix Design - Template (20260115 1305 BC).xlsm]","JMF Summary'!","B",22,"Aggregates","Agg 1",null,null,"#16 / 1.18 mm","%","%",{"$f":"INDIRECT(\"'\" & B30 & C30 & D30)","v":0},null,null,0,0,false,"CONDITIONAL",false]
["'[Asphalt Mix Design - Template (20260115 1305 BC).xlsm]","JMF Summary'!","B",23,"Aggregates","Agg 1",null,null,"#30 / 0.60 mm","%","%",{"$f":"INDIRECT(\"'\" & B31 & C31 & D31)","v":0},null,null,0,0,false,"CONDITIONAL",false]
["'[Asphalt Mix Design - Template (20260115 1305 BC).xlsm]","JMF Summary'!","B",24,"Aggregates","Agg 1",null,null,"#50 / 0.30 mm","%","%",{"$f":"INDIRECT(\"'\" & B32 & C32 & D32)","v":0},null,null,0,0,false,"CONDITIONAL",false]
["'[Asphalt Mix Design - Template (20260115 1305 BC).xlsm]","JMF Summary'!","B",25,"Aggregates","Agg 1",null,null,"#100 / 0.15 mm","%","%",{"$f":"INDIRECT(\"'\" & B33 & C33 & D33)","v":0},null,null,0,0,false,"CONDITIONAL",false]
["'[Asphalt Mix Design - Template (20260115 1305 BC).xlsm]","JMF Summary'!","B",26,"Aggregates","Agg 1",null,null,"#200 / 0.075 mm","%","%",{"$f":"INDIRECT(\"'\" & B34 & C34 & D34)","v":0},null,null,0,0,false,"CONDITIONAL",false]
["'[Asphalt Mix Design - Template (20260115 1305 BC).xlsm]","JMF Summary'!","B",27,"Aggregates","Agg 1",null,null,"Gsa",null,null,{"$f":"INDIRECT(\"'\" & B35 & C35 & D35)","v":"---"},null,null,"---","---",false,"CONDITIONAL",false]
["'[Asphalt Mix Design - Template (20260115 1305 BC).xlsm]","JMF Summary'!","B",28,"Aggregates","Agg 1",null,null,"Gsb",null,null,{"$f":"INDIRECT(\"'\" & B36 & C36 & D36)","v":"---"},null,null,"---","---",false,"CONDITIONAL",false]
["'[Asphalt Mix Design - Template (20260115 1305 BC).xlsm]","JMF Summary'!","B",29,"Aggregates","Agg 1",null,null,"Abs, %","%","%",{"$f":"INDIRECT(\"'\" & B37 & C37 & D37)","v":"---"},null,null,"---","---",false,"CONDITIONAL",false]
["'[Asphalt Mix Design - Template (20260115 1305 BC).xlsm]","JMF Summary'!","B",30,"Aggregates","Agg 1",null,null,"LA Abrasion","%","%",{"$f":"INDIRECT(\"'\" & B38 & C38 & D38)","v":"---"},null,null,"---","---",false,"CONDITIONAL",false]
["'[Asphalt Mix Design - Template (20260115 1305 BC).xlsm]","JMF Summary'!","B",31,"Aggregates","Agg 1",null,null,"Fractured Faces, %","%","%",{"$f":"INDIRECT(\"'\" & B39 & C39 & D39)","v":"---"},null,null,"---","---",false,"CONDITIONAL",false]
["'[Asphalt Mix Design - Template (20260115 1305 BC).xlsm]","JMF Summary'!","B",32,"Aggregates","Agg 1",null,null,"F&E, %","%","%",{"$f":"INDIRECT(\"'\" & B40 & C40 & D40)","v":"---"},null,null,"---","---",false,"CONDITIONAL",false]
["'[Asphalt Mix Design - Template (20260115 1305 BC).xlsm]","JMF Summary'!","B",33,"Aggregates","Agg 1",null,null,"Sand Equivalency",null,null,{"$f":"INDIRECT(\"'\" & B41 & C41 & D41)","v":"---"},null,null,"---","---",false,"CONDITIONAL",false]
["'[Asphalt Mix Design - Template (20260115 1305 BC).xlsm]","JMF Summary'!","B",34,"Aggregates","Agg 1",null,null,"FAA, %","%","%",{"$f":"INDIRECT(\"'\" & B42 & C42 & D42)","v":"---"},null,null,"---","---",false,"CONDITIONAL",false]
["'[Asphalt Mix Design - Template (20260115 1305 BC).xlsm]","JMF Summary'!","C",11,"Aggregates","Agg 2",null,null,"Agg ID",null,null,{"$f":"INDIRECT(\"'\" & B43 & C43 & D43)","v":0},null,null,0,0,false,"CONDITIONAL",false]
["'[Asphalt Mix Design - Template (20260115 1305 BC).xlsm]","JMF Summary'!","C",12,"Aggregates","Agg 2",null,null,"Source",null,null,{"$f":"INDIRECT(\"'\" & B44 & C44 & D44)","v":0},null,null,0,0,false,"CONDITIONAL",false]
["'[Asphalt Mix Design - Template (20260115 1305 BC).xlsm]","JMF Summary'!","C",13,"Aggregates","Agg 2",null,null,"Type",null,null,{"$f":"INDIRECT(\"'\" & B45 & C45 & D45)","v":"---"},null,null,"---","---",false,"CONDITIONAL",false]
["'[Asphalt Mix Design - Template (20260115 1305 BC).xlsm]","JMF Summary'!","C",14,"Aggregates","Agg 2",null,null,"Classification",null,null,{"$f":"INDIRECT(\"'\" & B46 & C46 & D46)","v":"---"},null,null,"---","---",false,"CONDITIONAL",false]
["'[Asphalt Mix Design - Template (20260115 1305 BC).xlsm]","JMF Summary'!","C",15,"Aggregates","Agg 2",null,null,"Blend %","%","%",{"$f":"INDIRECT(\"'\" & B47 & C47 & D47)","v":0},null,null,0,0,false,"CONDITIONAL",false]
["'[Asphalt Mix Design - Template (20260115 1305 BC).xlsm]","JMF Summary'!","C",16,"Aggregates","Agg 2",null,null,"1.0\" / 25.0 mm","%","%",{"$f":"INDIRECT(\"'\" & B48 & C48 & D48)","v":0},null,null,0,0,false,"CONDITIONAL",false]
["'[Asphalt Mix Design - Template (20260115 1305 BC).xlsm]","JMF Summary'!","C",17,"Aggregates","Agg 2",null,null,"3/4\" / 19.0 mm","%","%",{"$f":"INDIRECT(\"'\" & B49 & C49 & D49)","v":0},null,null,0,0,false,"CONDITIONAL",false]
["'[Asphalt Mix Design - Template (20260115 1305 BC).xlsm]","JMF Summary'!","C",18,"Aggregates","Agg 2",null,null,"1/2\" / 12.5 mm","%","%",{"$f":"INDIRECT(\"'\" & B50 & C50 & D50)","v":0},null,null,0,0,false,"CONDITIONAL",false]
["'[Asphalt Mix Design - Template (20260115 1305 BC).xlsm]","JMF Summary'!","C",19,"Aggregates","Agg 2",null,null,"3/8\" / 9.5 mm","%","%",{"$f":"INDIRECT(\"'\" & B51 & C51 & D51)","v":0},null,null,0,0,false,"CONDITIONAL",false]
["'[Asphalt Mix Design - Template (20260115 1305 BC).xlsm]","JMF Summary'!","C",20,"Aggregates","Agg 2",null,null,"#4 / 4.75 mm","%","%",{"$f":"INDIRECT(\"'\" & B52 & C52 & D52)","v":0},null,null,0,0,false,"CONDITIONAL",false]
["'[Asphalt Mix Design - Template (20260115 1305 BC).xlsm]","JMF Summary'!","C",21,"Aggregates","Agg 2",null,null,"#8 / 2.36 mm","%","%",{"$f":"INDIRECT(\"'\" & B53 & C53 & D53)","v":0},null,null,0,0,false,"CONDITIONAL",false]
["'[Asphalt Mix Design - Template (20260115 1305 BC).xlsm]","JMF Summary'!","C",22,"Aggregates","Agg 2",null,null,"#16 / 1.18 mm","%","%",{"$f":"INDIRECT(\"'\" & B54 & C54 & D54)","v":0},null,null,0,0,false,"CONDITIONAL",false]
["'[Asphalt Mix Design - Template (20260115 1305 BC).xlsm]","JMF Summary'!","C",23,"Aggregates","Agg 2",null,null,"#30 / 0.60 mm","%","%",{"$f":"INDIRECT(\"'\" & B55 & C55 & D55)","v":0},null,null,0,0,false,"CONDITIONAL",false]
["'[Asphalt Mix Design - Template (20260115 1305 BC).xlsm]","JMF Summary'!","C",24,"Aggregates","Agg 2",null,null,"#50 / 0.30 mm","%","%",{"$f":"INDIRECT(\"'\" & B56 & C56 & D56)","v":0},null,null,0,0,false,"CONDITIONAL",false]
["'[Asphalt Mix Design - Template (20260115 1305 BC).xlsm]","JMF Summary'!","C",25,"Aggregates","Agg 2",null,null,"#100 / 0.15 mm","%","%",{"$f":"INDIRECT(\"'\" & B57 & C57 & D57)","v":0},null,null,0,0,false,"CONDITIONAL",false]
["'[Asphalt Mix Design - Template (20260115 1305 BC).xlsm]","JMF Summary'!","C",26,"Aggregates","Agg 2",null,null,"#200 / 0.075 mm","%","%",{"$f":"INDIRECT(\"'\" & B58 & C58 & D58)","v":0},null,null,0,0,false,"CONDITIONAL",false]
["'[Asphalt Mix Design - Template (20260115 1305 BC).xlsm]","JMF Summary'!","C",27,"Aggregates","Agg 2",null,null,"Gsa",null,null,{"$f":"INDIRECT(\"'\" & B59 & C59 & D59)","v":"---"},null,null,"---","---",false,"CONDITIONAL",false]
["'[Asphalt Mix Design - Template (20260115 1305 BC).xlsm]","JMF Summary'!","C",28,"Aggregates","Agg 2",null,null,"Gsb",null,null,{"$f":"INDIRECT(\"'\" & B60 & C60 & D60)","v":"---"},null,null,"---","---",false,"CONDITIONAL",false]
["'[Asphalt Mix Design - Template (20260115 1305 BC).xlsm]","JMF Summary'!","C",29,"Aggregates","Agg 2",null,null,"Abs, %","%","%",{"$f":"INDIRECT(\"'\" & B61 & C61 & D61)","v":"---"},null,null,"---","---",false,"CONDITIONAL",false]
["'[Asphalt Mix Design - Template (20260115 1305 BC).xlsm]","JMF Summary'!","C",30,"Aggregates","Agg 2",null,null,"LA Abrasion, %","%","%",{"$f":"INDIRECT(\"'\" & B62 & C62 & D62)","v":"---"},null,null,"---","---",false,"CONDITIONAL",false]
["'[Asphalt Mix Design - Template (20260115 1305 BC).xlsm]","JMF Summary'!","C",31,"Aggregates","Agg 2",null,null,"Fractured Faces, %","%","%",{"$f":"INDIRECT(\"'\" & B63 & C63 & D63)","v":"---"},null,null,"---","---",false,"CONDITIONAL",false]
["'[Asphalt Mix Design - Template (20260115 1305 BC).xlsm]","JMF Summary'!","C",32,"Aggregates","Agg 2",null,null,"F&E, %","%","%",{"$f":"INDIRECT(\"'\" & B64 & C64 & D64)","v":"---"},null,null,"---","---",false,"CONDITIONAL",false]
["'[Asphalt Mix Design - Template (20260115 1305 BC).xlsm]","JMF Summary'!","C",33,"Aggregates","Agg 2",null,null,"Sand Equivalency",null,null,{"$f":"INDIRECT(\"'\" & B65 & C65 & D65)","v":"---"},null,null,"---","---",false,"CONDITIONAL",false]
["'[Asphalt Mix Design - Template (20260115 1305 BC).xlsm]","JMF Summary'!","C",34,"Aggregates","Agg 2",null,null,"FAA, %","%","%",{"$f":"INDIRECT(\"'\" & B66 & C66 & D66)","v":"---"},null,null,{"$f":"IF(ISBLANK(N66),L66,N66)","v":"---"},{"$f":"IF(ISBLANK(N66),IF(OR(ISBLANK(M66),ISERROR(M66)),L66,M66),N66)","v":"---"},false,"CONDITIONAL",false]
["'[Asphalt Mix Design - Template (20260115 1305 BC).xlsm]","JMF Summary'!","D",11,"Aggregates","Agg 3",null,null,"Agg ID",null,null,{"$f":"INDIRECT(\"'\" & B67 & C67 & D67)","v":0},null,null,0,0,false,"CONDITIONAL",false]
["'[Asphalt Mix Design - Template (20260115 1305 BC).xlsm]","JMF Summary'!","D",12,"Aggregates","Agg 3",null,null,"Source",null,null,{"$f":"INDIRECT(\"'\" & B68 & C68 & D68)","v":0},null,null,0,0,false,"CONDITIONAL",false]
["'[Asphalt Mix Design - Template (20260115 1305 BC).xlsm]","JMF Summary'!","D",13,"Aggregates","Agg 3",null,null,"Type",null,null,{"$f":"INDIRECT(\"'\" & B69 & C69 & D69)","v":"---"},null,null,"---","---",false,"CONDITIONAL",false]
["'[Asphalt Mix Design - Template (20260115 1305 BC).xlsm]","JMF Summary'!","D",14,"Aggregates","Agg 3",null,null,"Classification",null,null,{"$f":"INDIRECT(\"'\" & B70 & C70 & D70)","v":"---"},null,null,"---","---",false,"CONDITIONAL",false]
["'[Asphalt Mix Design - Template (20260115 1305 BC).xlsm]","JMF Summary'!","D",15,"Aggregates","Agg 3",null,null,"Blend %","%","%",{"$f":"INDIRECT(\"'\" & B71 & C71 & D71)","v":0},null,null,0,0,false,"CONDITIONAL",false]
["'[Asphalt Mix Design - Template (20260115 1305 BC).xlsm]","JMF Summary'!","D",16,"Aggregates","Agg 3",null,null,"1.0\" / 25.0 mm","%","%",{"$f":"INDIRECT(\"'\" & B72 & C72 & D72)","v":0},null,null,0,0,false,"CONDITIONAL",false]
["'[Asphalt Mix Design - Template (20260115 1305 BC).xlsm]","JMF Summary'!","D",17,"Aggregates","Agg 3",null,null,"3/4\" / 19.0 mm","%","%",{"$f":"INDIRECT(\"'\" & B73 & C73 & D73)","v":0},null,null,0,0,false,"CONDITIONAL",false]
["'[Asphalt Mix Design - Template (20260115 1305 BC).xlsm]","JMF Summary'!","D",18,"Aggregates","Agg 3",null,null,"1/2\" / 12.5 mm","%","%",{"$f":"INDIRECT(\"'\" & B74 & C74 & D74)","v":0},null,null,0,0,false,"CONDITIONAL",false]
["'[Asphalt Mix Design - Template (20260115 1305 BC).xlsm]","JMF Summary'!","D",19,"Aggregates","Agg 3",null,null,"3/8\" / 9.5 mm","%","%",{"$f":"INDIRECT(\"'\" & B75 & C75 & D75)","v":0},null,null,0,0,false,"CONDITIONAL",false]
["'[Asphalt Mix Design - Template (20260115 1305 BC).xlsm]","JMF Summary'!","D",20,"Aggregates","Agg 3",null,null,"#4 / 4.75 mm","%","%",{"$f":"INDIRECT(\"'\" & B76 & C76 & D76)","v":0},null,null,0,0,false,"CONDITIONAL",false]
["'[Asphalt Mix Design - Template (20260115 1305 BC).xlsm]","JMF Summary'!","D",21,"Aggregates","Agg 3",null,null,"#8 / 2.36 mm","%","%",{"$f":"INDIRECT(\"'\" & B77 & C77 & D77)","v":0},null,null,0,0,false,"CONDITIONAL",false]
["'[Asphalt Mix Design - Template (20260115 1305 BC).xlsm]","JMF Summary'!","D",22,"Aggregates","Agg 3",null,null,"#16 / 1.18 mm","%","%",{"$f":"INDIRECT(\"'\" & B78 & C78 & D78)","v":0},null,null,0,0,false,"CONDITIONAL",false]
["'[Asphalt Mix Design - Template (20260115 1305 BC).xlsm]","JMF Summary'!","D",23,"Aggregates","Agg 3",null,null,"#30 / 0.60 mm","%","%",{"$f":"INDIRECT(\"'\" & B79 & C79 & D79)","v":0},null,null,0,0,false,"CONDITIONAL",false]
["'[Asphalt Mix Design - Template (20260115 1305 BC).xlsm]","JMF Summary'!","D",24,"Aggregates","Agg 3",null,null,"#50 / 0.30 mm","%","%",{"$f":"INDIRECT(\"'\" & B80 & C80 & D80)","v":0},null,null,0,0,false,"CONDITIONAL",false]
["'[Asphalt Mix Design - Template (20260115 1305 BC).xlsm]","JMF Summary'!","D",25,"Aggregates","Agg 3",null,null,"#100 / 0.15 mm","%","%",{"$f":"INDIRECT(\"'\" & B81 & C81 & D81)","v":0},null,null,0,0,false,"CONDITIONAL",false]
["'[Asphalt Mix Design - Template (20260115 1305 BC).xlsm]","JMF Summary'!","D",26,"Aggregates","Agg 3",null,null,"#200 / 0.075 mm","%","%",{"$f":"INDIRECT(\"'\" & B82 & C82 & D82)","v":0},null,null,0,0,false,"CONDITIONAL",false]
["'[Asphalt Mix Design - Template (20260115 1305 BC).xlsm]","JMF Summary'!","D",27,"Aggregates","Agg 3",null,null,"Gsa",null,null,{"$f":"INDIRECT(\"'\" & B83 & C83 & D83)","v":"---"},null,null,"---","---",false,"CONDITIONAL",false]
["'[Asphalt Mix Design - Template (20260115 1305 BC).xlsm]","JMF Summary'!","D",28,"Aggregates","Agg 3",null,null,"Gsb",null,null,{"$f":"INDIRECT(\"'\" & B84 & C84 & D84)","v":"---"},null,null,"---","---",false,"CONDITIONAL",false]
["'[Asphalt Mix Design - Template (20260115 1305 BC).xlsm]","JMF Summary'!","D",29,"Aggregates","Agg 3",null,null,"Abs, %","%","%",{"$f":"INDIRECT(\"'\" & B85 & C85 & D85)","v":"---"},null,null,"---","---",false,"CONDITIONAL",false]
["'[Asphalt Mix Design - Template (20260115 1305 BC).xlsm]","JMF Summary'!","D",30,"Aggregates","Agg 3",null,null,"LA Abrasion, %","%","%",{"$f":"INDIRECT(\"'\" & B86 & C86 & D86)","v":"---"},null,null,"---","---",false,"CONDITIONAL",false]
["'[Asphalt Mix Design - Template (20260115 1305 BC).xlsm]","JMF Summary'!","D",31,"Aggregates","Agg 3",null,null,"Fractured Faces, %","%","%",{"$f":"INDIRECT(\"'\" & B87 & C87 & D87)","v":"---"},null,null,"---","---",false,"CONDITIONAL",false]
["'[Asphalt Mix Design - Template (20260115 1305 BC).xlsm]","JMF Summary'!","D",32,"Aggregates","Agg 3",null,null,"F&E, %","%","%",{"$f":"INDIRECT(\"'\" & B88 & C88 & D88)","v":"---"},null,null,"---","---",false,"CONDITIONAL",false]
["'[Asphalt Mix Design - Template (20260115 1305 BC).xlsm]","JMF Summary'!","D",33,"Aggregates","Agg 3",null,null,"Sand Equivalency",null,null,{"$f":"INDIRECT(\"'\" & B89 & C89 & D89)","v":"---"},null,null,"---","---",false,"CONDITIONAL",false]
["'[Asphalt Mix Design - Template (20260115 1305 BC).xlsm]","JMF Summary'!","D",34,"Aggregates","Agg 3",null,null,"FAA, %","%","%",{"$f":"INDIRECT(\"'\" & B90 & C90 & D90)","v":"---"},null,null,"---","---",false,"CONDITIONAL",false]
["'[Asphalt Mix Design - Template (20260115 1305 BC).xlsm]","JMF Summary'!","E",11,"Aggregates","Agg 4",null,null,"Agg ID",null,null,{"$f":"INDIRECT(\"'\" & B91 & C91 & D91)","v":0},null,null,0,0,false,"CONDITIONAL",false]
["'[Asphalt Mix Design - Template (20260115 1305 BC).xlsm]","JMF Summary'!","E",12,"Aggregates","Agg 4",null,null,"Source",null,null,{"$f":"INDIRECT(\"'\" & B92 & C92 & D92)","v":0},null,null,0,0,false,"CONDITIONAL",false]
["'[Asphalt Mix Design - Template (20260115 1305 BC).xlsm]","JMF Summary'!","E",13,"Aggregates","Agg 4",null,null,"Type",null,null,{"$f":"INDIRECT(\"'\" & B93 & C93 & D93)","v":"---"},null,null,"---","---",false,"CONDITIONAL",false]
["'[Asphalt Mix Design - Template (20260115 1305 BC).xlsm]","JMF Summary'!","E",14,"Aggregates","Agg 4",null,null,"Classification",null,null,{"$f":"INDIRECT(\"'\" & B94 & C94 & D94)","v":"---"},null,null,"---","---",false,"CONDITIONAL",false]
["'[Asphalt Mix Design - Template (20260115 1305 BC).xlsm]","JMF Summary'!","E",15,"Aggregates","Agg 4",null,null,"Blend %","%","%",{"$f":"INDIRECT(\"'\" & B95 & C95 & D95)","v":0},null,null,0,0,false,"CONDITIONAL",false]
["'[Asphalt Mix Design - Template (20260115 1305 BC).xlsm]","JMF Summary'!","E",16,"Aggregates","Agg 4",null,null,"1.0\" / 25.0 mm","%","%",{"$f":"INDIRECT(\"'\" & B96 & C96 & D96)","v":0},null,null,0,0,false,"CONDITIONAL",false]
["'[Asphalt Mix Design - Template (20260115 1305 BC).xlsm]","JMF Summary'!","E",17,"Aggregates","Agg 4",null,null,"3/4\" / 19.0 mm","%","%",{"$f":"INDIRECT(\"'\" & B97 & C97 & D97)","v":0},null,null,0,0,false,"CONDITIONAL",false]
["'[Asphalt Mix Design - Template (20260115 1305 BC).xlsm]","JMF Summary'!","E",18,"Aggregates","Agg 4",null,null,"1/2\" / 12.5 mm","%","%",{"$f":"INDIRECT(\"'\" & B98 & C98 & D98)","v":0},null,null,0,0,false,"CONDITIONAL",false]
["'[Asphalt Mix Design - Template (20260115 1305 BC).xlsm]","JMF Summary'!","E",19,"Aggregates","Agg 4",null,null,"3/8\" / 9.5 mm","%","%",{"$f":"INDIRECT(\"'\" & B99 & C99 & D99)","v":0},null,null,0,0,false,"CONDITIONAL",false]
["'[Asphalt Mix Design - Template (20260115 1305 BC).xlsm]","JMF Summary'!","E",20,"Aggregates","Agg 4",null,null,"#4 / 4.75 mm","%","%",{"$f":"INDIRECT(\"'\" & B100 & C100 & D100)","v":0},null,null,0,0,false,"CONDITIONAL",false]
["'[Asphalt Mix Design - Template (20260115 1305 BC).xlsm]","JMF Summary'!","E",21,"Aggregates","Agg 4",null,null,"#8 / 2.36 mm","%","%",{"$f":"INDIRECT(\"'\" & B101 & C101 & D101)","v":0},null,null,0,0,false,"CONDITIONAL",false]
["'[Asphalt Mix Design - Template (20260115 1305 BC).xlsm]","JMF Summary'!","E",22,"Aggregates","Agg 4",null,null,"#16 / 1.18 mm","%","%",{"$f":"INDIRECT(\"'\" & B102 & C102 & D102)","v":0},null,null,0,0,false,"CONDITIONAL",false]
["'[Asphalt Mix Design - Template (20260115 1305 BC).xlsm]","JMF Summary'!","E",23,"Aggregates","Agg 4",null,null,"#30 / 0.60 mm","%","%",{"$f":"INDIRECT(\"'\" & B103 & C103 & D103)","v":0},null,null,0,0,false,"CONDITIONAL",false]
["'[Asphalt Mix Design - Template (20260115 1305 BC).xlsm]","JMF Summary'!","E",24,"Aggregates","Agg 4",null,null,"#50 / 0.30 mm","%","%",{"$f":"INDIRECT(\"'\" & B104 & C104 & D104)","v":0},null,null,0,0,false,"CONDITIONAL",false]
["'[Asphalt Mix Design - Template (20260115 1305 BC).xlsm]","JMF Summary'!","E",25,"Aggregates","Agg 4",null,null,"#100 / 0.15 mm","%","%",{"$f":"INDIRECT(\"'\" & B105 & C105 & D105)","v":0},null,null,0,0,false,"CONDITIONAL",false]
["'[Asphalt Mix Design - Template (20260115 1305 BC).xlsm]","JMF Summary'!","E",26,"Aggregates","Agg 4",null,null,"#200 / 0.075 mm","%","%",{"$f":"INDIRECT(\"'\" & B106 & C106 & D106)","v":0},null,null,0,0,false,"CONDITIONAL",false]
["'[Asphalt Mix Design - Template (20260115 1305 BC).xlsm]","JMF Summary'!","E",27,"Aggregates","Agg 4",null,null,"Gsa",null,null,{"$f":"INDIRECT(\"'\" & B107 & C107 & D107)","v":"---"},null,null,"---","---",false,"CONDITIONAL",false]
["'[Asphalt Mix Design - Template (20260115 1305 BC).xlsm]","JMF Summary'!","E",28,"Aggregates","Agg 4",null,null,"Gsb",null,null,{"$f":"INDIRECT(\"'\" & B108 & C108 & D108)","v":"---"},null,null,"---","---",false,"CONDITIONAL",false]
["'[Asphalt Mix Design - Template (20260115 1305 BC).xlsm]","JMF Summary'!","E",29,"Aggregates","Agg 4",null,null,"Abs, %","%","%",{"$f":"INDIRECT(\"'\" & B109 & C109 & D109)","v":"---"},null,null,"---","---",false,"CONDITIONAL",false]
["'[Asphalt Mix Design - Template (20260115 1305 BC).xlsm]","JMF Summary'!","E",30,"Aggregates","Agg 4",null,null,"LA Abrasion, %","%","%",{"$f":"INDIRECT(\"'\" & B110 & C110 & D110)","v":"---"},null,null,"---","---",false,"CONDITIONAL",false]
["'[Asphalt Mix Design - Template (20260115 1305 BC).xlsm]","JMF Summary'!","E",31,"Aggregates","Agg 4",null,null,"Fractured Faces, %","%","%",{"$f":"INDIRECT(\"'\" & B111 & C111 & D111)","v":"---"},null,null,"---","---",false,"CONDITIONAL",false]
["'[Asphalt Mix Design - Template (20260115 1305 BC).xlsm]","JMF Summary'!","E",32,"Aggregates","Agg 4",null,null,"F&E, %","%","%",{"$f":"INDIRECT(\"'\" & B112 & C112 & D112)","v":"---"},null,null,"---","---",false,"CONDITIONAL",false]
["'[Asphalt Mix Design - Template (20260115 1305 BC).xlsm]","JMF Summary'!","E",33,"Aggregates","Agg 4",null,null,"Sand Equivalency",null,null,{"$f":"INDIRECT(\"'\" & B113 & C113 & D113)","v":"---"},null,null,"---","---",false,"CONDITIONAL",false]
["'[Asphalt Mix Design - Template (20260115 1305 BC).xlsm]","JMF Summary'!","E",34,"Aggregates","Agg 4",null,null,"FAA, %","%","%",{"$f":"INDIRECT(\"'\" & B114 & C114 & D114)","v":"---"},null,null,"---","---",false,"CONDITIONAL",false]
["'[Asphalt Mix Design - Template (20260115 1305 BC).xlsm]","JMF Summary'!","F",11,"Aggregates","Agg 5",null,null,"Agg ID",null,null,{"$f":"INDIRECT(\"'\" & B115 & C115 & D115)","v":0},null,null,0,0,false,"CONDITIONAL",false]
["'[Asphalt Mix Design - Template (20260115 1305 BC).xlsm]","JMF Summary'!","F",12,"Aggregates","Agg 5",null,null,"Source",null,null,{"$f":"INDIRECT(\"'\" & B116 & C116 & D116)","v":0},null,null,0,0,false,"CONDITIONAL",false]
["'[Asphalt Mix Design - Template (20260115 1305 BC).xlsm]","JMF Summary'!","F",13,"Aggregates","Agg 5",null,null,"Type",null,null,{"$f":"INDIRECT(\"'\" & B117 & C117 & D117)","v":"---"},null,null,"---","---",false,"CONDITIONAL",false]
["'[Asphalt Mix Design - Template (20260115 1305 BC).xlsm]","JMF Summary'!","F",14,"Aggregates","Agg 5",null,null,"Classification",null,null,{"$f":"INDIRECT(\"'\" & B118 & C118 & D118)","v":"---"},null,null,"---","---",false,"CONDITIONAL",false]
["'[Asphalt Mix Design - Template (20260115 1305 BC).xlsm]","JMF Summary'!","F",15,"Aggregates","Agg 5",null,null,"Blend %","%","%",{"$f":"INDIRECT(\"'\" & B119 & C119 & D119)","v":0},null,null,0,0,false,"CONDITIONAL",false]
["'[Asphalt Mix Design - Template (20260115 1305 BC).xlsm]","JMF Summary'!","F",16,"Aggregates","Agg 5",null,null,"1.0\" / 25.0 mm","%","%",{"$f":"INDIRECT(\"'\" & B120 & C120 & D120)","v":0},null,null,0,0,false,"CONDITIONAL",false]
["'[Asphalt Mix Design - Template (20260115 1305 BC).xlsm]","JMF Summary'!","F",17,"Aggregates","Agg 5",null,null,"3/4\" / 19.0 mm","%","%",{"$f":"INDIRECT(\"'\" & B121 & C121 & D121)","v":0},null,null,0,0,false,"CONDITIONAL",false]
["'[Asphalt Mix Design - Template (20260115 1305 BC).xlsm]","JMF Summary'!","F",18,"Aggregates","Agg 5",null,null,"1/2\" / 12.5 mm","%","%",{"$f":"INDIRECT(\"'\" & B122 & C122 & D122)","v":0},null,null,0,0,false,"CONDITIONAL",false]
["'[Asphalt Mix Design - Template (20260115 1305 BC).xlsm]","JMF Summary'!","F",19,"Aggregates","Agg 5",null,null,"3/8\" / 9.5 mm","%","%",{"$f":"INDIRECT(\"'\" & B123 & C123 & D123)","v":0},null,null,0,0,false,"CONDITIONAL",false]
["'[Asphalt Mix Design - Template (20260115 1305 BC).xlsm]","JMF Summary'!","F",20,"Aggregates","Agg 5",null,null,"#4 / 4.75 mm","%","%",{"$f":"INDIRECT(\"'\" & B124 & C124 & D124)","v":0},null,null,0,0,false,"CONDITIONAL",false]
["'[Asphalt Mix Design - Template (20260115 1305 BC).xlsm]","JMF Summary'!","F",21,"Aggregates","Agg 5",null,null,"#8 / 2.36 mm","%","%",{"$f":"INDIRECT(\"'\" & B125 & C125 & D125)","v":0},null,null,0,0,false,"CONDITIONAL",false]
["'[Asphalt Mix Design - Template (20260115 1305 BC).xlsm]","JMF Summary'!","F",22,"Aggregates","Agg 5",null,null,"#16 / 1.18 mm","%","%",{"$f":"INDIRECT(\"'\" & B126 & C126 & D126)","v":0},null,null,0,0,false,"CONDITIONAL",false]
["'[Asphalt Mix Design - Template (20260115 1305 BC).xlsm]","JMF Summary'!","F",23,"Aggregates","Agg 5",null,null,"#30 / 0.60 mm","%","%",{"$f":"INDIRECT(\"'\" & B127 & C127 & D127)","v":0},null,null,0,0,false,"CONDITIONAL",false]
["'[Asphalt Mix Design - Template (20260115 1305 BC).xlsm]","JMF Summary'!","F",24,"Aggregates","Agg 5",null,null,"#50 / 0.30 mm","%","%",{"$f":"INDIRECT(\"'\" & B128 & C128 & D128)","v":0},null,null,0,0,false,"CONDITIONAL",false]
["'[Asphalt Mix Design - Template (20260115 1305 BC).xlsm]","JMF Summary'!","F",25,"Aggregates","Agg 5",null,null,"#100 / 0.15 mm","%","%",{"$f":"INDIRECT(\"'\" & B129 & C129 & D129)","v":0},null,null,0,0,false,"CONDITIONAL",false]
["'[Asphalt Mix Design - Template (20260115 1305 BC).xlsm]","JMF Summary'!","F",26,"Aggregates","Agg 5",null,null,"#200 / 0.075 mm","%","%",{"$f":"INDIRECT(\"'\" & B130 & C130 & D130)","v":0},null,null,{"$f":"IF(ISBLANK(N130),L130,N130)","v":0},{"$f":"IF(ISBLANK(N130),IF(OR(ISBLANK(M130),ISERROR(M130)),L130,M130),N130)","v":0},false,"CONDITIONAL",false]
["'[Asphalt Mix Design - Template (20260115 1305 BC).xlsm]","JMF Summary'!","F",27,"Aggregates","Agg 5",null,null,"Gsa",null,null,{"$f":"INDIRECT(\"'\" & B131 & C131 & D131)","v":"---"},null,null,"---","---",false,"CONDITIONAL",false]
["'[Asphalt Mix Design - Template (20260115 1305 BC).xlsm]","JMF Summary'!","F",28,"Aggregates","Agg 5",null,null,"Gsb",null,null,{"$f":"INDIRECT(\"'\" & B132 & C132 & D132)","v":"---"},null,null,"---","---",false,"CONDITIONAL",false]
["'[Asphalt Mix Design - Template (20260115 1305 BC).xlsm]","JMF Summary'!","F",29,"Aggregates","Agg 5",null,null,"Abs, %","%","%",{"$f":"INDIRECT(\"'\" & B133 & C133 & D133)","v":"---"},null,null,"---","---",false,"CONDITIONAL",false]
["'[Asphalt Mix Design - Template (20260115 1305 BC).xlsm]","JMF Summary'!","F",30,"Aggregates","Agg 5",null,null,"LA Abrasion, %","%","%",{"$f":"INDIRECT(\"'\" & B134 & C134 & D134)","v":"---"},null,null,"---","---",false,"CONDITIONAL",false]
["'[Asphalt Mix Design - Template (20260115 1305 BC).xlsm]","JMF Summary'!","F",31,"Aggregates","Agg 5",null,null,"Fractured Faces, %","%","%",{"$f":"INDIRECT(\"'\" & B135 & C135 & D135)","v":"---"},null,null,"---","---",false,"CONDITIONAL",false]
["'[Asphalt Mix Design - Template (20260115 1305 BC).xlsm]","JMF Summary'!","F",32,"Aggregates","Agg 5",null,null,"F&E, %","%","%",{"$f":"INDIRECT(\"'\" & B136 & C136 & D136)","v":"---"},null,null,"---","---",false,"CONDITIONAL",false]
["'[Asphalt Mix Design - Template (20260115 1305 BC).xlsm]","JMF Summary'!","F",33,"Aggregates","Agg 5",null,null,"Sand Equivalency",null,null,{"$f":"INDIRECT(\"'\" & B137 & C137 & D137)","v":"---"},null,null,"---","---",false,"CONDITIONAL",false]
["'[Asphalt Mix Design - Template (20260115 1305 BC).xlsm]","JMF Summary'!","F",34,"Aggregates","Agg 5",null,null,"FAA, %","%","%",{"$f":"INDIRECT(\"'\" & B138 & C138 & D138)","v":"---"},null,null,"---","---",false,"CONDITIONAL",false]
["'[Asphalt Mix Design - Template (20260115 1305 BC).xlsm]","JMF Summary'!","G",11,"Aggregates","Agg 6",null,null,"Agg ID",null,null,{"$f":"INDIRECT(\"'\" & B139 & C139 & D139)","v":0},null,null,0,0,false,"CONDITIONAL",false]
["'[Asphalt Mix Design - Template (20260115 1305 BC).xlsm]","JMF Summary'!","G",12,"Aggregates","Agg 6",null,null,"Source",null,null,{"$f":"INDIRECT(\"'\" & B140 & C140 & D140)","v":0},null,null,0,0,false,"CONDITIONAL",false]
["'[Asphalt Mix Design - Template (20260115 1305 BC).xlsm]","JMF Summary'!","G",13,"Aggregates","Agg 6",null,null,"Type",null,null,{"$f":"INDIRECT(\"'\" & B141 & C141 & D141)","v":"---"},null,null,"---","---",false,"CONDITIONAL",false]
["'[Asphalt Mix Design - Template (20260115 1305 BC).xlsm]","JMF Summary'!","G",14,"Aggregates","Agg 6",null,null,"Classification",null,null,{"$f":"INDIRECT(\"'\" & B142 & C142 & D142)","v":"---"},null,null,"---","---",false,"CONDITIONAL",false]
["'[Asphalt Mix Design - Template (20260115 1305 BC).xlsm]","JMF Summary'!","G",15,"Aggregates","Agg 6",null,null,"Blend %","%","%",{"$f":"INDIRECT(\"'\" & B143 & C143 & D143)","v":0},null,null,0,0,false,"CONDITIONAL",false]
["'[Asphalt Mix Design - Template (20260115 1305 BC).xlsm]","JMF Summary'!","G",16,"Aggregates","Agg 6",null,null,"1.0\" / 25.0 mm","%","%",{"$f":"INDIRECT(\"'\" & B144 & C144 & D144)","v":0},null,null,0,0,false,"CONDITIONAL",false]
["'[Asphalt Mix Design - Template (20260115 1305 BC).xlsm]","JMF Summary'!","G",17,"Aggregates","Agg 6",null,null,"3/4\" / 19.0 mm","%","%",{"$f":"INDIRECT(\"'\" & B145 & C145 & D145)","v":0},null,null,0,0,false,"CONDITIONAL",false]
["'[Asphalt Mix Design - Template (20260115 1305 BC).xlsm]","JMF Summary'!","G",18,"Aggregates","Agg 6",null,null,"1/2\" / 12.5 mm","%","%",{"$f":"INDIRECT(\"'\" & B146 & C146 & D146)","v":0},null,null,0,0,false,"CONDITIONAL",false]
["'[Asphalt Mix Design - Template (20260115 1305 BC).xlsm]","JMF Summary'!","G",19,"Aggregates","Agg 6",null,null,"3/8\" / 9.5 mm","%","%",{"$f":"INDIRECT(\"'\" & B147 & C147 & D147)","v":0},null,null,0,0,false,"CONDITIONAL",false]
["'[Asphalt Mix Design - Template (20260115 1305 BC).xlsm]","JMF Summary'!","G",20,"Aggregates","Agg 6",null,null,"#4 / 4.75 mm","%","%",{"$f":"INDIRECT(\"'\" & B148 & C148 & D148)","v":0},null,null,0,0,false,"CONDITIONAL",false]
["'[Asphalt Mix Design - Template (20260115 1305 BC).xlsm]","JMF Summary'!","G",21,"Aggregates","Agg 6",null,null,"#8 / 2.36 mm","%","%",{"$f":"INDIRECT(\"'\" & B149 & C149 & D149)","v":0},null,null,0,0,false,"CONDITIONAL",false]
["'[Asphalt Mix Design - Template (20260115 1305 BC).xlsm]","JMF Summary'!","G",22,"Aggregates","Agg 6",null,null,"#16 / 1.18 mm","%","%",{"$f":"INDIRECT(\"'\" & B150 & C150 & D150)","v":0},null,null,0,0,false,"CONDITIONAL",false]
["'[Asphalt Mix Design - Template (20260115 1305 BC).xlsm]","JMF Summary'!","G",23,"Aggregates","Agg 6",null,null,"#30 / 0.60 mm","%","%",{"$f":"INDIRECT(\"'\" & B151 & C151 & D151)","v":0},null,null,0,0,false,"CONDITIONAL",false]
["'[Asphalt Mix Design - Template (20260115 1305 BC).xlsm]","JMF Summary'!","G",24,"Aggregates","Agg 6",null,null,"#50 / 0.30 mm","%","%",{"$f":"INDIRECT(\"'\" & B152 & C152 & D152)","v":0},null,null,0,0,false,"CONDITIONAL",false]
["'[Asphalt Mix Design - Template (20260115 1305 BC).xlsm]","JMF Summary'!","G",25,"Aggregates","Agg 6",null,null,"#100 / 0.15 mm","%","%",{"$f":"INDIRECT(\"'\" & B153 & C153 & D153)","v":0},null,null,0,0,false,"CONDITIONAL",false]
["'[Asphalt Mix Design - Template (20260115 1305 BC).xlsm]","JMF Summary'!","G",26,"Aggregates","Agg 6",null,null,"#200 / 0.075 mm","%","%",{"$f":"INDIRECT(\"'\" & B154 & C154 & D154)","v":0},null,null,0,0,false,"CONDITIONAL",false]
["'[Asphalt Mix Design - Template (20260115 1305 BC).xlsm]","JMF Summary'!","G",27,"Aggregates","Agg 6",null,null,"Gsa",null,null,{"$f":"INDIRECT(\"'\" & B155 & C155 & D155)","v":"---"},null,null,"---","---",false,"CONDITIONAL",false]
["'[Asphalt Mix Design - Template (20260115 1305 BC).xlsm]","JMF Summary'!","G",28,"Aggregates","Agg 6",null,null,"Gsb",null,null,{"$f":"INDIRECT(\"'\" & B156 & C156 & D156)","v":"---"},null,null,"---","---",false,"CONDITIONAL",false]
["'[Asphalt Mix Design - Template (20260115 1305 BC).xlsm]","JMF Summary'!","G",29,"Aggregates","Agg 6",null,null,"Abs, %","%","%",{"$f":"INDIRECT(\"'\" & B157 & C157 & D157)","v":"---"},null,null,"---","---",false,"CONDITIONAL",false]
["'[Asphalt Mix Design - Template (20260115 1305 BC).xlsm]","JMF Summary'!","G",30,"Aggregates","Agg 6",null,null,"LA Abrasion, %","%","%",{"$f":"INDIRECT(\"'\" & B158 & C158 & D158)","v":"---"},null,null,"---","---",false,"CONDITIONAL",false]
["'[Asphalt Mix Design - Template (20260115 1305 BC).xlsm]","JMF Summary'!","G",31,"Aggregates","Agg 6",null,null,"Fractured Faces, %","%","%",{"$f":"INDIRECT(\"'\" & B159 & C159 & D159)","v":"---"},null,null,"---","---",false,"CONDITIONAL",false]
["'[Asphalt Mix Design - Template (20260115 1305 BC).xlsm]","JMF Summary'!","G",32,"Aggregates","Agg 6",null,null,"F&E, %","%","%",{"$f":"INDIRECT(\"'\" & B160 & C160 & D160)","v":"---"},null,null,"---","---",false,"CONDITIONAL",false]
["'[Asphalt Mix Design - Template (20260115 1305 BC).xlsm]","JMF Summary'!","G",33,"Aggregates","Agg 6",null,null,"Sand Equivalency",null,null,{"$f":"INDIRECT(\"'\" & B161 & C161 & D161)","v":"---"},null,null,"---","---",false,"CONDITIONAL",false]
["'[Asphalt Mix Design - Template (20260115 1305 BC).xlsm]","JMF Summary'!","G",34,"Aggregates","Agg 6",null,null,"FAA, %","%","%",{"$f":"INDIRECT(\"'\" & B162 & C162 & D162)","v":"---"},null,null,"---","---",false,"CONDITIONAL",false]
["'[Asphalt Mix Design - Template (20260115 1305 BC).xlsm]","JMF Summary'!","H",11,"Aggregates","Agg 7",null,null,"Agg ID",null,null,{"$f":"INDIRECT(\"'\" & B163 & C163 & D163)","v":0},null,null,0,0,false,"CONDITIONAL",false]
["'[Asphalt Mix Design - Template (20260115 1305 BC).xlsm]","JMF Summary'!","H",12,"Aggregates","Agg 7",null,null,"Source",null,null,{"$f":"INDIRECT(\"'\" & B164 & C164 & D164)","v":0},null,null,0,0,false,"CONDITIONAL",false]
["'[Asphalt Mix Design - Template (20260115 1305 BC).xlsm]","JMF Summary'!","H",13,"Aggregates","Agg 7",null,null,"Type",null,null,{"$f":"INDIRECT(\"'\" & B165 & C165 & D165)","v":"---"},null,null,"---","---",false,"CONDITIONAL",false]
["'[Asphalt Mix Design - Template (20260115 1305 BC).xlsm]","JMF Summary'!","H",14,"Aggregates","Agg 7",null,null,"Classification",null,null,{"$f":"INDIRECT(\"'\" & B166 & C166 & D166)","v":"---"},null,null,"---","---",false,"CONDITIONAL",false]
["'[Asphalt Mix Design - Template (20260115 1305 BC).xlsm]","JMF Summary'!","H",15,"Aggregates","Agg 7",null,null,"Blend %","%","%",{"$f":"INDIRECT(\"'\" & B167 & C167 & D167)","v":0},null,null,0,0,false,"CONDITIONAL",false]
["'[Asphalt Mix Design - Template (20260115 1305 BC).xlsm]","JMF Summary'!","H",16,"Aggregates","Agg 7",null,null,"1.0\" / 25.0 mm","%","%",{"$f":"INDIRECT(\"'\" & B168 & C168 & D168)","v":0},null,null,0,0,false,"CONDITIONAL",false]
["'[Asphalt Mix Design - Template (20260115 1305 BC).xlsm]","JMF Summary'!","H",17,"Aggregates","Agg 7",null,null,"3/4\" / 19.0 mm","%","%",{"$f":"INDIRECT(\"'\" & B169 & C169 & D169)","v":0},null,null,0,0,false,"CONDITIONAL",false]
["'[Asphalt Mix Design - Template (20260115 1305 BC).xlsm]","JMF Summary'!","H",18,"Aggregates","Agg 7",null,null,"1/2\" / 12.5 mm","%","%",{"$f":"INDIRECT(\"'\" & B170 & C170 & D170)","v":0},null,null,0,0,false,"CONDITIONAL",false]
["'[Asphalt Mix Design - Template (20260115 1305 BC).xlsm]","JMF Summary'!","H",19,"Aggregates","Agg 7",null,null,"3/8\" / 9.5 mm","%","%",{"$f":"INDIRECT(\"'\" & B171 & C171 & D171)","v":0},null,null,0,0,false,"CONDITIONAL",false]
["'[Asphalt Mix Design - Template (20260115 1305 BC).xlsm]","JMF Summary'!","H",20,"Aggregates","Agg 7",null,null,"#4 / 4.75 mm","%","%",{"$f":"INDIRECT(\"'\" & B172 & C172 & D172)","v":0},null,null,0,0,false,"CONDITIONAL",false]
["'[Asphalt Mix Design - Template (20260115 1305 BC).xlsm]","JMF Summary'!","H",21,"Aggregates","Agg 7",null,null,"#8 / 2.36 mm","%","%",{"$f":"INDIRECT(\"'\" & B173 & C173 & D173)","v":0},null,null,0,0,false,"CONDITIONAL",false]
["'[Asphalt Mix Design - Template (20260115 1305 BC).xlsm]","JMF Summary'!","H",22,"Aggregates","Agg 7",null,null,"#16 / 1.18 mm","%","%",{"$f":"INDIRECT(\"'\" & B174 & C174 & D174)","v":0},null,null,0,0,false,"CONDITIONAL",false]
["'[Asphalt Mix Design - Template (20260115 1305 BC).xlsm]","JMF Summary'!","H",23,"Aggregates","Agg 7",null,null,"#30 / 0.60 mm","%","%",{"$f":"INDIRECT(\"'\" & B175 & C175 & D175)","v":0},null,null,0,0,false,"CONDITIONAL",false]
["'[Asphalt Mix Design - Template (20260115 1305 BC).xlsm]","JMF Summary'!","H",24,"Aggregates","Agg 7",null,null,"#50 / 0.30 mm","%","%",{"$f":"INDIRECT(\"'\" & B176 & C176 & D176)","v":0},null,null,0,0,false,"CONDITIONAL",false]
["'[Asphalt Mix Design - Template (20260115 1305 BC).xlsm]","JMF Summary'!","H",25,"Aggregates","Agg 7",null,null,"#100 / 0.15 mm","%","%",{"$f":"INDIRECT(\"'\" & B177 & C177 & D177)","v":0},null,null,0,0,false,"CONDITIONAL",false]
["'[Asphalt Mix Design - Template (20260115 1305 BC).xlsm]","JMF Summary'!","H",26,"Aggregates","Agg 7",null,null,"#200 / 0.075 mm","%","%",{"$f":"INDIRECT(\"'\" & B178 & C178 & D178)","v":0},null,null,0,0,false,"CONDITIONAL",false]
["'[Asphalt Mix Design - Template (20260115 1305 BC).xlsm]","JMF Summary'!","H",27,"Aggregates","Agg 7",null,null,"Gsa",null,null,{"$f":"INDIRECT(\"'\" & B179 & C179 & D179)","v":"---"},null,null,"---","---",false,"CONDITIONAL",false]
["'[Asphalt Mix Design - Template (20260115 1305 BC).xlsm]","JMF Summary'!","H",28,"Aggregates","Agg 7",null,null,"Gsb",null,null,{"$f":"INDIRECT(\"'\" & B180 & C180 & D180)","v":"---"},null,null,"---","---",false,"CONDITIONAL",false]
["'[Asphalt Mix Design - Template (20260115 1305 BC).xlsm]","JMF Summary'!","H",29,"Aggregates","Agg 7",null,null,"Abs, %","%","%",{"$f":"INDIRECT(\"'\" & B181 & C181 & D181)","v":"---"},null,null,"---","---",false,"CONDITIONAL",false]
["'[Asphalt Mix Design - Template (20260115 1305 BC).xlsm]","JMF Summary'!","H",30,"Aggregates","Agg 7",null,null,"LA Abrasion, %","%","%",{"$f":"INDIRECT(\"'\" & B182 & C182 & D182)","v":"---"},null,null,"---","---",false,"CONDITIONAL",false]
["'[Asphalt Mix Design - Template (20260115 1305 BC).xlsm]","JMF Summary'!","H",31,"Aggregates","Agg 7",null,null,"Fractured Faces, %","%","%",{"$f":"INDIRECT(\"'\" & B183 & C183 & D183)","v":"---"},null,null,"---","---",false,"CONDITIONAL",false]
["'[Asphalt Mix Design - Template (20260115 1305 BC).xlsm]","JMF Summary'!","H",32,"Aggregates","Agg 7",null,null,"F&E, %","%","%",{"$f":"INDIRECT(\"'\" & B184 & C184 & D184)","v":"---"},null,null,"---","---",false,"CONDITIONAL",false]
["'[Asphalt Mix Design - Template (20260115 1305 BC).xlsm]","JMF Summary'!","H",33,"Aggregates","Agg 7",null,null,"Sand Equivalency",null,null,{"$f":"INDIRECT(\"'\" & B185 & C185 & D185)","v":"---"},null,null,"---","---",false,"CONDITIONAL",false]
["'[Asphalt Mix Design - Template (20260115 1305 BC).xlsm]","JMF Summary'!","H",34,"Aggregates","Agg 7",null,null,"FAA, %","%","%",{"$f":"INDIRECT(\"'\" & B186 & C186 & D186)","v":"---"},null,null,"---","---",false,"CONDITIONAL",false]
["'[Asphalt Mix Design - Template (20260115 1305 BC).xlsm]","JMF Summary'!","I",16,"Aggregates","Agg Blend",null,null,"1.0\" / 25.0 mm","%","%",{"$f":"INDIRECT(\"'\" & B187 & C187 & D187)","v":0},null,null,0,0,true,true,true]
["'[Asphalt Mix Design - Template (20260115 1305 BC).xlsm]","JMF Summary'!","I",17,"Aggregates","Agg Blend",null,null,"3/4\" / 19.0 mm","%","%",{"$f":"INDIRECT(\"'\" & B188 & C188 & D188)","v":0},null,null,0,0,true,true,true]
["'[Asphalt Mix Design - Template (20260115 1305 BC).xlsm]","JMF Summary'!","I",18,"Aggregates","Agg Blend",null,null,"1/2\" / 12.5 mm","%","%",{"$f":"INDIRECT(\"'\" & B189 & C189 & D189)","v":0},null,null,0,0,true,true,true]
["'[Asphalt Mix Design - Template (20260115 1305 BC).xlsm]","JMF Summary'!","I",19,"Aggregates","Agg Blend",null,null,"3/8\" / 9.5 mm","%","%",{"$f":"INDIRECT(\"'\" & B190 & C190 & D190)","v":0},null,null,0,0,true,true,true]
["'[Asphalt Mix Design - Template (20260115 1305 BC).xlsm]","JMF Summary'!","I",20,"Aggregates","Agg Blend",null,null,"#4 / 4.75 mm","%","%",{"$f":"INDIRECT(\"'\" & B191 & C191 & D191)","v":0},null,null,0,0,true,true,true]
["'[Asphalt Mix Design - Template (20260115 1305 BC).xlsm]","JMF Summary'!","I",21,"Aggregates","Agg Blend",null,null,"#8 / 2.36 mm","%","%",{"$f":"INDIRECT(\"'\" & B192 & C192 & D192)","v":0},null,null,0,0,true,true,true]
["'[Asphalt Mix Design - Template (20260115 1305 BC).xlsm]","JMF Summary'!","I",22,"Aggregates","Agg Blend",null,null,"#16 / 1.18 mm","%","%",{"$f":"INDIRECT(\"'\" & B193 & C193 & D193)","v":0},null,null,0,0,true,true,true]
["'[Asphalt Mix Design - Template (20260115 1305 BC).xlsm]","JMF Summary'!","I",23,"Aggregates","Agg Blend",null,null,"#30 / 0.60 mm","%","%",{"$f":"INDIRECT(\"'\" & B194 & C194 & D194)","v":0},null,null,{"$f":"IF(ISBLANK(N194),L194,N194)","v":0},{"$f":"IF(ISBLANK(N194),IF(OR(ISBLANK(M194),ISERROR(M194)),L194,M194),N194)","v":0},true,true,true]
["'[Asphalt Mix Design - Template (20260115 1305 BC).xlsm]","JMF Summary'!","I",24,"Aggregates","Agg Blend",null,null,"#50 / 0.30 mm","%","%",{"$f":"INDIRECT(\"'\" & B195 & C195 & D195)","v":0},null,null,0,0,true,true,true]
["'[Asphalt Mix Design - Template (20260115 1305 BC).xlsm]","JMF Summary'!","I",25,"Aggregates","Agg Blend",null,null,"#100 / 0.15 mm","%","%",{"$f":"INDIRECT(\"'\" & B196 & C196 & D196)","v":0},null,null,0,0,true,true,true]
["'[Asphalt Mix Design - Template (20260115 1305 BC).xlsm]","JMF Summary'!","I",26,"Aggregates","Agg Blend",null,null,"#200 / 0.075 mm","%","%",{"$f":"INDIRECT(\"'\" & B197 & C197 & D197)","v":0},null,null,0,0,true,true,true]
["'[Asphalt Mix Design - Template (20260115 1305 BC).xlsm]","JMF Summary'!","I",27,"Aggregates","Agg Blend",null,null,"Gsa",null,null,{"$f":"INDIRECT(\"'\" & B198 & C198 & D198)","v":"---"},null,null,"---","---",false,true,true]
["'[Asphalt Mix Design - Template (20260115 1305 BC).xlsm]","JMF Summary'!","I",28,"Aggregates","Agg Blend",null,null,"Gsb",null,null,{"$f":"INDIRECT(\"'\" & B199 & C199 & D199)","v":"---"},null,null,"---","---",false,true,true]
["'[Asphalt Mix Design - Template (20260115 1305 BC).xlsm]","JMF Summary'!","I",29,"Aggregates","Agg Blend",null,null,"Abs, %","%","%",{"$f":"INDIRECT(\"'\" & B200 & C200 & D200)","v":0},null,null,0,0,false,true,true]
["'[Asphalt Mix Design - Template (20260115 1305 BC).xlsm]","JMF Summary'!","I",30,"Aggregates","Agg Blend",null,null,"LA Abrasion, %","%","%",{"$f":"INDIRECT(\"'\" & B201 & C201 & D201)","v":"---"},null,null,"---","---",false,false,false]
["'[Asphalt Mix Design - Template (20260115 1305 BC).xlsm]","JMF Summary'!","I",31,"Aggregates","Agg Blend",null,null,"Fractured Faces, %","%","%",{"$f":"INDIRECT(\"'\" & B202 & C202 & D202)","v":"---"},null,null,"---","---",false,false,false]
["'[Asphalt Mix Design - Template (20260115 1305 BC).xlsm]","JMF Summary'!","I",32,"Aggregates","Agg Blend",null,null,"F&E, %","%","%",{"$f":"INDIRECT(\"'\" & B203 & C203 & D203)","v":"---"},null,null,"---","---",false,false,false]
["'[Asphalt Mix Design - Template (20260115 1305 BC).xlsm]","JMF Summary'!","I",33,"Aggregates","Agg Blend",null,null,"Sand Equivalency",null,null,{"$f":"INDIRECT(\"'\" & B204 & C204 & D204)","v":"---"},null,null,"---","---",false,false,false]
["'[Asphalt Mix Design - Template (20260115 1305 BC).xlsm]","JMF Summary'!","I",34,"Aggregates","Agg Blend",null,null,"FAA, %","%","%",{"$f":"INDIRECT(\"'\" & B205 & C205 & D205)","v":"---"},null,null,"---","---",true,true,true]
["'[Asphalt Mix Design - Template (20260115 1305 BC).xlsm]","JMF Summary'!","B",37,"Additives","Anti-Strip",null,null,"Dose","%","%",{"$f":"INDIRECT(\"'\" & B206 & C206 & D206)","v":0},null,null,0,0,false,"CONDITIONAL",false,"Note: CONDITIONAL here means if an additive or RAP is present in the mix, then properties are required to be reported."]
["'[Asphalt Mix Design - Template (20260115 1305 BC).xlsm]","JMF Summary'!","C",37,"Additives","Anti-Strip",null,null,"Product",null,null,{"$f":"INDIRECT(\"'\" & B207 & C207 & D207)","v":0},null,null,0,0,false,"CONDITIONAL",false]
["'[Asphalt Mix Design - Template (20260115 1305 BC).xlsm]","JMF Summary'!","B",38,"Additives","WMA",null,null,"Dose","%","%",{"$f":"INDIRECT(\"'\" & B208 & C208 & D208)","v":0},null,null,0,0,false,"CONDITIONAL",false]
["'[Asphalt Mix Design - Template (20260115 1305 BC).xlsm]","JMF Summary'!","C",38,"Additives","WMA",null,null,"Product",null,null,{"$f":"INDIRECT(\"'\" & B209 & C209 & D209)","v":0},null,null,0,0,false,"CONDITIONAL",false]
["'[Asphalt Mix Design - Template (20260115 1305 BC).xlsm]","JMF Summary'!","B",39,"Additives","Other",null,null,"Dose","%","%",{"$f":"INDIRECT(\"'\" & B210 & C210 & D210)","v":0},null,null,0,0,false,"CONDITIONAL",false]
["'[Asphalt Mix Design - Template (20260115 1305 BC).xlsm]","JMF Summary'!","C",39,"Additives","Other",null,null,"Product",null,null,{"$f":"INDIRECT(\"'\" & B211 & C211 & D211)","v":0},null,null,0,0,false,"CONDITIONAL",false]
["'[Asphalt Mix Design - Template (20260115 1305 BC).xlsm]","JMF Summary'!","B",42,"RAP and Virgin Binder",null,null,null,"RAP, %","%","%",{"$f":"INDIRECT(\"'\" & B212 & C212 & D212)","v":0},null,null,0,0,false,"CONDITIONAL",false]
["'[Asphalt Mix Design - Template (20260115 1305 BC).xlsm]","JMF Summary'!","B",43,"RAP and Virgin Binder",null,null,null,"RAP Pb, %","%","%",{"$f":"INDIRECT(\"'\" & B213 & C213 & D213)","v":0},null,null,0,0,false,"CONDITIONAL",false]
["'[Asphalt Mix Design - Template (20260115 1305 BC).xlsm]","JMF Summary'!","B",44,"RAP and Virgin Binder",null,null,null,"RBA, %","%","%",{"$f":"INDIRECT(\"'\" & B214 & C214 & D214)","v":100},null,null,100,100,false,"CONDITIONAL",false]
["'[Asphalt Mix Design - Template (20260115 1305 BC).xlsm]","JMF Summary'!","B",45,"RAP and Virgin Binder",null,null,null,"RBR, %","%","%",{"$f":"INDIRECT(\"'\" & B215 & C215 & D215)","v":"---"},null,null,"---","---",true,"CONDITIONAL",false]
["'[Asphalt Mix Design - Template (20260115 1305 BC).xlsm]","JMF Summary'!","B",46,"RAP and Virgin Binder",null,null,null,"Total Pb, %","%","%",{"$f":"INDIRECT(\"'\" & B216 & C216 & D216)","v":"---"},null,null,"---","---",false,"CONDITIONAL",false]
["'[Asphalt Mix Design - Template (20260115 1305 BC).xlsm]","JMF Summary'!","B",47,"RAP and Virgin Binder",null,null,null,"Virgin Pb, %","%","%",{"$f":"INDIRECT(\"'\" & B217 & C217 & D217)","v":"---"},null,null,"---","---",false,"CONDITIONAL",false]
["'[Asphalt Mix Design - Template (20260115 1305 BC).xlsm]","JMF Summary'!","E",43,"Mechanical Properties","Stability",null,null,"Result","lb","N",{"$f":"INDIRECT(\"'\" & B218 & C218 & D218)","v":"---"},null,null,"---","---","CONDITIONAL","CONDITIONAL",false,"Note: CONDITIONAL here means if mix is Marshall, then Stability and Flow properties are required to be reported."]
["'[Asphalt Mix Design - Template (20260115 1305 BC).xlsm]","JMF Summary'!","F",43,"Mechanical Properties","Stability",null,null,"Specification","lb","N",{"$f":"INDIRECT(\"'\" & B219 & C219 & D219)","v":"---"},null,null,"---","---","CONDITIONAL","CONDITIONAL",false]
["'[Asphalt Mix Design - Template (20260115 1305 BC).xlsm]","JMF Summary'!","E",44,"Mechanical Properties","Flow",null,null,"Result","0.1 in.","0.25 mm",{"$f":"INDIRECT(\"'\" & B220 & C220 & D220)","v":"---"},null,null,"---","---","CONDITIONAL","CONDITIONAL",false]
["'[Asphalt Mix Design - Template (20260115 1305 BC).xlsm]","JMF Summary'!","F",44,"Mechanical Properties","Flow",null,null,"Specification","0.1 in.","0.25 mm",{"$f":"INDIRECT(\"'\" & B221 & C221 & D221)","v":"---"},null,null,"---","---","CONDITIONAL","CONDITIONAL",false]
["'[Asphalt Mix Design - Template (20260115 1305 BC).xlsm]","JMF Summary'!","E",45,"Mechanical Properties","TSR",null,null,"Result","%","%",{"$f":"INDIRECT(\"'\" & B222 & C222 & D222)","v":"---"},null,null,"---","---",true,true,false]
["'[Asphalt Mix Design - Template (20260115 1305 BC).xlsm]","JMF Summary'!","F",45,"Mechanical Properties","TSR",null,null,"Specification","%","%",{"$f":"INDIRECT(\"'\" & B223 & C223 & D223)","v":"≥ 75"},null,null,"≥ 75","≥ 75",true,true,false]
["'[Asphalt Mix Design - Template (20260115 1305 BC).xlsm]","JMF Summary'!","E",46,"Mechanical Properties","St Dry",null,null,"Result","psi","kPa",{"$f":"INDIRECT(\"'\" & B224 & C224 & D224)","v":"---"},null,null,"---","---",false,true,false]
["'[Asphalt Mix Design - Template (20260115 1305 BC).xlsm]","JMF Summary'!","E",47,"Mechanical Properties","St Wet",null,null,"Result","psi","kPa",{"$f":"INDIRECT(\"'\" & B225 & C225 & D225)","v":"---"},null,null,"---","---",true,true,false]
["'[Asphalt Mix Design - Template (20260115 1305 BC).xlsm]","JMF Summary'!","F",47,"Mechanical Properties","St Wet",null,null,"Specification","psi","kPa",{"$f":"INDIRECT(\"'\" & B226 & C226 & D226)","v":"≥ 60"},null,null,"≥ 60","≥ 60",true,true,false]
["'[Asphalt Mix Design - Template (20260115 1305 BC).xlsm]","JMF Summary'!","I",38,"JMF Properties","Design Pb",null,null,"Result","%","%",{"$f":"INDIRECT(\"'\" & B227 & C227 & D227)","v":"---"},null,null,"---","---",false,true,true]
["'[Asphalt Mix Design - Template (20260115 1305 BC).xlsm]","JMF Summary'!","I",39,"JMF Properties","Gb",null,null,"Result",null,null,{"$f":"INDIRECT(\"'\" & B228 & C228 & D228)","v":"---"},null,null,"---","---",false,true,false]
["'[Asphalt Mix Design - Template (20260115 1305 BC).xlsm]","JMF Summary'!","I",40,"JMF Properties","Gse",null,null,"Result",null,null,{"$f":"INDIRECT(\"'\" & B229 & C229 & D229)","v":"---"},null,null,"---","---",false,true,true]
["'[Asphalt Mix Design - Template (20260115 1305 BC).xlsm]","JMF Summary'!","I",41,"JMF Properties","Gmm",null,null,"Result",null,null,{"$f":"INDIRECT(\"'\" & B230 & C230 & D230)","v":"---"},null,null,"---","---",false,true,false]
["'[Asphalt Mix Design - Template (20260115 1305 BC).xlsm]","JMF Summary'!","I",42,"JMF Properties","Gmb",null,null,"Result",null,null,{"$f":"INDIRECT(\"'\" & B231 & C231 & D231)","v":"---"},null,null,"---","---",false,true,false]
["'[Asphalt Mix Design - Template (20260115 1305 BC).xlsm]","JMF Summary'!","I",43,"JMF Properties","Va",null,null,"Result","%","%",{"$f":"INDIRECT(\"'\" & B232 & C232 & D232)","v":"---"},null,null,"---","---",true,true,false]
["'[Asphalt Mix Design - Template (20260115 1305 BC).xlsm]","JMF Summary'!","J",43,"JMF Properties","Va",null,null,"Specification","%","%",{"$f":"INDIRECT(\"'\" & B233 & C233 & D233)","v":"4.0"},null,null,"4.0","4.0",true,true,false]
["'[Asphalt Mix Design - Template (20260115 1305 BC).xlsm]","JMF Summary'!","I",44,"JMF Properties","VMA",null,null,"Result","%","%",{"$f":"INDIRECT(\"'\" & B234 & C234 & D234)","v":"---"},null,null,"---","---",true,true,true]
["'[Asphalt Mix Design - Template (20260115 1305 BC).xlsm]","JMF Summary'!","J",44,"JMF Properties","VMA",null,null,"Specification","%","%",{"$f":"INDIRECT(\"'\" & B235 & C235 & D235)","v":"≥ 14.0"},null,null,"≥ 14.0","≥ 14.0",true,true,false]
["'[Asphalt Mix Design - Template (20260115 1305 BC).xlsm]","JMF Summary'!","I",45,"JMF Properties","VFA",null,null,"Result","%","%",{"$f":"INDIRECT(\"'\" & B236 & C236 & D236)","v":"---"},null,null,"---","---",false,true,false]
["'[Asphalt Mix Design - Template (20260115 1305 BC).xlsm]","JMF Summary'!","I",46,"JMF Properties","VBE",null,null,"Result","%","%",{"$f":"INDIRECT(\"'\" & B237 & C237 & D237)","v":"---"},null,null,"---","---",false,true,false]
["'[Asphalt Mix Design - Template (20260115 1305 BC).xlsm]","JMF Summary'!","I",47,"JMF Properties","Pba,mix",null,null,"Result","%","%",{"$f":"INDIRECT(\"'\" & B238 & C238 & D238)","v":"---"},null,null,"---","---",false,true,false]
["'[Asphalt Mix Design - Template (20260115 1305 BC).xlsm]","JMF Summary'!","I",48,"JMF Properties","Pbe",null,null,"Result","%","%",{"$f":"INDIRECT(\"'\" & B239 & C239 & D239)","v":"---"},null,null,"---","---",false,true,false]
["'[Asphalt Mix Design - Template (20260115 1305 BC).xlsm]","JMF Summary'!","I",49,"JMF Properties","D/Pbe",null,null,"Result","%","%",{"$f":"INDIRECT(\"'\" & B240 & C240 & D240)","v":"---"},null,null,"---","---",true,true,false]
["'[Asphalt Mix Design - Template (20260115 1305 BC).xlsm]","JMF Summary'!","J",49,"JMF Properties","D/Pbe",null,null,"Specification","%","%",{"$f":"INDIRECT(\"'\" & B241 & C241 & D241)","v":"0.8 - 1.2"},null,null,"0.8 - 1.2","0.8 - 1.2",true,true,false]
["'[Asphalt Mix Design - Template (20260115 1305 BC).xlsm]","Volumetrics'!","A",12,"Trial Pb 1",null,null,null,"Trial Pb 1","%","%",{"$f":"INDIRECT(\"'\" & B242 & C242 & D242)","v":0},null,null,0,0,false,"CONDITIONAL",false,"Note: CONDITIONAL here means properties are required to be reported if that Trial Pb level is included (e.g. if 4 trial Pb's are used, then 5th is not required but first 4 are). Some summary values are required to be compared against spec limits, but these are covered under JMF Summary."]
["'[Asphalt Mix Design - Template (20260115 1305 BC).xlsm]","Volumetrics'!","B",12,"Trial Pb 1",null,null,null,"Gmm",null,null,{"$f":"INDIRECT(\"'\" & B243 & C243 & D243)","v":"---"},null,null,"---","---",false,"CONDITIONAL",false,"Note: CONDITIONAL implies all 3 replicates are required. Should discuss this as it is sometimes common to do only 2 replicates (I think UFGS explicitly requires 3 though)."]
["'[Asphalt Mix Design - Template (20260115 1305 BC).xlsm]","Volumetrics'!","D",12,"Trial Pb 1","Ht",null,null,"Rep 1","mm","mm",{"$f":"INDIRECT(\"'\" & B244 & C244 & D244)","v":0},null,null,0,0,false,"CONDITIONAL",false]
["'[Asphalt Mix Design - Template (20260115 1305 BC).xlsm]","Volumetrics'!","D",13,"Trial Pb 1","Ht",null,null,"Rep 2","mm","mm",{"$f":"INDIRECT(\"'\" & B245 & C245 & D245)","v":0},null,null,0,0,false,"CONDITIONAL",false]
["'[Asphalt Mix Design - Template (20260115 1305 BC).xlsm]","Volumetrics'!","D",14,"Trial Pb 1","Ht",null,null,"Rep 3","mm","mm",{"$f":"INDIRECT(\"'\" & B246 & C246 & D246)","v":0},null,null,0,0,false,"CONDITIONAL",false]
["'[Asphalt Mix Design - Template (20260115 1305 BC).xlsm]","Volumetrics'!","D",15,"Trial Pb 1","Ht",null,null,"Avg","mm","mm",{"$f":"INDIRECT(\"'\" & B247 & C247 & D247)","v":"---"},null,null,"---","---",false,"CONDITIONAL",false]
["'[Asphalt Mix Design - Template (20260115 1305 BC).xlsm]","Volumetrics'!","E",12,"Trial Pb 1","Dry Wt",null,null,"Rep 1","g","g",{"$f":"INDIRECT(\"'\" & B248 & C248 & D248)","v":0},null,null,0,0,false,"CONDITIONAL",false]
["'[Asphalt Mix Design - Template (20260115 1305 BC).xlsm]","Volumetrics'!","E",13,"Trial Pb 1","Dry Wt",null,null,"Rep 2","g","g",{"$f":"INDIRECT(\"'\" & B249 & C249 & D249)","v":0},null,null,0,0,false,"CONDITIONAL",false]
["'[Asphalt Mix Design - Template (20260115 1305 BC).xlsm]","Volumetrics'!","E",14,"Trial Pb 1","Dry Wt",null,null,"Rep 3","g","g",{"$f":"INDIRECT(\"'\" & B250 & C250 & D250)","v":0},null,null,0,0,false,"CONDITIONAL",false]
["'[Asphalt Mix Design - Template (20260115 1305 BC).xlsm]","Volumetrics'!","E",15,"Trial Pb 1","Dry Wt",null,null,"Avg","g","g",{"$f":"INDIRECT(\"'\" & B251 & C251 & D251)","v":"---"},null,null,"---","---",false,"CONDITIONAL",false]
["'[Asphalt Mix Design - Template (20260115 1305 BC).xlsm]","Volumetrics'!","F",12,"Trial Pb 1","Sub Wt",null,null,"Rep 1","g","g",{"$f":"INDIRECT(\"'\" & B252 & C252 & D252)","v":0},null,null,0,0,false,"CONDITIONAL",false]
["'[Asphalt Mix Design - Template (20260115 1305 BC).xlsm]","Volumetrics'!","F",13,"Trial Pb 1","Sub Wt",null,null,"Rep 2","g","g",{"$f":"INDIRECT(\"'\" & B253 & C253 & D253)","v":0},null,null,0,0,false,"CONDITIONAL",false]
["'[Asphalt Mix Design - Template (20260115 1305 BC).xlsm]","Volumetrics'!","F",14,"Trial Pb 1","Sub Wt",null,null,"Rep 3","g","g",{"$f":"INDIRECT(\"'\" & B254 & C254 & D254)","v":0},null,null,0,0,false,"CONDITIONAL",false]
["'[Asphalt Mix Design - Template (20260115 1305 BC).xlsm]","Volumetrics'!","F",15,"Trial Pb 1","Sub Wt",null,null,"Avg","g","g",{"$f":"INDIRECT(\"'\" & B255 & C255 & D255)","v":"---"},null,null,"---","---",false,"CONDITIONAL",false]
["'[Asphalt Mix Design - Template (20260115 1305 BC).xlsm]","Volumetrics'!","G",12,"Trial Pb 1","SSD Wt",null,null,"Rep 1","g","g",{"$f":"INDIRECT(\"'\" & B256 & C256 & D256)","v":0},null,null,0,0,false,"CONDITIONAL",false]
["'[Asphalt Mix Design - Template (20260115 1305 BC).xlsm]","Volumetrics'!","G",13,"Trial Pb 1","SSD Wt",null,null,"Rep 2","g","g",{"$f":"INDIRECT(\"'\" & B257 & C257 & D257)","v":0},null,null,0,0,false,"CONDITIONAL",false]
["'[Asphalt Mix Design - Template (20260115 1305 BC).xlsm]","Volumetrics'!","G",14,"Trial Pb 1","SSD Wt",null,null,"Rep 3","g","g",{"$f":"INDIRECT(\"'\" & B258 & C258 & D258)","v":0},null,null,{"$f":"IF(ISBLANK(N258),L258,N258)","v":0},{"$f":"IF(ISBLANK(N258),IF(OR(ISBLANK(M258),ISERROR(M258)),L258,M258),N258)","v":0},false,"CONDITIONAL",false]
["'[Asphalt Mix Design - Template (20260115 1305 BC).xlsm]","Volumetrics'!","G",15,"Trial Pb 1","SSD Wt",null,null,"Avg","g","g",{"$f":"INDIRECT(\"'\" & B259 & C259 & D259)","v":"---"},null,null,"---","---",false,"CONDITIONAL",false]
["'[Asphalt Mix Design - Template (20260115 1305 BC).xlsm]","Volumetrics'!","H",12,"Trial Pb 1","Abs",null,null,"Rep 1","%","%",{"$f":"INDIRECT(\"'\" & B260 & C260 & D260)","v":"---"},null,null,"---","---",false,"CONDITIONAL",false]
["'[Asphalt Mix Design - Template (20260115 1305 BC).xlsm]","Volumetrics'!","H",13,"Trial Pb 1","Abs",null,null,"Rep 2","%","%",{"$f":"INDIRECT(\"'\" & B261 & C261 & D261)","v":"---"},null,null,"---","---",false,"CONDITIONAL",false]
["'[Asphalt Mix Design - Template (20260115 1305 BC).xlsm]","Volumetrics'!","H",14,"Trial Pb 1","Abs",null,null,"Rep 3","%","%",{"$f":"INDIRECT(\"'\" & B262 & C262 & D262)","v":"---"},null,null,"---","---",false,"CONDITIONAL",false]
["'[Asphalt Mix Design - Template (20260115 1305 BC).xlsm]","Volumetrics'!","H",15,"Trial Pb 1","Abs",null,null,"Avg","%","%",{"$f":"INDIRECT(\"'\" & B263 & C263 & D263)","v":"---"},null,null,"---","---",false,"CONDITIONAL",false]
["'[Asphalt Mix Design - Template (20260115 1305 BC).xlsm]","Volumetrics'!","I",12,"Trial Pb 1","Gmb",null,null,"Rep 1",null,null,{"$f":"INDIRECT(\"'\" & B264 & C264 & D264)","v":"---"},null,null,"---","---",false,"CONDITIONAL",false]
["'[Asphalt Mix Design - Template (20260115 1305 BC).xlsm]","Volumetrics'!","I",13,"Trial Pb 1","Gmb",null,null,"Rep 2",null,null,{"$f":"INDIRECT(\"'\" & B265 & C265 & D265)","v":"---"},null,null,"---","---",false,"CONDITIONAL",false]
["'[Asphalt Mix Design - Template (20260115 1305 BC).xlsm]","Volumetrics'!","I",14,"Trial Pb 1","Gmb",null,null,"Rep 3",null,null,{"$f":"INDIRECT(\"'\" & B266 & C266 & D266)","v":"---"},null,null,"---","---",false,"CONDITIONAL",false]
["'[Asphalt Mix Design - Template (20260115 1305 BC).xlsm]","Volumetrics'!","I",15,"Trial Pb 1","Gmb",null,null,"Avg",null,null,{"$f":"INDIRECT(\"'\" & B267 & C267 & D267)","v":"---"},null,null,"---","---",false,"CONDITIONAL",false]
["'[Asphalt Mix Design - Template (20260115 1305 BC).xlsm]","Volumetrics'!","J",12,"Trial Pb 1","Va",null,null,"Rep 1","%","%",{"$f":"INDIRECT(\"'\" & B268 & C268 & D268)","v":"---"},null,null,"---","---",false,"CONDITIONAL",false]
["'[Asphalt Mix Design - Template (20260115 1305 BC).xlsm]","Volumetrics'!","J",13,"Trial Pb 1","Va",null,null,"Rep 2","%","%",{"$f":"INDIRECT(\"'\" & B269 & C269 & D269)","v":"---"},null,null,"---","---",false,"CONDITIONAL",false]
["'[Asphalt Mix Design - Template (20260115 1305 BC).xlsm]","Volumetrics'!","J",14,"Trial Pb 1","Va",null,null,"Rep 3","%","%",{"$f":"INDIRECT(\"'\" & B270 & C270 & D270)","v":"---"},null,null,"---","---",false,"CONDITIONAL",false]
["'[Asphalt Mix Design - Template (20260115 1305 BC).xlsm]","Volumetrics'!","J",15,"Trial Pb 1","Va",null,null,"Avg","%","%",{"$f":"INDIRECT(\"'\" & B271 & C271 & D271)","v":"---"},null,null,"---","---",false,"CONDITIONAL",false]
["'[Asphalt Mix Design - Template (20260115 1305 BC).xlsm]","Volumetrics'!","K",12,"Trial Pb 1","VMA",null,null,"Rep 1","%","%",{"$f":"INDIRECT(\"'\" & B272 & C272 & D272)","v":"---"},null,null,"---","---",false,"CONDITIONAL",false]
["'[Asphalt Mix Design - Template (20260115 1305 BC).xlsm]","Volumetrics'!","K",13,"Trial Pb 1","VMA",null,null,"Rep 2","%","%",{"$f":"INDIRECT(\"'\" & B273 & C273 & D273)","v":"---"},null,null,"---","---",false,"CONDITIONAL",false]
["'[Asphalt Mix Design - Template (20260115 1305 BC).xlsm]","Volumetrics'!","K",14,"Trial Pb 1","VMA",null,null,"Rep 3","%","%",{"$f":"INDIRECT(\"'\" & B274 & C274 & D274)","v":"---"},null,null,"---","---",false,"CONDITIONAL",false]
["'[Asphalt Mix Design - Template (20260115 1305 BC).xlsm]","Volumetrics'!","K",15,"Trial Pb 1","VMA",null,null,"Avg","%","%",{"$f":"INDIRECT(\"'\" & B275 & C275 & D275)","v":"---"},null,null,"---","---",false,"CONDITIONAL",false]
["'[Asphalt Mix Design - Template (20260115 1305 BC).xlsm]","Volumetrics'!","L",12,"Trial Pb 1","VFA",null,null,"Rep 1","%","%",{"$f":"INDIRECT(\"'\" & B276 & C276 & D276)","v":"---"},null,null,"---","---",false,"CONDITIONAL",false]
["'[Asphalt Mix Design - Template (20260115 1305 BC).xlsm]","Volumetrics'!","L",13,"Trial Pb 1","VFA",null,null,"Rep 2","%","%",{"$f":"INDIRECT(\"'\" & B277 & C277 & D277)","v":"---"},null,null,"---","---",false,"CONDITIONAL",false]
["'[Asphalt Mix Design - Template (20260115 1305 BC).xlsm]","Volumetrics'!","L",14,"Trial Pb 1","VFA",null,null,"Rep 3","%","%",{"$f":"INDIRECT(\"'\" & B278 & C278 & D278)","v":"---"},null,null,"---","---",false,"CONDITIONAL",false]
["'[Asphalt Mix Design - Template (20260115 1305 BC).xlsm]","Volumetrics'!","L",15,"Trial Pb 1","VFA",null,null,"Avg","%","%",{"$f":"INDIRECT(\"'\" & B279 & C279 & D279)","v":"---"},null,null,"---","---",false,"CONDITIONAL",false]
["'[Asphalt Mix Design - Template (20260115 1305 BC).xlsm]","Volumetrics'!","M",12,"Trial Pb 1","VBE",null,null,"Rep 1","%","%",{"$f":"INDIRECT(\"'\" & B280 & C280 & D280)","v":"---"},null,null,"---","---",false,"CONDITIONAL",false]
["'[Asphalt Mix Design - Template (20260115 1305 BC).xlsm]","Volumetrics'!","M",13,"Trial Pb 1","VBE",null,null,"Rep 2","%","%",{"$f":"INDIRECT(\"'\" & B281 & C281 & D281)","v":"---"},null,null,"---","---",false,"CONDITIONAL",false]
["'[Asphalt Mix Design - Template (20260115 1305 BC).xlsm]","Volumetrics'!","M",14,"Trial Pb 1","VBE",null,null,"Rep 3","%","%",{"$f":"INDIRECT(\"'\" & B282 & C282 & D282)","v":"---"},null,null,"---","---",false,"CONDITIONAL",false]
["'[Asphalt Mix Design - Template (20260115 1305 BC).xlsm]","Volumetrics'!","M",15,"Trial Pb 1","VBE",null,null,"Avg","%","%",{"$f":"INDIRECT(\"'\" & B283 & C283 & D283)","v":"---"},null,null,"---","---",false,"CONDITIONAL",false]
["'[Asphalt Mix Design - Template (20260115 1305 BC).xlsm]","Volumetrics'!","N",12,"Trial Pb 1","Pba,mix",null,null,"Rep 1","%","%",{"$f":"INDIRECT(\"'\" & B284 & C284 & D284)","v":"---"},null,null,"---","---",false,"CONDITIONAL",false]
["'[Asphalt Mix Design - Template (20260115 1305 BC).xlsm]","Volumetrics'!","N",13,"Trial Pb 1","Pba,mix",null,null,"Rep 2","%","%",{"$f":"INDIRECT(\"'\" & B285 & C285 & D285)","v":"---"},null,null,"---","---",false,"CONDITIONAL",false]
["'[Asphalt Mix Design - Template (20260115 1305 BC).xlsm]","Volumetrics'!","N",14,"Trial Pb 1","Pba,mix",null,null,"Rep 3","%","%",{"$f":"INDIRECT(\"'\" & B286 & C286 & D286)","v":"---"},null,null,"---","---",false,"CONDITIONAL",false]
["'[Asphalt Mix Design - Template (20260115 1305 BC).xlsm]","Volumetrics'!","N",15,"Trial Pb 1","Pba,mix",null,null,"Avg","%","%",{"$f":"INDIRECT(\"'\" & B287 & C287 & D287)","v":"---"},null,null,"---","---",false,"CONDITIONAL",false]
["'[Asphalt Mix Design - Template (20260115 1305 BC).xlsm]","Volumetrics'!","O",12,"Trial Pb 1","Pbe",null,null,"Rep 1","%","%",{"$f":"INDIRECT(\"'\" & B288 & C288 & D288)","v":"---"},null,null,"---","---",false,"CONDITIONAL",false]
["'[Asphalt Mix Design - Template (20260115 1305 BC).xlsm]","Volumetrics'!","O",13,"Trial Pb 1","Pbe",null,null,"Rep 2","%","%",{"$f":"INDIRECT(\"'\" & B289 & C289 & D289)","v":"---"},null,null,"---","---",false,"CONDITIONAL",false]
["'[Asphalt Mix Design - Template (20260115 1305 BC).xlsm]","Volumetrics'!","O",14,"Trial Pb 1","Pbe",null,null,"Rep 3","%","%",{"$f":"INDIRECT(\"'\" & B290 & C290 & D290)","v":"---"},null,null,"---","---",false,"CONDITIONAL",false]
["'[Asphalt Mix Design - Template (20260115 1305 BC).xlsm]","Volumetrics'!","O",15,"Trial Pb 1","Pbe",null,null,"Avg","%","%",{"$f":"INDIRECT(\"'\" & B291 & C291 & D291)","v":"---"},null,null,"---","---",false,"CONDITIONAL",false]
["'[Asphalt Mix Design - Template (20260115 1305 BC).xlsm]","Volumetrics'!","P",12,"Trial Pb 1","D/Pbe",null,null,"Rep 1",null,null,{"$f":"INDIRECT(\"'\" & B292 & C292 & D292)","v":"---"},null,null,"---","---",false,"CONDITIONAL",false]
["'[Asphalt Mix Design - Template (20260115 1305 BC).xlsm]","Volumetrics'!","P",13,"Trial Pb 1","D/Pbe",null,null,"Rep 2",null,null,{"$f":"INDIRECT(\"'\" & B293 & C293 & D293)","v":"---"},null,null,"---","---",false,"CONDITIONAL",false]
["'[Asphalt Mix Design - Template (20260115 1305 BC).xlsm]","Volumetrics'!","P",14,"Trial Pb 1","D/Pbe",null,null,"Rep 3",null,null,{"$f":"INDIRECT(\"'\" & B294 & C294 & D294)","v":"---"},null,null,"---","---",false,"CONDITIONAL",false]
["'[Asphalt Mix Design - Template (20260115 1305 BC).xlsm]","Volumetrics'!","P",15,"Trial Pb 1","D/Pbe",null,null,"Avg",null,null,{"$f":"INDIRECT(\"'\" & B295 & C295 & D295)","v":"---"},null,null,"---","---",false,"CONDITIONAL",false]
["'[Asphalt Mix Design - Template (20260115 1305 BC).xlsm]","Volumetrics'!","Q",12,"Trial Pb 1","Corr. Stability",null,null,"Rep 1","lb","N",{"$f":"INDIRECT(\"'\" & B296 & C296 & D296)","v":"---"},null,null,"---","---",false,"CONDITIONAL",false]
["'[Asphalt Mix Design - Template (20260115 1305 BC).xlsm]","Volumetrics'!","Q",13,"Trial Pb 1","Corr. Stability",null,null,"Rep 2","lb","N",{"$f":"INDIRECT(\"'\" & B297 & C297 & D297)","v":"---"},null,null,"---","---",false,"CONDITIONAL",false]
["'[Asphalt Mix Design - Template (20260115 1305 BC).xlsm]","Volumetrics'!","Q",14,"Trial Pb 1","Corr. Stability",null,null,"Rep 3","lb","N",{"$f":"INDIRECT(\"'\" & B298 & C298 & D298)","v":"---"},null,null,"---","---",false,"CONDITIONAL",false]
["'[Asphalt Mix Design - Template (20260115 1305 BC).xlsm]","Volumetrics'!","Q",15,"Trial Pb 1","Corr. Stability",null,null,"Avg","lb","N",{"$f":"INDIRECT(\"'\" & B299 & C299 & D299)","v":"---"},null,null,"---","---",false,"CONDITIONAL",false]
["'[Asphalt Mix Design - Template (20260115 1305 BC).xlsm]","Volumetrics'!","R",12,"Trial Pb 1","Flow",null,null,"Rep 1","0.1 in.","0.25 mm",{"$f":"INDIRECT(\"'\" & B300 & C300 & D300)","v":"---"},null,null,"---","---",false,"CONDITIONAL",false]
["'[Asphalt Mix Design - Template (20260115 1305 BC).xlsm]","Volumetrics'!","R",13,"Trial Pb 1","Flow",null,null,"Rep 2","0.1 in.","0.25 mm",{"$f":"INDIRECT(\"'\" & B301 & C301 & D301)","v":"---"},null,null,"---","---",false,"CONDITIONAL",false]
["'[Asphalt Mix Design - Template (20260115 1305 BC).xlsm]","Volumetrics'!","R",14,"Trial Pb 1","Flow",null,null,"Rep 3","0.1 in.","0.25 mm",{"$f":"INDIRECT(\"'\" & B302 & C302 & D302)","v":"---"},null,null,"---","---",false,"CONDITIONAL",false]
["'[Asphalt Mix Design - Template (20260115 1305 BC).xlsm]","Volumetrics'!","R",15,"Trial Pb 1","Flow",null,null,"Avg","0.1 in.","0.25 mm",{"$f":"INDIRECT(\"'\" & B303 & C303 & D303)","v":"---"},null,null,"---","---",false,"CONDITIONAL",false]
["'[Asphalt Mix Design - Template (20260115 1305 BC).xlsm]","Volumetrics'!","A",16,"Trial Pb 2",null,null,null,"Trial Pb 2","%","%",{"$f":"INDIRECT(\"'\" & B304 & C304 & D304)","v":0},null,null,0,0,false,"CONDITIONAL",false]
["'[Asphalt Mix Design - Template (20260115 1305 BC).xlsm]","Volumetrics'!","B",16,"Trial Pb 2",null,null,null,"Gmm",null,null,{"$f":"INDIRECT(\"'\" & B305 & C305 & D305)","v":"---"},null,null,"---","---",false,"CONDITIONAL",false]
["'[Asphalt Mix Design - Template (20260115 1305 BC).xlsm]","Volumetrics'!","D",16,"Trial Pb 2","Ht",null,null,"Rep 1","mm","mm",{"$f":"INDIRECT(\"'\" & B306 & C306 & D306)","v":0},null,null,0,0,false,"CONDITIONAL",false]
["'[Asphalt Mix Design - Template (20260115 1305 BC).xlsm]","Volumetrics'!","D",17,"Trial Pb 2","Ht",null,null,"Rep 2","mm","mm",{"$f":"INDIRECT(\"'\" & B307 & C307 & D307)","v":0},null,null,0,0,false,"CONDITIONAL",false]
["'[Asphalt Mix Design - Template (20260115 1305 BC).xlsm]","Volumetrics'!","D",18,"Trial Pb 2","Ht",null,null,"Rep 3","mm","mm",{"$f":"INDIRECT(\"'\" & B308 & C308 & D308)","v":0},null,null,0,0,false,"CONDITIONAL",false]
["'[Asphalt Mix Design - Template (20260115 1305 BC).xlsm]","Volumetrics'!","D",19,"Trial Pb 2","Ht",null,null,"Avg","mm","mm",{"$f":"INDIRECT(\"'\" & B309 & C309 & D309)","v":"---"},null,null,"---","---",false,"CONDITIONAL",false]
["'[Asphalt Mix Design - Template (20260115 1305 BC).xlsm]","Volumetrics'!","E",16,"Trial Pb 2","Dry Wt",null,null,"Rep 1","g","g",{"$f":"INDIRECT(\"'\" & B310 & C310 & D310)","v":0},null,null,0,0,false,"CONDITIONAL",false]
["'[Asphalt Mix Design - Template (20260115 1305 BC).xlsm]","Volumetrics'!","E",17,"Trial Pb 2","Dry Wt",null,null,"Rep 2","g","g",{"$f":"INDIRECT(\"'\" & B311 & C311 & D311)","v":0},null,null,0,0,false,"CONDITIONAL",false]
["'[Asphalt Mix Design - Template (20260115 1305 BC).xlsm]","Volumetrics'!","E",18,"Trial Pb 2","Dry Wt",null,null,"Rep 3","g","g",{"$f":"INDIRECT(\"'\" & B312 & C312 & D312)","v":0},null,null,0,0,false,"CONDITIONAL",false]
["'[Asphalt Mix Design - Template (20260115 1305 BC).xlsm]","Volumetrics'!","E",19,"Trial Pb 2","Dry Wt",null,null,"Avg","g","g",{"$f":"INDIRECT(\"'\" & B313 & C313 & D313)","v":"---"},null,null,"---","---",false,"CONDITIONAL",false]
["'[Asphalt Mix Design - Template (20260115 1305 BC).xlsm]","Volumetrics'!","F",16,"Trial Pb 2","Sub Wt",null,null,"Rep 1","g","g",{"$f":"INDIRECT(\"'\" & B314 & C314 & D314)","v":0},null,null,0,0,false,"CONDITIONAL",false]
["'[Asphalt Mix Design - Template (20260115 1305 BC).xlsm]","Volumetrics'!","F",17,"Trial Pb 2","Sub Wt",null,null,"Rep 2","g","g",{"$f":"INDIRECT(\"'\" & B315 & C315 & D315)","v":0},null,null,0,0,false,"CONDITIONAL",false]
["'[Asphalt Mix Design - Template (20260115 1305 BC).xlsm]","Volumetrics'!","F",18,"Trial Pb 2","Sub Wt",null,null,"Rep 3","g","g",{"$f":"INDIRECT(\"'\" & B316 & C316 & D316)","v":0},null,null,0,0,false,"CONDITIONAL",false]
["'[Asphalt Mix Design - Template (20260115 1305 BC).xlsm]","Volumetrics'!","F",19,"Trial Pb 2","Sub Wt",null,null,"Avg","g","g",{"$f":"INDIRECT(\"'\" & B317 & C317 & D317)","v":"---"},null,null,"---","---",false,"CONDITIONAL",false]
["'[Asphalt Mix Design - Template (20260115 1305 BC).xlsm]","Volumetrics'!","G",16,"Trial Pb 2","SSD Wt",null,null,"Rep 1","g","g",{"$f":"INDIRECT(\"'\" & B318 & C318 & D318)","v":0},null,null,0,0,false,"CONDITIONAL",false]
["'[Asphalt Mix Design - Template (20260115 1305 BC).xlsm]","Volumetrics'!","G",17,"Trial Pb 2","SSD Wt",null,null,"Rep 2","g","g",{"$f":"INDIRECT(\"'\" & B319 & C319 & D319)","v":0},null,null,0,0,false,"CONDITIONAL",false]
["'[Asphalt Mix Design - Template (20260115 1305 BC).xlsm]","Volumetrics'!","G",18,"Trial Pb 2","SSD Wt",null,null,"Rep 3","g","g",{"$f":"INDIRECT(\"'\" & B320 & C320 & D320)","v":0},null,null,0,0,false,"CONDITIONAL",false]
["'[Asphalt Mix Design - Template (20260115 1305 BC).xlsm]","Volumetrics'!","G",19,"Trial Pb 2","SSD Wt",null,null,"Avg","g","g",{"$f":"INDIRECT(\"'\" & B321 & C321 & D321)","v":"---"},null,null,"---","---",false,"CONDITIONAL",false]
["'[Asphalt Mix Design - Template (20260115 1305 BC).xlsm]","Volumetrics'!","H",16,"Trial Pb 2","Abs",null,null,"Rep 1","%","%",{"$f":"INDIRECT(\"'\" & B322 & C322 & D322)","v":"---"},null,null,{"$f":"IF(ISBLANK(N322),L322,N322)","v":"---"},{"$f":"IF(ISBLANK(N322),IF(OR(ISBLANK(M322),ISERROR(M322)),L322,M322),N322)","v":"---"},false,"CONDITIONAL",false]
["'[Asphalt Mix Design - Template (20260115 1305 BC).xlsm]","Volumetrics'!","H",17,"Trial Pb 2","Abs",null,null,"Rep 2","%","%",{"$f":"INDIRECT(\"'\" & B323 & C323 & D323)","v":"---"},null,null,"---","---",false,"CONDITIONAL",false]
["'[Asphalt Mix Design - Template (20260115 1305 BC).xlsm]","Volumetrics'!","H",18,"Trial Pb 2","Abs",null,null,"Rep 3","%","%",{"$f":"INDIRECT(\"'\" & B324 & C324 & D324)","v":"---"},null,null,"---","---",false,"CONDITIONAL",false]
["'[Asphalt Mix Design - Template (20260115 1305 BC).xlsm]","Volumetrics'!","H",19,"Trial Pb 2","Abs",null,null,"Avg","%","%",{"$f":"INDIRECT(\"'\" & B325 & C325 & D325)","v":"---"},null,null,"---","---",false,"CONDITIONAL",false]
["'[Asphalt Mix Design - Template (20260115 1305 BC).xlsm]","Volumetrics'!","I",16,"Trial Pb 2","Gmb",null,null,"Rep 1",null,null,{"$f":"INDIRECT(\"'\" & B326 & C326 & D326)","v":"---"},null,null,"---","---",false,"CONDITIONAL",false]
["'[Asphalt Mix Design - Template (20260115 1305 BC).xlsm]","Volumetrics'!","I",17,"Trial Pb 2","Gmb",null,null,"Rep 2",null,null,{"$f":"INDIRECT(\"'\" & B327 & C327 & D327)","v":"---"},null,null,"---","---",false,"CONDITIONAL",false]
["'[Asphalt Mix Design - Template (20260115 1305 BC).xlsm]","Volumetrics'!","I",18,"Trial Pb 2","Gmb",null,null,"Rep 3",null,null,{"$f":"INDIRECT(\"'\" & B328 & C328 & D328)","v":"---"},null,null,"---","---",false,"CONDITIONAL",false]
["'[Asphalt Mix Design - Template (20260115 1305 BC).xlsm]","Volumetrics'!","I",19,"Trial Pb 2","Gmb",null,null,"Avg",null,null,{"$f":"INDIRECT(\"'\" & B329 & C329 & D329)","v":"---"},null,null,"---","---",false,"CONDITIONAL",false]
["'[Asphalt Mix Design - Template (20260115 1305 BC).xlsm]","Volumetrics'!","J",16,"Trial Pb 2","Va",null,null,"Rep 1","%","%",{"$f":"INDIRECT(\"'\" & B330 & C330 & D330)","v":"---"},null,null,"---","---",false,"CONDITIONAL",false]
["'[Asphalt Mix Design - Template (20260115 1305 BC).xlsm]","Volumetrics'!","J",17,"Trial Pb 2","Va",null,null,"Rep 2","%","%",{"$f":"INDIRECT(\"'\" & B331 & C331 & D331)","v":"---"},null,null,"---","---",false,"CONDITIONAL",false]
["'[Asphalt Mix Design - Template (20260115 1305 BC).xlsm]","Volumetrics'!","J",18,"Trial Pb 2","Va",null,null,"Rep 3","%","%",{"$f":"INDIRECT(\"'\" & B332 & C332 & D332)","v":"---"},null,null,"---","---",false,"CONDITIONAL",false]
["'[Asphalt Mix Design - Template (20260115 1305 BC).xlsm]","Volumetrics'!","J",19,"Trial Pb 2","Va",null,null,"Avg","%","%",{"$f":"INDIRECT(\"'\" & B333 & C333 & D333)","v":"---"},null,null,"---","---",false,"CONDITIONAL",false]
["'[Asphalt Mix Design - Template (20260115 1305 BC).xlsm]","Volumetrics'!","K",16,"Trial Pb 2","VMA",null,null,"Rep 1","%","%",{"$f":"INDIRECT(\"'\" & B334 & C334 & D334)","v":"---"},null,null,"---","---",false,"CONDITIONAL",false]
["'[Asphalt Mix Design - Template (20260115 1305 BC).xlsm]","Volumetrics'!","K",17,"Trial Pb 2","VMA",null,null,"Rep 2","%","%",{"$f":"INDIRECT(\"'\" & B335 & C335 & D335)","v":"---"},null,null,"---","---",false,"CONDITIONAL",false]
["'[Asphalt Mix Design - Template (20260115 1305 BC).xlsm]","Volumetrics'!","K",18,"Trial Pb 2","VMA",null,null,"Rep 3","%","%",{"$f":"INDIRECT(\"'\" & B336 & C336 & D336)","v":"---"},null,null,"---","---",false,"CONDITIONAL",false]
["'[Asphalt Mix Design - Template (20260115 1305 BC).xlsm]","Volumetrics'!","K",19,"Trial Pb 2","VMA",null,null,"Avg","%","%",{"$f":"INDIRECT(\"'\" & B337 & C337 & D337)","v":"---"},null,null,"---","---",false,"CONDITIONAL",false]
["'[Asphalt Mix Design - Template (20260115 1305 BC).xlsm]","Volumetrics'!","L",16,"Trial Pb 2","VFA",null,null,"Rep 1","%","%",{"$f":"INDIRECT(\"'\" & B338 & C338 & D338)","v":"---"},null,null,"---","---",false,"CONDITIONAL",false]
["'[Asphalt Mix Design - Template (20260115 1305 BC).xlsm]","Volumetrics'!","L",17,"Trial Pb 2","VFA",null,null,"Rep 2","%","%",{"$f":"INDIRECT(\"'\" & B339 & C339 & D339)","v":"---"},null,null,"---","---",false,"CONDITIONAL",false]
["'[Asphalt Mix Design - Template (20260115 1305 BC).xlsm]","Volumetrics'!","L",18,"Trial Pb 2","VFA",null,null,"Rep 3","%","%",{"$f":"INDIRECT(\"'\" & B340 & C340 & D340)","v":"---"},null,null,"---","---",false,"CONDITIONAL",false]
["'[Asphalt Mix Design - Template (20260115 1305 BC).xlsm]","Volumetrics'!","L",19,"Trial Pb 2","VFA",null,null,"Avg","%","%",{"$f":"INDIRECT(\"'\" & B341 & C341 & D341)","v":"---"},null,null,"---","---",false,"CONDITIONAL",false]
["'[Asphalt Mix Design - Template (20260115 1305 BC).xlsm]","Volumetrics'!","M",16,"Trial Pb 2","VBE",null,null,"Rep 1","%","%",{"$f":"INDIRECT(\"'\" & B342 & C342 & D342)","v":"---"},null,null,"---","---",false,"CONDITIONAL",false]
["'[Asphalt Mix Design - Template (20260115 1305 BC).xlsm]","Volumetrics'!","M",17,"Trial Pb 2","VBE",null,null,"Rep 2","%","%",{"$f":"INDIRECT(\"'\" & B343 & C343 & D343)","v":"---"},null,null,"---","---",false,"CONDITIONAL",false]
["'[Asphalt Mix Design - Template (20260115 1305 BC).xlsm]","Volumetrics'!","M",18,"Trial Pb 2","VBE",null,null,"Rep 3","%","%",{"$f":"INDIRECT(\"'\" & B344 & C344 & D344)","v":"---"},null,null,"---","---",false,"CONDITIONAL",false]
["'[Asphalt Mix Design - Template (20260115 1305 BC).xlsm]","Volumetrics'!","M",19,"Trial Pb 2","VBE",null,null,"Avg","%","%",{"$f":"INDIRECT(\"'\" & B345 & C345 & D345)","v":"---"},null,null,"---","---",false,"CONDITIONAL",false]
["'[Asphalt Mix Design - Template (20260115 1305 BC).xlsm]","Volumetrics'!","N",16,"Trial Pb 2","Pba,mix",null,null,"Rep 1","%","%",{"$f":"INDIRECT(\"'\" & B346 & C346 & D346)","v":"---"},null,null,"---","---",false,"CONDITIONAL",false]
["'[Asphalt Mix Design - Template (20260115 1305 BC).xlsm]","Volumetrics'!","N",17,"Trial Pb 2","Pba,mix",null,null,"Rep 2","%","%",{"$f":"INDIRECT(\"'\" & B347 & C347 & D347)","v":"---"},null,null,"---","---",false,"CONDITIONAL",false]
["'[Asphalt Mix Design - Template (20260115 1305 BC).xlsm]","Volumetrics'!","N",18,"Trial Pb 2","Pba,mix",null,null,"Rep 3","%","%",{"$f":"INDIRECT(\"'\" & B348 & C348 & D348)","v":"---"},null,null,"---","---",false,"CONDITIONAL",false]
["'[Asphalt Mix Design - Template (20260115 1305 BC).xlsm]","Volumetrics'!","N",19,"Trial Pb 2","Pba,mix",null,null,"Avg","%","%",{"$f":"INDIRECT(\"'\" & B349 & C349 & D349)","v":"---"},null,null,"---","---",false,"CONDITIONAL",false]
["'[Asphalt Mix Design - Template (20260115 1305 BC).xlsm]","Volumetrics'!","O",16,"Trial Pb 2","Pbe",null,null,"Rep 1","%","%",{"$f":"INDIRECT(\"'\" & B350 & C350 & D350)","v":"---"},null,null,"---","---",false,"CONDITIONAL",false]
["'[Asphalt Mix Design - Template (20260115 1305 BC).xlsm]","Volumetrics'!","O",17,"Trial Pb 2","Pbe",null,null,"Rep 2","%","%",{"$f":"INDIRECT(\"'\" & B351 & C351 & D351)","v":"---"},null,null,"---","---",false,"CONDITIONAL",false]
["'[Asphalt Mix Design - Template (20260115 1305 BC).xlsm]","Volumetrics'!","O",18,"Trial Pb 2","Pbe",null,null,"Rep 3","%","%",{"$f":"INDIRECT(\"'\" & B352 & C352 & D352)","v":"---"},null,null,"---","---",false,"CONDITIONAL",false]
["'[Asphalt Mix Design - Template (20260115 1305 BC).xlsm]","Volumetrics'!","O",19,"Trial Pb 2","Pbe",null,null,"Avg","%","%",{"$f":"INDIRECT(\"'\" & B353 & C353 & D353)","v":"---"},null,null,"---","---",false,"CONDITIONAL",false]
["'[Asphalt Mix Design - Template (20260115 1305 BC).xlsm]","Volumetrics'!","P",16,"Trial Pb 2","D/Pbe",null,null,"Rep 1",null,null,{"$f":"INDIRECT(\"'\" & B354 & C354 & D354)","v":"---"},null,null,"---","---",false,"CONDITIONAL",false]
["'[Asphalt Mix Design - Template (20260115 1305 BC).xlsm]","Volumetrics'!","P",17,"Trial Pb 2","D/Pbe",null,null,"Rep 2",null,null,{"$f":"INDIRECT(\"'\" & B355 & C355 & D355)","v":"---"},null,null,"---","---",false,"CONDITIONAL",false]
["'[Asphalt Mix Design - Template (20260115 1305 BC).xlsm]","Volumetrics'!","P",18,"Trial Pb 2","D/Pbe",null,null,"Rep 3",null,null,{"$f":"INDIRECT(\"'\" & B356 & C356 & D356)","v":"---"},null,null,"---","---",false,"CONDITIONAL",false]
["'[Asphalt Mix Design - Template (20260115 1305 BC).xlsm]","Volumetrics'!","P",19,"Trial Pb 2","D/Pbe",null,null,"Avg",null,null,{"$f":"INDIRECT(\"'\" & B357 & C357 & D357)","v":"---"},null,null,"---","---",false,"CONDITIONAL",false]
["'[Asphalt Mix Design - Template (20260115 1305 BC).xlsm]","Volumetrics'!","Q",16,"Trial Pb 2","Corr. Stability",null,null,"Rep 1","lb","N",{"$f":"INDIRECT(\"'\" & B358 & C358 & D358)","v":"---"},null,null,"---","---",false,"CONDITIONAL",false]
["'[Asphalt Mix Design - Template (20260115 1305 BC).xlsm]","Volumetrics'!","Q",17,"Trial Pb 2","Corr. Stability",null,null,"Rep 2","lb","N",{"$f":"INDIRECT(\"'\" & B359 & C359 & D359)","v":"---"},null,null,"---","---",false,"CONDITIONAL",false]
["'[Asphalt Mix Design - Template (20260115 1305 BC).xlsm]","Volumetrics'!","Q",18,"Trial Pb 2","Corr. Stability",null,null,"Rep 3","lb","N",{"$f":"INDIRECT(\"'\" & B360 & C360 & D360)","v":"---"},null,null,"---","---",false,"CONDITIONAL",false]
["'[Asphalt Mix Design - Template (20260115 1305 BC).xlsm]","Volumetrics'!","Q",19,"Trial Pb 2","Corr. Stability",null,null,"Avg","lb","N",{"$f":"INDIRECT(\"'\" & B361 & C361 & D361)","v":"---"},null,null,"---","---",false,"CONDITIONAL",false]
["'[Asphalt Mix Design - Template (20260115 1305 BC).xlsm]","Volumetrics'!","R",16,"Trial Pb 2","Flow",null,null,"Rep 1","0.1 in.","0.25 mm",{"$f":"INDIRECT(\"'\" & B362 & C362 & D362)","v":"---"},null,null,"---","---",false,"CONDITIONAL",false]
["'[Asphalt Mix Design - Template (20260115 1305 BC).xlsm]","Volumetrics'!","R",17,"Trial Pb 2","Flow",null,null,"Rep 2","0.1 in.","0.25 mm",{"$f":"INDIRECT(\"'\" & B363 & C363 & D363)","v":"---"},null,null,"---","---",false,"CONDITIONAL",false]
["'[Asphalt Mix Design - Template (20260115 1305 BC).xlsm]","Volumetrics'!","R",18,"Trial Pb 2","Flow",null,null,"Rep 3","0.1 in.","0.25 mm",{"$f":"INDIRECT(\"'\" & B364 & C364 & D364)","v":"---"},null,null,"---","---",false,"CONDITIONAL",false]
["'[Asphalt Mix Design - Template (20260115 1305 BC).xlsm]","Volumetrics'!","R",19,"Trial Pb 2","Flow",null,null,"Avg","0.1 in.","0.25 mm",{"$f":"INDIRECT(\"'\" & B365 & C365 & D365)","v":"---"},null,null,"---","---",false,"CONDITIONAL",false]
["'[Asphalt Mix Design - Template (20260115 1305 BC).xlsm]","Volumetrics'!","A",20,"Trial Pb 3",null,null,null,"Trial Pb 3","%","%",{"$f":"INDIRECT(\"'\" & B366 & C366 & D366)","v":0},null,null,0,0,false,"CONDITIONAL",false]
["'[Asphalt Mix Design - Template (20260115 1305 BC).xlsm]","Volumetrics'!","B",20,"Trial Pb 3",null,null,null,"Gmm",null,null,{"$f":"INDIRECT(\"'\" & B367 & C367 & D367)","v":"---"},null,null,"---","---",false,"CONDITIONAL",false]
["'[Asphalt Mix Design - Template (20260115 1305 BC).xlsm]","Volumetrics'!","D",20,"Trial Pb 3","Ht",null,null,"Rep 1","mm","mm",{"$f":"INDIRECT(\"'\" & B368 & C368 & D368)","v":0},null,null,0,0,false,"CONDITIONAL",false]
["'[Asphalt Mix Design - Template (20260115 1305 BC).xlsm]","Volumetrics'!","D",21,"Trial Pb 3","Ht",null,null,"Rep 2","mm","mm",{"$f":"INDIRECT(\"'\" & B369 & C369 & D369)","v":0},null,null,0,0,false,"CONDITIONAL",false]
["'[Asphalt Mix Design - Template (20260115 1305 BC).xlsm]","Volumetrics'!","D",22,"Trial Pb 3","Ht",null,null,"Rep 3","mm","mm",{"$f":"INDIRECT(\"'\" & B370 & C370 & D370)","v":0},null,null,0,0,false,"CONDITIONAL",false]
["'[Asphalt Mix Design - Template (20260115 1305 BC).xlsm]","Volumetrics'!","D",23,"Trial Pb 3","Ht",null,null,"Avg","mm","mm",{"$f":"INDIRECT(\"'\" & B371 & C371 & D371)","v":"---"},null,null,"---","---",false,"CONDITIONAL",false]
["'[Asphalt Mix Design - Template (20260115 1305 BC).xlsm]","Volumetrics'!","E",20,"Trial Pb 3","Dry Wt",null,null,"Rep 1","g","g",{"$f":"INDIRECT(\"'\" & B372 & C372 & D372)","v":0},null,null,0,0,false,"CONDITIONAL",false]
["'[Asphalt Mix Design - Template (20260115 1305 BC).xlsm]","Volumetrics'!","E",21,"Trial Pb 3","Dry Wt",null,null,"Rep 2","g","g",{"$f":"INDIRECT(\"'\" & B373 & C373 & D373)","v":0},null,null,0,0,false,"CONDITIONAL",false]
["'[Asphalt Mix Design - Template (20260115 1305 BC).xlsm]","Volumetrics'!","E",22,"Trial Pb 3","Dry Wt",null,null,"Rep 3","g","g",{"$f":"INDIRECT(\"'\" & B374 & C374 & D374)","v":0},null,null,0,0,false,"CONDITIONAL",false]
["'[Asphalt Mix Design - Template (20260115 1305 BC).xlsm]","Volumetrics'!","E",23,"Trial Pb 3","Dry Wt",null,null,"Avg","g","g",{"$f":"INDIRECT(\"'\" & B375 & C375 & D375)","v":"---"},null,null,"---","---",false,"CONDITIONAL",false]
["'[Asphalt Mix Design - Template (20260115 1305 BC).xlsm]","Volumetrics'!","F",20,"Trial Pb 3","Sub Wt",null,null,"Rep 1","g","g",{"$f":"INDIRECT(\"'\" & B376 & C376 & D376)","v":0},null,null,0,0,false,"CONDITIONAL",false]
["'[Asphalt Mix Design - Template (20260115 1305 BC).xlsm]","Volumetrics'!","F",21,"Trial Pb 3","Sub Wt",null,null,"Rep 2","g","g",{"$f":"INDIRECT(\"'\" & B377 & C377 & D377)","v":0},null,null,0,0,false,"CONDITIONAL",false]
["'[Asphalt Mix Design - Template (20260115 1305 BC).xlsm]","Volumetrics'!","F",22,"Trial Pb 3","Sub Wt",null,null,"Rep 3","g","g",{"$f":"INDIRECT(\"'\" & B378 & C378 & D378)","v":0},null,null,0,0,false,"CONDITIONAL",false]
["'[Asphalt Mix Design - Template (20260115 1305 BC).xlsm]","Volumetrics'!","F",23,"Trial Pb 3","Sub Wt",null,null,"Avg","g","g",{"$f":"INDIRECT(\"'\" & B379 & C379 & D379)","v":"---"},null,null,"---","---",false,"CONDITIONAL",false]
["'[Asphalt Mix Design - Template (20260115 1305 BC).xlsm]","Volumetrics'!","G",20,"Trial Pb 3","SSD Wt",null,null,"Rep 1","g","g",{"$f":"INDIRECT(\"'\" & B380 & C380 & D380)","v":0},null,null,0,0,false,"CONDITIONAL",false]
["'[Asphalt Mix Design - Template (20260115 1305 BC).xlsm]","Volumetrics'!","G",21,"Trial Pb 3","SSD Wt",null,null,"Rep 2","g","g",{"$f":"INDIRECT(\"'\" & B381 & C381 & D381)","v":0},null,null,0,0,false,"CONDITIONAL",false]
["'[Asphalt Mix Design - Template (20260115 1305 BC).xlsm]","Volumetrics'!","G",22,"Trial Pb 3","SSD Wt",null,null,"Rep 3","g","g",{"$f":"INDIRECT(\"'\" & B382 & C382 & D382)","v":0},null,null,0,0,false,"CONDITIONAL",false]
["'[Asphalt Mix Design - Template (20260115 1305 BC).xlsm]","Volumetrics'!","G",23,"Trial Pb 3","SSD Wt",null,null,"Avg","g","g",{"$f":"INDIRECT(\"'\" & B383 & C383 & D383)","v":"---"},null,null,"---","---",false,"CONDITIONAL",false]
["'[Asphalt Mix Design - Template (20260115 1305 BC).xlsm]","Volumetrics'!","H",20,"Trial Pb 3","Abs",null,null,"Rep 1","%","%",{"$f":"INDIRECT(\"'\" & B384 & C384 & D384)","v":"---"},null,null,"---","---",false,"CONDITIONAL",false]
["'[Asphalt Mix Design - Template (20260115 1305 BC).xlsm]","Volumetrics'!","H",21,"Trial Pb 3","Abs",null,null,"Rep 2","%","%",{"$f":"INDIRECT(\"'\" & B385 & C385 & D385)","v":"---"},null,null,"---","---",false,"CONDITIONAL",false]
["'[Asphalt Mix Design - Template (20260115 1305 BC).xlsm]","Volumetrics'!","H",22,"Trial Pb 3","Abs",null,null,"Rep 3","%","%",{"$f":"INDIRECT(\"'\" & B386 & C386 & D386)","v":"---"},null,null,{"$f":"IF(ISBLANK(N386),L386,N386)","v":"---"},{"$f":"IF(ISBLANK(N386),IF(OR(ISBLANK(M386),ISERROR(M386)),L386,M386),N386)","v":"---"},false,"CONDITIONAL",false]
["'[Asphalt Mix Design - Template (20260115 1305 BC).xlsm]","Volumetrics'!","H",23,"Trial Pb 3","Abs",null,null,"Avg","%","%",{"$f":"INDIRECT(\"'\" & B387 & C387 & D387)","v":"---"},null,null,"---","---",false,"CONDITIONAL",false]
["'[Asphalt Mix Design - Template (20260115 1305 BC).xlsm]","Volumetrics'!","I",20,"Trial Pb 3","Gmb",null,null,"Rep 1",null,null,{"$f":"INDIRECT(\"'\" & B388 & C388 & D388)","v":"---"},null,null,"---","---",false,"CONDITIONAL",false]
["'[Asphalt Mix Design - Template (20260115 1305 BC).xlsm]","Volumetrics'!","I",21,"Trial Pb 3","Gmb",null,null,"Rep 2",null,null,{"$f":"INDIRECT(\"'\" & B389 & C389 & D389)","v":"---"},null,null,"---","---",false,"CONDITIONAL",false]
["'[Asphalt Mix Design - Template (20260115 1305 BC).xlsm]","Volumetrics'!","I",22,"Trial Pb 3","Gmb",null,null,"Rep 3",null,null,{"$f":"INDIRECT(\"'\" & B390 & C390 & D390)","v":"---"},null,null,"---","---",false,"CONDITIONAL",false]
["'[Asphalt Mix Design - Template (20260115 1305 BC).xlsm]","Volumetrics'!","I",23,"Trial Pb 3","Gmb",null,null,"Avg",null,null,{"$f":"INDIRECT(\"'\" & B391 & C391 & D391)","v":"---"},null,null,"---","---",false,"CONDITIONAL",false]
["'[Asphalt Mix Design - Template (20260115 1305 BC).xlsm]","Volumetrics'!","J",20,"Trial Pb 3","Va",null,null,"Rep 1","%","%",{"$f":"INDIRECT(\"'\" & B392 & C392 & D392)","v":"---"},null,null,"---","---",false,"CONDITIONAL",false]
["'[Asphalt Mix Design - Template (20260115 1305 BC).xlsm]","Volumetrics'!","J",21,"Trial Pb 3","Va",null,null,"Rep 2","%","%",{"$f":"INDIRECT(\"'\" & B393 & C393 & D393)","v":"---"},null,null,"---","---",false,"CONDITIONAL",false]
["'[Asphalt Mix Design - Template (20260115 1305 BC).xlsm]","Volumetrics'!","J",22,"Trial Pb 3","Va",null,null,"Rep 3","%","%",{"$f":"INDIRECT(\"'\" & B394 & C394 & D394)","v":"---"},null,null,"---","---",false,"CONDITIONAL",false]
["'[Asphalt Mix Design - Template (20260115 1305 BC).xlsm]","Volumetrics'!","J",23,"Trial Pb 3","Va",null,null,"Avg","%","%",{"$f":"INDIRECT(\"'\" & B395 & C395 & D395)","v":"---"},null,null,"---","---",false,"CONDITIONAL",false]
["'[Asphalt Mix Design - Template (20260115 1305 BC).xlsm]","Volumetrics'!","K",20,"Trial Pb 3","VMA",null,null,"Rep 1","%","%",{"$f":"INDIRECT(\"'\" & B396 & C396 & D396)","v":"---"},null,null,"---","---",false,"CONDITIONAL",false]
["'[Asphalt Mix Design - Template (20260115 1305 BC).xlsm]","Volumetrics'!","K",21,"Trial Pb 3","VMA",null,null,"Rep 2","%","%",{"$f":"INDIRECT(\"'\" & B397 & C397 & D397)","v":"---"},null,null,"---","---",false,"CONDITIONAL",false]
["'[Asphalt Mix Design - Template (20260115 1305 BC).xlsm]","Volumetrics'!","K",22,"Trial Pb 3","VMA",null,null,"Rep 3","%","%",{"$f":"INDIRECT(\"'\" & B398 & C398 & D398)","v":"---"},null,null,"---","---",false,"CONDITIONAL",false]
["'[Asphalt Mix Design - Template (20260115 1305 BC).xlsm]","Volumetrics'!","K",23,"Trial Pb 3","VMA",null,null,"Avg","%","%",{"$f":"INDIRECT(\"'\" & B399 & C399 & D399)","v":"---"},null,null,"---","---",false,"CONDITIONAL",false]
["'[Asphalt Mix Design - Template (20260115 1305 BC).xlsm]","Volumetrics'!","L",20,"Trial Pb 3","VFA",null,null,"Rep 1","%","%",{"$f":"INDIRECT(\"'\" & B400 & C400 & D400)","v":"---"},null,null,"---","---",false,"CONDITIONAL",false]
["'[Asphalt Mix Design - Template (20260115 1305 BC).xlsm]","Volumetrics'!","L",21,"Trial Pb 3","VFA",null,null,"Rep 2","%","%",{"$f":"INDIRECT(\"'\" & B401 & C401 & D401)","v":"---"},null,null,"---","---",false,"CONDITIONAL",false]
["'[Asphalt Mix Design - Template (20260115 1305 BC).xlsm]","Volumetrics'!","L",22,"Trial Pb 3","VFA",null,null,"Rep 3","%","%",{"$f":"INDIRECT(\"'\" & B402 & C402 & D402)","v":"---"},null,null,"---","---",false,"CONDITIONAL",false]
["'[Asphalt Mix Design - Template (20260115 1305 BC).xlsm]","Volumetrics'!","L",23,"Trial Pb 3","VFA",null,null,"Avg","%","%",{"$f":"INDIRECT(\"'\" & B403 & C403 & D403)","v":"---"},null,null,"---","---",false,"CONDITIONAL",false]
["'[Asphalt Mix Design - Template (20260115 1305 BC).xlsm]","Volumetrics'!","M",20,"Trial Pb 3","VBE",null,null,"Rep 1","%","%",{"$f":"INDIRECT(\"'\" & B404 & C404 & D404)","v":"---"},null,null,"---","---",false,"CONDITIONAL",false]
["'[Asphalt Mix Design - Template (20260115 1305 BC).xlsm]","Volumetrics'!","M",21,"Trial Pb 3","VBE",null,null,"Rep 2","%","%",{"$f":"INDIRECT(\"'\" & B405 & C405 & D405)","v":"---"},null,null,"---","---",false,"CONDITIONAL",false]
["'[Asphalt Mix Design - Template (20260115 1305 BC).xlsm]","Volumetrics'!","M",22,"Trial Pb 3","VBE",null,null,"Rep 3","%","%",{"$f":"INDIRECT(\"'\" & B406 & C406 & D406)","v":"---"},null,null,"---","---",false,"CONDITIONAL",false]
["'[Asphalt Mix Design - Template (20260115 1305 BC).xlsm]","Volumetrics'!","M",23,"Trial Pb 3","VBE",null,null,"Avg","%","%",{"$f":"INDIRECT(\"'\" & B407 & C407 & D407)","v":"---"},null,null,"---","---",false,"CONDITIONAL",false]
["'[Asphalt Mix Design - Template (20260115 1305 BC).xlsm]","Volumetrics'!","N",20,"Trial Pb 3","Pba,mix",null,null,"Rep 1","%","%",{"$f":"INDIRECT(\"'\" & B408 & C408 & D408)","v":"---"},null,null,"---","---",false,"CONDITIONAL",false]
["'[Asphalt Mix Design - Template (20260115 1305 BC).xlsm]","Volumetrics'!","N",21,"Trial Pb 3","Pba,mix",null,null,"Rep 2","%","%",{"$f":"INDIRECT(\"'\" & B409 & C409 & D409)","v":"---"},null,null,"---","---",false,"CONDITIONAL",false]
["'[Asphalt Mix Design - Template (20260115 1305 BC).xlsm]","Volumetrics'!","N",22,"Trial Pb 3","Pba,mix",null,null,"Rep 3","%","%",{"$f":"INDIRECT(\"'\" & B410 & C410 & D410)","v":"---"},null,null,"---","---",false,"CONDITIONAL",false]
["'[Asphalt Mix Design - Template (20260115 1305 BC).xlsm]","Volumetrics'!","N",23,"Trial Pb 3","Pba,mix",null,null,"Avg","%","%",{"$f":"INDIRECT(\"'\" & B411 & C411 & D411)","v":"---"},null,null,"---","---",false,"CONDITIONAL",false]
["'[Asphalt Mix Design - Template (20260115 1305 BC).xlsm]","Volumetrics'!","O",20,"Trial Pb 3","Pbe",null,null,"Rep 1","%","%",{"$f":"INDIRECT(\"'\" & B412 & C412 & D412)","v":"---"},null,null,"---","---",false,"CONDITIONAL",false]
["'[Asphalt Mix Design - Template (20260115 1305 BC).xlsm]","Volumetrics'!","O",21,"Trial Pb 3","Pbe",null,null,"Rep 2","%","%",{"$f":"INDIRECT(\"'\" & B413 & C413 & D413)","v":"---"},null,null,"---","---",false,"CONDITIONAL",false]
["'[Asphalt Mix Design - Template (20260115 1305 BC).xlsm]","Volumetrics'!","O",22,"Trial Pb 3","Pbe",null,null,"Rep 3","%","%",{"$f":"INDIRECT(\"'\" & B414 & C414 & D414)","v":"---"},null,null,"---","---",false,"CONDITIONAL",false]
["'[Asphalt Mix Design - Template (20260115 1305 BC).xlsm]","Volumetrics'!","O",23,"Trial Pb 3","Pbe",null,null,"Avg","%","%",{"$f":"INDIRECT(\"'\" & B415 & C415 & D415)","v":"---"},null,null,"---","---",false,"CONDITIONAL",false]
["'[Asphalt Mix Design - Template (20260115 1305 BC).xlsm]","Volumetrics'!","P",20,"Trial Pb 3","D/Pbe",null,null,"Rep 1",null,null,{"$f":"INDIRECT(\"'\" & B416 & C416 & D416)","v":"---"},null,null,"---","---",false,"CONDITIONAL",false]
["'[Asphalt Mix Design - Template (20260115 1305 BC).xlsm]","Volumetrics'!","P",21,"Trial Pb 3","D/Pbe",null,null,"Rep 2",null,null,{"$f":"INDIRECT(\"'\" & B417 & C417 & D417)","v":"---"},null,null,"---","---",false,"CONDITIONAL",false]
["'[Asphalt Mix Design - Template (20260115 1305 BC).xlsm]","Volumetrics'!","P",22,"Trial Pb 3","D/Pbe",null,null,"Rep 3",null,null,{"$f":"INDIRECT(\"'\" & B418 & C418 & D418)","v":"---"},null,null,"---","---",false,"CONDITIONAL",false]
["'[Asphalt Mix Design - Template (20260115 1305 BC).xlsm]","Volumetrics'!","P",23,"Trial Pb 3","D/Pbe",null,null,"Avg",null,null,{"$f":"INDIRECT(\"'\" & B419 & C419 & D419)","v":"---"},null,null,"---","---",false,"CONDITIONAL",false]
["'[Asphalt Mix Design - Template (20260115 1305 BC).xlsm]","Volumetrics'!","Q",20,"Trial Pb 3","Corr. Stability",null,null,"Rep 1","lb","N",{"$f":"INDIRECT(\"'\" & B420 & C420 & D420)","v":"---"},null,null,"---","---",false,"CONDITIONAL",false]
["'[Asphalt Mix Design - Template (20260115 1305 BC).xlsm]","Volumetrics'!","Q",21,"Trial Pb 3","Corr. Stability",null,null,"Rep 2","lb","N",{"$f":"INDIRECT(\"'\" & B421 & C421 & D421)","v":"---"},null,null,"---","---",false,"CONDITIONAL",false]
["'[Asphalt Mix Design - Template (20260115 1305 BC).xlsm]","Volumetrics'!","Q",22,"Trial Pb 3","Corr. Stability",null,null,"Rep 3","lb","N",{"$f":"INDIRECT(\"'\" & B422 & C422 & D422)","v":"---"},null,null,"---","---",false,"CONDITIONAL",false]
["'[Asphalt Mix Design - Template (20260115 1305 BC).xlsm]","Volumetrics'!","Q",23,"Trial Pb 3","Corr. Stability",null,null,"Avg","lb","N",{"$f":"INDIRECT(\"'\" & B423 & C423 & D423)","v":"---"},null,null,"---","---",false,"CONDITIONAL",false]
["'[Asphalt Mix Design - Template (20260115 1305 BC).xlsm]","Volumetrics'!","R",20,"Trial Pb 3","Flow",null,null,"Rep 1","0.1 in.","0.25 mm",{"$f":"INDIRECT(\"'\" & B424 & C424 & D424)","v":"---"},null,null,"---","---",false,"CONDITIONAL",false]
["'[Asphalt Mix Design - Template (20260115 1305 BC).xlsm]","Volumetrics'!","R",21,"Trial Pb 3","Flow",null,null,"Rep 2","0.1 in.","0.25 mm",{"$f":"INDIRECT(\"'\" & B425 & C425 & D425)","v":"---"},null,null,"---","---",false,"CONDITIONAL",false]
["'[Asphalt Mix Design - Template (20260115 1305 BC).xlsm]","Volumetrics'!","R",22,"Trial Pb 3","Flow",null,null,"Rep 3","0.1 in.","0.25 mm",{"$f":"INDIRECT(\"'\" & B426 & C426 & D426)","v":"---"},null,null,"---","---",false,"CONDITIONAL",false]
["'[Asphalt Mix Design - Template (20260115 1305 BC).xlsm]","Volumetrics'!","R",23,"Trial Pb 3","Flow",null,null,"Avg","0.1 in.","0.25 mm",{"$f":"INDIRECT(\"'\" & B427 & C427 & D427)","v":"---"},null,null,"---","---",false,"CONDITIONAL",false]
["'[Asphalt Mix Design - Template (20260115 1305 BC).xlsm]","Volumetrics'!","A",24,"Trial Pb 4",null,null,null,"Trial Pb 4","%","%",{"$f":"INDIRECT(\"'\" & B428 & C428 & D428)","v":0},null,null,0,0,false,"CONDITIONAL",false]
["'[Asphalt Mix Design - Template (20260115 1305 BC).xlsm]","Volumetrics'!","B",24,"Trial Pb 4",null,null,null,"Gmm",null,null,{"$f":"INDIRECT(\"'\" & B429 & C429 & D429)","v":"---"},null,null,"---","---",false,"CONDITIONAL",false]
["'[Asphalt Mix Design - Template (20260115 1305 BC).xlsm]","Volumetrics'!","D",24,"Trial Pb 4","Ht",null,null,"Rep 1","mm","mm",{"$f":"INDIRECT(\"'\" & B430 & C430 & D430)","v":0},null,null,0,0,false,"CONDITIONAL",false]
["'[Asphalt Mix Design - Template (20260115 1305 BC).xlsm]","Volumetrics'!","D",25,"Trial Pb 4","Ht",null,null,"Rep 2","mm","mm",{"$f":"INDIRECT(\"'\" & B431 & C431 & D431)","v":0},null,null,0,0,false,"CONDITIONAL",false]
["'[Asphalt Mix Design - Template (20260115 1305 BC).xlsm]","Volumetrics'!","D",26,"Trial Pb 4","Ht",null,null,"Rep 3","mm","mm",{"$f":"INDIRECT(\"'\" & B432 & C432 & D432)","v":0},null,null,0,0,false,"CONDITIONAL",false]
["'[Asphalt Mix Design - Template (20260115 1305 BC).xlsm]","Volumetrics'!","D",27,"Trial Pb 4","Ht",null,null,"Avg","mm","mm",{"$f":"INDIRECT(\"'\" & B433 & C433 & D433)","v":"---"},null,null,"---","---",false,"CONDITIONAL",false]
["'[Asphalt Mix Design - Template (20260115 1305 BC).xlsm]","Volumetrics'!","E",24,"Trial Pb 4","Dry Wt",null,null,"Rep 1","g","g",{"$f":"INDIRECT(\"'\" & B434 & C434 & D434)","v":0},null,null,0,0,false,"CONDITIONAL",false]
["'[Asphalt Mix Design - Template (20260115 1305 BC).xlsm]","Volumetrics'!","E",25,"Trial Pb 4","Dry Wt",null,null,"Rep 2","g","g",{"$f":"INDIRECT(\"'\" & B435 & C435 & D435)","v":0},null,null,0,0,false,"CONDITIONAL",false]
["'[Asphalt Mix Design - Template (20260115 1305 BC).xlsm]","Volumetrics'!","E",26,"Trial Pb 4","Dry Wt",null,null,"Rep 3","g","g",{"$f":"INDIRECT(\"'\" & B436 & C436 & D436)","v":0},null,null,0,0,false,"CONDITIONAL",false]
["'[Asphalt Mix Design - Template (20260115 1305 BC).xlsm]","Volumetrics'!","E",27,"Trial Pb 4","Dry Wt",null,null,"Avg","g","g",{"$f":"INDIRECT(\"'\" & B437 & C437 & D437)","v":"---"},null,null,"---","---",false,"CONDITIONAL",false]
["'[Asphalt Mix Design - Template (20260115 1305 BC).xlsm]","Volumetrics'!","F",24,"Trial Pb 4","Sub Wt",null,null,"Rep 1","g","g",{"$f":"INDIRECT(\"'\" & B438 & C438 & D438)","v":0},null,null,0,0,false,"CONDITIONAL",false]
["'[Asphalt Mix Design - Template (20260115 1305 BC).xlsm]","Volumetrics'!","F",25,"Trial Pb 4","Sub Wt",null,null,"Rep 2","g","g",{"$f":"INDIRECT(\"'\" & B439 & C439 & D439)","v":0},null,null,0,0,false,"CONDITIONAL",false]
["'[Asphalt Mix Design - Template (20260115 1305 BC).xlsm]","Volumetrics'!","F",26,"Trial Pb 4","Sub Wt",null,null,"Rep 3","g","g",{"$f":"INDIRECT(\"'\" & B440 & C440 & D440)","v":0},null,null,0,0,false,"CONDITIONAL",false]
["'[Asphalt Mix Design - Template (20260115 1305 BC).xlsm]","Volumetrics'!","F",27,"Trial Pb 4","Sub Wt",null,null,"Avg","g","g",{"$f":"INDIRECT(\"'\" & B441 & C441 & D441)","v":"---"},null,null,"---","---",false,"CONDITIONAL",false]
["'[Asphalt Mix Design - Template (20260115 1305 BC).xlsm]","Volumetrics'!","G",24,"Trial Pb 4","SSD Wt",null,null,"Rep 1","g","g",{"$f":"INDIRECT(\"'\" & B442 & C442 & D442)","v":0},null,null,0,0,false,"CONDITIONAL",false]
["'[Asphalt Mix Design - Template (20260115 1305 BC).xlsm]","Volumetrics'!","G",25,"Trial Pb 4","SSD Wt",null,null,"Rep 2","g","g",{"$f":"INDIRECT(\"'\" & B443 & C443 & D443)","v":0},null,null,0,0,false,"CONDITIONAL",false]
["'[Asphalt Mix Design - Template (20260115 1305 BC).xlsm]","Volumetrics'!","G",26,"Trial Pb 4","SSD Wt",null,null,"Rep 3","g","g",{"$f":"INDIRECT(\"'\" & B444 & C444 & D444)","v":0},null,null,0,0,false,"CONDITIONAL",false]
["'[Asphalt Mix Design - Template (20260115 1305 BC).xlsm]","Volumetrics'!","G",27,"Trial Pb 4","SSD Wt",null,null,"Avg","g","g",{"$f":"INDIRECT(\"'\" & B445 & C445 & D445)","v":"---"},null,null,"---","---",false,"CONDITIONAL",false]
["'[Asphalt Mix Design - Template (20260115 1305 BC).xlsm]","Volumetrics'!","H",24,"Trial Pb 4","Abs",null,null,"Rep 1","%","%",{"$f":"INDIRECT(\"'\" & B446 & C446 & D446)","v":"---"},null,null,"---","---",false,"CONDITIONAL",false]
["'[Asphalt Mix Design - Template (20260115 1305 BC).xlsm]","Volumetrics'!","H",25,"Trial Pb 4","Abs",null,null,"Rep 2","%","%",{"$f":"INDIRECT(\"'\" & B447 & C447 & D447)","v":"---"},null,null,"---","---",false,"CONDITIONAL",false]
["'[Asphalt Mix Design - Template (20260115 1305 BC).xlsm]","Volumetrics'!","H",26,"Trial Pb 4","Abs",null,null,"Rep 3","%","%",{"$f":"INDIRECT(\"'\" & B448 & C448 & D448)","v":"---"},null,null,"---","---",false,"CONDITIONAL",false]
["'[Asphalt Mix Design - Template (20260115 1305 BC).xlsm]","Volumetrics'!","H",27,"Trial Pb 4","Abs",null,null,"Avg","%","%",{"$f":"INDIRECT(\"'\" & B449 & C449 & D449)","v":"---"},null,null,"---","---",false,"CONDITIONAL",false]
["'[Asphalt Mix Design - Template (20260115 1305 BC).xlsm]","Volumetrics'!","I",24,"Trial Pb 4","Gmb",null,null,"Rep 1",null,null,{"$f":"INDIRECT(\"'\" & B450 & C450 & D450)","v":"---"},null,null,{"$f":"IF(ISBLANK(N450),L450,N450)","v":"---"},{"$f":"IF(ISBLANK(N450),IF(OR(ISBLANK(M450),ISERROR(M450)),L450,M450),N450)","v":"---"},false,"CONDITIONAL",false]
["'[Asphalt Mix Design - Template (20260115 1305 BC).xlsm]","Volumetrics'!","I",25,"Trial Pb 4","Gmb",null,null,"Rep 2",null,null,{"$f":"INDIRECT(\"'\" & B451 & C451 & D451)","v":"---"},null,null,"---","---",false,"CONDITIONAL",false]
["'[Asphalt Mix Design - Template (20260115 1305 BC).xlsm]","Volumetrics'!","I",26,"Trial Pb 4","Gmb",null,null,"Rep 3",null,null,{"$f":"INDIRECT(\"'\" & B452 & C452 & D452)","v":"---"},null,null,"---","---",false,"CONDITIONAL",false]
["'[Asphalt Mix Design - Template (20260115 1305 BC).xlsm]","Volumetrics'!","I",27,"Trial Pb 4","Gmb",null,null,"Avg",null,null,{"$f":"INDIRECT(\"'\" & B453 & C453 & D453)","v":"---"},null,null,"---","---",false,"CONDITIONAL",false]
["'[Asphalt Mix Design - Template (20260115 1305 BC).xlsm]","Volumetrics'!","J",24,"Trial Pb 4","Va",null,null,"Rep 1","%","%",{"$f":"INDIRECT(\"'\" & B454 & C454 & D454)","v":"---"},null,null,"---","---",false,"CONDITIONAL",false]
["'[Asphalt Mix Design - Template (20260115 1305 BC).xlsm]","Volumetrics'!","J",25,"Trial Pb 4","Va",null,null,"Rep 2","%","%",{"$f":"INDIRECT(\"'\" & B455 & C455 & D455)","v":"---"},null,null,"---","---",false,"CONDITIONAL",false]
["'[Asphalt Mix Design - Template (20260115 1305 BC).xlsm]","Volumetrics'!","J",26,"Trial Pb 4","Va",null,null,"Rep 3","%","%",{"$f":"INDIRECT(\"'\" & B456 & C456 & D456)","v":"---"},null,null,"---","---",false,"CONDITIONAL",false]
["'[Asphalt Mix Design - Template (20260115 1305 BC).xlsm]","Volumetrics'!","J",27,"Trial Pb 4","Va",null,null,"Avg","%","%",{"$f":"INDIRECT(\"'\" & B457 & C457 & D457)","v":"---"},null,null,"---","---",false,"CONDITIONAL",false]
["'[Asphalt Mix Design - Template (20260115 1305 BC).xlsm]","Volumetrics'!","K",24,"Trial Pb 4","VMA",null,null,"Rep 1","%","%",{"$f":"INDIRECT(\"'\" & B458 & C458 & D458)","v":"---"},null,null,"---","---",false,"CONDITIONAL",false]
["'[Asphalt Mix Design - Template (20260115 1305 BC).xlsm]","Volumetrics'!","K",25,"Trial Pb 4","VMA",null,null,"Rep 2","%","%",{"$f":"INDIRECT(\"'\" & B459 & C459 & D459)","v":"---"},null,null,"---","---",false,"CONDITIONAL",false]
["'[Asphalt Mix Design - Template (20260115 1305 BC).xlsm]","Volumetrics'!","K",26,"Trial Pb 4","VMA",null,null,"Rep 3","%","%",{"$f":"INDIRECT(\"'\" & B460 & C460 & D460)","v":"---"},null,null,"---","---",false,"CONDITIONAL",false]
["'[Asphalt Mix Design - Template (20260115 1305 BC).xlsm]","Volumetrics'!","K",27,"Trial Pb 4","VMA",null,null,"Avg","%","%",{"$f":"INDIRECT(\"'\" & B461 & C461 & D461)","v":"---"},null,null,"---","---",false,"CONDITIONAL",false]
["'[Asphalt Mix Design - Template (20260115 1305 BC).xlsm]","Volumetrics'!","L",24,"Trial Pb 4","VFA",null,null,"Rep 1","%","%",{"$f":"INDIRECT(\"'\" & B462 & C462 & D462)","v":"---"},null,null,"---","---",false,"CONDITIONAL",false]
["'[Asphalt Mix Design - Template (20260115 1305 BC).xlsm]","Volumetrics'!","L",25,"Trial Pb 4","VFA",null,null,"Rep 2","%","%",{"$f":"INDIRECT(\"'\" & B463 & C463 & D463)","v":"---"},null,null,"---","---",false,"CONDITIONAL",false]
["'[Asphalt Mix Design - Template (20260115 1305 BC).xlsm]","Volumetrics'!","L",26,"Trial Pb 4","VFA",null,null,"Rep 3","%","%",{"$f":"INDIRECT(\"'\" & B464 & C464 & D464)","v":"---"},null,null,"---","---",false,"CONDITIONAL",false]
["'[Asphalt Mix Design - Template (20260115 1305 BC).xlsm]","Volumetrics'!","L",27,"Trial Pb 4","VFA",null,null,"Avg","%","%",{"$f":"INDIRECT(\"'\" & B465 & C465 & D465)","v":"---"},null,null,"---","---",false,"CONDITIONAL",false]
["'[Asphalt Mix Design - Template (20260115 1305 BC).xlsm]","Volumetrics'!","M",24,"Trial Pb 4","VBE",null,null,"Rep 1","%","%",{"$f":"INDIRECT(\"'\" & B466 & C466 & D466)","v":"---"},null,null,"---","---",false,"CONDITIONAL",false]
["'[Asphalt Mix Design - Template (20260115 1305 BC).xlsm]","Volumetrics'!","M",25,"Trial Pb 4","VBE",null,null,"Rep 2","%","%",{"$f":"INDIRECT(\"'\" & B467 & C467 & D467)","v":"---"},null,null,"---","---",false,"CONDITIONAL",false]
["'[Asphalt Mix Design - Template (20260115 1305 BC).xlsm]","Volumetrics'!","M",26,"Trial Pb 4","VBE",null,null,"Rep 3","%","%",{"$f":"INDIRECT(\"'\" & B468 & C468 & D468)","v":"---"},null,null,"---","---",false,"CONDITIONAL",false]
["'[Asphalt Mix Design - Template (20260115 1305 BC).xlsm]","Volumetrics'!","M",27,"Trial Pb 4","VBE",null,null,"Avg","%","%",{"$f":"INDIRECT(\"'\" & B469 & C469 & D469)","v":"---"},null,null,"---","---",false,"CONDITIONAL",false]
["'[Asphalt Mix Design - Template (20260115 1305 BC).xlsm]","Volumetrics'!","N",24,"Trial Pb 4","Pba,mix",null,null,"Rep 1","%","%",{"$f":"INDIRECT(\"'\" & B470 & C470 & D470)","v":"---"},null,null,"---","---",false,"CONDITIONAL",false]
["'[Asphalt Mix Design - Template (20260115 1305 BC).xlsm]","Volumetrics'!","N",25,"Trial Pb 4","Pba,mix",null,null,"Rep 2","%","%",{"$f":"INDIRECT(\"'\" & B471 & C471 & D471)","v":"---"},null,null,"---","---",false,"CONDITIONAL",false]
["'[Asphalt Mix Design - Template (20260115 1305 BC).xlsm]","Volumetrics'!","N",26,"Trial Pb 4","Pba,mix",null,null,"Rep 3","%","%",{"$f":"INDIRECT(\"'\" & B472 & C472 & D472)","v":"---"},null,null,"---","---",false,"CONDITIONAL",false]
["'[Asphalt Mix Design - Template (20260115 1305 BC).xlsm]","Volumetrics'!","N",27,"Trial Pb 4","Pba,mix",null,null,"Avg","%","%",{"$f":"INDIRECT(\"'\" & B473 & C473 & D473)","v":"---"},null,null,"---","---",false,"CONDITIONAL",false]
["'[Asphalt Mix Design - Template (20260115 1305 BC).xlsm]","Volumetrics'!","O",24,"Trial Pb 4","Pbe",null,null,"Rep 1","%","%",{"$f":"INDIRECT(\"'\" & B474 & C474 & D474)","v":"---"},null,null,"---","---",false,"CONDITIONAL",false]
["'[Asphalt Mix Design - Template (20260115 1305 BC).xlsm]","Volumetrics'!","O",25,"Trial Pb 4","Pbe",null,null,"Rep 2","%","%",{"$f":"INDIRECT(\"'\" & B475 & C475 & D475)","v":"---"},null,null,"---","---",false,"CONDITIONAL",false]
["'[Asphalt Mix Design - Template (20260115 1305 BC).xlsm]","Volumetrics'!","O",26,"Trial Pb 4","Pbe",null,null,"Rep 3","%","%",{"$f":"INDIRECT(\"'\" & B476 & C476 & D476)","v":"---"},null,null,"---","---",false,"CONDITIONAL",false]
["'[Asphalt Mix Design - Template (20260115 1305 BC).xlsm]","Volumetrics'!","O",27,"Trial Pb 4","Pbe",null,null,"Avg","%","%",{"$f":"INDIRECT(\"'\" & B477 & C477 & D477)","v":"---"},null,null,"---","---",false,"CONDITIONAL",false]
["'[Asphalt Mix Design - Template (20260115 1305 BC).xlsm]","Volumetrics'!","P",24,"Trial Pb 4","D/Pbe",null,null,"Rep 1",null,null,{"$f":"INDIRECT(\"'\" & B478 & C478 & D478)","v":"---"},null,null,"---","---",false,"CONDITIONAL",false]
["'[Asphalt Mix Design - Template (20260115 1305 BC).xlsm]","Volumetrics'!","P",25,"Trial Pb 4","D/Pbe",null,null,"Rep 2",null,null,{"$f":"INDIRECT(\"'\" & B479 & C479 & D479)","v":"---"},null,null,"---","---",false,"CONDITIONAL",false]
["'[Asphalt Mix Design - Template (20260115 1305 BC).xlsm]","Volumetrics'!","P",26,"Trial Pb 4","D/Pbe",null,null,"Rep 3",null,null,{"$f":"INDIRECT(\"'\" & B480 & C480 & D480)","v":"---"},null,null,"---","---",false,"CONDITIONAL",false]
["'[Asphalt Mix Design - Template (20260115 1305 BC).xlsm]","Volumetrics'!","P",27,"Trial Pb 4","D/Pbe",null,null,"Avg",null,null,{"$f":"INDIRECT(\"'\" & B481 & C481 & D481)","v":"---"},null,null,"---","---",false,"CONDITIONAL",false]
["'[Asphalt Mix Design - Template (20260115 1305 BC).xlsm]","Volumetrics'!","Q",24,"Trial Pb 4","Corr. Stability",null,null,"Rep 1","lb","N",{"$f":"INDIRECT(\"'\" & B482 & C482 & D482)","v":"---"},null,null,"---","---",false,"CONDITIONAL",false]
["'[Asphalt Mix Design - Template (20260115 1305 BC).xlsm]","Volumetrics'!","Q",25,"Trial Pb 4","Corr. Stability",null,null,"Rep 2","lb","N",{"$f":"INDIRECT(\"'\" & B483 & C483 & D483)","v":"---"},null,null,"---","---",false,"CONDITIONAL",false]
["'[Asphalt Mix Design - Template (20260115 1305 BC).xlsm]","Volumetrics'!","Q",26,"Trial Pb 4","Corr. Stability",null,null,"Rep 3","lb","N",{"$f":"INDIRECT(\"'\" & B484 & C484 & D484)","v":"---"},null,null,"---","---",false,"CONDITIONAL",false]
["'[Asphalt Mix Design - Template (20260115 1305 BC).xlsm]","Volumetrics'!","Q",27,"Trial Pb 4","Corr. Stability",null,null,"Avg","lb","N",{"$f":"INDIRECT(\"'\" & B485 & C485 & D485)","v":"---"},null,null,"---","---",false,"CONDITIONAL",false]
["'[Asphalt Mix Design - Template (20260115 1305 BC).xlsm]","Volumetrics'!","R",24,"Trial Pb 4","Flow",null,null,"Rep 1","0.1 in.","0.25 mm",{"$f":"INDIRECT(\"'\" & B486 & C486 & D486)","v":"---"},null,null,"---","---",false,"CONDITIONAL",false]
["'[Asphalt Mix Design - Template (20260115 1305 BC).xlsm]","Volumetrics'!","R",25,"Trial Pb 4","Flow",null,null,"Rep 2","0.1 in.","0.25 mm",{"$f":"INDIRECT(\"'\" & B487 & C487 & D487)","v":"---"},null,null,"---","---",false,"CONDITIONAL",false]
["'[Asphalt Mix Design - Template (20260115 1305 BC).xlsm]","Volumetrics'!","R",26,"Trial Pb 4","Flow",null,null,"Rep 3","0.1 in.","0.25 mm",{"$f":"INDIRECT(\"'\" & B488 & C488 & D488)","v":"---"},null,null,"---","---",false,"CONDITIONAL",false]
["'[Asphalt Mix Design - Template (20260115 1305 BC).xlsm]","Volumetrics'!","R",27,"Trial Pb 4","Flow",null,null,"Avg","0.1 in.","0.25 mm",{"$f":"INDIRECT(\"'\" & B489 & C489 & D489)","v":"---"},null,null,"---","---",false,"CONDITIONAL",false]
["'[Asphalt Mix Design - Template (20260115 1305 BC).xlsm]","Volumetrics'!","A",28,"Trial Pb 5",null,null,null,"Trial Pb 5","%","%",{"$f":"INDIRECT(\"'\" & B490 & C490 & D490)","v":0},null,null,0,0,false,"CONDITIONAL",false]
["'[Asphalt Mix Design - Template (20260115 1305 BC).xlsm]","Volumetrics'!","B",28,"Trial Pb 5",null,null,null,"Gmm",null,null,{"$f":"INDIRECT(\"'\" & B491 & C491 & D491)","v":"---"},null,null,"---","---",false,"CONDITIONAL",false]
["'[Asphalt Mix Design - Template (20260115 1305 BC).xlsm]","Volumetrics'!","D",28,"Trial Pb 5","Ht",null,null,"Rep 1","mm","mm",{"$f":"INDIRECT(\"'\" & B492 & C492 & D492)","v":0},null,null,0,0,false,"CONDITIONAL",false]
["'[Asphalt Mix Design - Template (20260115 1305 BC).xlsm]","Volumetrics'!","D",29,"Trial Pb 5","Ht",null,null,"Rep 2","mm","mm",{"$f":"INDIRECT(\"'\" & B493 & C493 & D493)","v":0},null,null,0,0,false,"CONDITIONAL",false]
["'[Asphalt Mix Design - Template (20260115 1305 BC).xlsm]","Volumetrics'!","D",30,"Trial Pb 5","Ht",null,null,"Rep 3","mm","mm",{"$f":"INDIRECT(\"'\" & B494 & C494 & D494)","v":0},null,null,0,0,false,"CONDITIONAL",false]
["'[Asphalt Mix Design - Template (20260115 1305 BC).xlsm]","Volumetrics'!","D",31,"Trial Pb 5","Ht",null,null,"Avg","mm","mm",{"$f":"INDIRECT(\"'\" & B495 & C495 & D495)","v":"---"},null,null,"---","---",false,"CONDITIONAL",false]
["'[Asphalt Mix Design - Template (20260115 1305 BC).xlsm]","Volumetrics'!","E",28,"Trial Pb 5","Dry Wt",null,null,"Rep 1","g","g",{"$f":"INDIRECT(\"'\" & B496 & C496 & D496)","v":0},null,null,0,0,false,"CONDITIONAL",false]
["'[Asphalt Mix Design - Template (20260115 1305 BC).xlsm]","Volumetrics'!","E",29,"Trial Pb 5","Dry Wt",null,null,"Rep 2","g","g",{"$f":"INDIRECT(\"'\" & B497 & C497 & D497)","v":0},null,null,0,0,false,"CONDITIONAL",false]
["'[Asphalt Mix Design - Template (20260115 1305 BC).xlsm]","Volumetrics'!","E",30,"Trial Pb 5","Dry Wt",null,null,"Rep 3","g","g",{"$f":"INDIRECT(\"'\" & B498 & C498 & D498)","v":0},null,null,0,0,false,"CONDITIONAL",false]
["'[Asphalt Mix Design - Template (20260115 1305 BC).xlsm]","Volumetrics'!","E",31,"Trial Pb 5","Dry Wt",null,null,"Avg","g","g",{"$f":"INDIRECT(\"'\" & B499 & C499 & D499)","v":"---"},null,null,"---","---",false,"CONDITIONAL",false]
["'[Asphalt Mix Design - Template (20260115 1305 BC).xlsm]","Volumetrics'!","F",28,"Trial Pb 5","Sub Wt",null,null,"Rep 1","g","g",{"$f":"INDIRECT(\"'\" & B500 & C500 & D500)","v":0},null,null,0,0,false,"CONDITIONAL",false]
["'[Asphalt Mix Design - Template (20260115 1305 BC).xlsm]","Volumetrics'!","F",29,"Trial Pb 5","Sub Wt",null,null,"Rep 2","g","g",{"$f":"INDIRECT(\"'\" & B501 & C501 & D501)","v":0},null,null,0,0,false,"CONDITIONAL",false]
["'[Asphalt Mix Design - Template (20260115 1305 BC).xlsm]","Volumetrics'!","F",30,"Trial Pb 5","Sub Wt",null,null,"Rep 3","g","g",{"$f":"INDIRECT(\"'\" & B502 & C502 & D502)","v":0},null,null,0,0,false,"CONDITIONAL",false]
["'[Asphalt Mix Design - Template (20260115 1305 BC).xlsm]","Volumetrics'!","F",31,"Trial Pb 5","Sub Wt",null,null,"Avg","g","g",{"$f":"INDIRECT(\"'\" & B503 & C503 & D503)","v":"---"},null,null,"---","---",false,"CONDITIONAL",false]
["'[Asphalt Mix Design - Template (20260115 1305 BC).xlsm]","Volumetrics'!","G",28,"Trial Pb 5","SSD Wt",null,null,"Rep 1","g","g",{"$f":"INDIRECT(\"'\" & B504 & C504 & D504)","v":0},null,null,0,0,false,"CONDITIONAL",false]
["'[Asphalt Mix Design - Template (20260115 1305 BC).xlsm]","Volumetrics'!","G",29,"Trial Pb 5","SSD Wt",null,null,"Rep 2","g","g",{"$f":"INDIRECT(\"'\" & B505 & C505 & D505)","v":0},null,null,0,0,false,"CONDITIONAL",false]
["'[Asphalt Mix Design - Template (20260115 1305 BC).xlsm]","Volumetrics'!","G",30,"Trial Pb 5","SSD Wt",null,null,"Rep 3","g","g",{"$f":"INDIRECT(\"'\" & B506 & C506 & D506)","v":0},null,null,0,0,false,"CONDITIONAL",false]
["'[Asphalt Mix Design - Template (20260115 1305 BC).xlsm]","Volumetrics'!","G",31,"Trial Pb 5","SSD Wt",null,null,"Avg","g","g",{"$f":"INDIRECT(\"'\" & B507 & C507 & D507)","v":"---"},null,null,"---","---",false,"CONDITIONAL",false]
["'[Asphalt Mix Design - Template (20260115 1305 BC).xlsm]","Volumetrics'!","H",28,"Trial Pb 5","Abs",null,null,"Rep 1","%","%",{"$f":"INDIRECT(\"'\" & B508 & C508 & D508)","v":"---"},null,null,"---","---",false,"CONDITIONAL",false]
["'[Asphalt Mix Design - Template (20260115 1305 BC).xlsm]","Volumetrics'!","H",29,"Trial Pb 5","Abs",null,null,"Rep 2","%","%",{"$f":"INDIRECT(\"'\" & B509 & C509 & D509)","v":"---"},null,null,"---","---",false,"CONDITIONAL",false]
["'[Asphalt Mix Design - Template (20260115 1305 BC).xlsm]","Volumetrics'!","H",30,"Trial Pb 5","Abs",null,null,"Rep 3","%","%",{"$f":"INDIRECT(\"'\" & B510 & C510 & D510)","v":"---"},null,null,"---","---",false,"CONDITIONAL",false]
["'[Asphalt Mix Design - Template (20260115 1305 BC).xlsm]","Volumetrics'!","H",31,"Trial Pb 5","Abs",null,null,"Avg","%","%",{"$f":"INDIRECT(\"'\" & B511 & C511 & D511)","v":"---"},null,null,"---","---",false,"CONDITIONAL",false]
["'[Asphalt Mix Design - Template (20260115 1305 BC).xlsm]","Volumetrics'!","I",28,"Trial Pb 5","Gmb",null,null,"Rep 1",null,null,{"$f":"INDIRECT(\"'\" & B512 & C512 & D512)","v":"---"},null,null,"---","---",false,"CONDITIONAL",false]
["'[Asphalt Mix Design - Template (20260115 1305 BC).xlsm]","Volumetrics'!","I",29,"Trial Pb 5","Gmb",null,null,"Rep 2",null,null,{"$f":"INDIRECT(\"'\" & B513 & C513 & D513)","v":"---"},null,null,"---","---",false,"CONDITIONAL",false]
["'[Asphalt Mix Design - Template (20260115 1305 BC).xlsm]","Volumetrics'!","I",30,"Trial Pb 5","Gmb",null,null,"Rep 3",null,null,{"$f":"INDIRECT(\"'\" & B514 & C514 & D514)","v":"---"},null,null,{"$f":"IF(ISBLANK(N514),L514,N514)","v":"---"},{"$f":"IF(ISBLANK(N514),IF(OR(ISBLANK(M514),ISERROR(M514)),L514,M514),N514)","v":"---"},false,"CONDITIONAL",false]
["'[Asphalt Mix Design - Template (20260115 1305 BC).xlsm]","Volumetrics'!","I",31,"Trial Pb 5","Gmb",null,null,"Avg",null,null,{"$f":"INDIRECT(\"'\" & B515 & C515 & D515)","v":"---"},null,null,"---","---",false,"CONDITIONAL",false]
["'[Asphalt Mix Design - Template (20260115 1305 BC).xlsm]","Volumetrics'!","J",28,"Trial Pb 5","Va",null,null,"Rep 1","%","%",{"$f":"INDIRECT(\"'\" & B516 & C516 & D516)","v":"---"},null,null,"---","---",false,"CONDITIONAL",false]
["'[Asphalt Mix Design - Template (20260115 1305 BC).xlsm]","Volumetrics'!","J",29,"Trial Pb 5","Va",null,null,"Rep 2","%","%",{"$f":"INDIRECT(\"'\" & B517 & C517 & D517)","v":"---"},null,null,"---","---",false,"CONDITIONAL",false]
["'[Asphalt Mix Design - Template (20260115 1305 BC).xlsm]","Volumetrics'!","J",30,"Trial Pb 5","Va",null,null,"Rep 3","%","%",{"$f":"INDIRECT(\"'\" & B518 & C518 & D518)","v":"---"},null,null,"---","---",false,"CONDITIONAL",false]
["'[Asphalt Mix Design - Template (20260115 1305 BC).xlsm]","Volumetrics'!","J",31,"Trial Pb 5","Va",null,null,"Avg","%","%",{"$f":"INDIRECT(\"'\" & B519 & C519 & D519)","v":"---"},null,null,"---","---",false,"CONDITIONAL",false]
["'[Asphalt Mix Design - Template (20260115 1305 BC).xlsm]","Volumetrics'!","K",28,"Trial Pb 5","VMA",null,null,"Rep 1","%","%",{"$f":"INDIRECT(\"'\" & B520 & C520 & D520)","v":"---"},null,null,"---","---",false,"CONDITIONAL",false]
["'[Asphalt Mix Design - Template (20260115 1305 BC).xlsm]","Volumetrics'!","K",29,"Trial Pb 5","VMA",null,null,"Rep 2","%","%",{"$f":"INDIRECT(\"'\" & B521 & C521 & D521)","v":"---"},null,null,"---","---",false,"CONDITIONAL",false]
["'[Asphalt Mix Design - Template (20260115 1305 BC).xlsm]","Volumetrics'!","K",30,"Trial Pb 5","VMA",null,null,"Rep 3","%","%",{"$f":"INDIRECT(\"'\" & B522 & C522 & D522)","v":"---"},null,null,"---","---",false,"CONDITIONAL",false]
["'[Asphalt Mix Design - Template (20260115 1305 BC).xlsm]","Volumetrics'!","K",31,"Trial Pb 5","VMA",null,null,"Avg","%","%",{"$f":"INDIRECT(\"'\" & B523 & C523 & D523)","v":"---"},null,null,"---","---",false,"CONDITIONAL",false]
["'[Asphalt Mix Design - Template (20260115 1305 BC).xlsm]","Volumetrics'!","L",28,"Trial Pb 5","VFA",null,null,"Rep 1","%","%",{"$f":"INDIRECT(\"'\" & B524 & C524 & D524)","v":"---"},null,null,"---","---",false,"CONDITIONAL",false]
["'[Asphalt Mix Design - Template (20260115 1305 BC).xlsm]","Volumetrics'!","L",29,"Trial Pb 5","VFA",null,null,"Rep 2","%","%",{"$f":"INDIRECT(\"'\" & B525 & C525 & D525)","v":"---"},null,null,"---","---",false,"CONDITIONAL",false]
["'[Asphalt Mix Design - Template (20260115 1305 BC).xlsm]","Volumetrics'!","L",30,"Trial Pb 5","VFA",null,null,"Rep 3","%","%",{"$f":"INDIRECT(\"'\" & B526 & C526 & D526)","v":"---"},null,null,"---","---",false,"CONDITIONAL",false]
["'[Asphalt Mix Design - Template (20260115 1305 BC).xlsm]","Volumetrics'!","L",31,"Trial Pb 5","VFA",null,null,"Avg","%","%",{"$f":"INDIRECT(\"'\" & B527 & C527 & D527)","v":"---"},null,null,"---","---",false,"CONDITIONAL",false]
["'[Asphalt Mix Design - Template (20260115 1305 BC).xlsm]","Volumetrics'!","M",28,"Trial Pb 5","VBE",null,null,"Rep 1","%","%",{"$f":"INDIRECT(\"'\" & B528 & C528 & D528)","v":"---"},null,null,"---","---",false,"CONDITIONAL",false]
["'[Asphalt Mix Design - Template (20260115 1305 BC).xlsm]","Volumetrics'!","M",29,"Trial Pb 5","VBE",null,null,"Rep 2","%","%",{"$f":"INDIRECT(\"'\" & B529 & C529 & D529)","v":"---"},null,null,"---","---",false,"CONDITIONAL",false]
["'[Asphalt Mix Design - Template (20260115 1305 BC).xlsm]","Volumetrics'!","M",30,"Trial Pb 5","VBE",null,null,"Rep 3","%","%",{"$f":"INDIRECT(\"'\" & B530 & C530 & D530)","v":"---"},null,null,"---","---",false,"CONDITIONAL",false]
["'[Asphalt Mix Design - Template (20260115 1305 BC).xlsm]","Volumetrics'!","M",31,"Trial Pb 5","VBE",null,null,"Avg","%","%",{"$f":"INDIRECT(\"'\" & B531 & C531 & D531)","v":"---"},null,null,"---","---",false,"CONDITIONAL",false]
["'[Asphalt Mix Design - Template (20260115 1305 BC).xlsm]","Volumetrics'!","N",28,"Trial Pb 5","Pba,mix",null,null,"Rep 1","%","%",{"$f":"INDIRECT(\"'\" & B532 & C532 & D532)","v":"---"},null,null,"---","---",false,"CONDITIONAL",false]
["'[Asphalt Mix Design - Template (20260115 1305 BC).xlsm]","Volumetrics'!","N",29,"Trial Pb 5","Pba,mix",null,null,"Rep 2","%","%",{"$f":"INDIRECT(\"'\" & B533 & C533 & D533)","v":"---"},null,null,"---","---",false,"CONDITIONAL",false]
["'[Asphalt Mix Design - Template (20260115 1305 BC).xlsm]","Volumetrics'!","N",30,"Trial Pb 5","Pba,mix",null,null,"Rep 3","%","%",{"$f":"INDIRECT(\"'\" & B534 & C534 & D534)","v":"---"},null,null,"---","---",false,"CONDITIONAL",false]
["'[Asphalt Mix Design - Template (20260115 1305 BC).xlsm]","Volumetrics'!","N",31,"Trial Pb 5","Pba,mix",null,null,"Avg","%","%",{"$f":"INDIRECT(\"'\" & B535 & C535 & D535)","v":"---"},null,null,"---","---",false,"CONDITIONAL",false]
["'[Asphalt Mix Design - Template (20260115 1305 BC).xlsm]","Volumetrics'!","O",28,"Trial Pb 5","Pbe",null,null,"Rep 1","%","%",{"$f":"INDIRECT(\"'\" & B536 & C536 & D536)","v":"---"},null,null,"---","---",false,"CONDITIONAL",false]
["'[Asphalt Mix Design - Template (20260115 1305 BC).xlsm]","Volumetrics'!","O",29,"Trial Pb 5","Pbe",null,null,"Rep 2","%","%",{"$f":"INDIRECT(\"'\" & B537 & C537 & D537)","v":"---"},null,null,"---","---",false,"CONDITIONAL",false]
["'[Asphalt Mix Design - Template (20260115 1305 BC).xlsm]","Volumetrics'!","O",30,"Trial Pb 5","Pbe",null,null,"Rep 3","%","%",{"$f":"INDIRECT(\"'\" & B538 & C538 & D538)","v":"---"},null,null,"---","---",false,"CONDITIONAL",false]
["'[Asphalt Mix Design - Template (20260115 1305 BC).xlsm]","Volumetrics'!","O",31,"Trial Pb 5","Pbe",null,null,"Avg","%","%",{"$f":"INDIRECT(\"'\" & B539 & C539 & D539)","v":"---"},null,null,"---","---",false,"CONDITIONAL",false]
["'[Asphalt Mix Design - Template (20260115 1305 BC).xlsm]","Volumetrics'!","P",28,"Trial Pb 5","D/Pbe",null,null,"Rep 1",null,null,{"$f":"INDIRECT(\"'\" & B540 & C540 & D540)","v":"---"},null,null,"---","---",false,"CONDITIONAL",false]
["'[Asphalt Mix Design - Template (20260115 1305 BC).xlsm]","Volumetrics'!","P",29,"Trial Pb 5","D/Pbe",null,null,"Rep 2",null,null,{"$f":"INDIRECT(\"'\" & B541 & C541 & D541)","v":"---"},null,null,"---","---",false,"CONDITIONAL",false]
["'[Asphalt Mix Design - Template (20260115 1305 BC).xlsm]","Volumetrics'!","P",30,"Trial Pb 5","D/Pbe",null,null,"Rep 3",null,null,{"$f":"INDIRECT(\"'\" & B542 & C542 & D542)","v":"---"},null,null,"---","---",false,"CONDITIONAL",false]
["'[Asphalt Mix Design - Template (20260115 1305 BC).xlsm]","Volumetrics'!","P",31,"Trial Pb 5","D/Pbe",null,null,"Avg",null,null,{"$f":"INDIRECT(\"'\" & B543 & C543 & D543)","v":"---"},null,null,"---","---",false,"CONDITIONAL",false]
["'[Asphalt Mix Design - Template (20260115 1305 BC).xlsm]","Volumetrics'!","Q",28,"Trial Pb 5","Corr. Stability",null,null,"Rep 1","lb","N",{"$f":"INDIRECT(\"'\" & B544 & C544 & D544)","v":"---"},null,null,"---","---",false,"CONDITIONAL",false]
["'[Asphalt Mix Design - Template (20260115 1305 BC).xlsm]","Volumetrics'!","Q",29,"Trial Pb 5","Corr. Stability",null,null,"Rep 2","lb","N",{"$f":"INDIRECT(\"'\" & B545 & C545 & D545)","v":"---"},null,null,"---","---",false,"CONDITIONAL",false]
["'[Asphalt Mix Design - Template (20260115 1305 BC).xlsm]","Volumetrics'!","Q",30,"Trial Pb 5","Corr. Stability",null,null,"Rep 3","lb","N",{"$f":"INDIRECT(\"'\" & B546 & C546 & D546)","v":"---"},null,null,"---","---",false,"CONDITIONAL",false]
["'[Asphalt Mix Design - Template (20260115 1305 BC).xlsm]","Volumetrics'!","Q",31,"Trial Pb 5","Corr. Stability",null,null,"Avg","lb","N",{"$f":"INDIRECT(\"'\" & B547 & C547 & D547)","v":"---"},null,null,"---","---",false,"CONDITIONAL",false]
["'[Asphalt Mix Design - Template (20260115 1305 BC).xlsm]","Volumetrics'!","R",28,"Trial Pb 5","Flow",null,null,"Rep 1","0.1 in.","0.25 mm",{"$f":"INDIRECT(\"'\" & B548 & C548 & D548)","v":"---"},null,null,"---","---",false,"CONDITIONAL",false]
["'[Asphalt Mix Design - Template (20260115 1305 BC).xlsm]","Volumetrics'!","R",29,"Trial Pb 5","Flow",null,null,"Rep 2","0.1 in.","0.25 mm",{"$f":"INDIRECT(\"'\" & B549 & C549 & D549)","v":"---"},null,null,"---","---",false,"CONDITIONAL",false]
["'[Asphalt Mix Design - Template (20260115 1305 BC).xlsm]","Volumetrics'!","R",30,"Trial Pb 5","Flow",null,null,"Rep 3","0.1 in.","0.25 mm",{"$f":"INDIRECT(\"'\" & B550 & C550 & D550)","v":"---"},null,null,"---","---",false,"CONDITIONAL",false]
["'[Asphalt Mix Design - Template (20260115 1305 BC).xlsm]","Volumetrics'!","R",31,"Trial Pb 5","Flow",null,null,"Avg","0.1 in.","0.25 mm",{"$f":"INDIRECT(\"'\" & B551 & C551 & D551)","v":"---"},null,null,"---","---",false,"CONDITIONAL",false]
["'[Asphalt Mix Design - Template (20260115 1305 BC).xlsm]","Volumetrics'!","A",35,"SPV",null,null,null,"SPV Pb","%","%",{"$f":"INDIRECT(\"'\" & B552 & C552 & D552)","v":0},null,null,0,0,false,"CONDITIONAL",false]
["'[Asphalt Mix Design - Template (20260115 1305 BC).xlsm]","Volumetrics'!","B",35,"SPV",null,null,null,"Gmm",null,null,{"$f":"INDIRECT(\"'\" & B553 & C553 & D553)","v":"---"},null,null,"---","---",false,"CONDITIONAL",false]
["'[Asphalt Mix Design - Template (20260115 1305 BC).xlsm]","Volumetrics'!","D",35,"SPV","Ht",null,null,"Rep 1","mm","mm",{"$f":"INDIRECT(\"'\" & B554 & C554 & D554)","v":0},null,null,0,0,false,"CONDITIONAL",false]
["'[Asphalt Mix Design - Template (20260115 1305 BC).xlsm]","Volumetrics'!","D",36,"SPV","Ht",null,null,"Rep 2","mm","mm",{"$f":"INDIRECT(\"'\" & B555 & C555 & D555)","v":0},null,null,0,0,false,"CONDITIONAL",false]
["'[Asphalt Mix Design - Template (20260115 1305 BC).xlsm]","Volumetrics'!","D",37,"SPV","Ht",null,null,"Rep 3","mm","mm",{"$f":"INDIRECT(\"'\" & B556 & C556 & D556)","v":0},null,null,0,0,false,"CONDITIONAL",false]
["'[Asphalt Mix Design - Template (20260115 1305 BC).xlsm]","Volumetrics'!","D",38,"SPV","Ht",null,null,"Avg","mm","mm",{"$f":"INDIRECT(\"'\" & B557 & C557 & D557)","v":"---"},null,null,"---","---",false,"CONDITIONAL",false]
["'[Asphalt Mix Design - Template (20260115 1305 BC).xlsm]","Volumetrics'!","E",35,"SPV","Dry Wt",null,null,"Rep 1","g","g",{"$f":"INDIRECT(\"'\" & B558 & C558 & D558)","v":0},null,null,0,0,false,"CONDITIONAL",false]
["'[Asphalt Mix Design - Template (20260115 1305 BC).xlsm]","Volumetrics'!","E",36,"SPV","Dry Wt",null,null,"Rep 2","g","g",{"$f":"INDIRECT(\"'\" & B559 & C559 & D559)","v":0},null,null,0,0,false,"CONDITIONAL",false]
["'[Asphalt Mix Design - Template (20260115 1305 BC).xlsm]","Volumetrics'!","E",37,"SPV","Dry Wt",null,null,"Rep 3","g","g",{"$f":"INDIRECT(\"'\" & B560 & C560 & D560)","v":0},null,null,0,0,false,"CONDITIONAL",false]
["'[Asphalt Mix Design - Template (20260115 1305 BC).xlsm]","Volumetrics'!","E",38,"SPV","Dry Wt",null,null,"Avg","g","g",{"$f":"INDIRECT(\"'\" & B561 & C561 & D561)","v":"---"},null,null,"---","---",false,"CONDITIONAL",false]
["'[Asphalt Mix Design - Template (20260115 1305 BC).xlsm]","Volumetrics'!","F",35,"SPV","Sub Wt",null,null,"Rep 1","g","g",{"$f":"INDIRECT(\"'\" & B562 & C562 & D562)","v":0},null,null,0,0,false,"CONDITIONAL",false]
["'[Asphalt Mix Design - Template (20260115 1305 BC).xlsm]","Volumetrics'!","F",36,"SPV","Sub Wt",null,null,"Rep 2","g","g",{"$f":"INDIRECT(\"'\" & B563 & C563 & D563)","v":0},null,null,0,0,false,"CONDITIONAL",false]
["'[Asphalt Mix Design - Template (20260115 1305 BC).xlsm]","Volumetrics'!","F",37,"SPV","Sub Wt",null,null,"Rep 3","g","g",{"$f":"INDIRECT(\"'\" & B564 & C564 & D564)","v":0},null,null,0,0,false,"CONDITIONAL",false]
["'[Asphalt Mix Design - Template (20260115 1305 BC).xlsm]","Volumetrics'!","F",38,"SPV","Sub Wt",null,null,"Avg","g","g",{"$f":"INDIRECT(\"'\" & B565 & C565 & D565)","v":"---"},null,null,"---","---",false,"CONDITIONAL",false]
["'[Asphalt Mix Design - Template (20260115 1305 BC).xlsm]","Volumetrics'!","G",35,"SPV","SSD Wt",null,null,"Rep 1","g","g",{"$f":"INDIRECT(\"'\" & B566 & C566 & D566)","v":0},null,null,0,0,false,"CONDITIONAL",false]
["'[Asphalt Mix Design - Template (20260115 1305 BC).xlsm]","Volumetrics'!","G",36,"SPV","SSD Wt",null,null,"Rep 2","g","g",{"$f":"INDIRECT(\"'\" & B567 & C567 & D567)","v":0},null,null,0,0,false,"CONDITIONAL",false]
["'[Asphalt Mix Design - Template (20260115 1305 BC).xlsm]","Volumetrics'!","G",37,"SPV","SSD Wt",null,null,"Rep 3","g","g",{"$f":"INDIRECT(\"'\" & B568 & C568 & D568)","v":0},null,null,0,0,false,"CONDITIONAL",false]
["'[Asphalt Mix Design - Template (20260115 1305 BC).xlsm]","Volumetrics'!","G",38,"SPV","SSD Wt",null,null,"Avg","g","g",{"$f":"INDIRECT(\"'\" & B569 & C569 & D569)","v":"---"},null,null,"---","---",false,"CONDITIONAL",false]
["'[Asphalt Mix Design - Template (20260115 1305 BC).xlsm]","Volumetrics'!","H",35,"SPV","Abs",null,null,"Rep 1","%","%",{"$f":"INDIRECT(\"'\" & B570 & C570 & D570)","v":"---"},null,null,"---","---",false,"CONDITIONAL",false]
["'[Asphalt Mix Design - Template (20260115 1305 BC).xlsm]","Volumetrics'!","H",36,"SPV","Abs",null,null,"Rep 2","%","%",{"$f":"INDIRECT(\"'\" & B571 & C571 & D571)","v":"---"},null,null,"---","---",false,"CONDITIONAL",false]
["'[Asphalt Mix Design - Template (20260115 1305 BC).xlsm]","Volumetrics'!","H",37,"SPV","Abs",null,null,"Rep 3","%","%",{"$f":"INDIRECT(\"'\" & B572 & C572 & D572)","v":"---"},null,null,"---","---",false,"CONDITIONAL",false]
["'[Asphalt Mix Design - Template (20260115 1305 BC).xlsm]","Volumetrics'!","H",38,"SPV","Abs",null,null,"Avg","%","%",{"$f":"INDIRECT(\"'\" & B573 & C573 & D573)","v":"---"},null,null,"---","---",false,"CONDITIONAL",false]
["'[Asphalt Mix Design - Template (20260115 1305 BC).xlsm]","Volumetrics'!","I",35,"SPV","Gmb",null,null,"Rep 1",null,null,{"$f":"INDIRECT(\"'\" & B574 & C574 & D574)","v":"---"},null,null,"---","---",false,"CONDITIONAL",false]
["'[Asphalt Mix Design - Template (20260115 1305 BC).xlsm]","Volumetrics'!","I",36,"SPV","Gmb",null,null,"Rep 2",null,null,{"$f":"INDIRECT(\"'\" & B575 & C575 & D575)","v":"---"},null,null,"---","---",false,"CONDITIONAL",false]
["'[Asphalt Mix Design - Template (20260115 1305 BC).xlsm]","Volumetrics'!","I",37,"SPV","Gmb",null,null,"Rep 3",null,null,{"$f":"INDIRECT(\"'\" & B576 & C576 & D576)","v":"---"},null,null,"---","---",false,"CONDITIONAL",false]
["'[Asphalt Mix Design - Template (20260115 1305 BC).xlsm]","Volumetrics'!","I",38,"SPV","Gmb",null,null,"Avg",null,null,{"$f":"INDIRECT(\"'\" & B577 & C577 & D577)","v":"---"},null,null,"---","---",false,"CONDITIONAL",false]
["'[Asphalt Mix Design - Template (20260115 1305 BC).xlsm]","Volumetrics'!","J",35,"SPV","Va",null,null,"Rep 1","%","%",{"$f":"INDIRECT(\"'\" & B578 & C578 & D578)","v":"---"},null,null,{"$f":"IF(ISBLANK(N578),L578,N578)","v":"---"},{"$f":"IF(ISBLANK(N578),IF(OR(ISBLANK(M578),ISERROR(M578)),L578,M578),N578)","v":"---"},false,"CONDITIONAL",false]
["'[Asphalt Mix Design - Template (20260115 1305 BC).xlsm]","Volumetrics'!","J",36,"SPV","Va",null,null,"Rep 2","%","%",{"$f":"INDIRECT(\"'\" & B579 & C579 & D579)","v":"---"},null,null,"---","---",false,"CONDITIONAL",false]
["'[Asphalt Mix Design - Template (20260115 1305 BC).xlsm]","Volumetrics'!","J",37,"SPV","Va",null,null,"Rep 3","%","%",{"$f":"INDIRECT(\"'\" & B580 & C580 & D580)","v":"---"},null,null,"---","---",false,"CONDITIONAL",false]
["'[Asphalt Mix Design - Template (20260115 1305 BC).xlsm]","Volumetrics'!","J",38,"SPV","Va",null,null,"Avg","%","%",{"$f":"INDIRECT(\"'\" & B581 & C581 & D581)","v":"---"},null,null,"---","---",false,"CONDITIONAL",false]
["'[Asphalt Mix Design - Template (20260115 1305 BC).xlsm]","Volumetrics'!","K",35,"SPV","VMA",null,null,"Rep 1","%","%",{"$f":"INDIRECT(\"'\" & B582 & C582 & D582)","v":"---"},null,null,"---","---",false,"CONDITIONAL",false]
["'[Asphalt Mix Design - Template (20260115 1305 BC).xlsm]","Volumetrics'!","K",36,"SPV","VMA",null,null,"Rep 2","%","%",{"$f":"INDIRECT(\"'\" & B583 & C583 & D583)","v":"---"},null,null,"---","---",false,"CONDITIONAL",false]
["'[Asphalt Mix Design - Template (20260115 1305 BC).xlsm]","Volumetrics'!","K",37,"SPV","VMA",null,null,"Rep 3","%","%",{"$f":"INDIRECT(\"'\" & B584 & C584 & D584)","v":"---"},null,null,"---","---",false,"CONDITIONAL",false]
["'[Asphalt Mix Design - Template (20260115 1305 BC).xlsm]","Volumetrics'!","K",38,"SPV","VMA",null,null,"Avg","%","%",{"$f":"INDIRECT(\"'\" & B585 & C585 & D585)","v":"---"},null,null,"---","---",false,"CONDITIONAL",false]
["'[Asphalt Mix Design - Template (20260115 1305 BC).xlsm]","Volumetrics'!","L",35,"SPV","VFA",null,null,"Rep 1","%","%",{"$f":"INDIRECT(\"'\" & B586 & C586 & D586)","v":"---"},null,null,"---","---",false,"CONDITIONAL",false]
["'[Asphalt Mix Design - Template (20260115 1305 BC).xlsm]","Volumetrics'!","L",36,"SPV","VFA",null,null,"Rep 2","%","%",{"$f":"INDIRECT(\"'\" & B587 & C587 & D587)","v":"---"},null,null,"---","---",false,"CONDITIONAL",false]
["'[Asphalt Mix Design - Template (20260115 1305 BC).xlsm]","Volumetrics'!","L",37,"SPV","VFA",null,null,"Rep 3","%","%",{"$f":"INDIRECT(\"'\" & B588 & C588 & D588)","v":"---"},null,null,"---","---",false,"CONDITIONAL",false]
["'[Asphalt Mix Design - Template (20260115 1305 BC).xlsm]","Volumetrics'!","L",38,"SPV","VFA",null,null,"Avg","%","%",{"$f":"INDIRECT(\"'\" & B589 & C589 & D589)","v":"---"},null,null,"---","---",false,"CONDITIONAL",false]
["'[Asphalt Mix Design - Template (20260115 1305 BC).xlsm]","Volumetrics'!","M",35,"SPV","VBE",null,null,"Rep 1","%","%",{"$f":"INDIRECT(\"'\" & B590 & C590 & D590)","v":"---"},null,null,"---","---",false,"CONDITIONAL",false]
["'[Asphalt Mix Design - Template (20260115 1305 BC).xlsm]","Volumetrics'!","M",36,"SPV","VBE",null,null,"Rep 2","%","%",{"$f":"INDIRECT(\"'\" & B591 & C591 & D591)","v":"---"},null,null,"---","---",false,"CONDITIONAL",false]
["'[Asphalt Mix Design - Template (20260115 1305 BC).xlsm]","Volumetrics'!","M",37,"SPV","VBE",null,null,"Rep 3","%","%",{"$f":"INDIRECT(\"'\" & B592 & C592 & D592)","v":"---"},null,null,"---","---",false,"CONDITIONAL",false]
["'[Asphalt Mix Design - Template (20260115 1305 BC).xlsm]","Volumetrics'!","M",38,"SPV","VBE",null,null,"Avg","%","%",{"$f":"INDIRECT(\"'\" & B593 & C593 & D593)","v":"---"},null,null,"---","---",false,"CONDITIONAL",false]
["'[Asphalt Mix Design - Template (20260115 1305 BC).xlsm]","Volumetrics'!","N",35,"SPV","Pba,mix",null,null,"Rep 1","%","%",{"$f":"INDIRECT(\"'\" & B594 & C594 & D594)","v":"---"},null,null,"---","---",false,"CONDITIONAL",false]
["'[Asphalt Mix Design - Template (20260115 1305 BC).xlsm]","Volumetrics'!","N",36,"SPV","Pba,mix",null,null,"Rep 2","%","%",{"$f":"INDIRECT(\"'\" & B595 & C595 & D595)","v":"---"},null,null,"---","---",false,"CONDITIONAL",false]
["'[Asphalt Mix Design - Template (20260115 1305 BC).xlsm]","Volumetrics'!","N",37,"SPV","Pba,mix",null,null,"Rep 3","%","%",{"$f":"INDIRECT(\"'\" & B596 & C596 & D596)","v":"---"},null,null,"---","---",false,"CONDITIONAL",false]
["'[Asphalt Mix Design - Template (20260115 1305 BC).xlsm]","Volumetrics'!","N",38,"SPV","Pba,mix",null,null,"Avg","%","%",{"$f":"INDIRECT(\"'\" & B597 & C597 & D597)","v":"---"},null,null,"---","---",false,"CONDITIONAL",false]
["'[Asphalt Mix Design - Template (20260115 1305 BC).xlsm]","Volumetrics'!","O",35,"SPV","Pbe",null,null,"Rep 1","%","%",{"$f":"INDIRECT(\"'\" & B598 & C598 & D598)","v":"---"},null,null,"---","---",false,"CONDITIONAL",false]
["'[Asphalt Mix Design - Template (20260115 1305 BC).xlsm]","Volumetrics'!","O",36,"SPV","Pbe",null,null,"Rep 2","%","%",{"$f":"INDIRECT(\"'\" & B599 & C599 & D599)","v":"---"},null,null,"---","---",false,"CONDITIONAL",false]
["'[Asphalt Mix Design - Template (20260115 1305 BC).xlsm]","Volumetrics'!","O",37,"SPV","Pbe",null,null,"Rep 3","%","%",{"$f":"INDIRECT(\"'\" & B600 & C600 & D600)","v":"---"},null,null,"---","---",false,"CONDITIONAL",false]
["'[Asphalt Mix Design - Template (20260115 1305 BC).xlsm]","Volumetrics'!","O",38,"SPV","Pbe",null,null,"Avg","%","%",{"$f":"INDIRECT(\"'\" & B601 & C601 & D601)","v":"---"},null,null,"---","---",false,"CONDITIONAL",false]
["'[Asphalt Mix Design - Template (20260115 1305 BC).xlsm]","Volumetrics'!","P",35,"SPV","D/Pbe",null,null,"Rep 1",null,null,{"$f":"INDIRECT(\"'\" & B602 & C602 & D602)","v":"---"},null,null,"---","---",false,"CONDITIONAL",false]
["'[Asphalt Mix Design - Template (20260115 1305 BC).xlsm]","Volumetrics'!","P",36,"SPV","D/Pbe",null,null,"Rep 2",null,null,{"$f":"INDIRECT(\"'\" & B603 & C603 & D603)","v":"---"},null,null,"---","---",false,"CONDITIONAL",false]
["'[Asphalt Mix Design - Template (20260115 1305 BC).xlsm]","Volumetrics'!","P",37,"SPV","D/Pbe",null,null,"Rep 3",null,null,{"$f":"INDIRECT(\"'\" & B604 & C604 & D604)","v":"---"},null,null,"---","---",false,"CONDITIONAL",false]
["'[Asphalt Mix Design - Template (20260115 1305 BC).xlsm]","Volumetrics'!","P",38,"SPV","D/Pbe",null,null,"Avg",null,null,{"$f":"INDIRECT(\"'\" & B605 & C605 & D605)","v":"---"},null,null,"---","---",false,"CONDITIONAL",false]
["'[Asphalt Mix Design - Template (20260115 1305 BC).xlsm]","Volumetrics'!","Q",35,"SPV","Corr. Stability",null,null,"Rep 1","lb","N",{"$f":"INDIRECT(\"'\" & B606 & C606 & D606)","v":"---"},null,null,"---","---",false,"CONDITIONAL",false]
["'[Asphalt Mix Design - Template (20260115 1305 BC).xlsm]","Volumetrics'!","Q",36,"SPV","Corr. Stability",null,null,"Rep 2","lb","N",{"$f":"INDIRECT(\"'\" & B607 & C607 & D607)","v":"---"},null,null,"---","---",false,"CONDITIONAL",false]
["'[Asphalt Mix Design - Template (20260115 1305 BC).xlsm]","Volumetrics'!","Q",37,"SPV","Corr. Stability",null,null,"Rep 3","lb","N",{"$f":"INDIRECT(\"'\" & B608 & C608 & D608)","v":"---"},null,null,"---","---",false,"CONDITIONAL",false]
["'[Asphalt Mix Design - Template (20260115 1305 BC).xlsm]","Volumetrics'!","Q",38,"SPV","Corr. Stability",null,null,"Avg","lb","N",{"$f":"INDIRECT(\"'\" & B609 & C609 & D609)","v":"---"},null,null,"---","---",false,"CONDITIONAL",false]
["'[Asphalt Mix Design - Template (20260115 1305 BC).xlsm]","Volumetrics'!","R",35,"SPV","Flow",null,null,"Rep 1","0.1 in.","0.25 mm",{"$f":"INDIRECT(\"'\" & B610 & C610 & D610)","v":"---"},null,null,"---","---",false,"CONDITIONAL",false]
["'[Asphalt Mix Design - Template (20260115 1305 BC).xlsm]","Volumetrics'!","R",36,"SPV","Flow",null,null,"Rep 2","0.1 in.","0.25 mm",{"$f":"INDIRECT(\"'\" & B611 & C611 & D611)","v":"---"},null,null,"---","---",false,"CONDITIONAL",false]
["'[Asphalt Mix Design - Template (20260115 1305 BC).xlsm]","Volumetrics'!","R",37,"SPV","Flow",null,null,"Rep 3","0.1 in.","0.25 mm",{"$f":"INDIRECT(\"'\" & B612 & C612 & D612)","v":"---"},null,null,"---","---",false,"CONDITIONAL",false]
["'[Asphalt Mix Design - Template (20260115 1305 BC).xlsm]","Volumetrics'!","R",38,"SPV","Flow",null,null,"Avg","0.1 in.","0.25 mm",{"$f":"INDIRECT(\"'\" & B613 & C613 & D613)","v":"---"},null,null,"---","---",false,"CONDITIONAL",false]
["'[Asphalt Mix Design - Template (20260115 1305 BC).xlsm]","Volumetrics'!","W",6,"Summary","Gmm",null,null,"Pb 1",null,null,{"$f":"INDIRECT(\"'\" & B614 & C614 & D614)","v":"---"},null,null,"---","---",false,"CONDITIONAL",false]
["'[Asphalt Mix Design - Template (20260115 1305 BC).xlsm]","Volumetrics'!","W",7,"Summary","Gmm",null,null,"Pb 2",null,null,{"$f":"INDIRECT(\"'\" & B615 & C615 & D615)","v":"---"},null,null,"---","---",false,"CONDITIONAL",false]
["'[Asphalt Mix Design - Template (20260115 1305 BC).xlsm]","Volumetrics'!","W",8,"Summary","Gmm",null,null,"Pb 3",null,null,{"$f":"INDIRECT(\"'\" & B616 & C616 & D616)","v":"---"},null,null,"---","---",false,"CONDITIONAL",false]
["'[Asphalt Mix Design - Template (20260115 1305 BC).xlsm]","Volumetrics'!","W",9,"Summary","Gmm",null,null,"Pb 4",null,null,{"$f":"INDIRECT(\"'\" & B617 & C617 & D617)","v":"---"},null,null,"---","---",false,"CONDITIONAL",false]
["'[Asphalt Mix Design - Template (20260115 1305 BC).xlsm]","Volumetrics'!","W",10,"Summary","Gmm",null,null,"Pb 5",null,null,{"$f":"INDIRECT(\"'\" & B618 & C618 & D618)","v":"---"},null,null,"---","---",false,"CONDITIONAL",false]
["'[Asphalt Mix Design - Template (20260115 1305 BC).xlsm]","Volumetrics'!","W",11,"Summary","Gmm",null,null,"Optimum",null,null,{"$f":"INDIRECT(\"'\" & B619 & C619 & D619)","v":"---"},null,null,"---","---",false,"CONDITIONAL",false]
["'[Asphalt Mix Design - Template (20260115 1305 BC).xlsm]","Volumetrics'!","W",12,"Summary","Gmm",null,null,"SPV",null,null,{"$f":"INDIRECT(\"'\" & B620 & C620 & D620)","v":"---"},null,null,"---","---",false,"CONDITIONAL",false]
["'[Asphalt Mix Design - Template (20260115 1305 BC).xlsm]","Volumetrics'!","X",6,"Summary","Gmb",null,null,"Pb 1",null,null,{"$f":"INDIRECT(\"'\" & B621 & C621 & D621)","v":"---"},null,null,"---","---",false,"CONDITIONAL",false]
["'[Asphalt Mix Design - Template (20260115 1305 BC).xlsm]","Volumetrics'!","X",7,"Summary","Gmb",null,null,"Pb 2",null,null,{"$f":"INDIRECT(\"'\" & B622 & C622 & D622)","v":"---"},null,null,"---","---",false,"CONDITIONAL",false]
["'[Asphalt Mix Design - Template (20260115 1305 BC).xlsm]","Volumetrics'!","X",8,"Summary","Gmb",null,null,"Pb 3",null,null,{"$f":"INDIRECT(\"'\" & B623 & C623 & D623)","v":"---"},null,null,"---","---",false,"CONDITIONAL",false]
["'[Asphalt Mix Design - Template (20260115 1305 BC).xlsm]","Volumetrics'!","X",9,"Summary","Gmb",null,null,"Pb 4",null,null,{"$f":"INDIRECT(\"'\" & B624 & C624 & D624)","v":"---"},null,null,"---","---",false,"CONDITIONAL",false]
["'[Asphalt Mix Design - Template (20260115 1305 BC).xlsm]","Volumetrics'!","X",10,"Summary","Gmb",null,null,"Pb 5",null,null,{"$f":"INDIRECT(\"'\" & B625 & C625 & D625)","v":"---"},null,null,"---","---",false,"CONDITIONAL",false]
["'[Asphalt Mix Design - Template (20260115 1305 BC).xlsm]","Volumetrics'!","X",11,"Summary","Gmb",null,null,"Optimum",null,null,{"$f":"INDIRECT(\"'\" & B626 & C626 & D626)","v":"---"},null,null,"---","---",false,"CONDITIONAL",false]
["'[Asphalt Mix Design - Template (20260115 1305 BC).xlsm]","Volumetrics'!","X",12,"Summary","Gmb",null,null,"SPV",null,null,{"$f":"INDIRECT(\"'\" & B627 & C627 & D627)","v":"---"},null,null,"---","---",false,"CONDITIONAL",false]
["'[Asphalt Mix Design - Template (20260115 1305 BC).xlsm]","Volumetrics'!","Y",6,"Summary","Va",null,null,"Pb 1","%","%",{"$f":"INDIRECT(\"'\" & B628 & C628 & D628)","v":"---"},null,null,"---","---",false,"CONDITIONAL",false]
["'[Asphalt Mix Design - Template (20260115 1305 BC).xlsm]","Volumetrics'!","Y",7,"Summary","Va",null,null,"Pb 2","%","%",{"$f":"INDIRECT(\"'\" & B629 & C629 & D629)","v":"---"},null,null,"---","---",false,"CONDITIONAL",false]
["'[Asphalt Mix Design - Template (20260115 1305 BC).xlsm]","Volumetrics'!","Y",8,"Summary","Va",null,null,"Pb 3","%","%",{"$f":"INDIRECT(\"'\" & B630 & C630 & D630)","v":"---"},null,null,"---","---",false,"CONDITIONAL",false]
["'[Asphalt Mix Design - Template (20260115 1305 BC).xlsm]","Volumetrics'!","Y",9,"Summary","Va",null,null,"Pb 4","%","%",{"$f":"INDIRECT(\"'\" & B631 & C631 & D631)","v":"---"},null,null,"---","---",false,"CONDITIONAL",false]
["'[Asphalt Mix Design - Template (20260115 1305 BC).xlsm]","Volumetrics'!","Y",10,"Summary","Va",null,null,"Pb 5","%","%",{"$f":"INDIRECT(\"'\" & B632 & C632 & D632)","v":"---"},null,null,"---","---",false,"CONDITIONAL",false]
["'[Asphalt Mix Design - Template (20260115 1305 BC).xlsm]","Volumetrics'!","Y",11,"Summary","Va",null,null,"Optimum","%","%",{"$f":"INDIRECT(\"'\" & B633 & C633 & D633)","v":"---"},null,null,"---","---",false,"CONDITIONAL",false]
["'[Asphalt Mix Design - Template (20260115 1305 BC).xlsm]","Volumetrics'!","Y",12,"Summary","Va",null,null,"SPV","%","%",{"$f":"INDIRECT(\"'\" & B634 & C634 & D634)","v":"---"},null,null,"---","---",false,"CONDITIONAL",false]
["'[Asphalt Mix Design - Template (20260115 1305 BC).xlsm]","Volumetrics'!","Z",6,"Summary","VMA",null,null,"Pb 1","%","%",{"$f":"INDIRECT(\"'\" & B635 & C635 & D635)","v":"---"},null,null,"---","---",false,"CONDITIONAL",false]
["'[Asphalt Mix Design - Template (20260115 1305 BC).xlsm]","Volumetrics'!","Z",7,"Summary","VMA",null,null,"Pb 2","%","%",{"$f":"INDIRECT(\"'\" & B636 & C636 & D636)","v":"---"},null,null,"---","---",false,"CONDITIONAL",false]
["'[Asphalt Mix Design - Template (20260115 1305 BC).xlsm]","Volumetrics'!","Z",8,"Summary","VMA",null,null,"Pb 3","%","%",{"$f":"INDIRECT(\"'\" & B637 & C637 & D637)","v":"---"},null,null,"---","---",false,"CONDITIONAL",false]
["'[Asphalt Mix Design - Template (20260115 1305 BC).xlsm]","Volumetrics'!","Z",9,"Summary","VMA",null,null,"Pb 4","%","%",{"$f":"INDIRECT(\"'\" & B638 & C638 & D638)","v":"---"},null,null,"---","---",false,"CONDITIONAL",false]
["'[Asphalt Mix Design - Template (20260115 1305 BC).xlsm]","Volumetrics'!","Z",10,"Summary","VMA",null,null,"Pb 5","%","%",{"$f":"INDIRECT(\"'\" & B639 & C639 & D639)","v":"---"},null,null,"---","---",false,"CONDITIONAL",false]
["'[Asphalt Mix Design - Template (20260115 1305 BC).xlsm]","Volumetrics'!","Z",11,"Summary","VMA",null,null,"Optimum","%","%",{"$f":"INDIRECT(\"'\" & B640 & C640 & D640)","v":"---"},null,null,"---","---",false,"CONDITIONAL",false]
["'[Asphalt Mix Design - Template (20260115 1305 BC).xlsm]","Volumetrics'!","Z",12,"Summary","VMA",null,null,"SPV","%","%",{"$f":"INDIRECT(\"'\" & B641 & C641 & D641)","v":"---"},null,null,"---","---",false,"CONDITIONAL",false]
["'[Asphalt Mix Design - Template (20260115 1305 BC).xlsm]","Volumetrics'!","AA",6,"Summary","VFA",null,null,"Pb 1","%","%",{"$f":"INDIRECT(\"'\" & B642 & C642 & D642)","v":"---"},null,null,{"$f":"IF(ISBLANK(N642),L642,N642)","v":"---"},{"$f":"IF(ISBLANK(N642),IF(OR(ISBLANK(M642),ISERROR(M642)),L642,M642),N642)","v":"---"},false,"CONDITIONAL",false]
["'[Asphalt Mix Design - Template (20260115 1305 BC).xlsm]","Volumetrics'!","AA",7,"Summary","VFA",null,null,"Pb 2","%","%",{"$f":"INDIRECT(\"'\" & B643 & C643 & D643)","v":"---"},null,null,"---","---",false,"CONDITIONAL",false]
["'[Asphalt Mix Design - Template (20260115 1305 BC).xlsm]","Volumetrics'!","AA",8,"Summary","VFA",null,null,"Pb 3","%","%",{"$f":"INDIRECT(\"'\" & B644 & C644 & D644)","v":"---"},null,null,"---","---",false,"CONDITIONAL",false]
["'[Asphalt Mix Design - Template (20260115 1305 BC).xlsm]","Volumetrics'!","AA",9,"Summary","VFA",null,null,"Pb 4","%","%",{"$f":"INDIRECT(\"'\" & B645 & C645 & D645)","v":"---"},null,null,"---","---",false,"CONDITIONAL",false]
["'[Asphalt Mix Design - Template (20260115 1305 BC).xlsm]","Volumetrics'!","AA",10,"Summary","VFA",null,null,"Pb 5","%","%",{"$f":"INDIRECT(\"'\" & B646 & C646 & D646)","v":"---"},null,null,"---","---",false,"CONDITIONAL",false]
["'[Asphalt Mix Design - Template (20260115 1305 BC).xlsm]","Volumetrics'!","AA",11,"Summary","VFA",null,null,"Optimum","%","%",{"$f":"INDIRECT(\"'\" & B647 & C647 & D647)","v":"---"},null,null,"---","---",false,"CONDITIONAL",false]
["'[Asphalt Mix Design - Template (20260115 1305 BC).xlsm]","Volumetrics'!","AA",12,"Summary","VFA",null,null,"SPV","%","%",{"$f":"INDIRECT(\"'\" & B648 & C648 & D648)","v":"---"},null,null,"---","---",false,"CONDITIONAL",false]
["'[Asphalt Mix Design - Template (20260115 1305 BC).xlsm]","Volumetrics'!","AB",6,"Summary","VBE",null,null,"Pb 1","%","%",{"$f":"INDIRECT(\"'\" & B649 & C649 & D649)","v":"---"},null,null,"---","---",false,"CONDITIONAL",false]
["'[Asphalt Mix Design - Template (20260115 1305 BC).xlsm]","Volumetrics'!","AB",7,"Summary","VBE",null,null,"Pb 2","%","%",{"$f":"INDIRECT(\"'\" & B650 & C650 & D650)","v":"---"},null,null,"---","---",false,"CONDITIONAL",false]
["'[Asphalt Mix Design - Template (20260115 1305 BC).xlsm]","Volumetrics'!","AB",8,"Summary","VBE",null,null,"Pb 3","%","%",{"$f":"INDIRECT(\"'\" & B651 & C651 & D651)","v":"---"},null,null,"---","---",false,"CONDITIONAL",false]
["'[Asphalt Mix Design - Template (20260115 1305 BC).xlsm]","Volumetrics'!","AB",9,"Summary","VBE",null,null,"Pb 4","%","%",{"$f":"INDIRECT(\"'\" & B652 & C652 & D652)","v":"---"},null,null,"---","---",false,"CONDITIONAL",false]
["'[Asphalt Mix Design - Template (20260115 1305 BC).xlsm]","Volumetrics'!","AB",10,"Summary","VBE",null,null,"Pb 5","%","%",{"$f":"INDIRECT(\"'\" & B653 & C653 & D653)","v":"---"},null,null,"---","---",false,"CONDITIONAL",false]
["'[Asphalt Mix Design - Template (20260115 1305 BC).xlsm]","Volumetrics'!","AB",11,"Summary","VBE",null,null,"Optimum","%","%",{"$f":"INDIRECT(\"'\" & B654 & C654 & D654)","v":"---"},null,null,"---","---",false,"CONDITIONAL",false]
["'[Asphalt Mix Design - Template (20260115 1305 BC).xlsm]","Volumetrics'!","AB",12,"Summary","VBE",null,null,"SPV","%","%",{"$f":"INDIRECT(\"'\" & B655 & C655 & D655)","v":"---"},null,null,"---","---",false,"CONDITIONAL",false]
["'[Asphalt Mix Design - Template (20260115 1305 BC).xlsm]","Volumetrics'!","AC",6,"Summary","Pba,mix",null,null,"Pb 1","%","%",{"$f":"INDIRECT(\"'\" & B656 & C656 & D656)","v":"---"},null,null,"---","---",false,"CONDITIONAL",false]
["'[Asphalt Mix Design - Template (20260115 1305 BC).xlsm]","Volumetrics'!","AC",7,"Summary","Pba,mix",null,null,"Pb 2","%","%",{"$f":"INDIRECT(\"'\" & B657 & C657 & D657)","v":"---"},null,null,"---","---",false,"CONDITIONAL",false]
["'[Asphalt Mix Design - Template (20260115 1305 BC).xlsm]","Volumetrics'!","AC",8,"Summary","Pba,mix",null,null,"Pb 3","%","%",{"$f":"INDIRECT(\"'\" & B658 & C658 & D658)","v":"---"},null,null,"---","---",false,"CONDITIONAL",false]
["'[Asphalt Mix Design - Template (20260115 1305 BC).xlsm]","Volumetrics'!","AC",9,"Summary","Pba,mix",null,null,"Pb 4","%","%",{"$f":"INDIRECT(\"'\" & B659 & C659 & D659)","v":"---"},null,null,"---","---",false,"CONDITIONAL",false]
["'[Asphalt Mix Design - Template (20260115 1305 BC).xlsm]","Volumetrics'!","AC",10,"Summary","Pba,mix",null,null,"Pb 5","%","%",{"$f":"INDIRECT(\"'\" & B660 & C660 & D660)","v":"---"},null,null,"---","---",false,"CONDITIONAL",false]
["'[Asphalt Mix Design - Template (20260115 1305 BC).xlsm]","Volumetrics'!","AC",11,"Summary","Pba,mix",null,null,"Optimum","%","%",{"$f":"INDIRECT(\"'\" & B661 & C661 & D661)","v":"---"},null,null,"---","---",false,"CONDITIONAL",false]
["'[Asphalt Mix Design - Template (20260115 1305 BC).xlsm]","Volumetrics'!","AC",12,"Summary","Pba,mix",null,null,"SPV","%","%",{"$f":"INDIRECT(\"'\" & B662 & C662 & D662)","v":"---"},null,null,"---","---",false,"CONDITIONAL",false]
["'[Asphalt Mix Design - Template (20260115 1305 BC).xlsm]","Volumetrics'!","AD",6,"Summary","Pbe",null,null,"Pb 1","%","%",{"$f":"INDIRECT(\"'\" & B663 & C663 & D663)","v":"---"},null,null,"---","---",false,"CONDITIONAL",false]
["'[Asphalt Mix Design - Template (20260115 1305 BC).xlsm]","Volumetrics'!","AD",7,"Summary","Pbe",null,null,"Pb 2","%","%",{"$f":"INDIRECT(\"'\" & B664 & C664 & D664)","v":"---"},null,null,"---","---",false,"CONDITIONAL",false]
["'[Asphalt Mix Design - Template (20260115 1305 BC).xlsm]","Volumetrics'!","AD",8,"Summary","Pbe",null,null,"Pb 3","%","%",{"$f":"INDIRECT(\"'\" & B665 & C665 & D665)","v":"---"},null,null,"---","---",false,"CONDITIONAL",false]
["'[Asphalt Mix Design - Template (20260115 1305 BC).xlsm]","Volumetrics'!","AD",9,"Summary","Pbe",null,null,"Pb 4","%","%",{"$f":"INDIRECT(\"'\" & B666 & C666 & D666)","v":"---"},null,null,"---","---",false,"CONDITIONAL",false]
["'[Asphalt Mix Design - Template (20260115 1305 BC).xlsm]","Volumetrics'!","AD",10,"Summary","Pbe",null,null,"Pb 5","%","%",{"$f":"INDIRECT(\"'\" & B667 & C667 & D667)","v":"---"},null,null,"---","---",false,"CONDITIONAL",false]
["'[Asphalt Mix Design - Template (20260115 1305 BC).xlsm]","Volumetrics'!","AD",11,"Summary","Pbe",null,null,"Optimum","%","%",{"$f":"INDIRECT(\"'\" & B668 & C668 & D668)","v":"---"},null,null,"---","---",false,"CONDITIONAL",false]
["'[Asphalt Mix Design - Template (20260115 1305 BC).xlsm]","Volumetrics'!","AD",12,"Summary","Pbe",null,null,"SPV","%","%",{"$f":"INDIRECT(\"'\" & B669 & C669 & D669)","v":"---"},null,null,"---","---",false,"CONDITIONAL",false]
["'[Asphalt Mix Design - Template (20260115 1305 BC).xlsm]","Volumetrics'!","AE",6,"Summary","Unit Wt",null,null,"Pb 1","lb/ft3","kg/m3",{"$f":"INDIRECT(\"'\" & B670 & C670 & D670)","v":"---"},null,null,"---","---",false,"CONDITIONAL",false]
["'[Asphalt Mix Design - Template (20260115 1305 BC).xlsm]","Volumetrics'!","AE",7,"Summary","Unit Wt",null,null,"Pb 2","lb/ft3","kg/m3",{"$f":"INDIRECT(\"'\" & B671 & C671 & D671)","v":"---"},null,null,"---","---",false,"CONDITIONAL",false]
["'[Asphalt Mix Design - Template (20260115 1305 BC).xlsm]","Volumetrics'!","AE",8,"Summary","Unit Wt",null,null,"Pb 3","lb/ft3","kg/m3",{"$f":"INDIRECT(\"'\" & B672 & C672 & D672)","v":"---"},null,null,"---","---",false,"CONDITIONAL",false]
["'[Asphalt Mix Design - Template (20260115 1305 BC).xlsm]","Volumetrics'!","AE",9,"Summary","Unit Wt",null,null,"Pb 4","lb/ft3","kg/m3",{"$f":"INDIRECT(\"'\" & B673 & C673 & D673)","v":"---"},null,null,"---","---",false,"CONDITIONAL",false]
["'[Asphalt Mix Design - Template (20260115 1305 BC).xlsm]","Volumetrics'!","AE",10,"Summary","Unit Wt",null,null,"Pb 5","lb/ft3","kg/m3",{"$f":"INDIRECT(\"'\" & B674 & C674 & D674)","v":"---"},null,null,"---","---",false,"CONDITIONAL",false]
["'[Asphalt Mix Design - Template (20260115 1305 BC).xlsm]","Volumetrics'!","AE",11,"Summary","Unit Wt",null,null,"Optimum","lb/ft3","kg/m3",{"$f":"INDIRECT(\"'\" & B675 & C675 & D675)","v":"---"},null,null,"---","---",false,"CONDITIONAL",false]
["'[Asphalt Mix Design - Template (20260115 1305 BC).xlsm]","Volumetrics'!","AE",12,"Summary","Unit Wt",null,null,"SPV","lb/ft3","kg/m3",{"$f":"INDIRECT(\"'\" & B676 & C676 & D676)","v":"---"},null,null,"---","---",false,"CONDITIONAL",false]
["'[Asphalt Mix Design - Template (20260115 1305 BC).xlsm]","Volumetrics'!","AF",6,"Summary","D/Pbe",null,null,"Pb 1",null,null,{"$f":"INDIRECT(\"'\" & B677 & C677 & D677)","v":"---"},null,null,"---","---",false,"CONDITIONAL",false]
["'[Asphalt Mix Design - Template (20260115 1305 BC).xlsm]","Volumetrics'!","AF",7,"Summary","D/Pbe",null,null,"Pb 2",null,null,{"$f":"INDIRECT(\"'\" & B678 & C678 & D678)","v":"---"},null,null,"---","---",false,"CONDITIONAL",false]
["'[Asphalt Mix Design - Template (20260115 1305 BC).xlsm]","Volumetrics'!","AF",8,"Summary","D/Pbe",null,null,"Pb 3",null,null,{"$f":"INDIRECT(\"'\" & B679 & C679 & D679)","v":"---"},null,null,"---","---",false,"CONDITIONAL",false]
["'[Asphalt Mix Design - Template (20260115 1305 BC).xlsm]","Volumetrics'!","AF",9,"Summary","D/Pbe",null,null,"Pb 4",null,null,{"$f":"INDIRECT(\"'\" & B680 & C680 & D680)","v":"---"},null,null,"---","---",false,"CONDITIONAL",false]
["'[Asphalt Mix Design - Template (20260115 1305 BC).xlsm]","Volumetrics'!","AF",10,"Summary","D/Pbe",null,null,"Pb 5",null,null,{"$f":"INDIRECT(\"'\" & B681 & C681 & D681)","v":"---"},null,null,"---","---",false,"CONDITIONAL",false]
["'[Asphalt Mix Design - Template (20260115 1305 BC).xlsm]","Volumetrics'!","AF",11,"Summary","D/Pbe",null,null,"Optimum",null,null,{"$f":"INDIRECT(\"'\" & B682 & C682 & D682)","v":"---"},null,null,"---","---",false,"CONDITIONAL",false]
["'[Asphalt Mix Design - Template (20260115 1305 BC).xlsm]","Volumetrics'!","AF",12,"Summary","D/Pbe",null,null,"SPV",null,null,{"$f":"INDIRECT(\"'\" & B683 & C683 & D683)","v":"---"},null,null,"---","---",false,"CONDITIONAL",false]
["'[Asphalt Mix Design - Template (20260115 1305 BC).xlsm]","Volumetrics'!","AG",6,"Summary","Corr. Stability",null,null,"Pb 1","lb","N",{"$f":"INDIRECT(\"'\" & B684 & C684 & D684)","v":{"$error":"#N/A"}},null,null,{"$error":"#N/A"},{"$error":"#N/A"},false,"CONDITIONAL",false]
["'[Asphalt Mix Design - Template (20260115 1305 BC).xlsm]","Volumetrics'!","AG",7,"Summary","Corr. Stability",null,null,"Pb 2","lb","N",{"$f":"INDIRECT(\"'\" & B685 & C685 & D685)","v":{"$error":"#N/A"}},null,null,{"$error":"#N/A"},{"$error":"#N/A"},false,"CONDITIONAL",false]
["'[Asphalt Mix Design - Template (20260115 1305 BC).xlsm]","Volumetrics'!","AG",8,"Summary","Corr. Stability",null,null,"Pb 3","lb","N",{"$f":"INDIRECT(\"'\" & B686 & C686 & D686)","v":{"$error":"#N/A"}},null,null,{"$error":"#N/A"},{"$error":"#N/A"},false,"CONDITIONAL",false]
["'[Asphalt Mix Design - Template (20260115 1305 BC).xlsm]","Volumetrics'!","AG",9,"Summary","Corr. Stability",null,null,"Pb 4","lb","N",{"$f":"INDIRECT(\"'\" & B687 & C687 & D687)","v":{"$error":"#N/A"}},null,null,{"$error":"#N/A"},{"$error":"#N/A"},false,"CONDITIONAL",false]
["'[Asphalt Mix Design - Template (20260115 1305 BC).xlsm]","Volumetrics'!","AG",10,"Summary","Corr. Stability",null,null,"Pb 5","lb","N",{"$f":"INDIRECT(\"'\" & B688 & C688 & D688)","v":{"$error":"#N/A"}},null,null,{"$error":"#N/A"},{"$error":"#N/A"},false,"CONDITIONAL",false]
["'[Asphalt Mix Design - Template (20260115 1305 BC).xlsm]","Volumetrics'!","AG",11,"Summary","Corr. Stability",null,null,"Optimum","lb","N",{"$f":"INDIRECT(\"'\" & B689 & C689 & D689)","v":"---"},null,null,"---","---",false,"CONDITIONAL",false]
["'[Asphalt Mix Design - Template (20260115 1305 BC).xlsm]","Volumetrics'!","AG",12,"Summary","Corr. Stability",null,null,"SPV","lb","N",{"$f":"INDIRECT(\"'\" & B690 & C690 & D690)","v":{"$error":"#N/A"}},null,null,{"$error":"#N/A"},{"$error":"#N/A"},false,"CONDITIONAL",false]
["'[Asphalt Mix Design - Template (20260115 1305 BC).xlsm]","Volumetrics'!","AH",6,"Summary","Flow",null,null,"Pb 1","0.1 in.","0.25 mm",{"$f":"INDIRECT(\"'\" & B691 & C691 & D691)","v":{"$error":"#N/A"}},null,null,{"$error":"#N/A"},{"$error":"#N/A"},false,"CONDITIONAL",false]
["'[Asphalt Mix Design - Template (20260115 1305 BC).xlsm]","Volumetrics'!","AH",7,"Summary","Flow",null,null,"Pb 2","0.1 in.","0.25 mm",{"$f":"INDIRECT(\"'\" & B692 & C692 & D692)","v":{"$error":"#N/A"}},null,null,{"$error":"#N/A"},{"$error":"#N/A"},false,"CONDITIONAL",false]
["'[Asphalt Mix Design - Template (20260115 1305 BC).xlsm]","Volumetrics'!","AH",8,"Summary","Flow",null,null,"Pb 3","0.1 in.","0.25 mm",{"$f":"INDIRECT(\"'\" & B693 & C693 & D693)","v":{"$error":"#N/A"}},null,null,{"$error":"#N/A"},{"$error":"#N/A"},false,"CONDITIONAL",false]
["'[Asphalt Mix Design - Template (20260115 1305 BC).xlsm]","Volumetrics'!","AH",9,"Summary","Flow",null,null,"Pb 4","0.1 in.","0.25 mm",{"$f":"INDIRECT(\"'\" & B694 & C694 & D694)","v":{"$error":"#N/A"}},null,null,{"$error":"#N/A"},{"$error":"#N/A"},false,"CONDITIONAL",false]
["'[Asphalt Mix Design - Template (20260115 1305 BC).xlsm]","Volumetrics'!","AH",10,"Summary","Flow",null,null,"Pb 5","0.1 in.","0.25 mm",{"$f":"INDIRECT(\"'\" & B695 & C695 & D695)","v":{"$error":"#N/A"}},null,null,{"$error":"#N/A"},{"$error":"#N/A"},false,"CONDITIONAL",false]
["'[Asphalt Mix Design - Template (20260115 1305 BC).xlsm]","Volumetrics'!","AH",11,"Summary","Flow",null,null,"Optimum","0.1 in.","0.25 mm",{"$f":"INDIRECT(\"'\" & B696 & C696 & D696)","v":"---"},null,null,"---","---",false,"CONDITIONAL",false]
["'[Asphalt Mix Design - Template (20260115 1305 BC).xlsm]","Volumetrics'!","AH",12,"Summary","Flow",null,null,"SPV","0.1 in.","0.25 mm",{"$f":"INDIRECT(\"'\" & B697 & C697 & D697)","v":{"$error":"#N/A"}},null,null,{"$error":"#N/A"},{"$error":"#N/A"},false,"CONDITIONAL",false]
["'[Asphalt Mix Design - Template (20260115 1305 BC).xlsm]","Volumetrics'!","C",40,"General",null,null,null,"Comments",null,null,{"$f":"INDIRECT(\"'\" & B698 & C698 & D698)","v":0},null,null,0,0,false,false,false]
["'[Asphalt Mix Design - Template (20260115 1305 BC).xlsm]","Gmm'!","AO",4,"Overall",null,null,null,"Procedure",null,null,{"$f":"INDIRECT(\"'\" & B699 & C699 & D699)","v":1},null,{"$f":"IF(L699=1,\"Bowl in Water\", IF(L699=2,\"Bowl in Air\",IF(L699=3,\"Flask in Air\",\"Error\")))","v":"Bowl in Water"},"Bowl in Water","Bowl in Water",false,true,false]
["'[Asphalt Mix Design - Template (20260115 1305 BC).xlsm]","Gmm'!","AO",5,"Overall",null,null,null,"Dry Back",null,null,{"$f":"INDIRECT(\"'\" & B700 & C700 & D700)","v":false},null,{"$f":"IF(L700=TRUE,\"Supplemental Dry Back Procedure\",\"Standard\")","v":"Standard"},"Standard","Standard",false,true,false]
["'[Asphalt Mix Design - Template (20260115 1305 BC).xlsm]","Gmm'!","F",10,"Trial AC 1",null,null,null,"Pb, %","%","%",{"$f":"INDIRECT(\"'\" & B701 & C701 & D701)","v":"---"},null,null,"---","---",false,"CONDITIONAL",false,"Note: CONDITIONAL here refers to the fact that the UFGS requires Gmm be run at a minimum of 2 different Trial AC contents."]
["'[Asphalt Mix Design - Template (20260115 1305 BC).xlsm]","Gmm'!","F",40,"Trial AC 1",null,null,null,"Rep 1 Gmm",null,null,{"$f":"INDIRECT(\"'\" & B702 & C702 & D702)","v":"---"},null,null,"---","---",false,"CONDITIONAL",false]
["'[Asphalt Mix Design - Template (20260115 1305 BC).xlsm]","Gmm'!","G",40,"Trial AC 1",null,null,null,"Rep 2 Gmm",null,null,{"$f":"INDIRECT(\"'\" & B703 & C703 & D703)","v":"---"},null,null,"---","---",false,"CONDITIONAL",false]
["'[Asphalt Mix Design - Template (20260115 1305 BC).xlsm]","Gmm'!","F",41,"Trial AC 1",null,null,null,"Diff",null,null,{"$f":"INDIRECT(\"'\" & B704 & C704 & D704)","v":"---"},null,null,"---","---",false,"CONDITIONAL",false]
["'[Asphalt Mix Design - Template (20260115 1305 BC).xlsm]","Gmm'!","F",42,"Trial AC 1",null,null,null,"Avg Gmm",null,null,{"$f":"INDIRECT(\"'\" & B705 & C705 & D705)","v":"---"},null,null,"---","---",false,"CONDITIONAL",false]
["'[Asphalt Mix Design - Template (20260115 1305 BC).xlsm]","Gmm'!","F",43,"Trial AC 1",null,null,null,"Calc Gse",null,null,{"$f":"INDIRECT(\"'\" & B706 & C706 & D706)","v":"---"},null,null,{"$f":"IF(ISBLANK(N706),L706,N706)","v":"---"},{"$f":"IF(ISBLANK(N706),IF(OR(ISBLANK(M706),ISERROR(M706)),L706,M706),N706)","v":"---"},false,"CONDITIONAL",false]
["'[Asphalt Mix Design - Template (20260115 1305 BC).xlsm]","Gmm'!","F",44,"Trial AC 1",null,null,null,"Rep 1 Gmm Dry Back",null,null,{"$f":"INDIRECT(\"'\" & B707 & C707 & D707)","v":"---"},null,null,"---","---",false,"CONDITIONAL",false]
["'[Asphalt Mix Design - Template (20260115 1305 BC).xlsm]","Gmm'!","G",44,"Trial AC 1",null,null,null,"Rep 2 Gmm Dry Back",null,null,{"$f":"INDIRECT(\"'\" & B708 & C708 & D708)","v":"---"},null,null,"---","---",false,"CONDITIONAL",false]
["'[Asphalt Mix Design - Template (20260115 1305 BC).xlsm]","Gmm'!","F",45,"Trial AC 1",null,null,null,"Diff Dry Back",null,null,{"$f":"INDIRECT(\"'\" & B709 & C709 & D709)","v":"---"},null,null,"---","---",false,"CONDITIONAL",false]
["'[Asphalt Mix Design - Template (20260115 1305 BC).xlsm]","Gmm'!","F",46,"Trial AC 1",null,null,null,"Avg Gmm Dry Back",null,null,{"$f":"INDIRECT(\"'\" & B710 & C710 & D710)","v":"---"},null,null,"---","---",false,"CONDITIONAL",false]
["'[Asphalt Mix Design - Template (20260115 1305 BC).xlsm]","Gmm'!","F",47,"Trial AC 1",null,null,null,"Calc Gse Dry Back",null,null,{"$f":"INDIRECT(\"'\" & B711 & C711 & D711)","v":"---"},null,null,"---","---",false,"CONDITIONAL",false]
["'[Asphalt Mix Design - Template (20260115 1305 BC).xlsm]","Gmm'!","F",49,"Trial AC 1",null,null,null,"Calc Gmm",null,null,{"$f":"INDIRECT(\"'\" & B712 & C712 & D712)","v":"---"},null,null,"---","---",false,"CONDITIONAL",false]
["'[Asphalt Mix Design - Template (20260115 1305 BC).xlsm]","Gmm'!","H",10,"Trial AC 2",null,null,null,"Pb, %","%","%",{"$f":"INDIRECT(\"'\" & B713 & C713 & D713)","v":"---"},null,null,"---","---",false,"CONDITIONAL",false]
["'[Asphalt Mix Design - Template (20260115 1305 BC).xlsm]","Gmm'!","H",40,"Trial AC 2",null,null,null,"Rep 1 Gmm",null,null,{"$f":"INDIRECT(\"'\" & B714 & C714 & D714)","v":"---"},null,null,"---","---",false,"CONDITIONAL",false]
["'[Asphalt Mix Design - Template (20260115 1305 BC).xlsm]","Gmm'!","J",40,"Trial AC 2",null,null,null,"Rep 2 Gmm",null,null,{"$f":"INDIRECT(\"'\" & B715 & C715 & D715)","v":"---"},null,null,"---","---",false,"CONDITIONAL",false]
["'[Asphalt Mix Design - Template (20260115 1305 BC).xlsm]","Gmm'!","H",41,"Trial AC 2",null,null,null,"Diff",null,null,{"$f":"INDIRECT(\"'\" & B716 & C716 & D716)","v":"---"},null,null,"---","---",false,"CONDITIONAL",false]
["'[Asphalt Mix Design - Template (20260115 1305 BC).xlsm]","Gmm'!","H",42,"Trial AC 2",null,null,null,"Avg Gmm",null,null,{"$f":"INDIRECT(\"'\" & B717 & C717 & D717)","v":"---"},null,null,"---","---",false,"CONDITIONAL",false]
["'[Asphalt Mix Design - Template (20260115 1305 BC).xlsm]","Gmm'!","H",43,"Trial AC 2",null,null,null,"Calc Gse",null,null,{"$f":"INDIRECT(\"'\" & B718 & C718 & D718)","v":"---"},null,null,"---","---",false,"CONDITIONAL",false]
["'[Asphalt Mix Design - Template (20260115 1305 BC).xlsm]","Gmm'!","H",44,"Trial AC 2",null,null,null,"Rep 1 Gmm Dry Back",null,null,{"$f":"INDIRECT(\"'\" & B719 & C719 & D719)","v":"---"},null,null,"---","---",false,"CONDITIONAL",false]
["'[Asphalt Mix Design - Template (20260115 1305 BC).xlsm]","Gmm'!","J",44,"Trial AC 2",null,null,null,"Rep 2 Gmm Dry Back",null,null,{"$f":"INDIRECT(\"'\" & B720 & C720 & D720)","v":"---"},null,null,"---","---",false,"CONDITIONAL",false]
["'[Asphalt Mix Design - Template (20260115 1305 BC).xlsm]","Gmm'!","H",45,"Trial AC 2",null,null,null,"Diff Dry Back",null,null,{"$f":"INDIRECT(\"'\" & B721 & C721 & D721)","v":"---"},null,null,"---","---",false,"CONDITIONAL",false]
["'[Asphalt Mix Design - Template (20260115 1305 BC).xlsm]","Gmm'!","H",46,"Trial AC 2",null,null,null,"Avg Gmm Dry Back",null,null,{"$f":"INDIRECT(\"'\" & B722 & C722 & D722)","v":"---"},null,null,"---","---",false,"CONDITIONAL",false]
["'[Asphalt Mix Design - Template (20260115 1305 BC).xlsm]","Gmm'!","H",47,"Trial AC 2",null,null,null,"Calc Gse Dry Back",null,null,{"$f":"INDIRECT(\"'\" & B723 & C723 & D723)","v":"---"},null,null,"---","---",false,"CONDITIONAL",false]
["'[Asphalt Mix Design - Template (20260115 1305 BC).xlsm]","Gmm'!","H",49,"Trial AC 2",null,null,null,"Calc Gmm",null,null,{"$f":"INDIRECT(\"'\" & B724 & C724 & D724)","v":"---"},null,null,"---","---",false,"CONDITIONAL",false]
["'[Asphalt Mix Design - Template (20260115 1305 BC).xlsm]","Gmm'!","H",10,"Trial AC 2",null,null,null,"Pb, %","%","%",{"$f":"INDIRECT(\"'\" & B725 & C725 & D725)","v":"---"},null,null,"---","---",false,"CONDITIONAL",false]
["'[Asphalt Mix Design - Template (20260115 1305 BC).xlsm]","Gmm'!","K",40,"Trial AC 3",null,null,null,"Rep 1 Gmm",null,null,{"$f":"INDIRECT(\"'\" & B726 & C726 & D726)","v":"---"},null,null,"---","---",false,"CONDITIONAL",false]
["'[Asphalt Mix Design - Template (20260115 1305 BC).xlsm]","Gmm'!","M",40,"Trial AC 3",null,null,null,"Rep 2 Gmm",null,null,{"$f":"INDIRECT(\"'\" & B727 & C727 & D727)","v":"---"},null,null,"---","---",false,"CONDITIONAL",false]
["'[Asphalt Mix Design - Template (20260115 1305 BC).xlsm]","Gmm'!","K",41,"Trial AC 3",null,null,null,"Diff",null,null,{"$f":"INDIRECT(\"'\" & B728 & C728 & D728)","v":"---"},null,null,"---","---",false,"CONDITIONAL",false]
["'[Asphalt Mix Design - Template (20260115 1305 BC).xlsm]","Gmm'!","K",42,"Trial AC 3",null,null,null,"Avg Gmm",null,null,{"$f":"INDIRECT(\"'\" & B729 & C729 & D729)","v":"---"},null,null,"---","---",false,"CONDITIONAL",false]
["'[Asphalt Mix Design - Template (20260115 1305 BC).xlsm]","Gmm'!","K",43,"Trial AC 3",null,null,null,"Calc Gse",null,null,{"$f":"INDIRECT(\"'\" & B730 & C730 & D730)","v":"---"},null,null,"---","---",false,"CONDITIONAL",false]
["'[Asphalt Mix Design - Template (20260115 1305 BC).xlsm]","Gmm'!","K",44,"Trial AC 3",null,null,null,"Rep 1 Gmm Dry Back",null,null,{"$f":"INDIRECT(\"'\" & B731 & C731 & D731)","v":"---"},null,null,"---","---",false,"CONDITIONAL",false]
["'[Asphalt Mix Design - Template (20260115 1305 BC).xlsm]","Gmm'!","M",44,"Trial AC 3",null,null,null,"Rep 2 Gmm Dry Back",null,null,{"$f":"INDIRECT(\"'\" & B732 & C732 & D732)","v":"---"},null,null,"---","---",false,"CONDITIONAL",false]
["'[Asphalt Mix Design - Template (20260115 1305 BC).xlsm]","Gmm'!","K",45,"Trial AC 3",null,null,null,"Diff Dry Back",null,null,{"$f":"INDIRECT(\"'\" & B733 & C733 & D733)","v":"---"},null,null,"---","---",false,"CONDITIONAL",false]
["'[Asphalt Mix Design - Template (20260115 1305 BC).xlsm]","Gmm'!","K",46,"Trial AC 3",null,null,null,"Avg Gmm Dry Back",null,null,{"$f":"INDIRECT(\"'\" & B734 & C734 & D734)","v":"---"},null,null,"---","---",false,"CONDITIONAL",false]
["'[Asphalt Mix Design - Template (20260115 1305 BC).xlsm]","Gmm'!","K",47,"Trial AC 3",null,null,null,"Calc Gse Dry Back",null,null,{"$f":"INDIRECT(\"'\" & B735 & C735 & D735)","v":"---"},null,null,"---","---",false,"CONDITIONAL",false]
["'[Asphalt Mix Design - Template (20260115 1305 BC).xlsm]","Gmm'!","K",49,"Trial AC 3",null,null,null,"Calc Gmm",null,null,{"$f":"INDIRECT(\"'\" & B736 & C736 & D736)","v":"---"},null,null,"---","---",false,"CONDITIONAL",false]
["'[Asphalt Mix Design - Template (20260115 1305 BC).xlsm]","Gmm'!","K",10,"Trial AC 3",null,null,null,"Pb, %","%","%",{"$f":"INDIRECT(\"'\" & B737 & C737 & D737)","v":"---"},null,null,"---","---",false,"CONDITIONAL",false]
["'[Asphalt Mix Design - Template (20260115 1305 BC).xlsm]","Gmm'!","N",40,"Trial AC 4",null,null,null,"Rep 1 Gmm",null,null,{"$f":"INDIRECT(\"'\" & B738 & C738 & D738)","v":"---"},null,null,"---","---",false,"CONDITIONAL",false]
["'[Asphalt Mix Design - Template (20260115 1305 BC).xlsm]","Gmm'!","O",40,"Trial AC 4",null,null,null,"Rep 2 Gmm",null,null,{"$f":"INDIRECT(\"'\" & B739 & C739 & D739)","v":"---"},null,null,"---","---",false,"CONDITIONAL",false]
["'[Asphalt Mix Design - Template (20260115 1305 BC).xlsm]","Gmm'!","N",41,"Trial AC 4",null,null,null,"Diff",null,null,{"$f":"INDIRECT(\"'\" & B740 & C740 & D740)","v":"---"},null,null,"---","---",false,"CONDITIONAL",false]
["'[Asphalt Mix Design - Template (20260115 1305 BC).xlsm]","Gmm'!","N",42,"Trial AC 4",null,null,null,"Avg Gmm",null,null,{"$f":"INDIRECT(\"'\" & B741 & C741 & D741)","v":"---"},null,null,"---","---",false,"CONDITIONAL",false]
["'[Asphalt Mix Design - Template (20260115 1305 BC).xlsm]","Gmm'!","N",43,"Trial AC 4",null,null,null,"Calc Gse",null,null,{"$f":"INDIRECT(\"'\" & B742 & C742 & D742)","v":"---"},null,null,"---","---",false,"CONDITIONAL",false]
["'[Asphalt Mix Design - Template (20260115 1305 BC).xlsm]","Gmm'!","N",44,"Trial AC 4",null,null,null,"Rep 1 Gmm Dry Back",null,null,{"$f":"INDIRECT(\"'\" & B743 & C743 & D743)","v":"---"},null,null,"---","---",false,"CONDITIONAL",false]
["'[Asphalt Mix Design - Template (20260115 1305 BC).xlsm]","Gmm'!","O",44,"Trial AC 4",null,null,null,"Rep 2 Gmm Dry Back",null,null,{"$f":"INDIRECT(\"'\" & B744 & C744 & D744)","v":"---"},null,null,"---","---",false,"CONDITIONAL",false]
["'[Asphalt Mix Design - Template (20260115 1305 BC).xlsm]","Gmm'!","N",45,"Trial AC 4",null,null,null,"Diff Dry Back",null,null,{"$f":"INDIRECT(\"'\" & B745 & C745 & D745)","v":"---"},null,null,"---","---",false,"CONDITIONAL",false]
["'[Asphalt Mix Design - Template (20260115 1305 BC).xlsm]","Gmm'!","N",46,"Trial AC 4",null,null,null,"Avg Gmm Dry Back",null,null,{"$f":"INDIRECT(\"'\" & B746 & C746 & D746)","v":"---"},null,null,"---","---",false,"CONDITIONAL",false]
["'[Asphalt Mix Design - Template (20260115 1305 BC).xlsm]","Gmm'!","N",47,"Trial AC 4",null,null,null,"Calc Gse Dry Back",null,null,{"$f":"INDIRECT(\"'\" & B747 & C747 & D747)","v":"---"},null,null,"---","---",false,"CONDITIONAL",false]
["'[Asphalt Mix Design - Template (20260115 1305 BC).xlsm]","Gmm'!","N",49,"Trial AC 4",null,null,null,"Calc Gmm",null,null,{"$f":"INDIRECT(\"'\" & B748 & C748 & D748)","v":"---"},null,null,"---","---",false,"CONDITIONAL",false]
["'[Asphalt Mix Design - Template (20260115 1305 BC).xlsm]","Gmm'!","N",10,"Trial AC 4",null,null,null,"Pb, %","%","%",{"$f":"INDIRECT(\"'\" & B749 & C749 & D749)","v":"---"},null,null,"---","---",false,"CONDITIONAL",false]
["'[Asphalt Mix Design - Template (20260115 1305 BC).xlsm]","Gmm'!","P",40,"Trial AC 5",null,null,null,"Rep 1 Gmm",null,null,{"$f":"INDIRECT(\"'\" & B750 & C750 & D750)","v":"---"},null,null,"---","---",false,"CONDITIONAL",false]
["'[Asphalt Mix Design - Template (20260115 1305 BC).xlsm]","Gmm'!","Q",40,"Trial AC 5",null,null,null,"Rep 2 Gmm",null,null,{"$f":"INDIRECT(\"'\" & B751 & C751 & D751)","v":"---"},null,null,"---","---",false,"CONDITIONAL",false]
["'[Asphalt Mix Design - Template (20260115 1305 BC).xlsm]","Gmm'!","P",41,"Trial AC 5",null,null,null,"Diff",null,null,{"$f":"INDIRECT(\"'\" & B752 & C752 & D752)","v":"---"},null,null,"---","---",false,"CONDITIONAL",false]
["'[Asphalt Mix Design - Template (20260115 1305 BC).xlsm]","Gmm'!","P",42,"Trial AC 5",null,null,null,"Avg Gmm",null,null,{"$f":"INDIRECT(\"'\" & B753 & C753 & D753)","v":"---"},null,null,"---","---",false,"CONDITIONAL",false]
["'[Asphalt Mix Design - Template (20260115 1305 BC).xlsm]","Gmm'!","P",43,"Trial AC 5",null,null,null,"Calc Gse",null,null,{"$f":"INDIRECT(\"'\" & B754 & C754 & D754)","v":"---"},null,null,"---","---",false,"CONDITIONAL",false]
["'[Asphalt Mix Design - Template (20260115 1305 BC).xlsm]","Gmm'!","P",44,"Trial AC 5",null,null,null,"Rep 1 Gmm Dry Back",null,null,{"$f":"INDIRECT(\"'\" & B755 & C755 & D755)","v":"---"},null,null,"---","---",false,"CONDITIONAL",false]
["'[Asphalt Mix Design - Template (20260115 1305 BC).xlsm]","Gmm'!","Q",44,"Trial AC 5",null,null,null,"Rep 2 Gmm Dry Back",null,null,{"$f":"INDIRECT(\"'\" & B756 & C756 & D756)","v":"---"},null,null,"---","---",false,"CONDITIONAL",false]
["'[Asphalt Mix Design - Template (20260115 1305 BC).xlsm]","Gmm'!","P",45,"Trial AC 5",null,null,null,"Diff Dry Back",null,null,{"$f":"INDIRECT(\"'\" & B757 & C757 & D757)","v":"---"},null,null,"---","---",false,"CONDITIONAL",false]
["'[Asphalt Mix Design - Template (20260115 1305 BC).xlsm]","Gmm'!","P",46,"Trial AC 5",null,null,null,"Avg Gmm Dry Back",null,null,{"$f":"INDIRECT(\"'\" & B758 & C758 & D758)","v":"---"},null,null,"---","---",false,"CONDITIONAL",false]
["'[Asphalt Mix Design - Template (20260115 1305 BC).xlsm]","Gmm'!","P",47,"Trial AC 5",null,null,null,"Calc Gse Dry Back",null,null,{"$f":"INDIRECT(\"'\" & B759 & C759 & D759)","v":"---"},null,null,"---","---",false,"CONDITIONAL",false]
["'[Asphalt Mix Design - Template (20260115 1305 BC).xlsm]","Gmm'!","P",49,"Trial AC 5",null,null,null,"Calc Gmm",null,null,{"$f":"INDIRECT(\"'\" & B760 & C760 & D760)","v":"---"},null,null,"---","---",false,"CONDITIONAL",false]
["'[Asphalt Mix Design - Template (20260115 1305 BC).xlsm]","Gmm'!","F",48,"Overall",null,null,null,"Avg Gse",null,null,{"$f":"INDIRECT(\"'\" & B761 & C761 & D761)","v":"---"},null,null,"---","---",false,true,true,"Requirement technically covered under JMF Summary"]
["'[Asphalt Mix Design - Template (20260115 1305 BC).xlsm]","Gmm'!","A",52,"Overall",null,null,null,"Comments",null,null,{"$f":"INDIRECT(\"'\" & B762 & C762 & D762)","v":0},null,null,0,0,false,false,false]
["'[Asphalt Mix Design - Template (20260115 1305 BC).xlsm]","Stability'!","A",13,"Trial AC 1",null,null,null,"Pb, %","%","%",{"$f":"INDIRECT(\"'\" & B763 & C763 & D763)","v":"---"},null,null,"---","---",false,"CONDITIONAL",false,"Note: CONDITIONAL based on it being a Marshall design and how many trial Pb contents are tested. If Marshall and if a Pb was tested, then it is required."]
["'[Asphalt Mix Design - Template (20260115 1305 BC).xlsm]","Stability'!","C",13,"Trial AC 1",null,null,null,"Specimen1 Ht","mm","mm",{"$f":"INDIRECT(\"'\" & B764 & C764 & D764)","v":"---"},null,null,"---","---",false,"CONDITIONAL",false]
["'[Asphalt Mix Design - Template (20260115 1305 BC).xlsm]","Stability'!","D",13,"Trial AC 1",null,null,null,"Specimen1 Meas. Stability","lb","N",{"$f":"INDIRECT(\"'\" & B765 & C765 & D765)","v":0},null,null,0,0,false,"CONDITIONAL",false]
["'[Asphalt Mix Design - Template (20260115 1305 BC).xlsm]","Stability'!","E",13,"Trial AC 1",null,null,null,"Specimen1 Correlation Ratio",null,null,{"$f":"INDIRECT(\"'\" & B766 & C766 & D766)","v":"---"},null,null,"---","---",false,"CONDITIONAL",false]
["'[Asphalt Mix Design - Template (20260115 1305 BC).xlsm]","Stability'!","F",13,"Trial AC 1",null,null,null,"Specimen1 Corr. Stability","lb","N",{"$f":"INDIRECT(\"'\" & B767 & C767 & D767)","v":"---"},null,null,"---","---",false,"CONDITIONAL",false]
["'[Asphalt Mix Design - Template (20260115 1305 BC).xlsm]","Stability'!","G",13,"Trial AC 1",null,null,null,"Specimen1 Flow","0.1 in.","0.25 mm",{"$f":"INDIRECT(\"'\" & B768 & C768 & D768)","v":0},null,null,0,0,false,"CONDITIONAL",false]
["'[Asphalt Mix Design - Template (20260115 1305 BC).xlsm]","Stability'!","AQ",13,"Trial AC 1",null,null,null,"Specimen1 Flow Method",null,null,{"$f":"INDIRECT(\"'\" & B769 & C769 & D769)","v":"---"},null,null,"---","---",false,"CONDITIONAL",false]
["'[Asphalt Mix Design - Template (20260115 1305 BC).xlsm]","Stability'!","C",14,"Trial AC 1",null,null,null,"Specimen2 Ht","mm","mm",{"$f":"INDIRECT(\"'\" & B770 & C770 & D770)","v":"---"},null,null,{"$f":"IF(ISBLANK(N770),L770,N770)","v":"---"},{"$f":"IF(ISBLANK(N770),IF(OR(ISBLANK(M770),ISERROR(M770)),L770,M770),N770)","v":"---"},false,"CONDITIONAL",false]
["'[Asphalt Mix Design - Template (20260115 1305 BC).xlsm]","Stability'!","D",14,"Trial AC 1",null,null,null,"Specimen2 Meas. Stability","lb","N",{"$f":"INDIRECT(\"'\" & B771 & C771 & D771)","v":0},null,null,0,0,false,"CONDITIONAL",false]
["'[Asphalt Mix Design - Template (20260115 1305 BC).xlsm]","Stability'!","E",14,"Trial AC 1",null,null,null,"Specimen2 Correlation Ratio",null,null,{"$f":"INDIRECT(\"'\" & B772 & C772 & D772)","v":"---"},null,null,"---","---",false,"CONDITIONAL",false]
["'[Asphalt Mix Design - Template (20260115 1305 BC).xlsm]","Stability'!","F",14,"Trial AC 1",null,null,null,"Specimen2 Corr. Stability","lb","N",{"$f":"INDIRECT(\"'\" & B773 & C773 & D773)","v":"---"},null,null,"---","---",false,"CONDITIONAL",false]
["'[Asphalt Mix Design - Template (20260115 1305 BC).xlsm]","Stability'!","G",14,"Trial AC 1",null,null,null,"Specimen2 Flow","0.1 in.","0.25 mm",{"$f":"INDIRECT(\"'\" & B774 & C774 & D774)","v":0},null,null,0,0,false,"CONDITIONAL",false]
["'[Asphalt Mix Design - Template (20260115 1305 BC).xlsm]","Stability'!","AQ",14,"Trial AC 1",null,null,null,"Specimen2 Flow Method",null,null,{"$f":"INDIRECT(\"'\" & B775 & C775 & D775)","v":"---"},null,null,"---","---",false,"CONDITIONAL",false]
["'[Asphalt Mix Design - Template (20260115 1305 BC).xlsm]","Stability'!","C",15,"Trial AC 1",null,null,null,"Specimen3 Ht","mm","mm",{"$f":"INDIRECT(\"'\" & B776 & C776 & D776)","v":"---"},null,null,"---","---",false,"CONDITIONAL",false]
["'[Asphalt Mix Design - Template (20260115 1305 BC).xlsm]","Stability'!","D",15,"Trial AC 1",null,null,null,"Specimen3 Meas. Stability","lb","N",{"$f":"INDIRECT(\"'\" & B777 & C777 & D777)","v":0},null,null,0,0,false,"CONDITIONAL",false]
["'[Asphalt Mix Design - Template (20260115 1305 BC).xlsm]","Stability'!","E",15,"Trial AC 1",null,null,null,"Specimen3 Correlation Ratio",null,null,{"$f":"INDIRECT(\"'\" & B778 & C778 & D778)","v":"---"},null,null,"---","---",false,"CONDITIONAL",false]
["'[Asphalt Mix Design - Template (20260115 1305 BC).xlsm]","Stability'!","F",15,"Trial AC 1",null,null,null,"Specimen3 Corr. Stability","lb","N",{"$f":"INDIRECT(\"'\" & B779 & C779 & D779)","v":"---"},null,null,"---","---",false,"CONDITIONAL",false]
["'[Asphalt Mix Design - Template (20260115 1305 BC).xlsm]","Stability'!","G",15,"Trial AC 1",null,null,null,"Specimen3 Flow","0.1 in.","0.25 mm",{"$f":"INDIRECT(\"'\" & B780 & C780 & D780)","v":0},null,null,0,0,false,"CONDITIONAL",false]
["'[Asphalt Mix Design - Template (20260115 1305 BC).xlsm]","Stability'!","AQ",15,"Trial AC 1",null,null,null,"Specimen3 Flow Method",null,null,{"$f":"INDIRECT(\"'\" & B781 & C781 & D781)","v":"---"},null,null,"---","---",false,"CONDITIONAL",false]
["'[Asphalt Mix Design - Template (20260115 1305 BC).xlsm]","Stability'!","C",16,"Trial AC 1",null,null,null,"Avg Ht","mm","mm",{"$f":"INDIRECT(\"'\" & B782 & C782 & D782)","v":"---"},null,null,"---","---",false,"CONDITIONAL",false]
["'[Asphalt Mix Design - Template (20260115 1305 BC).xlsm]","Stability'!","D",16,"Trial AC 1",null,null,null,"Avg Meas. Stability","lb","N",{"$f":"INDIRECT(\"'\" & B783 & C783 & D783)","v":"---"},null,null,"---","---",false,"CONDITIONAL",false]
["'[Asphalt Mix Design - Template (20260115 1305 BC).xlsm]","Stability'!","E",16,"Trial AC 1",null,null,null,"Avg Correlation Ratio",null,null,{"$f":"INDIRECT(\"'\" & B784 & C784 & D784)","v":"---"},null,null,"---","---",false,"CONDITIONAL",false]
["'[Asphalt Mix Design - Template (20260115 1305 BC).xlsm]","Stability'!","F",16,"Trial AC 1",null,null,null,"Avg Corr. Stability","lb","N",{"$f":"INDIRECT(\"'\" & B785 & C785 & D785)","v":"---"},null,null,"---","---",false,"CONDITIONAL",false]
["'[Asphalt Mix Design - Template (20260115 1305 BC).xlsm]","Stability'!","G",16,"Trial AC 1",null,null,null,"Avg Flow","0.1 in.","0.25 mm",{"$f":"INDIRECT(\"'\" & B786 & C786 & D786)","v":"---"},null,null,"---","---",false,"CONDITIONAL",false]
["'[Asphalt Mix Design - Template (20260115 1305 BC).xlsm]","Stability'!","A",17,"Trial AC 2",null,null,null,"Pb, %","%","%",{"$f":"INDIRECT(\"'\" & B787 & C787 & D787)","v":"---"},null,null,"---","---",false,"CONDITIONAL",false]
["'[Asphalt Mix Design - Template (20260115 1305 BC).xlsm]","Stability'!","C",17,"Trial AC 2",null,null,null,"Specimen4 Ht","mm","mm",{"$f":"INDIRECT(\"'\" & B788 & C788 & D788)","v":"---"},null,null,"---","---",false,"CONDITIONAL",false]
["'[Asphalt Mix Design - Template (20260115 1305 BC).xlsm]","Stability'!","D",17,"Trial AC 2",null,null,null,"Specimen4 Meas. Stability","lb","N",{"$f":"INDIRECT(\"'\" & B789 & C789 & D789)","v":0},null,null,0,0,false,"CONDITIONAL",false]
["'[Asphalt Mix Design - Template (20260115 1305 BC).xlsm]","Stability'!","E",17,"Trial AC 2",null,null,null,"Specimen4 Correlation Ratio",null,null,{"$f":"INDIRECT(\"'\" & B790 & C790 & D790)","v":"---"},null,null,"---","---",false,"CONDITIONAL",false]
["'[Asphalt Mix Design - Template (20260115 1305 BC).xlsm]","Stability'!","F",17,"Trial AC 2",null,null,null,"Specimen4 Corr. Stability","lb","N",{"$f":"INDIRECT(\"'\" & B791 & C791 & D791)","v":"---"},null,null,"---","---",false,"CONDITIONAL",false]
["'[Asphalt Mix Design - Template (20260115 1305 BC).xlsm]","Stability'!","G",17,"Trial AC 2",null,null,null,"Specimen4 Flow","0.1 in.","0.25 mm",{"$f":"INDIRECT(\"'\" & B792 & C792 & D792)","v":0},null,null,0,0,false,"CONDITIONAL",false]
["'[Asphalt Mix Design - Template (20260115 1305 BC).xlsm]","Stability'!","AQ",17,"Trial AC 2",null,null,null,"Specimen4 Flow Method",null,null,{"$f":"INDIRECT(\"'\" & B793 & C793 & D793)","v":"---"},null,null,"---","---",false,"CONDITIONAL",false]
["'[Asphalt Mix Design - Template (20260115 1305 BC).xlsm]","Stability'!","C",18,"Trial AC 2",null,null,null,"Specimen5 Ht","mm","mm",{"$f":"INDIRECT(\"'\" & B794 & C794 & D794)","v":"---"},null,null,"---","---",false,"CONDITIONAL",false]
["'[Asphalt Mix Design - Template (20260115 1305 BC).xlsm]","Stability'!","D",18,"Trial AC 2",null,null,null,"Specimen5 Meas. Stability","lb","N",{"$f":"INDIRECT(\"'\" & B795 & C795 & D795)","v":0},null,null,0,0,false,"CONDITIONAL",false]
["'[Asphalt Mix Design - Template (20260115 1305 BC).xlsm]","Stability'!","E",18,"Trial AC 2",null,null,null,"Specimen5 Correlation Ratio",null,null,{"$f":"INDIRECT(\"'\" & B796 & C796 & D796)","v":"---"},null,null,"---","---",false,"CONDITIONAL",false]
["'[Asphalt Mix Design - Template (20260115 1305 BC).xlsm]","Stability'!","F",18,"Trial AC 2",null,null,null,"Specimen5 Corr. Stability","lb","N",{"$f":"INDIRECT(\"'\" & B797 & C797 & D797)","v":"---"},null,null,"---","---",false,"CONDITIONAL",false]
["'[Asphalt Mix Design - Template (20260115 1305 BC).xlsm]","Stability'!","G",18,"Trial AC 2",null,null,null,"Specimen5 Flow","0.1 in.","0.25 mm",{"$f":"INDIRECT(\"'\" & B798 & C798 & D798)","v":0},null,null,0,0,false,"CONDITIONAL",false]
["'[Asphalt Mix Design - Template (20260115 1305 BC).xlsm]","Stability'!","AQ",18,"Trial AC 2",null,null,null,"Specimen5 Flow Method",null,null,{"$f":"INDIRECT(\"'\" & B799 & C799 & D799)","v":"---"},null,null,"---","---",false,"CONDITIONAL",false]
["'[Asphalt Mix Design - Template (20260115 1305 BC).xlsm]","Stability'!","C",19,"Trial AC 2",null,null,null,"Specimen6 Ht","mm","mm",{"$f":"INDIRECT(\"'\" & B800 & C800 & D800)","v":"---"},null,null,"---","---",false,"CONDITIONAL",false]
["'[Asphalt Mix Design - Template (20260115 1305 BC).xlsm]","Stability'!","D",19,"Trial AC 2",null,null,null,"Specimen6 Meas. Stability","lb","N",{"$f":"INDIRECT(\"'\" & B801 & C801 & D801)","v":0},null,null,0,0,false,"CONDITIONAL",false]
["'[Asphalt Mix Design - Template (20260115 1305 BC).xlsm]","Stability'!","E",19,"Trial AC 2",null,null,null,"Specimen6 Correlation Ratio",null,null,{"$f":"INDIRECT(\"'\" & B802 & C802 & D802)","v":"---"},null,null,"---","---",false,"CONDITIONAL",false]
["'[Asphalt Mix Design - Template (20260115 1305 BC).xlsm]","Stability'!","F",19,"Trial AC 2",null,null,null,"Specimen6 Corr. Stability","lb","N",{"$f":"INDIRECT(\"'\" & B803 & C803 & D803)","v":"---"},null,null,"---","---",false,"CONDITIONAL",false]
["'[Asphalt Mix Design - Template (20260115 1305 BC).xlsm]","Stability'!","G",19,"Trial AC 2",null,null,null,"Specimen6 Flow","0.1 in.","0.25 mm",{"$f":"INDIRECT(\"'\" & B804 & C804 & D804)","v":0},null,null,0,0,false,"CONDITIONAL",false]
["'[Asphalt Mix Design - Template (20260115 1305 BC).xlsm]","Stability'!","AQ",19,"Trial AC 2",null,null,null,"Specimen6 Flow Method",null,null,{"$f":"INDIRECT(\"'\" & B805 & C805 & D805)","v":"---"},null,null,"---","---",false,"CONDITIONAL",false]
["'[Asphalt Mix Design - Template (20260115 1305 BC).xlsm]","Stability'!","C",20,"Trial AC 2",null,null,null,"Avg Ht","mm","mm",{"$f":"INDIRECT(\"'\" & B806 & C806 & D806)","v":"---"},null,null,"---","---",false,"CONDITIONAL",false]
["'[Asphalt Mix Design - Template (20260115 1305 BC).xlsm]","Stability'!","D",20,"Trial AC 2",null,null,null,"Avg Meas. Stability","lb","N",{"$f":"INDIRECT(\"'\" & B807 & C807 & D807)","v":"---"},null,null,"---","---",false,"CONDITIONAL",false]
["'[Asphalt Mix Design - Template (20260115 1305 BC).xlsm]","Stability'!","E",20,"Trial AC 2",null,null,null,"Avg Correlation Ratio",null,null,{"$f":"INDIRECT(\"'\" & B808 & C808 & D808)","v":"---"},null,null,"---","---",false,"CONDITIONAL",false]
["'[Asphalt Mix Design - Template (20260115 1305 BC).xlsm]","Stability'!","F",20,"Trial AC 2",null,null,null,"Avg Corr. Stability","lb","N",{"$f":"INDIRECT(\"'\" & B809 & C809 & D809)","v":"---"},null,null,"---","---",false,"CONDITIONAL",false]
["'[Asphalt Mix Design - Template (20260115 1305 BC).xlsm]","Stability'!","G",20,"Trial AC 2",null,null,null,"Avg Flow","0.1 in.","0.25 mm",{"$f":"INDIRECT(\"'\" & B810 & C810 & D810)","v":"---"},null,null,"---","---",false,"CONDITIONAL",false]
["'[Asphalt Mix Design - Template (20260115 1305 BC).xlsm]","Stability'!","A",21,"Trial AC 3",null,null,null,"Pb, %","%","%",{"$f":"INDIRECT(\"'\" & B811 & C811 & D811)","v":"---"},null,null,"---","---",false,"CONDITIONAL",false]
["'[Asphalt Mix Design - Template (20260115 1305 BC).xlsm]","Stability'!","C",21,"Trial AC 3",null,null,null,"Specimen7 Ht","mm","mm",{"$f":"INDIRECT(\"'\" & B812 & C812 & D812)","v":"---"},null,null,"---","---",false,"CONDITIONAL",false]
["'[Asphalt Mix Design - Template (20260115 1305 BC).xlsm]","Stability'!","D",21,"Trial AC 3",null,null,null,"Specimen7 Meas. Stability","lb","N",{"$f":"INDIRECT(\"'\" & B813 & C813 & D813)","v":0},null,null,0,0,false,"CONDITIONAL",false]
["'[Asphalt Mix Design - Template (20260115 1305 BC).xlsm]","Stability'!","E",21,"Trial AC 3",null,null,null,"Specimen7 Correlation Ratio",null,null,{"$f":"INDIRECT(\"'\" & B814 & C814 & D814)","v":"---"},null,null,"---","---",false,"CONDITIONAL",false]
["'[Asphalt Mix Design - Template (20260115 1305 BC).xlsm]","Stability'!","F",21,"Trial AC 3",null,null,null,"Specimen7 Corr. Stability","lb","N",{"$f":"INDIRECT(\"'\" & B815 & C815 & D815)","v":"---"},null,null,"---","---",false,"CONDITIONAL",false]
["'[Asphalt Mix Design - Template (20260115 1305 BC).xlsm]","Stability'!","G",21,"Trial AC 3",null,null,null,"Specimen7 Flow","0.1 in.","0.25 mm",{"$f":"INDIRECT(\"'\" & B816 & C816 & D816)","v":0},null,null,0,0,false,"CONDITIONAL",false]
["'[Asphalt Mix Design - Template (20260115 1305 BC).xlsm]","Stability'!","AQ",21,"Trial AC 3",null,null,null,"Specimen7 Flow Method",null,null,{"$f":"INDIRECT(\"'\" & B817 & C817 & D817)","v":"---"},null,null,"---","---",false,"CONDITIONAL",false]
["'[Asphalt Mix Design - Template (20260115 1305 BC).xlsm]","Stability'!","C",22,"Trial AC 3",null,null,null,"Specimen8 Ht","mm","mm",{"$f":"INDIRECT(\"'\" & B818 & C818 & D818)","v":"---"},null,null,"---","---",false,"CONDITIONAL",false]
["'[Asphalt Mix Design - Template (20260115 1305 BC).xlsm]","Stability'!","D",22,"Trial AC 3",null,null,null,"Specimen8 Meas. Stability","lb","N",{"$f":"INDIRECT(\"'\" & B819 & C819 & D819)","v":0},null,null,0,0,false,"CONDITIONAL",false]
["'[Asphalt Mix Design - Template (20260115 1305 BC).xlsm]","Stability'!","E",22,"Trial AC 3",null,null,null,"Specimen8 Correlation Ratio",null,null,{"$f":"INDIRECT(\"'\" & B820 & C820 & D820)","v":"---"},null,null,"---","---",false,"CONDITIONAL",false]
["'[Asphalt Mix Design - Template (20260115 1305 BC).xlsm]","Stability'!","F",22,"Trial AC 3",null,null,null,"Specimen8 Corr. Stability","lb","N",{"$f":"INDIRECT(\"'\" & B821 & C821 & D821)","v":"---"},null,null,"---","---",false,"CONDITIONAL",false]
["'[Asphalt Mix Design - Template (20260115 1305 BC).xlsm]","Stability'!","G",22,"Trial AC 3",null,null,null,"Specimen8 Flow","0.1 in.","0.25 mm",{"$f":"INDIRECT(\"'\" & B822 & C822 & D822)","v":0},null,null,0,0,false,"CONDITIONAL",false]
["'[Asphalt Mix Design - Template (20260115 1305 BC).xlsm]","Stability'!","AQ",22,"Trial AC 3",null,null,null,"Specimen8 Flow Method",null,null,{"$f":"INDIRECT(\"'\" & B823 & C823 & D823)","v":"---"},null,null,"---","---",false,"CONDITIONAL",false]
["'[Asphalt Mix Design - Template (20260115 1305 BC).xlsm]","Stability'!","C",23,"Trial AC 3",null,null,null,"Specimen9 Ht","mm","mm",{"$f":"INDIRECT(\"'\" & B824 & C824 & D824)","v":"---"},null,null,"---","---",false,"CONDITIONAL",false]
["'[Asphalt Mix Design - Template (20260115 1305 BC).xlsm]","Stability'!","D",23,"Trial AC 3",null,null,null,"Specimen9 Meas. Stability","lb","N",{"$f":"INDIRECT(\"'\" & B825 & C825 & D825)","v":0},null,null,0,0,false,"CONDITIONAL",false]
["'[Asphalt Mix Design - Template (20260115 1305 BC).xlsm]","Stability'!","E",23,"Trial AC 3",null,null,null,"Specimen9 Correlation Ratio",null,null,{"$f":"INDIRECT(\"'\" & B826 & C826 & D826)","v":"---"},null,null,"---","---",false,"CONDITIONAL",false]
["'[Asphalt Mix Design - Template (20260115 1305 BC).xlsm]","Stability'!","F",23,"Trial AC 3",null,null,null,"Specimen9 Corr. Stability","lb","N",{"$f":"INDIRECT(\"'\" & B827 & C827 & D827)","v":"---"},null,null,"---","---",false,"CONDITIONAL",false]
["'[Asphalt Mix Design - Template (20260115 1305 BC).xlsm]","Stability'!","G",23,"Trial AC 3",null,null,null,"Specimen9 Flow","0.1 in.","0.25 mm",{"$f":"INDIRECT(\"'\" & B828 & C828 & D828)","v":0},null,null,0,0,false,"CONDITIONAL",false]
["'[Asphalt Mix Design - Template (20260115 1305 BC).xlsm]","Stability'!","AQ",23,"Trial AC 3",null,null,null,"Specimen9 Flow Method",null,null,{"$f":"INDIRECT(\"'\" & B829 & C829 & D829)","v":"---"},null,null,"---","---",false,"CONDITIONAL",false]
["'[Asphalt Mix Design - Template (20260115 1305 BC).xlsm]","Stability'!","C",24,"Trial AC 3",null,null,null,"Avg Ht","mm","mm",{"$f":"INDIRECT(\"'\" & B830 & C830 & D830)","v":"---"},null,null,"---","---",false,"CONDITIONAL",false]
["'[Asphalt Mix Design - Template (20260115 1305 BC).xlsm]","Stability'!","D",24,"Trial AC 3",null,null,null,"Avg Meas. Stability","lb","N",{"$f":"INDIRECT(\"'\" & B831 & C831 & D831)","v":"---"},null,null,"---","---",false,"CONDITIONAL",false]
["'[Asphalt Mix Design - Template (20260115 1305 BC).xlsm]","Stability'!","E",24,"Trial AC 3",null,null,null,"Avg Correlation Ratio",null,null,{"$f":"INDIRECT(\"'\" & B832 & C832 & D832)","v":"---"},null,null,"---","---",false,"CONDITIONAL",false]
["'[Asphalt Mix Design - Template (20260115 1305 BC).xlsm]","Stability'!","F",24,"Trial AC 3",null,null,null,"Avg Corr. Stability","lb","N",{"$f":"INDIRECT(\"'\" & B833 & C833 & D833)","v":"---"},null,null,"---","---",false,"CONDITIONAL",false]
["'[Asphalt Mix Design - Template (20260115 1305 BC).xlsm]","Stability'!","G",24,"Trial AC 3",null,null,null,"Avg Flow","0.1 in.","0.25 mm",{"$f":"INDIRECT(\"'\" & B834 & C834 & D834)","v":"---"},null,null,{"$f":"IF(ISBLANK(N834),L834,N834)","v":"---"},{"$f":"IF(ISBLANK(N834),IF(OR(ISBLANK(M834),ISERROR(M834)),L834,M834),N834)","v":"---"},false,"CONDITIONAL",false]
["'[Asphalt Mix Design - Template (20260115 1305 BC).xlsm]","Stability'!","A",25,"Trial AC 4",null,null,null,"Pb, %","%","%",{"$f":"INDIRECT(\"'\" & B835 & C835 & D835)","v":"---"},null,null,"---","---",false,"CONDITIONAL",false]
["'[Asphalt Mix Design - Template (20260115 1305 BC).xlsm]","Stability'!","C",25,"Trial AC 4",null,null,null,"Specimen10 Ht","mm","mm",{"$f":"INDIRECT(\"'\" & B836 & C836 & D836)","v":"---"},null,null,"---","---",false,"CONDITIONAL",false]
["'[Asphalt Mix Design - Template (20260115 1305 BC).xlsm]","Stability'!","D",25,"Trial AC 4",null,null,null,"Specimen10 Meas. Stability","lb","N",{"$f":"INDIRECT(\"'\" & B837 & C837 & D837)","v":0},null,null,0,0,false,"CONDITIONAL",false]
["'[Asphalt Mix Design - Template (20260115 1305 BC).xlsm]","Stability'!","E",25,"Trial AC 4",null,null,null,"Specimen10 Correlation Ratio",null,null,{"$f":"INDIRECT(\"'\" & B838 & C838 & D838)","v":"---"},null,null,"---","---",false,"CONDITIONAL",false]
["'[Asphalt Mix Design - Template (20260115 1305 BC).xlsm]","Stability'!","F",25,"Trial AC 4",null,null,null,"Specimen10 Corr. Stability","lb","N",{"$f":"INDIRECT(\"'\" & B839 & C839 & D839)","v":"---"},null,null,"---","---",false,"CONDITIONAL",false]
["'[Asphalt Mix Design - Template (20260115 1305 BC).xlsm]","Stability'!","G",25,"Trial AC 4",null,null,null,"Specimen10 Flow","0.1 in.","0.25 mm",{"$f":"INDIRECT(\"'\" & B840 & C840 & D840)","v":0},null,null,0,0,false,"CONDITIONAL",false]
["'[Asphalt Mix Design - Template (20260115 1305 BC).xlsm]","Stability'!","AQ",25,"Trial AC 4",null,null,null,"Specimen10 Flow Method",null,null,{"$f":"INDIRECT(\"'\" & B841 & C841 & D841)","v":"---"},null,null,"---","---",false,"CONDITIONAL",false]
["'[Asphalt Mix Design - Template (20260115 1305 BC).xlsm]","Stability'!","C",26,"Trial AC 4",null,null,null,"Specimen11 Ht","mm","mm",{"$f":"INDIRECT(\"'\" & B842 & C842 & D842)","v":"---"},null,null,"---","---",false,"CONDITIONAL",false]
["'[Asphalt Mix Design - Template (20260115 1305 BC).xlsm]","Stability'!","D",26,"Trial AC 4",null,null,null,"Specimen11 Meas. Stability","lb","N",{"$f":"INDIRECT(\"'\" & B843 & C843 & D843)","v":0},null,null,0,0,false,"CONDITIONAL",false]
["'[Asphalt Mix Design - Template (20260115 1305 BC).xlsm]","Stability'!","E",26,"Trial AC 4",null,null,null,"Specimen11 Correlation Ratio",null,null,{"$f":"INDIRECT(\"'\" & B844 & C844 & D844)","v":"---"},null,null,"---","---",false,"CONDITIONAL",false]
["'[Asphalt Mix Design - Template (20260115 1305 BC).xlsm]","Stability'!","F",26,"Trial AC 4",null,null,null,"Specimen11 Corr. Stability","lb","N",{"$f":"INDIRECT(\"'\" & B845 & C845 & D845)","v":"---"},null,null,"---","---",false,"CONDITIONAL",false]
["'[Asphalt Mix Design - Template (20260115 1305 BC).xlsm]","Stability'!","G",26,"Trial AC 4",null,null,null,"Specimen11 Flow","0.1 in.","0.25 mm",{"$f":"INDIRECT(\"'\" & B846 & C846 & D846)","v":0},null,null,0,0,false,"CONDITIONAL",false]
["'[Asphalt Mix Design - Template (20260115 1305 BC).xlsm]","Stability'!","AQ",26,"Trial AC 4",null,null,null,"Specimen11 Flow Method",null,null,{"$f":"INDIRECT(\"'\" & B847 & C847 & D847)","v":"---"},null,null,"---","---",false,"CONDITIONAL",false]
["'[Asphalt Mix Design - Template (20260115 1305 BC).xlsm]","Stability'!","C",27,"Trial AC 4",null,null,null,"Specimen12 Ht","mm","mm",{"$f":"INDIRECT(\"'\" & B848 & C848 & D848)","v":"---"},null,null,"---","---",false,"CONDITIONAL",false]
["'[Asphalt Mix Design - Template (20260115 1305 BC).xlsm]","Stability'!","D",27,"Trial AC 4",null,null,null,"Specimen12 Meas. Stability","lb","N",{"$f":"INDIRECT(\"'\" & B849 & C849 & D849)","v":0},null,null,0,0,false,"CONDITIONAL",false]
["'[Asphalt Mix Design - Template (20260115 1305 BC).xlsm]","Stability'!","E",27,"Trial AC 4",null,null,null,"Specimen12 Correlation Ratio",null,null,{"$f":"INDIRECT(\"'\" & B850 & C850 & D850)","v":"---"},null,null,"---","---",false,"CONDITIONAL",false]
["'[Asphalt Mix Design - Template (20260115 1305 BC).xlsm]","Stability'!","F",27,"Trial AC 4",null,null,null,"Specimen12 Corr. Stability","lb","N",{"$f":"INDIRECT(\"'\" & B851 & C851 & D851)","v":"---"},null,null,"---","---",false,"CONDITIONAL",false]
["'[Asphalt Mix Design - Template (20260115 1305 BC).xlsm]","Stability'!","G",27,"Trial AC 4",null,null,null,"Specimen12 Flow","0.1 in.","0.25 mm",{"$f":"INDIRECT(\"'\" & B852 & C852 & D852)","v":0},null,null,0,0,false,"CONDITIONAL",false]
["'[Asphalt Mix Design - Template (20260115 1305 BC).xlsm]","Stability'!","AQ",27,"Trial AC 4",null,null,null,"Specimen12 Flow Method",null,null,{"$f":"INDIRECT(\"'\" & B853 & C853 & D853)","v":"---"},null,null,"---","---",false,"CONDITIONAL",false]
["'[Asphalt Mix Design - Template (20260115 1305 BC).xlsm]","Stability'!","C",28,"Trial AC 4",null,null,null,"Avg Ht","mm","mm",{"$f":"INDIRECT(\"'\" & B854 & C854 & D854)","v":"---"},null,null,"---","---",false,"CONDITIONAL",false]
["'[Asphalt Mix Design - Template (20260115 1305 BC).xlsm]","Stability'!","D",28,"Trial AC 4",null,null,null,"Avg Meas. Stability","lb","N",{"$f":"INDIRECT(\"'\" & B855 & C855 & D855)","v":"---"},null,null,"---","---",false,"CONDITIONAL",false]
["'[Asphalt Mix Design - Template (20260115 1305 BC).xlsm]","Stability'!","E",28,"Trial AC 4",null,null,null,"Avg Correlation Ratio",null,null,{"$f":"INDIRECT(\"'\" & B856 & C856 & D856)","v":"---"},null,null,"---","---",false,"CONDITIONAL",false]
["'[Asphalt Mix Design - Template (20260115 1305 BC).xlsm]","Stability'!","F",28,"Trial AC 4",null,null,null,"Avg Corr. Stability","lb","N",{"$f":"INDIRECT(\"'\" & B857 & C857 & D857)","v":"---"},null,null,"---","---",false,"CONDITIONAL",false]
["'[Asphalt Mix Design - Template (20260115 1305 BC).xlsm]","Stability'!","G",28,"Trial AC 4",null,null,null,"Avg Flow","0.1 in.","0.25 mm",{"$f":"INDIRECT(\"'\" & B858 & C858 & D858)","v":"---"},null,null,"---","---",false,"CONDITIONAL",false]
["'[Asphalt Mix Design - Template (20260115 1305 BC).xlsm]","Stability'!","A",29,"Trial AC 5",null,null,null,"Pb, %","%","%",{"$f":"INDIRECT(\"'\" & B859 & C859 & D859)","v":"---"},null,null,"---","---",false,"CONDITIONAL",false]
["'[Asphalt Mix Design - Template (20260115 1305 BC).xlsm]","Stability'!","C",29,"Trial AC 5",null,null,null,"Specimen13 Ht","mm","mm",{"$f":"INDIRECT(\"'\" & B860 & C860 & D860)","v":"---"},null,null,"---","---",false,"CONDITIONAL",false]
["'[Asphalt Mix Design - Template (20260115 1305 BC).xlsm]","Stability'!","D",29,"Trial AC 5",null,null,null,"Specimen13 Meas. Stability","lb","N",{"$f":"INDIRECT(\"'\" & B861 & C861 & D861)","v":0},null,null,0,0,false,"CONDITIONAL",false]
["'[Asphalt Mix Design - Template (20260115 1305 BC).xlsm]","Stability'!","E",29,"Trial AC 5",null,null,null,"Specimen13 Correlation Ratio",null,null,{"$f":"INDIRECT(\"'\" & B862 & C862 & D862)","v":"---"},null,null,"---","---",false,"CONDITIONAL",false]
["'[Asphalt Mix Design - Template (20260115 1305 BC).xlsm]","Stability'!","F",29,"Trial AC 5",null,null,null,"Specimen13 Corr. Stability","lb","N",{"$f":"INDIRECT(\"'\" & B863 & C863 & D863)","v":"---"},null,null,"---","---",false,"CONDITIONAL",false]
["'[Asphalt Mix Design - Template (20260115 1305 BC).xlsm]","Stability'!","G",29,"Trial AC 5",null,null,null,"Specimen13 Flow","0.1 in.","0.25 mm",{"$f":"INDIRECT(\"'\" & B864 & C864 & D864)","v":0},null,null,0,0,false,"CONDITIONAL",false]
["'[Asphalt Mix Design - Template (20260115 1305 BC).xlsm]","Stability'!","AQ",29,"Trial AC 5",null,null,null,"Specimen13 Flow Method",null,null,{"$f":"INDIRECT(\"'\" & B865 & C865 & D865)","v":"---"},null,null,"---","---",false,"CONDITIONAL",false]
["'[Asphalt Mix Design - Template (20260115 1305 BC).xlsm]","Stability'!","C",30,"Trial AC 5",null,null,null,"Specimen14 Ht","mm","mm",{"$f":"INDIRECT(\"'\" & B866 & C866 & D866)","v":"---"},null,null,"---","---",false,"CONDITIONAL",false]
["'[Asphalt Mix Design - Template (20260115 1305 BC).xlsm]","Stability'!","D",30,"Trial AC 5",null,null,null,"Specimen14 Meas. Stability","lb","N",{"$f":"INDIRECT(\"'\" & B867 & C867 & D867)","v":0},null,null,0,0,false,"CONDITIONAL",false]
["'[Asphalt Mix Design - Template (20260115 1305 BC).xlsm]","Stability'!","E",30,"Trial AC 5",null,null,null,"Specimen14 Correlation Ratio",null,null,{"$f":"INDIRECT(\"'\" & B868 & C868 & D868)","v":"---"},null,null,"---","---",false,"CONDITIONAL",false]
["'[Asphalt Mix Design - Template (20260115 1305 BC).xlsm]","Stability'!","F",30,"Trial AC 5",null,null,null,"Specimen14 Corr. Stability","lb","N",{"$f":"INDIRECT(\"'\" & B869 & C869 & D869)","v":"---"},null,null,"---","---",false,"CONDITIONAL",false]
["'[Asphalt Mix Design - Template (20260115 1305 BC).xlsm]","Stability'!","G",30,"Trial AC 5",null,null,null,"Specimen14 Flow","0.1 in.","0.25 mm",{"$f":"INDIRECT(\"'\" & B870 & C870 & D870)","v":0},null,null,0,0,false,"CONDITIONAL",false]
["'[Asphalt Mix Design - Template (20260115 1305 BC).xlsm]","Stability'!","AQ",30,"Trial AC 5",null,null,null,"Specimen14 Flow Method",null,null,{"$f":"INDIRECT(\"'\" & B871 & C871 & D871)","v":"---"},null,null,"---","---",false,"CONDITIONAL",false]
["'[Asphalt Mix Design - Template (20260115 1305 BC).xlsm]","Stability'!","C",31,"Trial AC 5",null,null,null,"Specimen15 Ht","mm","mm",{"$f":"INDIRECT(\"'\" & B872 & C872 & D872)","v":"---"},null,null,"---","---",false,"CONDITIONAL",false]
["'[Asphalt Mix Design - Template (20260115 1305 BC).xlsm]","Stability'!","D",31,"Trial AC 5",null,null,null,"Specimen15 Meas. Stability","lb","N",{"$f":"INDIRECT(\"'\" & B873 & C873 & D873)","v":0},null,null,0,0,false,"CONDITIONAL",false]
["'[Asphalt Mix Design - Template (20260115 1305 BC).xlsm]","Stability'!","E",31,"Trial AC 5",null,null,null,"Specimen15 Correlation Ratio",null,null,{"$f":"INDIRECT(\"'\" & B874 & C874 & D874)","v":"---"},null,null,"---","---",false,"CONDITIONAL",false]
["'[Asphalt Mix Design - Template (20260115 1305 BC).xlsm]","Stability'!","F",31,"Trial AC 5",null,null,null,"Specimen15 Corr. Stability","lb","N",{"$f":"INDIRECT(\"'\" & B875 & C875 & D875)","v":"---"},null,null,"---","---",false,"CONDITIONAL",false]
["'[Asphalt Mix Design - Template (20260115 1305 BC).xlsm]","Stability'!","G",31,"Trial AC 5",null,null,null,"Specimen15 Flow","0.1 in.","0.25 mm",{"$f":"INDIRECT(\"'\" & B876 & C876 & D876)","v":0},null,null,0,0,false,"CONDITIONAL",false]
["'[Asphalt Mix Design - Template (20260115 1305 BC).xlsm]","Stability'!","AQ",31,"Trial AC 5",null,null,null,"Specimen15 Flow Method",null,null,{"$f":"INDIRECT(\"'\" & B877 & C877 & D877)","v":"---"},null,null,"---","---",false,"CONDITIONAL",false]
["'[Asphalt Mix Design - Template (20260115 1305 BC).xlsm]","Stability'!","C",32,"Trial AC 5",null,null,null,"Avg Ht","mm","mm",{"$f":"INDIRECT(\"'\" & B878 & C878 & D878)","v":"---"},null,null,"---","---",false,"CONDITIONAL",false]
["'[Asphalt Mix Design - Template (20260115 1305 BC).xlsm]","Stability'!","D",32,"Trial AC 5",null,null,null,"Avg Meas. Stability","lb","N",{"$f":"INDIRECT(\"'\" & B879 & C879 & D879)","v":"---"},null,null,"---","---",false,"CONDITIONAL",false]
["'[Asphalt Mix Design - Template (20260115 1305 BC).xlsm]","Stability'!","E",32,"Trial AC 5",null,null,null,"Avg Correlation Ratio",null,null,{"$f":"INDIRECT(\"'\" & B880 & C880 & D880)","v":"---"},null,null,"---","---",false,"CONDITIONAL",false]
["'[Asphalt Mix Design - Template (20260115 1305 BC).xlsm]","Stability'!","F",32,"Trial AC 5",null,null,null,"Avg Corr. Stability","lb","N",{"$f":"INDIRECT(\"'\" & B881 & C881 & D881)","v":"---"},null,null,"---","---",false,"CONDITIONAL",false]
["'[Asphalt Mix Design - Template (20260115 1305 BC).xlsm]","Stability'!","G",32,"Trial AC 5",null,null,null,"Avg Flow","0.1 in.","0.25 mm",{"$f":"INDIRECT(\"'\" & B882 & C882 & D882)","v":"---"},null,null,"---","---",false,"CONDITIONAL",false]
["'[Asphalt Mix Design - Template (20260115 1305 BC).xlsm]","Stability'!","A",37,"SPV",null,null,null,"Pb, %","%","%",{"$f":"INDIRECT(\"'\" & B883 & C883 & D883)","v":"---"},null,null,"---","---",false,"CONDITIONAL",false]
["'[Asphalt Mix Design - Template (20260115 1305 BC).xlsm]","Stability'!","C",37,"SPV",null,null,null,"Specimen16 Ht","mm","mm",{"$f":"INDIRECT(\"'\" & B884 & C884 & D884)","v":"---"},null,null,"---","---",false,"CONDITIONAL",false]
["'[Asphalt Mix Design - Template (20260115 1305 BC).xlsm]","Stability'!","D",37,"SPV",null,null,null,"Specimen16 Meas. Stability","lb","N",{"$f":"INDIRECT(\"'\" & B885 & C885 & D885)","v":0},null,null,0,0,false,"CONDITIONAL",false]
["'[Asphalt Mix Design - Template (20260115 1305 BC).xlsm]","Stability'!","E",37,"SPV",null,null,null,"Specimen16 Correlation Ratio",null,null,{"$f":"INDIRECT(\"'\" & B886 & C886 & D886)","v":"---"},null,null,"---","---",false,"CONDITIONAL",false]
["'[Asphalt Mix Design - Template (20260115 1305 BC).xlsm]","Stability'!","F",37,"SPV",null,null,null,"Specimen16 Corr. Stability","lb","N",{"$f":"INDIRECT(\"'\" & B887 & C887 & D887)","v":"---"},null,null,"---","---",false,"CONDITIONAL",false]
["'[Asphalt Mix Design - Template (20260115 1305 BC).xlsm]","Stability'!","G",37,"SPV",null,null,null,"Specimen16 Flow","0.1 in.","0.25 mm",{"$f":"INDIRECT(\"'\" & B888 & C888 & D888)","v":0},null,null,0,0,false,"CONDITIONAL",false]
["'[Asphalt Mix Design - Template (20260115 1305 BC).xlsm]","Stability'!","AQ",37,"SPV",null,null,null,"Specimen16 Flow Method",null,null,{"$f":"INDIRECT(\"'\" & B889 & C889 & D889)","v":0},null,null,0,0,false,"CONDITIONAL",false]
["'[Asphalt Mix Design - Template (20260115 1305 BC).xlsm]","Stability'!","C",38,"SPV",null,null,null,"Specimen17 Ht","mm","mm",{"$f":"INDIRECT(\"'\" & B890 & C890 & D890)","v":"---"},null,null,"---","---",false,"CONDITIONAL",false]
["'[Asphalt Mix Design - Template (20260115 1305 BC).xlsm]","Stability'!","D",38,"SPV",null,null,null,"Specimen17 Meas. Stability","lb","N",{"$f":"INDIRECT(\"'\" & B891 & C891 & D891)","v":0},null,null,0,0,false,"CONDITIONAL",false]
["'[Asphalt Mix Design - Template (20260115 1305 BC).xlsm]","Stability'!","E",38,"SPV",null,null,null,"Specimen17 Correlation Ratio",null,null,{"$f":"INDIRECT(\"'\" & B892 & C892 & D892)","v":"---"},null,null,"---","---",false,"CONDITIONAL",false]
["'[Asphalt Mix Design - Template (20260115 1305 BC).xlsm]","Stability'!","F",38,"SPV",null,null,null,"Specimen17 Corr. Stability","lb","N",{"$f":"INDIRECT(\"'\" & B893 & C893 & D893)","v":"---"},null,null,"---","---",false,"CONDITIONAL",false]
["'[Asphalt Mix Design - Template (20260115 1305 BC).xlsm]","Stability'!","G",38,"SPV",null,null,null,"Specimen17 Flow","0.1 in.","0.25 mm",{"$f":"INDIRECT(\"'\" & B894 & C894 & D894)","v":0},null,null,0,0,false,"CONDITIONAL",false]
["'[Asphalt Mix Design - Template (20260115 1305 BC).xlsm]","Stability'!","AQ",38,"SPV",null,null,null,"Specimen17 Flow Method",null,null,{"$f":"INDIRECT(\"'\" & B895 & C895 & D895)","v":0},null,null,0,0,false,"CONDITIONAL",false]
["'[Asphalt Mix Design - Template (20260115 1305 BC).xlsm]","Stability'!","C",39,"SPV",null,null,null,"Specimen18 Ht","mm","mm",{"$f":"INDIRECT(\"'\" & B896 & C896 & D896)","v":"---"},null,null,"---","---",false,"CONDITIONAL",false]
["'[Asphalt Mix Design - Template (20260115 1305 BC).xlsm]","Stability'!","D",39,"SPV",null,null,null,"Specimen18 Meas. Stability","lb","N",{"$f":"INDIRECT(\"'\" & B897 & C897 & D897)","v":0},null,null,0,0,false,"CONDITIONAL",false]
["'[Asphalt Mix Design - Template (20260115 1305 BC).xlsm]","Stability'!","E",39,"SPV",null,null,null,"Specimen18 Correlation Ratio",null,null,{"$f":"INDIRECT(\"'\" & B898 & C898 & D898)","v":"---"},null,null,{"$f":"IF(ISBLANK(N898),L898,N898)","v":"---"},{"$f":"IF(ISBLANK(N898),IF(OR(ISBLANK(M898),ISERROR(M898)),L898,M898),N898)","v":"---"},false,"CONDITIONAL",false]
["'[Asphalt Mix Design - Template (20260115 1305 BC).xlsm]","Stability'!","F",39,"SPV",null,null,null,"Specimen18 Corr. Stability","lb","N",{"$f":"INDIRECT(\"'\" & B899 & C899 & D899)","v":"---"},null,null,"---","---",false,"CONDITIONAL",false]
["'[Asphalt Mix Design - Template (20260115 1305 BC).xlsm]","Stability'!","G",39,"SPV",null,null,null,"Specimen18 Flow","0.1 in.","0.25 mm",{"$f":"INDIRECT(\"'\" & B900 & C900 & D900)","v":0},null,null,0,0,false,"CONDITIONAL",false]
["'[Asphalt Mix Design - Template (20260115 1305 BC).xlsm]","Stability'!","AQ",39,"SPV",null,null,null,"Specimen18 Flow Method",null,null,{"$f":"INDIRECT(\"'\" & B901 & C901 & D901)","v":0},null,null,0,0,false,"CONDITIONAL",false]
["'[Asphalt Mix Design - Template (20260115 1305 BC).xlsm]","Stability'!","C",40,"SPV",null,null,null,"Avg Ht","mm","mm",{"$f":"INDIRECT(\"'\" & B902 & C902 & D902)","v":"---"},null,null,"---","---",false,"CONDITIONAL",false]
["'[Asphalt Mix Design - Template (20260115 1305 BC).xlsm]","Stability'!","D",40,"SPV",null,null,null,"Avg Meas. Stability","lb","N",{"$f":"INDIRECT(\"'\" & B903 & C903 & D903)","v":"---"},null,null,"---","---",false,"CONDITIONAL",false]
["'[Asphalt Mix Design - Template (20260115 1305 BC).xlsm]","Stability'!","E",40,"SPV",null,null,null,"Avg Correlation Ratio",null,null,{"$f":"INDIRECT(\"'\" & B904 & C904 & D904)","v":"---"},null,null,"---","---",false,"CONDITIONAL",false]
["'[Asphalt Mix Design - Template (20260115 1305 BC).xlsm]","Stability'!","F",40,"SPV",null,null,null,"Avg Corr. Stability","lb","N",{"$f":"INDIRECT(\"'\" & B905 & C905 & D905)","v":"---"},null,null,"---","---",false,"CONDITIONAL",false]
["'[Asphalt Mix Design - Template (20260115 1305 BC).xlsm]","Stability'!","G",40,"SPV",null,null,null,"Avg Flow","0.1 in.","0.25 mm",{"$f":"INDIRECT(\"'\" & B906 & C906 & D906)","v":"---"},null,null,"---","---",false,"CONDITIONAL",false]
["'[Asphalt Mix Design - Template (20260115 1305 BC).xlsm]","Stability'!","A",44,"Overall",null,null,null,"Comments",null,null,{"$f":"INDIRECT(\"'\" & B907 & C907 & D907)","v":0},null,null,0,0,false,false,false]
["'[Asphalt Mix Design - Template (20260115 1305 BC).xlsm]","TSR'!","B",9,"Overall",null,null,null,"Date Tested",null,null,{"$f":"INDIRECT(\"'\" & B908 & C908 & D908)","v":"00:00:00"},null,null,"00:00:00","00:00:00",false,true,false]
["'[Asphalt Mix Design - Template (20260115 1305 BC).xlsm]","TSR'!","AG",6,"Overall",null,null,null,"Freeze-Thaw Conditioning",null,null,{"$f":"INDIRECT(\"'\" & B909 & C909 & D909)","v":false},null,null,false,false,false,true,false]
["'[Asphalt Mix Design - Template (20260115 1305 BC).xlsm]","TSR'!","C",12,"Unconditioned Rep 1",null,null,null,"Specimen ID",null,null,{"$f":"INDIRECT(\"'\" & B910 & C910 & D910)","v":1},null,null,1,1,false,false,false]
["'[Asphalt Mix Design - Template (20260115 1305 BC).xlsm]","TSR'!","C",13,"Unconditioned Rep 1",null,null,null,"(D) Diameter, mm","mm","mm",{"$f":"INDIRECT(\"'\" & B911 & C911 & D911)","v":0},null,null,0,0,false,false,false]
["'[Asphalt Mix Design - Template (20260115 1305 BC).xlsm]","TSR'!","C",14,"Unconditioned Rep 1",null,null,null,"(t) Thickness, mm  ","mm","mm",{"$f":"INDIRECT(\"'\" & B912 & C912 & D912)","v":0},null,null,0,0,false,false,false]
["'[Asphalt Mix Design - Template (20260115 1305 BC).xlsm]","TSR'!","C",15,"Unconditioned Rep 1",null,null,null,"(A) Dry mass in air, g ","g","g",{"$f":"INDIRECT(\"'\" & B913 & C913 & D913)","v":0},null,null,0,0,false,false,false]
["'[Asphalt Mix Design - Template (20260115 1305 BC).xlsm]","TSR'!","C",16,"Unconditioned Rep 1",null,null,null,"(B) SSD mass, g","g","g",{"$f":"INDIRECT(\"'\" & B914 & C914 & D914)","v":0},null,null,0,0,false,false,false]
["'[Asphalt Mix Design - Template (20260115 1305 BC).xlsm]","TSR'!","C",17,"Unconditioned Rep 1",null,null,null,"(C) Mass in water, g","g","g",{"$f":"INDIRECT(\"'\" & B915 & C915 & D915)","v":0},null,null,0,0,false,false,false]
["'[Asphalt Mix Design - Template (20260115 1305 BC).xlsm]","TSR'!","C",18,"Unconditioned Rep 1",null,null,null,"(E) Volume, cm3","cm3","cm3",{"$f":"INDIRECT(\"'\" & B916 & C916 & D916)","v":"---"},null,null,"---","---",false,false,false]
["'[Asphalt Mix Design - Template (20260115 1305 BC).xlsm]","TSR'!","C",19,"Unconditioned Rep 1",null,null,null,"(F) Bulk Specific Gravity, Gmb","g/cm3","g/cm3",{"$f":"INDIRECT(\"'\" & B917 & C917 & D917)","v":"---"},null,null,"---","---",false,false,false]
["'[Asphalt Mix Design - Template (20260115 1305 BC).xlsm]","TSR'!","C",20,"Unconditioned Rep 1",null,null,null,"(G) Maximum Specific Gravity, Gmm","g/cm3","g/cm3",{"$f":"INDIRECT(\"'\" & B918 & C918 & D918)","v":"---"},null,null,"---","---",false,false,false]
["'[Asphalt Mix Design - Template (20260115 1305 BC).xlsm]","TSR'!","C",21,"Unconditioned Rep 1",null,null,null,"(H) Air Voids, %","%","%",{"$f":"INDIRECT(\"'\" & B919 & C919 & D919)","v":"---"},null,null,"---","---",false,true,false]
["'[Asphalt Mix Design - Template (20260115 1305 BC).xlsm]","TSR'!","C",43,"Unconditioned Rep 1",null,null,null,"(P) Load, lbf","lb","N",{"$f":"INDIRECT(\"'\" & B920 & C920 & D920)","v":0},null,null,0,0,false,true,false]
["'[Asphalt Mix Design - Template (20260115 1305 BC).xlsm]","TSR'!","C",44,"Unconditioned Rep 1",null,null,null,"Dry strength, Std, psi","psi","kPa",{"$f":"INDIRECT(\"'\" & B921 & C921 & D921)","v":{"$error":"#DIV/0!"}},null,null,{"$error":"#DIV/0!"},{"$error":"#DIV/0!"},false,true,false]
["'[Asphalt Mix Design - Template (20260115 1305 BC).xlsm]","TSR'!","D",12,"Unconditioned Rep 2",null,null,null,"Specimen ID",null,null,{"$f":"INDIRECT(\"'\" & B922 & C922 & D922)","v":2},null,null,2,2,false,false,false]
["'[Asphalt Mix Design - Template (20260115 1305 BC).xlsm]","TSR'!","D",13,"Unconditioned Rep 2",null,null,null,"(D) Diameter, mm","mm","mm",{"$f":"INDIRECT(\"'\" & B923 & C923 & D923)","v":0},null,null,0,0,false,false,false]
["'[Asphalt Mix Design - Template (20260115 1305 BC).xlsm]","TSR'!","D",14,"Unconditioned Rep 2",null,null,null,"(t) Thickness, mm  ","mm","mm",{"$f":"INDIRECT(\"'\" & B924 & C924 & D924)","v":0},null,null,0,0,false,false,false]
["'[Asphalt Mix Design - Template (20260115 1305 BC).xlsm]","TSR'!","D",15,"Unconditioned Rep 2",null,null,null,"(A) Dry mass in air, g ","g","g",{"$f":"INDIRECT(\"'\" & B925 & C925 & D925)","v":0},null,null,0,0,false,false,false]
["'[Asphalt Mix Design - Template (20260115 1305 BC).xlsm]","TSR'!","D",16,"Unconditioned Rep 2",null,null,null,"(B) SSD mass, g","g","g",{"$f":"INDIRECT(\"'\" & B926 & C926 & D926)","v":0},null,null,0,0,false,false,false]
["'[Asphalt Mix Design - Template (20260115 1305 BC).xlsm]","TSR'!","D",17,"Unconditioned Rep 2",null,null,null,"(C) Mass in water, g","g","g",{"$f":"INDIRECT(\"'\" & B927 & C927 & D927)","v":0},null,null,0,0,false,false,false]
["'[Asphalt Mix Design - Template (20260115 1305 BC).xlsm]","TSR'!","D",18,"Unconditioned Rep 2",null,null,null,"(E) Volume, cm3","cm3","cm3",{"$f":"INDIRECT(\"'\" & B928 & C928 & D928)","v":"---"},null,null,"---","---",false,false,false]
["'[Asphalt Mix Design - Template (20260115 1305 BC).xlsm]","TSR'!","D",19,"Unconditioned Rep 2",null,null,null,"(F) Bulk Specific Gravity, Gmb","g/cm3","g/cm3",{"$f":"INDIRECT(\"'\" & B929 & C929 & D929)","v":"---"},null,null,"---","---",false,false,false]
["'[Asphalt Mix Design - Template (20260115 1305 BC).xlsm]","TSR'!","D",20,"Unconditioned Rep 2",null,null,null,"(G) Maximum Specific Gravity, Gmm","g/cm3","g/cm3",{"$f":"INDIRECT(\"'\" & B930 & C930 & D930)","v":"---"},null,null,"---","---",false,false,false]
["'[Asphalt Mix Design - Template (20260115 1305 BC).xlsm]","TSR'!","D",21,"Unconditioned Rep 2",null,null,null,"(H) Air Voids, %","%","%",{"$f":"INDIRECT(\"'\" & B931 & C931 & D931)","v":"---"},null,null,"---","---",false,true,false]
["'[Asphalt Mix Design - Template (20260115 1305 BC).xlsm]","TSR'!","D",43,"Unconditioned Rep 2",null,null,null,"(P) Load, lbf","lb","N",{"$f":"INDIRECT(\"'\" & B932 & C932 & D932)","v":0},null,null,0,0,false,true,false]
["'[Asphalt Mix Design - Template (20260115 1305 BC).xlsm]","TSR'!","D",44,"Unconditioned Rep 2",null,null,null,"Dry strength, Std, psi","psi","kPa",{"$f":"INDIRECT(\"'\" & B933 & C933 & D933)","v":{"$error":"#DIV/0!"}},null,null,{"$error":"#DIV/0!"},{"$error":"#DIV/0!"},false,true,false]
["'[Asphalt Mix Design - Template (20260115 1305 BC).xlsm]","TSR'!","E",12,"Unconditioned Rep 3",null,null,null,"Specimen ID",null,null,{"$f":"INDIRECT(\"'\" & B934 & C934 & D934)","v":3},null,null,3,3,false,false,false]
["'[Asphalt Mix Design - Template (20260115 1305 BC).xlsm]","TSR'!","E",13,"Unconditioned Rep 3",null,null,null,"(D) Diameter, mm","mm","mm",{"$f":"INDIRECT(\"'\" & B935 & C935 & D935)","v":0},null,null,0,0,false,false,false]
["'[Asphalt Mix Design - Template (20260115 1305 BC).xlsm]","TSR'!","E",14,"Unconditioned Rep 3",null,null,null,"(t) Thickness, mm  ","mm","mm",{"$f":"INDIRECT(\"'\" & B936 & C936 & D936)","v":0},null,null,0,0,false,false,false]
["'[Asphalt Mix Design - Template (20260115 1305 BC).xlsm]","TSR'!","E",15,"Unconditioned Rep 3",null,null,null,"(A) Dry mass in air, g ","g","g",{"$f":"INDIRECT(\"'\" & B937 & C937 & D937)","v":0},null,null,0,0,false,false,false]
["'[Asphalt Mix Design - Template (20260115 1305 BC).xlsm]","TSR'!","E",16,"Unconditioned Rep 3",null,null,null,"(B) SSD mass, g","g","g",{"$f":"INDIRECT(\"'\" & B938 & C938 & D938)","v":0},null,null,0,0,false,false,false]
["'[Asphalt Mix Design - Template (20260115 1305 BC).xlsm]","TSR'!","E",17,"Unconditioned Rep 3",null,null,null,"(C) Mass in water, g","g","g",{"$f":"INDIRECT(\"'\" & B939 & C939 & D939)","v":0},null,null,0,0,false,false,false]
["'[Asphalt Mix Design - Template (20260115 1305 BC).xlsm]","TSR'!","E",18,"Unconditioned Rep 3",null,null,null,"(E) Volume, cm3","cm3","cm3",{"$f":"INDIRECT(\"'\" & B940 & C940 & D940)","v":"---"},null,null,"---","---",false,false,false]
["'[Asphalt Mix Design - Template (20260115 1305 BC).xlsm]","TSR'!","E",19,"Unconditioned Rep 3",null,null,null,"(F) Bulk Specific Gravity, Gmb","g/cm3","g/cm3",{"$f":"INDIRECT(\"'\" & B941 & C941 & D941)","v":"---"},null,null,"---","---",false,false,false]
["'[Asphalt Mix Design - Template (20260115 1305 BC).xlsm]","TSR'!","E",20,"Unconditioned Rep 3",null,null,null,"(G) Maximum Specific Gravity, Gmm","g/cm3","g/cm3",{"$f":"INDIRECT(\"'\" & B942 & C942 & D942)","v":"---"},null,null,"---","---",false,false,false]
["'[Asphalt Mix Design - Template (20260115 1305 BC).xlsm]","TSR'!","E",21,"Unconditioned Rep 3",null,null,null,"(H) Air Voids, %","%","%",{"$f":"INDIRECT(\"'\" & B943 & C943 & D943)","v":"---"},null,null,"---","---",false,true,false]
["'[Asphalt Mix Design - Template (20260115 1305 BC).xlsm]","TSR'!","E",43,"Unconditioned Rep 3",null,null,null,"(P) Load, lbf","lb","N",{"$f":"INDIRECT(\"'\" & B944 & C944 & D944)","v":0},null,null,0,0,false,true,false]
["'[Asphalt Mix Design - Template (20260115 1305 BC).xlsm]","TSR'!","E",44,"Unconditioned Rep 3",null,null,null,"Dry strength, Std, psi","psi","kPa",{"$f":"INDIRECT(\"'\" & B945 & C945 & D945)","v":{"$error":"#DIV/0!"}},null,null,{"$error":"#DIV/0!"},{"$error":"#DIV/0!"},false,true,false]
["'[Asphalt Mix Design - Template (20260115 1305 BC).xlsm]","TSR'!","F",21,"Unconditioned Avg",null,null,null,"(H) Air Voids, %","%","%",{"$f":"INDIRECT(\"'\" & B946 & C946 & D946)","v":"---"},null,null,"---","---",false,true,false]
["'[Asphalt Mix Design - Template (20260115 1305 BC).xlsm]","TSR'!","F",44,"Unconditioned Avg",null,null,null,"Dry strength, Std, psi","psi","kPa",{"$f":"INDIRECT(\"'\" & B947 & C947 & D947)","v":"---"},null,null,"---","---",false,true,false]
["'[Asphalt Mix Design - Template (20260115 1305 BC).xlsm]","TSR'!","G",12,"Conditioned Rep 1",null,null,null,"Specimen ID",null,null,{"$f":"INDIRECT(\"'\" & B948 & C948 & D948)","v":4},null,null,4,4,false,false,false]
["'[Asphalt Mix Design - Template (20260115 1305 BC).xlsm]","TSR'!","G",13,"Conditioned Rep 1",null,null,null,"(D) Diameter, mm","mm","mm",{"$f":"INDIRECT(\"'\" & B949 & C949 & D949)","v":0},null,null,0,0,false,false,false]
["'[Asphalt Mix Design - Template (20260115 1305 BC).xlsm]","TSR'!","G",14,"Conditioned Rep 1",null,null,null,"(t) Thickness, mm  ","mm","mm",{"$f":"INDIRECT(\"'\" & B950 & C950 & D950)","v":0},null,null,0,0,false,false,false]
["'[Asphalt Mix Design - Template (20260115 1305 BC).xlsm]","TSR'!","G",15,"Conditioned Rep 1",null,null,null,"(A) Dry mass in air, g ","g","g",{"$f":"INDIRECT(\"'\" & B951 & C951 & D951)","v":0},null,null,0,0,false,false,false]
["'[Asphalt Mix Design - Template (20260115 1305 BC).xlsm]","TSR'!","G",16,"Conditioned Rep 1",null,null,null,"(B) SSD mass, g","g","g",{"$f":"INDIRECT(\"'\" & B952 & C952 & D952)","v":0},null,null,0,0,false,false,false]
["'[Asphalt Mix Design - Template (20260115 1305 BC).xlsm]","TSR'!","G",17,"Conditioned Rep 1",null,null,null,"(C) Mass in water, g","g","g",{"$f":"INDIRECT(\"'\" & B953 & C953 & D953)","v":0},null,null,0,0,false,false,false]
["'[Asphalt Mix Design - Template (20260115 1305 BC).xlsm]","TSR'!","G",18,"Conditioned Rep 1",null,null,null,"(E) Volume, cm3","cm3","cm3",{"$f":"INDIRECT(\"'\" & B954 & C954 & D954)","v":"---"},null,null,"---","---",false,false,false]
["'[Asphalt Mix Design - Template (20260115 1305 BC).xlsm]","TSR'!","G",19,"Conditioned Rep 1",null,null,null,"(F) Bulk Specific Gravity, Gmb","g/cm3","g/cm3",{"$f":"INDIRECT(\"'\" & B955 & C955 & D955)","v":"---"},null,null,"---","---",false,false,false]
["'[Asphalt Mix Design - Template (20260115 1305 BC).xlsm]","TSR'!","G",20,"Conditioned Rep 1",null,null,null,"(G) Maximum Specific Gravity, Gmm","g/cm3","g/cm3",{"$f":"INDIRECT(\"'\" & B956 & C956 & D956)","v":"---"},null,null,"---","---",false,false,false]
["'[Asphalt Mix Design - Template (20260115 1305 BC).xlsm]","TSR'!","G",21,"Conditioned Rep 1",null,null,null,"(H) Air Voids, %","%","%",{"$f":"INDIRECT(\"'\" & B957 & C957 & D957)","v":"---"},null,null,"---","---",false,true,false]
["'[Asphalt Mix Design - Template (20260115 1305 BC).xlsm]","TSR'!","G",22,"Conditioned Rep 1",null,null,null,"(I) Volume of air voids, cm3","cm3","cm3",{"$f":"INDIRECT(\"'\" & B958 & C958 & D958)","v":"---"},null,null,"---","---",false,false,false]
["'[Asphalt Mix Design - Template (20260115 1305 BC).xlsm]","TSR'!","G",24,"Conditioned Rep 1",null,null,null,"Saturation Time, min","min","min",{"$f":"INDIRECT(\"'\" & B959 & C959 & D959)","v":0},null,null,0,0,false,true,false]
["'[Asphalt Mix Design - Template (20260115 1305 BC).xlsm]","TSR'!","G",25,"Conditioned Rep 1",null,null,null,"Absolute Vacuum, mm Hg","mm Hg","mm Hg",{"$f":"INDIRECT(\"'\" & B960 & C960 & D960)","v":0},null,null,0,0,false,true,false]
["'[Asphalt Mix Design - Template (20260115 1305 BC).xlsm]","TSR'!","G",26,"Conditioned Rep 1",null,null,null,"SSD mass at 70% saturation, g","g","g",{"$f":"INDIRECT(\"'\" & B961 & C961 & D961)","v":"---"},null,null,"---","---",false,false,false]
["'[Asphalt Mix Design - Template (20260115 1305 BC).xlsm]","TSR'!","G",27,"Conditioned Rep 1",null,null,null,"SSD mass at 80% saturation, g","g","g",{"$f":"INDIRECT(\"'\" & B962 & C962 & D962)","v":"---"},null,null,{"$f":"IF(ISBLANK(N962),L962,N962)","v":"---"},{"$f":"IF(ISBLANK(N962),IF(OR(ISBLANK(M962),ISERROR(M962)),L962,M962),N962)","v":"---"},false,false,false]
["'[Asphalt Mix Design - Template (20260115 1305 BC).xlsm]","TSR'!","G",28,"Conditioned Rep 1",null,null,null,"(B') SSD mass, g","g","g",{"$f":"INDIRECT(\"'\" & B963 & C963 & D963)","v":0},null,null,0,0,false,false,false]
["'[Asphalt Mix Design - Template (20260115 1305 BC).xlsm]","TSR'!","G",29,"Conditioned Rep 1",null,null,null,"(C') Mass in water, g","g","g",{"$f":"INDIRECT(\"'\" & B964 & C964 & D964)","v":0},null,null,0,0,false,false,false]
["'[Asphalt Mix Design - Template (20260115 1305 BC).xlsm]","TSR'!","G",30,"Conditioned Rep 1",null,null,null,"(E') Volume, cm3","cm3","cm3",{"$f":"INDIRECT(\"'\" & B965 & C965 & D965)","v":"---"},null,null,"---","---",false,false,false]
["'[Asphalt Mix Design - Template (20260115 1305 BC).xlsm]","TSR'!","G",31,"Conditioned Rep 1",null,null,null,"(J') Vol abs. water, cm3","cm3","cm3",{"$f":"INDIRECT(\"'\" & B966 & C966 & D966)","v":"---"},null,null,"---","---",false,false,false]
["'[Asphalt Mix Design - Template (20260115 1305 BC).xlsm]","TSR'!","G",32,"Conditioned Rep 1",null,null,null,"Pre-Conditioning Saturation, %","%","%",{"$f":"INDIRECT(\"'\" & B967 & C967 & D967)","v":"---"},null,null,"---","---",false,true,false]
["'[Asphalt Mix Design - Template (20260115 1305 BC).xlsm]","TSR'!","G",33,"Conditioned Rep 1",null,null,null,"Swell, %","%","%",{"$f":"INDIRECT(\"'\" & B968 & C968 & D968)","v":"---"},null,null,"---","---",false,true,false]
["'[Asphalt Mix Design - Template (20260115 1305 BC).xlsm]","TSR'!","G",35,"Conditioned Rep 1",null,null,null,"(t'') Thickness, mm  ","mm","mm",{"$f":"INDIRECT(\"'\" & B969 & C969 & D969)","v":0},null,null,0,0,false,false,false]
["'[Asphalt Mix Design - Template (20260115 1305 BC).xlsm]","TSR'!","G",36,"Conditioned Rep 1",null,null,null,"(B'') SSD mass, g","g","g",{"$f":"INDIRECT(\"'\" & B970 & C970 & D970)","v":0},null,null,0,0,false,false,false]
["'[Asphalt Mix Design - Template (20260115 1305 BC).xlsm]","TSR'!","G",37,"Conditioned Rep 1",null,null,null,"(C'') Mass in water, g","g","g",{"$f":"INDIRECT(\"'\" & B971 & C971 & D971)","v":0},null,null,0,0,false,false,false]
["'[Asphalt Mix Design - Template (20260115 1305 BC).xlsm]","TSR'!","G",38,"Conditioned Rep 1",null,null,null,"(E'') Volume, cm3","cm3","cm3",{"$f":"INDIRECT(\"'\" & B972 & C972 & D972)","v":"---"},null,null,"---","---",false,false,false]
["'[Asphalt Mix Design - Template (20260115 1305 BC).xlsm]","TSR'!","G",39,"Conditioned Rep 1",null,null,null,"(J'') Vol abs. water, cm3","cm3","cm3",{"$f":"INDIRECT(\"'\" & B973 & C973 & D973)","v":"---"},null,null,"---","---",false,false,false]
["'[Asphalt Mix Design - Template (20260115 1305 BC).xlsm]","TSR'!","G",40,"Conditioned Rep 1",null,null,null,"Post-Conditioning Saturation, %","%","%",{"$f":"INDIRECT(\"'\" & B974 & C974 & D974)","v":"---"},null,null,"---","---",false,true,false]
["'[Asphalt Mix Design - Template (20260115 1305 BC).xlsm]","TSR'!","G",41,"Conditioned Rep 1",null,null,null,"Swell, %","%","%",{"$f":"INDIRECT(\"'\" & B975 & C975 & D975)","v":"---"},null,null,"---","---",false,true,false]
["'[Asphalt Mix Design - Template (20260115 1305 BC).xlsm]","TSR'!","G",43,"Conditioned Rep 1",null,null,null,"(P) Load, lbf","lb","N",{"$f":"INDIRECT(\"'\" & B976 & C976 & D976)","v":0},null,null,0,0,false,true,false]
["'[Asphalt Mix Design - Template (20260115 1305 BC).xlsm]","TSR'!","G",45,"Conditioned Rep 1",null,null,null,"Wet strength, psi","psi","kPa",{"$f":"INDIRECT(\"'\" & B977 & C977 & D977)","v":{"$error":"#DIV/0!"}},null,null,{"$error":"#DIV/0!"},{"$error":"#DIV/0!"},false,true,false]
["'[Asphalt Mix Design - Template (20260115 1305 BC).xlsm]","TSR'!","G",46,"Conditioned Rep 1",null,null,null,"Visual Moisture Damage (0 to 5 rating)",null,null,{"$f":"INDIRECT(\"'\" & B978 & C978 & D978)","v":0},null,null,0,0,false,true,false]
["'[Asphalt Mix Design - Template (20260115 1305 BC).xlsm]","TSR'!","G",47,"Conditioned Rep 1",null,null,null,"Broken Aggregate (0 to 5 rating)",null,null,{"$f":"INDIRECT(\"'\" & B979 & C979 & D979)","v":0},null,null,0,0,false,true,false]
["'[Asphalt Mix Design - Template (20260115 1305 BC).xlsm]","TSR'!","H",12,"Conditioned Rep 2",null,null,null,"Specimen ID",null,null,{"$f":"INDIRECT(\"'\" & B980 & C980 & D980)","v":5},null,null,5,5,false,false,false]
["'[Asphalt Mix Design - Template (20260115 1305 BC).xlsm]","TSR'!","H",13,"Conditioned Rep 2",null,null,null,"(D) Diameter, mm","mm","mm",{"$f":"INDIRECT(\"'\" & B981 & C981 & D981)","v":0},null,null,0,0,false,false,false]
["'[Asphalt Mix Design - Template (20260115 1305 BC).xlsm]","TSR'!","H",14,"Conditioned Rep 2",null,null,null,"(t) Thickness, mm  ","mm","mm",{"$f":"INDIRECT(\"'\" & B982 & C982 & D982)","v":0},null,null,0,0,false,false,false]
["'[Asphalt Mix Design - Template (20260115 1305 BC).xlsm]","TSR'!","H",15,"Conditioned Rep 2",null,null,null,"(A) Dry mass in air, g ","g","g",{"$f":"INDIRECT(\"'\" & B983 & C983 & D983)","v":0},null,null,0,0,false,false,false]
["'[Asphalt Mix Design - Template (20260115 1305 BC).xlsm]","TSR'!","H",16,"Conditioned Rep 2",null,null,null,"(B) SSD mass, g","g","g",{"$f":"INDIRECT(\"'\" & B984 & C984 & D984)","v":0},null,null,0,0,false,false,false]
["'[Asphalt Mix Design - Template (20260115 1305 BC).xlsm]","TSR'!","H",17,"Conditioned Rep 2",null,null,null,"(C) Mass in water, g","g","g",{"$f":"INDIRECT(\"'\" & B985 & C985 & D985)","v":0},null,null,0,0,false,false,false]
["'[Asphalt Mix Design - Template (20260115 1305 BC).xlsm]","TSR'!","H",18,"Conditioned Rep 2",null,null,null,"(E) Volume, cm3","cm3","cm3",{"$f":"INDIRECT(\"'\" & B986 & C986 & D986)","v":"---"},null,null,"---","---",false,false,false]
["'[Asphalt Mix Design - Template (20260115 1305 BC).xlsm]","TSR'!","H",19,"Conditioned Rep 2",null,null,null,"(F) Bulk Specific Gravity, Gmb","g/cm3","g/cm3",{"$f":"INDIRECT(\"'\" & B987 & C987 & D987)","v":"---"},null,null,"---","---",false,false,false]
["'[Asphalt Mix Design - Template (20260115 1305 BC).xlsm]","TSR'!","H",20,"Conditioned Rep 2",null,null,null,"(G) Maximum Specific Gravity, Gmm","g/cm3","g/cm3",{"$f":"INDIRECT(\"'\" & B988 & C988 & D988)","v":"---"},null,null,"---","---",false,false,false]
["'[Asphalt Mix Design - Template (20260115 1305 BC).xlsm]","TSR'!","H",21,"Conditioned Rep 2",null,null,null,"(H) Air Voids, %","%","%",{"$f":"INDIRECT(\"'\" & B989 & C989 & D989)","v":"---"},null,null,"---","---",false,true,false]
["'[Asphalt Mix Design - Template (20260115 1305 BC).xlsm]","TSR'!","H",22,"Conditioned Rep 2",null,null,null,"(I) Volume of air voids, cm3","cm3","cm3",{"$f":"INDIRECT(\"'\" & B990 & C990 & D990)","v":"---"},null,null,"---","---",false,false,false]
["'[Asphalt Mix Design - Template (20260115 1305 BC).xlsm]","TSR'!","H",24,"Conditioned Rep 2",null,null,null,"Saturation Time, min","min","min",{"$f":"INDIRECT(\"'\" & B991 & C991 & D991)","v":0},null,null,0,0,false,true,false]
["'[Asphalt Mix Design - Template (20260115 1305 BC).xlsm]","TSR'!","H",25,"Conditioned Rep 2",null,null,null,"Absolute Vacuum, mm Hg","mm Hg","mm Hg",{"$f":"INDIRECT(\"'\" & B992 & C992 & D992)","v":0},null,null,0,0,false,true,false]
["'[Asphalt Mix Design - Template (20260115 1305 BC).xlsm]","TSR'!","H",26,"Conditioned Rep 2",null,null,null,"SSD mass at 70% saturation, g","g","g",{"$f":"INDIRECT(\"'\" & B993 & C993 & D993)","v":"---"},null,null,"---","---",false,false,false]
["'[Asphalt Mix Design - Template (20260115 1305 BC).xlsm]","TSR'!","H",27,"Conditioned Rep 2",null,null,null,"SSD mass at 80% saturation, g","g","g",{"$f":"INDIRECT(\"'\" & B994 & C994 & D994)","v":"---"},null,null,"---","---",false,false,false]
["'[Asphalt Mix Design - Template (20260115 1305 BC).xlsm]","TSR'!","H",28,"Conditioned Rep 2",null,null,null,"(B') SSD mass, g","g","g",{"$f":"INDIRECT(\"'\" & B995 & C995 & D995)","v":0},null,null,0,0,false,false,false]
["'[Asphalt Mix Design - Template (20260115 1305 BC).xlsm]","TSR'!","H",29,"Conditioned Rep 2",null,null,null,"(C') Mass in water, g","g","g",{"$f":"INDIRECT(\"'\" & B996 & C996 & D996)","v":0},null,null,0,0,false,false,false]
["'[Asphalt Mix Design - Template (20260115 1305 BC).xlsm]","TSR'!","H",30,"Conditioned Rep 2",null,null,null,"(E') Volume, cm3","cm3","cm3",{"$f":"INDIRECT(\"'\" & B997 & C997 & D997)","v":"---"},null,null,"---","---",false,false,false]
["'[Asphalt Mix Design - Template (20260115 1305 BC).xlsm]","TSR'!","H",31,"Conditioned Rep 2",null,null,null,"(J') Vol abs. water, cm3","cm3","cm3",{"$f":"INDIRECT(\"'\" & B998 & C998 & D998)","v":"---"},null,null,"---","---",false,false,false]
["'[Asphalt Mix Design - Template (20260115 1305 BC).xlsm]","TSR'!","H",32,"Conditioned Rep 2",null,null,null,"Pre-Conditioning Saturation, %","%","%",{"$f":"INDIRECT(\"'\" & B999 & C999 & D999)","v":"---"},null,null,"---","---",false,true,false]
["'[Asphalt Mix Design - Template (20260115 1305 BC).xlsm]","TSR'!","H",33,"Conditioned Rep 2",null,null,null,"Swell, %","%","%",{"$f":"INDIRECT(\"'\" & B1000 & C1000 & D1000)","v":"---"},null,null,"---","---",false,true,false]
["'[Asphalt Mix Design - Template (20260115 1305 BC).xlsm]","TSR'!","H",35,"Conditioned Rep 2",null,null,null,"(t'') Thickness, mm  ","mm","mm",{"$f":"INDIRECT(\"'\" & B1001 & C1001 & D1001)","v":0},null,null,0,0,false,false,false]
["'[Asphalt Mix Design - Template (20260115 1305 BC).xlsm]","TSR'!","H",36,"Conditioned Rep 2",null,null,null,"(B'') SSD mass, g","g","g",{"$f":"INDIRECT(\"'\" & B1002 & C1002 & D1002)","v":0},null,null,0,0,false,false,false]
["'[Asphalt Mix Design - Template (20260115 1305 BC).xlsm]","TSR'!","H",37,"Conditioned Rep 2",null,null,null,"(C'') Mass in water, g","g","g",{"$f":"INDIRECT(\"'\" & B1003 & C1003 & D1003)","v":0},null,null,0,0,false,false,false]
["'[Asphalt Mix Design - Template (20260115 1305 BC).xlsm]","TSR'!","H",38,"Conditioned Rep 2",null,null,null,"(E'') Volume, cm3","cm3","cm3",{"$f":"INDIRECT(\"'\" & B1004 & C1004 & D1004)","v":"---"},null,null,"---","---",false,false,false]
["'[Asphalt Mix Design - Template (20260115 1305 BC).xlsm]","TSR'!","H",39,"Conditioned Rep 2",null,null,null,"(J'') Vol abs. water, cm3","cm3","cm3",{"$f":"INDIRECT(\"'\" & B1005 & C1005 & D1005)","v":"---"},null,null,"---","---",false,false,false]
["'[Asphalt Mix Design - Template (20260115 1305 BC).xlsm]","TSR'!","H",40,"Conditioned Rep 2",null,null,null,"Post-Conditioning Saturation, %","%","%",{"$f":"INDIRECT(\"'\" & B1006 & C1006 & D1006)","v":"---"},null,null,"---","---",false,true,false]
["'[Asphalt Mix Design - Template (20260115 1305 BC).xlsm]","TSR'!","H",41,"Conditioned Rep 2",null,null,null,"Swell, %","%","%",{"$f":"INDIRECT(\"'\" & B1007 & C1007 & D1007)","v":"---"},null,null,"---","---",false,true,false]
["'[Asphalt Mix Design - Template (20260115 1305 BC).xlsm]","TSR'!","H",43,"Conditioned Rep 2",null,null,null,"(P) Load, lbf","lb","N",{"$f":"INDIRECT(\"'\" & B1008 & C1008 & D1008)","v":0},null,null,0,0,false,true,false]
["'[Asphalt Mix Design - Template (20260115 1305 BC).xlsm]","TSR'!","H",45,"Conditioned Rep 2",null,null,null,"Wet strength, psi","psi","kPa",{"$f":"INDIRECT(\"'\" & B1009 & C1009 & D1009)","v":{"$error":"#DIV/0!"}},null,null,{"$error":"#DIV/0!"},{"$error":"#DIV/0!"},false,true,false]
["'[Asphalt Mix Design - Template (20260115 1305 BC).xlsm]","TSR'!","H",46,"Conditioned Rep 2",null,null,null,"Visual Moisture Damage (0 to 5 rating)",null,null,{"$f":"INDIRECT(\"'\" & B1010 & C1010 & D1010)","v":0},null,null,0,0,false,true,false]
["'[Asphalt Mix Design - Template (20260115 1305 BC).xlsm]","TSR'!","H",47,"Conditioned Rep 2",null,null,null,"Broken Aggregate (0 to 5 rating)",null,null,{"$f":"INDIRECT(\"'\" & B1011 & C1011 & D1011)","v":0},null,null,0,0,false,true,false]
["'[Asphalt Mix Design - Template (20260115 1305 BC).xlsm]","TSR'!","I",12,"Conditioned Rep 3",null,null,null,"Specimen ID",null,null,{"$f":"INDIRECT(\"'\" & B1012 & C1012 & D1012)","v":6},null,null,6,6,false,false,false]
["'[Asphalt Mix Design - Template (20260115 1305 BC).xlsm]","TSR'!","I",13,"Conditioned Rep 3",null,null,null,"(D) Diameter, mm","mm","mm",{"$f":"INDIRECT(\"'\" & B1013 & C1013 & D1013)","v":0},null,null,0,0,false,false,false]
["'[Asphalt Mix Design - Template (20260115 1305 BC).xlsm]","TSR'!","I",14,"Conditioned Rep 3",null,null,null,"(t) Thickness, mm  ","mm","mm",{"$f":"INDIRECT(\"'\" & B1014 & C1014 & D1014)","v":0},null,null,0,0,false,false,false]
["'[Asphalt Mix Design - Template (20260115 1305 BC).xlsm]","TSR'!","I",15,"Conditioned Rep 3",null,null,null,"(A) Dry mass in air, g ","g","g",{"$f":"INDIRECT(\"'\" & B1015 & C1015 & D1015)","v":0},null,null,0,0,false,false,false]
["'[Asphalt Mix Design - Template (20260115 1305 BC).xlsm]","TSR'!","I",16,"Conditioned Rep 3",null,null,null,"(B) SSD mass, g","g","g",{"$f":"INDIRECT(\"'\" & B1016 & C1016 & D1016)","v":0},null,null,0,0,false,false,false]
["'[Asphalt Mix Design - Template (20260115 1305 BC).xlsm]","TSR'!","I",17,"Conditioned Rep 3",null,null,null,"(C) Mass in water, g","g","g",{"$f":"INDIRECT(\"'\" & B1017 & C1017 & D1017)","v":0},null,null,0,0,false,false,false]
["'[Asphalt Mix Design - Template (20260115 1305 BC).xlsm]","TSR'!","I",18,"Conditioned Rep 3",null,null,null,"(E) Volume, cm3","cm3","cm3",{"$f":"INDIRECT(\"'\" & B1018 & C1018 & D1018)","v":"---"},null,null,"---","---",false,false,false]
["'[Asphalt Mix Design - Template (20260115 1305 BC).xlsm]","TSR'!","I",19,"Conditioned Rep 3",null,null,null,"(F) Bulk Specific Gravity, Gmb","g/cm3","g/cm3",{"$f":"INDIRECT(\"'\" & B1019 & C1019 & D1019)","v":"---"},null,null,"---","---",false,false,false]
["'[Asphalt Mix Design - Template (20260115 1305 BC).xlsm]","TSR'!","I",20,"Conditioned Rep 3",null,null,null,"(G) Maximum Specific Gravity, Gmm","g/cm3","g/cm3",{"$f":"INDIRECT(\"'\" & B1020 & C1020 & D1020)","v":"---"},null,null,"---","---",false,false,false]
["'[Asphalt Mix Design - Template (20260115 1305 BC).xlsm]","TSR'!","I",21,"Conditioned Rep 3",null,null,null,"(H) Air Voids, %","%","%",{"$f":"INDIRECT(\"'\" & B1021 & C1021 & D1021)","v":"---"},null,null,"---","---",false,true,false]
["'[Asphalt Mix Design - Template (20260115 1305 BC).xlsm]","TSR'!","I",22,"Conditioned Rep 3",null,null,null,"(I) Volume of air voids, cm3","cm3","cm3",{"$f":"INDIRECT(\"'\" & B1022 & C1022 & D1022)","v":"---"},null,null,"---","---",false,false,false]
["'[Asphalt Mix Design - Template (20260115 1305 BC).xlsm]","TSR'!","I",24,"Conditioned Rep 3",null,null,null,"Saturation Time, min","min","min",{"$f":"INDIRECT(\"'\" & B1023 & C1023 & D1023)","v":0},null,null,0,0,false,true,false]
["'[Asphalt Mix Design - Template (20260115 1305 BC).xlsm]","TSR'!","I",25,"Conditioned Rep 3",null,null,null,"Absolute Vacuum, mm Hg","mm Hg","mm Hg",{"$f":"INDIRECT(\"'\" & B1024 & C1024 & D1024)","v":0},null,null,0,0,false,true,false]
["'[Asphalt Mix Design - Template (20260115 1305 BC).xlsm]","TSR'!","I",26,"Conditioned Rep 3",null,null,null,"SSD mass at 70% saturation, g","g","g",{"$f":"INDIRECT(\"'\" & B1025 & C1025 & D1025)","v":"---"},null,null,"---","---",false,false,false]
["'[Asphalt Mix Design - Template (20260115 1305 BC).xlsm]","TSR'!","I",27,"Conditioned Rep 3",null,null,null,"SSD mass at 80% saturation, g","g","g",{"$f":"INDIRECT(\"'\" & B1026 & C1026 & D1026)","v":"---"},null,null,{"$f":"IF(ISBLANK(N1026),L1026,N1026)","v":"---"},{"$f":"IF(ISBLANK(N1026),IF(OR(ISBLANK(M1026),ISERROR(M1026)),L1026,M1026),N1026)","v":"---"},false,false,false]
["'[Asphalt Mix Design - Template (20260115 1305 BC).xlsm]","TSR'!","I",28,"Conditioned Rep 3",null,null,null,"(B') SSD mass, g","g","g",{"$f":"INDIRECT(\"'\" & B1027 & C1027 & D1027)","v":0},null,null,0,0,false,false,false]
["'[Asphalt Mix Design - Template (20260115 1305 BC).xlsm]","TSR'!","I",29,"Conditioned Rep 3",null,null,null,"(C') Mass in water, g","g","g",{"$f":"INDIRECT(\"'\" & B1028 & C1028 & D1028)","v":0},null,null,0,0,false,false,false]
["'[Asphalt Mix Design - Template (20260115 1305 BC).xlsm]","TSR'!","I",30,"Conditioned Rep 3",null,null,null,"(E') Volume, cm3","cm3","cm3",{"$f":"INDIRECT(\"'\" & B1029 & C1029 & D1029)","v":"---"},null,null,"---","---",false,false,false]
["'[Asphalt Mix Design - Template (20260115 1305 BC).xlsm]","TSR'!","I",31,"Conditioned Rep 3",null,null,null,"(J') Vol abs. water, cm3","cm3","cm3",{"$f":"INDIRECT(\"'\" & B1030 & C1030 & D1030)","v":"---"},null,null,"---","---",false,false,false]
["'[Asphalt Mix Design - Template (20260115 1305 BC).xlsm]","TSR'!","I",32,"Conditioned Rep 3",null,null,null,"Pre-Conditioning Saturation, %","%","%",{"$f":"INDIRECT(\"'\" & B1031 & C1031 & D1031)","v":"---"},null,null,"---","---",false,true,false]
["'[Asphalt Mix Design - Template (20260115 1305 BC).xlsm]","TSR'!","I",33,"Conditioned Rep 3",null,null,null,"Swell, %","%","%",{"$f":"INDIRECT(\"'\" & B1032 & C1032 & D1032)","v":"---"},null,null,"---","---",false,true,false]
["'[Asphalt Mix Design - Template (20260115 1305 BC).xlsm]","TSR'!","I",35,"Conditioned Rep 3",null,null,null,"(t'') Thickness, mm  ","mm","mm",{"$f":"INDIRECT(\"'\" & B1033 & C1033 & D1033)","v":0},null,null,0,0,false,false,false]
["'[Asphalt Mix Design - Template (20260115 1305 BC).xlsm]","TSR'!","I",36,"Conditioned Rep 3",null,null,null,"(B'') SSD mass, g","g","g",{"$f":"INDIRECT(\"'\" & B1034 & C1034 & D1034)","v":0},null,null,0,0,false,false,false]
["'[Asphalt Mix Design - Template (20260115 1305 BC).xlsm]","TSR'!","I",37,"Conditioned Rep 3",null,null,null,"(C'') Mass in water, g","g","g",{"$f":"INDIRECT(\"'\" & B1035 & C1035 & D1035)","v":0},null,null,0,0,false,false,false]
["'[Asphalt Mix Design - Template (20260115 1305 BC).xlsm]","TSR'!","I",38,"Conditioned Rep 3",null,null,null,"(E'') Volume, cm3","cm3","cm3",{"$f":"INDIRECT(\"'\" & B1036 & C1036 & D1036)","v":"---"},null,null,"---","---",false,false,false]
["'[Asphalt Mix Design - Template (20260115 1305 BC).xlsm]","TSR'!","I",39,"Conditioned Rep 3",null,null,null,"(J'') Vol abs. water, cm3","cm3","cm3",{"$f":"INDIRECT(\"'\" & B1037 & C1037 & D1037)","v":"---"},null,null,"---","---",false,false,false]
["'[Asphalt Mix Design - Template (20260115 1305 BC).xlsm]","TSR'!","I",40,"Conditioned Rep 3",null,null,null,"Post-Conditioning Saturation, %","%","%",{"$f":"INDIRECT(\"'\" & B1038 & C1038 & D1038)","v":"---"},null,null,"---","---",false,true,false]
["'[Asphalt Mix Design - Template (20260115 1305 BC).xlsm]","TSR'!","I",41,"Conditioned Rep 3",null,null,null,"Swell, %","%","%",{"$f":"INDIRECT(\"'\" & B1039 & C1039 & D1039)","v":"---"},null,null,"---","---",false,true,false]
["'[Asphalt Mix Design - Template (20260115 1305 BC).xlsm]","TSR'!","I",43,"Conditioned Rep 3",null,null,null,"(P) Load, lbf","lb","N",{"$f":"INDIRECT(\"'\" & B1040 & C1040 & D1040)","v":0},null,null,0,0,false,true,false]
["'[Asphalt Mix Design - Template (20260115 1305 BC).xlsm]","TSR'!","I",45,"Conditioned Rep 3",null,null,null,"Wet strength, psi","psi","kPa",{"$f":"INDIRECT(\"'\" & B1041 & C1041 & D1041)","v":{"$error":"#DIV/0!"}},null,null,{"$error":"#DIV/0!"},{"$error":"#DIV/0!"},false,true,false]
["'[Asphalt Mix Design - Template (20260115 1305 BC).xlsm]","TSR'!","I",46,"Conditioned Rep 3",null,null,null,"Visual Moisture Damage (0 to 5 rating)",null,null,{"$f":"INDIRECT(\"'\" & B1042 & C1042 & D1042)","v":0},null,null,0,0,false,true,false]
["'[Asphalt Mix Design - Template (20260115 1305 BC).xlsm]","TSR'!","I",47,"Conditioned Rep 3",null,null,null,"Broken Aggregate (0 to 5 rating)",null,null,{"$f":"INDIRECT(\"'\" & B1043 & C1043 & D1043)","v":0},null,null,0,0,false,true,false]
["'[Asphalt Mix Design - Template (20260115 1305 BC).xlsm]","TSR'!","J",21,"Conditioned Avg",null,null,null,"(H) Air Voids, %","%","%",{"$f":"INDIRECT(\"'\" & B1044 & C1044 & D1044)","v":"---"},null,null,"---","---",false,true,false]
["'[Asphalt Mix Design - Template (20260115 1305 BC).xlsm]","TSR'!","J",32,"Conditioned Avg",null,null,null,"Pre-Conditioning Saturation, %","%","%",{"$f":"INDIRECT(\"'\" & B1045 & C1045 & D1045)","v":"---"},null,null,"---","---",false,true,false]
["'[Asphalt Mix Design - Template (20260115 1305 BC).xlsm]","TSR'!","J",33,"Conditioned Avg",null,null,null,"Swell, %","%","%",{"$f":"INDIRECT(\"'\" & B1046 & C1046 & D1046)","v":"---"},null,null,"---","---",false,true,false]
["'[Asphalt Mix Design - Template (20260115 1305 BC).xlsm]","TSR'!","J",40,"Conditioned Avg",null,null,null,"Post-Conditioning Saturation, %","%","%",{"$f":"INDIRECT(\"'\" & B1047 & C1047 & D1047)","v":"---"},null,null,"---","---",false,true,false]
["'[Asphalt Mix Design - Template (20260115 1305 BC).xlsm]","TSR'!","J",41,"Conditioned Avg",null,null,null,"Swell, %","%","%",{"$f":"INDIRECT(\"'\" & B1048 & C1048 & D1048)","v":"---"},null,null,"---","---",false,true,false]
["'[Asphalt Mix Design - Template (20260115 1305 BC).xlsm]","TSR'!","J",45,"Conditioned Avg",null,null,null,"Wet strength, psi","psi","kPa",{"$f":"INDIRECT(\"'\" & B1049 & C1049 & D1049)","v":"---"},null,null,"---","---",true,true,false,"Note: Wet St and TSR covered under JMF Summary"]
["'[Asphalt Mix Design - Template (20260115 1305 BC).xlsm]","TSR'!","C",48,"Overall",null,null,null,"TSR","%","%",{"$f":"INDIRECT(\"'\" & B1050 & C1050 & D1050)","v":"---"},null,null,"---","---",true,true,false]
["'[Asphalt Mix Design - Template (20260115 1305 BC).xlsm]","TSR'!","A",51,"Overall",null,null,null,"Comments",null,null,{"$f":"INDIRECT(\"'\" & B1051 & C1051 & D1051)","v":0},null,null,0,0,false,false,false]
["'[Asphalt Mix Design - Template (20260115 1305 BC).xlsm]","Agg - Coarse'!","D",7,"Agg 1",null,null,null,"Aggreagte ID",null,null,{"$f":"INDIRECT(\"'\" & B1052 & C1052 & D1052)","v":"---"},null,null,"---","---",false,"CONDITIONAL","CONDITIONAL","Note: Conditional is based primarily on whether an aggregate is present in the mix. If present, these would be required."]
["'[Asphalt Mix Design - Template (20260115 1305 BC).xlsm]","Agg - Coarse'!","D",8,"Agg 1",null,null,null,"Percent of Agg Blend, %","%","%",{"$f":"INDIRECT(\"'\" & B1053 & C1053 & D1053)","v":"---"},null,null,"---","---",false,"CONDITIONAL",false]
["'[Asphalt Mix Design - Template (20260115 1305 BC).xlsm]","Agg - Coarse'!","D",9,"Agg 1",null,null,null,"Percent Passing No. 4, %","%","%",{"$f":"INDIRECT(\"'\" & B1054 & C1054 & D1054)","v":"---"},null,null,"---","---",false,"CONDITIONAL",false]
["'[Asphalt Mix Design - Template (20260115 1305 BC).xlsm]","Agg - Coarse'!","D",10,"Agg 1",null,null,null,"Aggregate Size Class",null,null,{"$f":"INDIRECT(\"'\" & B1055 & C1055 & D1055)","v":"---"},null,null,"---","---",false,"CONDITIONAL",false]
["'[Asphalt Mix Design - Template (20260115 1305 BC).xlsm]","Agg - Coarse'!","D",12,"Agg 1 - LA Abrasion",null,null,null,"Date Tested",null,null,{"$f":"INDIRECT(\"'\" & B1056 & C1056 & D1056)","v":"00:00:00"},null,null,"00:00:00","00:00:00",false,"CONDITIONAL",false]
["'[Asphalt Mix Design - Template (20260115 1305 BC).xlsm]","Agg - Coarse'!","D",13,"Agg 1 - LA Abrasion","Rep 1",null,null,"Grading",null,null,{"$f":"INDIRECT(\"'\" & B1057 & C1057 & D1057)","v":0},null,null,0,0,false,"CONDITIONAL",false]
["'[Asphalt Mix Design - Template (20260115 1305 BC).xlsm]","Agg - Coarse'!","D",14,"Agg 1 - LA Abrasion","Rep 1",null,null,"Wt Original Test Sample, g","g","g",{"$f":"INDIRECT(\"'\" & B1058 & C1058 & D1058)","v":0},null,null,0,0,false,"CONDITIONAL",false]
["'[Asphalt Mix Design - Template (20260115 1305 BC).xlsm]","Agg - Coarse'!","D",15,"Agg 1 - LA Abrasion","Rep 1",null,null,"Wt Final Test Sample, g","g","g",{"$f":"INDIRECT(\"'\" & B1059 & C1059 & D1059)","v":0},null,null,0,0,false,"CONDITIONAL",false]
["'[Asphalt Mix Design - Template (20260115 1305 BC).xlsm]","Agg - Coarse'!","D",16,"Agg 1 - LA Abrasion","Rep 1",null,null,"LA Abrasion Loss, %","%","%",{"$f":"INDIRECT(\"'\" & B1060 & C1060 & D1060)","v":"---"},null,null,"---","---",false,"CONDITIONAL",false]
["'[Asphalt Mix Design - Template (20260115 1305 BC).xlsm]","Agg - Coarse'!","E",13,"Agg 1 - LA Abrasion","Rep 2",null,null,"Grading",null,null,{"$f":"INDIRECT(\"'\" & B1061 & C1061 & D1061)","v":0},null,null,0,0,false,"CONDITIONAL",false]
["'[Asphalt Mix Design - Template (20260115 1305 BC).xlsm]","Agg - Coarse'!","E",14,"Agg 1 - LA Abrasion","Rep 2",null,null,"Wt Original Test Sample, g","g","g",{"$f":"INDIRECT(\"'\" & B1062 & C1062 & D1062)","v":0},null,null,0,0,false,"CONDITIONAL",false]
["'[Asphalt Mix Design - Template (20260115 1305 BC).xlsm]","Agg - Coarse'!","E",15,"Agg 1 - LA Abrasion","Rep 2",null,null,"Wt Final Test Sample, g","g","g",{"$f":"INDIRECT(\"'\" & B1063 & C1063 & D1063)","v":0},null,null,0,0,false,"CONDITIONAL",false]
["'[Asphalt Mix Design - Template (20260115 1305 BC).xlsm]","Agg - Coarse'!","E",16,"Agg 1 - LA Abrasion","Rep 2",null,null,"LA Abrasion Loss, %","%","%",{"$f":"INDIRECT(\"'\" & B1064 & C1064 & D1064)","v":"---"},null,null,"---","---",false,"CONDITIONAL",false]
["'[Asphalt Mix Design - Template (20260115 1305 BC).xlsm]","Agg - Coarse'!","D",17,"Agg 1 - LA Abrasion","Avg",null,null,"LA Abrasion Loss, %","%","%",{"$f":"INDIRECT(\"'\" & B1065 & C1065 & D1065)","v":"---"},null,null,"---","---","CONDITIONAL","CONDITIONAL","CONDITIONAL"]
["'[Asphalt Mix Design - Template (20260115 1305 BC).xlsm]","Agg - Coarse'!","AJ",6,"Agg 1 - Soundness",null,null,null,"Solution",null,null,{"$f":"INDIRECT(\"'\" & B1066 & C1066 & D1066)","v":1},null,{"$f":"IF(L1066=1,\"Magnesium Sulfate\",IF(L1066=2,\"Sodium Sulfate\",\"Error\"))","v":"Magnesium Sulfate"},"Magnesium Sulfate","Magnesium Sulfate",false,"CONDITIONAL",false]
["'[Asphalt Mix Design - Template (20260115 1305 BC).xlsm]","Agg - Coarse'!","D",18,"Agg 1 - Soundness",null,null,null,"Date Tested",null,null,{"$f":"INDIRECT(\"'\" & B1067 & C1067 & D1067)","v":"00:00:00"},null,null,"00:00:00","00:00:00",false,"CONDITIONAL",false]
["'[Asphalt Mix Design - Template (20260115 1305 BC).xlsm]","Agg - Coarse'!","D",19,"Agg 1 - Soundness",null,null,null,"1-1/2\" to 3/4\" -- Size Fraction, % of +#4","%","%",{"$f":"INDIRECT(\"'\" & B1068 & C1068 & D1068)","v":"---"},null,null,"---","---",false,"CONDITIONAL",false]
["'[Asphalt Mix Design - Template (20260115 1305 BC).xlsm]","Agg - Coarse'!","D",20,"Agg 1 - Soundness","Rep 1",null,null,"1-1/2\" to 3/4\" -- Wt Original Test Sample, g","g","g",{"$f":"INDIRECT(\"'\" & B1069 & C1069 & D1069)","v":0},null,null,0,0,false,false,false]
["'[Asphalt Mix Design - Template (20260115 1305 BC).xlsm]","Agg - Coarse'!","D",21,"Agg 1 - Soundness","Rep 1",null,null,"1-1/2\" to 3/4\" -- Wt Retained, No #, g","g","g",{"$f":"INDIRECT(\"'\" & B1070 & C1070 & D1070)","v":0},null,null,0,0,false,false,false]
["'[Asphalt Mix Design - Template (20260115 1305 BC).xlsm]","Agg - Coarse'!","D",22,"Agg 1 - Soundness","Rep 1",null,null,"1-1/2\" to 3/4\" -- Percent Passing, %","%","%",{"$f":"INDIRECT(\"'\" & B1071 & C1071 & D1071)","v":"---"},null,null,"---","---",false,false,false]
["'[Asphalt Mix Design - Template (20260115 1305 BC).xlsm]","Agg - Coarse'!","E",20,"Agg 1 - Soundness","Rep 2",null,null,"1-1/2\" to 3/4\" -- Wt Original Test Sample, g","g","g",{"$f":"INDIRECT(\"'\" & B1072 & C1072 & D1072)","v":0},null,null,0,0,false,false,false]
["'[Asphalt Mix Design - Template (20260115 1305 BC).xlsm]","Agg - Coarse'!","E",21,"Agg 1 - Soundness","Rep 2",null,null,"1-1/2\" to 3/4\" -- Wt Retained, No #, g","g","g",{"$f":"INDIRECT(\"'\" & B1073 & C1073 & D1073)","v":0},null,null,0,0,false,false,false]
["'[Asphalt Mix Design - Template (20260115 1305 BC).xlsm]","Agg - Coarse'!","E",22,"Agg 1 - Soundness","Rep 2",null,null,"1-1/2\" to 3/4\" -- Percent Passing, %","%","%",{"$f":"INDIRECT(\"'\" & B1074 & C1074 & D1074)","v":"---"},null,null,"---","---",false,false,false]
["'[Asphalt Mix Design - Template (20260115 1305 BC).xlsm]","Agg - Coarse'!","D",23,"Agg 1 - Soundness","Avg",null,null,"1-1/2\" to 3/4\" -- Avg Percent Passing, %","%","%",{"$f":"INDIRECT(\"'\" & B1075 & C1075 & D1075)","v":"---"},null,null,"---","---",false,"CONDITIONAL",false]
["'[Asphalt Mix Design - Template (20260115 1305 BC).xlsm]","Agg - Coarse'!","D",24,"Agg 1 - Soundness",null,null,null,"3/4\" to 3/8\" -- Size Fraction, % of +#4","%","%",{"$f":"INDIRECT(\"'\" & B1076 & C1076 & D1076)","v":"---"},null,null,"---","---",false,"CONDITIONAL",false]
["'[Asphalt Mix Design - Template (20260115 1305 BC).xlsm]","Agg - Coarse'!","D",25,"Agg 1 - Soundness","Rep 1",null,null,"3/4\" to 3/8\" -- Wt Original Test Sample, g","g","g",{"$f":"INDIRECT(\"'\" & B1077 & C1077 & D1077)","v":0},null,null,0,0,false,false,false]
["'[Asphalt Mix Design - Template (20260115 1305 BC).xlsm]","Agg - Coarse'!","D",26,"Agg 1 - Soundness","Rep 1",null,null,"3/4\" to 3/8\" -- Wt Retained, No #, g","g","g",{"$f":"INDIRECT(\"'\" & B1078 & C1078 & D1078)","v":0},null,null,0,0,false,false,false]
["'[Asphalt Mix Design - Template (20260115 1305 BC).xlsm]","Agg - Coarse'!","D",27,"Agg 1 - Soundness","Rep 1",null,null,"3/4\" to 3/8\" -- Percent Passing, %","%","%",{"$f":"INDIRECT(\"'\" & B1079 & C1079 & D1079)","v":"---"},null,null,"---","---",false,false,false]
["'[Asphalt Mix Design - Template (20260115 1305 BC).xlsm]","Agg - Coarse'!","E",25,"Agg 1 - Soundness","Rep 2",null,null,"3/4\" to 3/8\" -- Wt Original Test Sample, g","g","g",{"$f":"INDIRECT(\"'\" & B1080 & C1080 & D1080)","v":0},null,null,0,0,false,false,false]
["'[Asphalt Mix Design - Template (20260115 1305 BC).xlsm]","Agg - Coarse'!","E",26,"Agg 1 - Soundness","Rep 2",null,null,"3/4\" to 3/8\" -- Wt Retained, No #, g","g","g",{"$f":"INDIRECT(\"'\" & B1081 & C1081 & D1081)","v":0},null,null,0,0,false,false,false]
["'[Asphalt Mix Design - Template (20260115 1305 BC).xlsm]","Agg - Coarse'!","E",27,"Agg 1 - Soundness","Rep 2",null,null,"3/4\" to 3/8\" -- Percent Passing, %","%","%",{"$f":"INDIRECT(\"'\" & B1082 & C1082 & D1082)","v":"---"},null,null,"---","---",false,false,false]
["'[Asphalt Mix Design - Template (20260115 1305 BC).xlsm]","Agg - Coarse'!","D",28,"Agg 1 - Soundness","Avg",null,null,"3/4\" to 3/8\" -- Avg Percent Passing, %","%","%",{"$f":"INDIRECT(\"'\" & B1083 & C1083 & D1083)","v":"---"},null,null,"---","---",false,"CONDITIONAL",false]
["'[Asphalt Mix Design - Template (20260115 1305 BC).xlsm]","Agg - Coarse'!","D",29,"Agg 1 - Soundness",null,null,null,"3/8\" to #4 -- Size Fraction, % of +#4","%","%",{"$f":"INDIRECT(\"'\" & B1084 & C1084 & D1084)","v":"---"},null,null,"---","---",false,"CONDITIONAL",false]
["'[Asphalt Mix Design - Template (20260115 1305 BC).xlsm]","Agg - Coarse'!","D",30,"Agg 1 - Soundness","Rep 1",null,null,"3/8\" to #4 -- Wt Original Test Sample, g","g","g",{"$f":"INDIRECT(\"'\" & B1085 & C1085 & D1085)","v":0},null,null,0,0,false,false,false]
["'[Asphalt Mix Design - Template (20260115 1305 BC).xlsm]","Agg - Coarse'!","D",31,"Agg 1 - Soundness","Rep 1",null,null,"3/8\" to #4 -- Wt Retained, No #, g","g","g",{"$f":"INDIRECT(\"'\" & B1086 & C1086 & D1086)","v":0},null,null,0,0,false,false,false]
["'[Asphalt Mix Design - Template (20260115 1305 BC).xlsm]","Agg - Coarse'!","D",32,"Agg 1 - Soundness","Rep 1",null,null,"3/8\" to #4 -- Percent Passing, %","%","%",{"$f":"INDIRECT(\"'\" & B1087 & C1087 & D1087)","v":"---"},null,null,"---","---",false,false,false]
["'[Asphalt Mix Design - Template (20260115 1305 BC).xlsm]","Agg - Coarse'!","E",30,"Agg 1 - Soundness","Rep 2",null,null,"3/8\" to #4 -- Wt Original Test Sample, g","g","g",{"$f":"INDIRECT(\"'\" & B1088 & C1088 & D1088)","v":0},null,null,0,0,false,false,false]
["'[Asphalt Mix Design - Template (20260115 1305 BC).xlsm]","Agg - Coarse'!","E",31,"Agg 1 - Soundness","Rep 2",null,null,"3/8\" to #4 -- Wt Retained, No #, g","g","g",{"$f":"INDIRECT(\"'\" & B1089 & C1089 & D1089)","v":0},null,null,0,0,false,false,false]
["'[Asphalt Mix Design - Template (20260115 1305 BC).xlsm]","Agg - Coarse'!","E",32,"Agg 1 - Soundness","Rep 2",null,null,"3/8\" to #4 -- Percent Passing, %","%","%",{"$f":"INDIRECT(\"'\" & B1090 & C1090 & D1090)","v":"---"},null,null,{"$f":"IF(ISBLANK(N1090),L1090,N1090)","v":"---"},{"$f":"IF(ISBLANK(N1090),IF(OR(ISBLANK(M1090),ISERROR(M1090)),L1090,M1090),N1090)","v":"---"},false,false,false]
["'[Asphalt Mix Design - Template (20260115 1305 BC).xlsm]","Agg - Coarse'!","D",33,"Agg 1 - Soundness","Avg",null,null,"3/8\" to #4 -- Avg Percent Passing, %","%","%",{"$f":"INDIRECT(\"'\" & B1091 & C1091 & D1091)","v":"---"},null,null,"---","---",false,"CONDITIONAL",false]
["'[Asphalt Mix Design - Template (20260115 1305 BC).xlsm]","Agg - Coarse'!","D",34,"Agg 1 - Soundness","Avg",null,null,"Weighted Mass Loss, %","%","%",{"$f":"INDIRECT(\"'\" & B1092 & C1092 & D1092)","v":"---"},null,null,"---","---","CONDITIONAL","CONDITIONAL",false]
["'[Asphalt Mix Design - Template (20260115 1305 BC).xlsm]","Agg - Coarse'!","D",35,"Agg 1 - Fractured Faces",null,null,null,"Date Tested",null,null,{"$f":"INDIRECT(\"'\" & B1093 & C1093 & D1093)","v":"00:00:00"},null,null,"00:00:00","00:00:00",false,"CONDITIONAL",false]
["'[Asphalt Mix Design - Template (20260115 1305 BC).xlsm]","Agg - Coarse'!","D",36,"Agg 1 - Fractured Faces","Rep 1",null,null,"Wt Original Test Sample, g","g","g",{"$f":"INDIRECT(\"'\" & B1094 & C1094 & D1094)","v":0},null,null,0,0,false,false,false]
["'[Asphalt Mix Design - Template (20260115 1305 BC).xlsm]","Agg - Coarse'!","D",37,"Agg 1 - Fractured Faces","Rep 1",null,null,"Wt 2+ Fractured Faces, g","g","g",{"$f":"INDIRECT(\"'\" & B1095 & C1095 & D1095)","v":0},null,null,0,0,false,false,false]
["'[Asphalt Mix Design - Template (20260115 1305 BC).xlsm]","Agg - Coarse'!","D",38,"Agg 1 - Fractured Faces","Rep 1",null,null,"Wt Remaining Particles, g","g","g",{"$f":"INDIRECT(\"'\" & B1096 & C1096 & D1096)","v":"---"},null,null,"---","---",false,false,false]
["'[Asphalt Mix Design - Template (20260115 1305 BC).xlsm]","Agg - Coarse'!","D",39,"Agg 1 - Fractured Faces","Rep 1",null,null,"Two Fractured Faces, %","%","%",{"$f":"INDIRECT(\"'\" & B1097 & C1097 & D1097)","v":"---"},null,null,"---","---",false,"CONDITIONAL",false]
["'[Asphalt Mix Design - Template (20260115 1305 BC).xlsm]","Agg - Coarse'!","E",36,"Agg 1 - Fractured Faces","Rep 2",null,null,"Wt Original Test Sample, g","g","g",{"$f":"INDIRECT(\"'\" & B1098 & C1098 & D1098)","v":0},null,null,0,0,false,false,false]
["'[Asphalt Mix Design - Template (20260115 1305 BC).xlsm]","Agg - Coarse'!","E",37,"Agg 1 - Fractured Faces","Rep 2",null,null,"Wt 2+ Fractured Faces, g","g","g",{"$f":"INDIRECT(\"'\" & B1099 & C1099 & D1099)","v":0},null,null,0,0,false,false,false]
["'[Asphalt Mix Design - Template (20260115 1305 BC).xlsm]","Agg - Coarse'!","E",38,"Agg 1 - Fractured Faces","Rep 2",null,null,"Wt Remaining Particles, g","g","g",{"$f":"INDIRECT(\"'\" & B1100 & C1100 & D1100)","v":"---"},null,null,"---","---",false,false,false]
["'[Asphalt Mix Design - Template (20260115 1305 BC).xlsm]","Agg - Coarse'!","E",39,"Agg 1 - Fractured Faces","Rep 2",null,null,"Two Fractured Faces, %","%","%",{"$f":"INDIRECT(\"'\" & B1101 & C1101 & D1101)","v":"---"},null,null,"---","---",false,"CONDITIONAL",false]
["'[Asphalt Mix Design - Template (20260115 1305 BC).xlsm]","Agg - Coarse'!","D",40,"Agg 1 - Fractured Faces","Avg",null,null,"Avg Two Fractured Faces, %","%","%",{"$f":"INDIRECT(\"'\" & B1102 & C1102 & D1102)","v":"---"},null,null,"---","---","CONDITIONAL","CONDITIONAL","CONDITIONAL"]
["'[Asphalt Mix Design - Template (20260115 1305 BC).xlsm]","Agg - Coarse'!","D",41,"Agg 1 - F&E",null,null,null,"Date Tested",null,null,{"$f":"INDIRECT(\"'\" & B1103 & C1103 & D1103)","v":"00:00:00"},null,null,"00:00:00","00:00:00",false,"CONDITIONAL",false]
["'[Asphalt Mix Design - Template (20260115 1305 BC).xlsm]","Agg - Coarse'!","D",42,"Agg 1 - F&E",null,null,null,"1\" to 3/4\" -- Size Fraction, % of Agg","%","%",{"$f":"INDIRECT(\"'\" & B1104 & C1104 & D1104)","v":0},null,null,0,0,false,"CONDITIONAL",false]
["'[Asphalt Mix Design - Template (20260115 1305 BC).xlsm]","Agg - Coarse'!","D",43,"Agg 1 - F&E","Rep 1",null,null,"1\" to 3/4\" -- No. Particles",null,null,{"$f":"INDIRECT(\"'\" & B1105 & C1105 & D1105)","v":0},null,null,0,0,false,false,false]
["'[Asphalt Mix Design - Template (20260115 1305 BC).xlsm]","Agg - Coarse'!","D",44,"Agg 1 - F&E","Rep 1",null,null,"1\" to 3/4\" -- Wt Original Test Sample, g","g","g",{"$f":"INDIRECT(\"'\" & B1106 & C1106 & D1106)","v":0},null,null,0,0,false,false,false]
["'[Asphalt Mix Design - Template (20260115 1305 BC).xlsm]","Agg - Coarse'!","D",45,"Agg 1 - F&E","Rep 1",null,null,"1\" to 3/4\" -- Wt Flat & Elongated (5:1), g","g","g",{"$f":"INDIRECT(\"'\" & B1107 & C1107 & D1107)","v":0},null,null,0,0,false,false,false]
["'[Asphalt Mix Design - Template (20260115 1305 BC).xlsm]","Agg - Coarse'!","D",46,"Agg 1 - F&E","Rep 1",null,null,"1\" to 3/4\" -- Flat & Elongated (5:1), %","%","%",{"$f":"INDIRECT(\"'\" & B1108 & C1108 & D1108)","v":"---"},null,null,"---","---",false,false,false]
["'[Asphalt Mix Design - Template (20260115 1305 BC).xlsm]","Agg - Coarse'!","E",43,"Agg 1 - F&E","Rep 2",null,null,"1\" to 3/4\" -- No. Particles",null,null,{"$f":"INDIRECT(\"'\" & B1109 & C1109 & D1109)","v":0},null,null,0,0,false,false,false]
["'[Asphalt Mix Design - Template (20260115 1305 BC).xlsm]","Agg - Coarse'!","E",44,"Agg 1 - F&E","Rep 2",null,null,"1\" to 3/4\" -- Wt Original Test Sample, g","g","g",{"$f":"INDIRECT(\"'\" & B1110 & C1110 & D1110)","v":0},null,null,0,0,false,false,false]
["'[Asphalt Mix Design - Template (20260115 1305 BC).xlsm]","Agg - Coarse'!","E",45,"Agg 1 - F&E","Rep 2",null,null,"1\" to 3/4\" -- Wt Flat & Elongated (5:1), g","g","g",{"$f":"INDIRECT(\"'\" & B1111 & C1111 & D1111)","v":0},null,null,0,0,false,false,false]
["'[Asphalt Mix Design - Template (20260115 1305 BC).xlsm]","Agg - Coarse'!","E",46,"Agg 1 - F&E","Rep 2",null,null,"1\" to 3/4\" -- Flat & Elongated (5:1), %","%","%",{"$f":"INDIRECT(\"'\" & B1112 & C1112 & D1112)","v":"---"},null,null,"---","---",false,false,false]
["'[Asphalt Mix Design - Template (20260115 1305 BC).xlsm]","Agg - Coarse'!","D",47,"Agg 1 - F&E","Avg",null,null,"1\" to 3/4\" -- Avg F&E (5:1), %","%","%",{"$f":"INDIRECT(\"'\" & B1113 & C1113 & D1113)","v":"---"},null,null,"---","---",false,"CONDITIONAL",false]
["'[Asphalt Mix Design - Template (20260115 1305 BC).xlsm]","Agg - Coarse'!","D",48,"Agg 1 - F&E",null,null,null,"3/4\" to 1/2\" -- Size Fraction, % of Agg","%","%",{"$f":"INDIRECT(\"'\" & B1114 & C1114 & D1114)","v":0},null,null,0,0,false,"CONDITIONAL",false]
["'[Asphalt Mix Design - Template (20260115 1305 BC).xlsm]","Agg - Coarse'!","D",49,"Agg 1 - F&E","Rep 1",null,null,"3/4\" to 1/2\" -- No. Particles",null,null,{"$f":"INDIRECT(\"'\" & B1115 & C1115 & D1115)","v":0},null,null,0,0,false,false,false]
["'[Asphalt Mix Design - Template (20260115 1305 BC).xlsm]","Agg - Coarse'!","D",50,"Agg 1 - F&E","Rep 1",null,null,"3/4\" to 1/2\" -- Wt Original Test Sample, g","g","g",{"$f":"INDIRECT(\"'\" & B1116 & C1116 & D1116)","v":0},null,null,0,0,false,false,false]
["'[Asphalt Mix Design - Template (20260115 1305 BC).xlsm]","Agg - Coarse'!","D",51,"Agg 1 - F&E","Rep 1",null,null,"3/4\" to 1/2\" -- Wt Flat & Elongated (5:1), g","g","g",{"$f":"INDIRECT(\"'\" & B1117 & C1117 & D1117)","v":0},null,null,0,0,false,false,false]
["'[Asphalt Mix Design - Template (20260115 1305 BC).xlsm]","Agg - Coarse'!","D",52,"Agg 1 - F&E","Rep 1",null,null,"3/4\" to 1/2\" -- Flat & Elongated (5:1), %","%","%",{"$f":"INDIRECT(\"'\" & B1118 & C1118 & D1118)","v":"---"},null,null,"---","---",false,false,false]
["'[Asphalt Mix Design - Template (20260115 1305 BC).xlsm]","Agg - Coarse'!","E",49,"Agg 1 - F&E","Rep 2",null,null,"3/4\" to 1/2\" -- No. Particles",null,null,{"$f":"INDIRECT(\"'\" & B1119 & C1119 & D1119)","v":0},null,null,0,0,false,false,false]
["'[Asphalt Mix Design - Template (20260115 1305 BC).xlsm]","Agg - Coarse'!","E",50,"Agg 1 - F&E","Rep 2",null,null,"3/4\" to 1/2\" -- Wt Original Test Sample, g","g","g",{"$f":"INDIRECT(\"'\" & B1120 & C1120 & D1120)","v":0},null,null,0,0,false,false,false]
["'[Asphalt Mix Design - Template (20260115 1305 BC).xlsm]","Agg - Coarse'!","E",51,"Agg 1 - F&E","Rep 2",null,null,"3/4\" to 1/2\" -- Wt Flat & Elongated (5:1), g","g","g",{"$f":"INDIRECT(\"'\" & B1121 & C1121 & D1121)","v":0},null,null,0,0,false,false,false]
["'[Asphalt Mix Design - Template (20260115 1305 BC).xlsm]","Agg - Coarse'!","E",52,"Agg 1 - F&E","Rep 2",null,null,"3/4\" to 1/2\" -- Flat & Elongated (5:1), %","%","%",{"$f":"INDIRECT(\"'\" & B1122 & C1122 & D1122)","v":"---"},null,null,"---","---",false,false,false]
["'[Asphalt Mix Design - Template (20260115 1305 BC).xlsm]","Agg - Coarse'!","D",53,"Agg 1 - F&E","Avg",null,null,"3/4\" to 1/2\" -- Avg F&E (5:1), %","%","%",{"$f":"INDIRECT(\"'\" & B1123 & C1123 & D1123)","v":"---"},null,null,"---","---",false,"CONDITIONAL",false]
["'[Asphalt Mix Design - Template (20260115 1305 BC).xlsm]","Agg - Coarse'!","D",54,"Agg 1 - F&E",null,null,null,"1/2\" to 3/8\" -- Size Fraction, % of Agg","%","%",{"$f":"INDIRECT(\"'\" & B1124 & C1124 & D1124)","v":0},null,null,0,0,false,"CONDITIONAL",false]
["'[Asphalt Mix Design - Template (20260115 1305 BC).xlsm]","Agg - Coarse'!","D",55,"Agg 1 - F&E","Rep 1",null,null,"1/2\" to 3/8\" -- No. Particles",null,null,{"$f":"INDIRECT(\"'\" & B1125 & C1125 & D1125)","v":0},null,null,0,0,false,false,false]
["'[Asphalt Mix Design - Template (20260115 1305 BC).xlsm]","Agg - Coarse'!","D",56,"Agg 1 - F&E","Rep 1",null,null,"1/2\" to 3/8\" -- Wt Original Test Sample, g","g","g",{"$f":"INDIRECT(\"'\" & B1126 & C1126 & D1126)","v":0},null,null,0,0,false,false,false]
["'[Asphalt Mix Design - Template (20260115 1305 BC).xlsm]","Agg - Coarse'!","D",57,"Agg 1 - F&E","Rep 1",null,null,"1/2\" to 3/8\" -- Wt Flat & Elongated (5:1), g","g","g",{"$f":"INDIRECT(\"'\" & B1127 & C1127 & D1127)","v":0},null,null,0,0,false,false,false]
["'[Asphalt Mix Design - Template (20260115 1305 BC).xlsm]","Agg - Coarse'!","D",58,"Agg 1 - F&E","Rep 1",null,null,"1/2\" to 3/8\" -- Flat & Elongated (5:1), %","%","%",{"$f":"INDIRECT(\"'\" & B1128 & C1128 & D1128)","v":"---"},null,null,"---","---",false,false,false]
["'[Asphalt Mix Design - Template (20260115 1305 BC).xlsm]","Agg - Coarse'!","E",55,"Agg 1 - F&E","Rep 2",null,null,"1/2\" to 3/8\" -- No. Particles",null,null,{"$f":"INDIRECT(\"'\" & B1129 & C1129 & D1129)","v":0},null,null,0,0,false,false,false]
["'[Asphalt Mix Design - Template (20260115 1305 BC).xlsm]","Agg - Coarse'!","E",56,"Agg 1 - F&E","Rep 2",null,null,"1/2\" to 3/8\" -- Wt Original Test Sample, g","g","g",{"$f":"INDIRECT(\"'\" & B1130 & C1130 & D1130)","v":0},null,null,0,0,false,false,false]
["'[Asphalt Mix Design - Template (20260115 1305 BC).xlsm]","Agg - Coarse'!","E",57,"Agg 1 - F&E","Rep 2",null,null,"1/2\" to 3/8\" -- Wt Flat & Elongated (5:1), g","g","g",{"$f":"INDIRECT(\"'\" & B1131 & C1131 & D1131)","v":0},null,null,0,0,false,false,false]
["'[Asphalt Mix Design - Template (20260115 1305 BC).xlsm]","Agg - Coarse'!","E",58,"Agg 1 - F&E","Rep 2",null,null,"1/2\" to 3/8\" -- Flat & Elongated (5:1), %","%","%",{"$f":"INDIRECT(\"'\" & B1132 & C1132 & D1132)","v":"---"},null,null,"---","---",false,false,false]
["'[Asphalt Mix Design - Template (20260115 1305 BC).xlsm]","Agg - Coarse'!","D",59,"Agg 1 - F&E","Avg",null,null,"1/2\" to 3/8\" -- Avg F&E (5:1), %","%","%",{"$f":"INDIRECT(\"'\" & B1133 & C1133 & D1133)","v":"---"},null,null,"---","---",false,"CONDITIONAL",false]
["'[Asphalt Mix Design - Template (20260115 1305 BC).xlsm]","Agg - Coarse'!","D",60,"Agg 1 - F&E",null,null,null,"3/8\" to #4 -- Size Fraction, % of Agg","%","%",{"$f":"INDIRECT(\"'\" & B1134 & C1134 & D1134)","v":0},null,null,0,0,false,"CONDITIONAL",false]
["'[Asphalt Mix Design - Template (20260115 1305 BC).xlsm]","Agg - Coarse'!","D",61,"Agg 1 - F&E","Rep 1",null,null,"3/8\" to #4 -- No. Particles",null,null,{"$f":"INDIRECT(\"'\" & B1135 & C1135 & D1135)","v":0},null,null,0,0,false,false,false]
["'[Asphalt Mix Design - Template (20260115 1305 BC).xlsm]","Agg - Coarse'!","D",62,"Agg 1 - F&E","Rep 1",null,null,"3/8\" to #4 -- Wt Original Test Sample, g","g","g",{"$f":"INDIRECT(\"'\" & B1136 & C1136 & D1136)","v":0},null,null,0,0,false,false,false]
["'[Asphalt Mix Design - Template (20260115 1305 BC).xlsm]","Agg - Coarse'!","D",63,"Agg 1 - F&E","Rep 1",null,null,"3/8\" to #4 -- Wt Flat & Elongated (5:1), g","g","g",{"$f":"INDIRECT(\"'\" & B1137 & C1137 & D1137)","v":0},null,null,0,0,false,false,false]
["'[Asphalt Mix Design - Template (20260115 1305 BC).xlsm]","Agg - Coarse'!","D",64,"Agg 1 - F&E","Rep 1",null,null,"3/8\" to #4 -- Flat & Elongated (5:1), %","%","%",{"$f":"INDIRECT(\"'\" & B1138 & C1138 & D1138)","v":"---"},null,null,"---","---",false,false,false]
["'[Asphalt Mix Design - Template (20260115 1305 BC).xlsm]","Agg - Coarse'!","E",61,"Agg 1 - F&E","Rep 2",null,null,"3/8\" to #4 -- No. Particles",null,null,{"$f":"INDIRECT(\"'\" & B1139 & C1139 & D1139)","v":0},null,null,0,0,false,false,false]
["'[Asphalt Mix Design - Template (20260115 1305 BC).xlsm]","Agg - Coarse'!","E",62,"Agg 1 - F&E","Rep 2",null,null,"3/8\" to #4 -- Wt Original Test Sample, g","g","g",{"$f":"INDIRECT(\"'\" & B1140 & C1140 & D1140)","v":0},null,null,0,0,false,false,false]
["'[Asphalt Mix Design - Template (20260115 1305 BC).xlsm]","Agg - Coarse'!","E",63,"Agg 1 - F&E","Rep 2",null,null,"3/8\" to #4 -- Wt Flat & Elongated (5:1), g","g","g",{"$f":"INDIRECT(\"'\" & B1141 & C1141 & D1141)","v":0},null,null,0,0,false,false,false]
["'[Asphalt Mix Design - Template (20260115 1305 BC).xlsm]","Agg - Coarse'!","E",64,"Agg 1 - F&E","Rep 2",null,null,"3/8\" to #4 -- Flat & Elongated (5:1), %","%","%",{"$f":"INDIRECT(\"'\" & B1142 & C1142 & D1142)","v":"---"},null,null,"---","---",false,false,false]
["'[Asphalt Mix Design - Template (20260115 1305 BC).xlsm]","Agg - Coarse'!","D",65,"Agg 1 - F&E","Avg",null,null,"3/8\" to #4 -- Avg F&E (5:1), %","%","%",{"$f":"INDIRECT(\"'\" & B1143 & C1143 & D1143)","v":"---"},null,null,"---","---",false,"CONDITIONAL",false]
["'[Asphalt Mix Design - Template (20260115 1305 BC).xlsm]","Agg - Coarse'!","D",66,"Agg 1 - F&E","Avg",null,null,"Weighted Avg F&E (5:1), %","%","%",{"$f":"INDIRECT(\"'\" & B1144 & C1144 & D1144)","v":"---"},null,null,"---","---","CONDITIONAL","CONDITIONAL","CONDITIONAL"]
["'[Asphalt Mix Design - Template (20260115 1305 BC).xlsm]","Agg - Coarse'!","D",67,"Agg 1 - Clay Lumps",null,null,null,"Date Tested",null,null,{"$f":"INDIRECT(\"'\" & B1145 & C1145 & D1145)","v":"00:00:00"},null,null,"00:00:00","00:00:00",false,"CONDITIONAL",false]
["'[Asphalt Mix Design - Template (20260115 1305 BC).xlsm]","Agg - Coarse'!","D",68,"Agg 1 - Clay Lumps","Rep 1",null,null,"Wt Original Test Sample, g","g","g",{"$f":"INDIRECT(\"'\" & B1146 & C1146 & D1146)","v":0},null,null,0,0,false,false,false]
["'[Asphalt Mix Design - Template (20260115 1305 BC).xlsm]","Agg - Coarse'!","D",69,"Agg 1 - Clay Lumps","Rep 1",null,null,"Wt Retained, No. 8 Sieve, g","g","g",{"$f":"INDIRECT(\"'\" & B1147 & C1147 & D1147)","v":0},null,null,0,0,false,false,false]
["'[Asphalt Mix Design - Template (20260115 1305 BC).xlsm]","Agg - Coarse'!","D",70,"Agg 1 - Clay Lumps","Rep 1",null,null,"Clay Lumps & Friable Particles, %","%","%",{"$f":"INDIRECT(\"'\" & B1148 & C1148 & D1148)","v":"---"},null,null,"---","---",false,"CONDITIONAL",false]
["'[Asphalt Mix Design - Template (20260115 1305 BC).xlsm]","Agg - Coarse'!","E",68,"Agg 1 - Clay Lumps","Rep 2",null,null,"Wt Original Test Sample, g","g","g",{"$f":"INDIRECT(\"'\" & B1149 & C1149 & D1149)","v":0},null,null,0,0,false,false,false]
["'[Asphalt Mix Design - Template (20260115 1305 BC).xlsm]","Agg - Coarse'!","E",69,"Agg 1 - Clay Lumps","Rep 2",null,null,"Wt Retained, No. 8 Sieve, g","g","g",{"$f":"INDIRECT(\"'\" & B1150 & C1150 & D1150)","v":0},null,null,0,0,false,false,false]
["'[Asphalt Mix Design - Template (20260115 1305 BC).xlsm]","Agg - Coarse'!","E",70,"Agg 1 - Clay Lumps","Rep 2",null,null,"Clay Lumps & Friable Particles, %","%","%",{"$f":"INDIRECT(\"'\" & B1151 & C1151 & D1151)","v":"---"},null,null,"---","---",false,"CONDITIONAL",false]
["'[Asphalt Mix Design - Template (20260115 1305 BC).xlsm]","Agg - Coarse'!","D",71,"Agg 1 - Clay Lumps","Avg",null,null,"Avg Clay Lumps, %","%","%",{"$f":"INDIRECT(\"'\" & B1152 & C1152 & D1152)","v":"---"},null,null,"---","---","CONDITIONAL","CONDITIONAL","CONDITIONAL"]
["'[Asphalt Mix Design - Template (20260115 1305 BC).xlsm]","Agg - Coarse'!","F",7,"Agg 2",null,null,null,"Aggreagte ID",null,null,{"$f":"INDIRECT(\"'\" & B1153 & C1153 & D1153)","v":"---"},null,null,"---","---",false,"CONDITIONAL","CONDITIONAL"]
["'[Asphalt Mix Design - Template (20260115 1305 BC).xlsm]","Agg - Coarse'!","F",8,"Agg 2",null,null,null,"Percent of Agg Blend, %","%","%",{"$f":"INDIRECT(\"'\" & B1154 & C1154 & D1154)","v":"---"},null,null,{"$f":"IF(ISBLANK(N1154),L1154,N1154)","v":"---"},{"$f":"IF(ISBLANK(N1154),IF(OR(ISBLANK(M1154),ISERROR(M1154)),L1154,M1154),N1154)","v":"---"},false,"CONDITIONAL",false]
["'[Asphalt Mix Design - Template (20260115 1305 BC).xlsm]","Agg - Coarse'!","F",9,"Agg 2",null,null,null,"Percent Passing No. 4, %","%","%",{"$f":"INDIRECT(\"'\" & B1155 & C1155 & D1155)","v":"---"},null,null,"---","---",false,"CONDITIONAL",false]
["'[Asphalt Mix Design - Template (20260115 1305 BC).xlsm]","Agg - Coarse'!","F",10,"Agg 2",null,null,null,"Aggregate Size Class",null,null,{"$f":"INDIRECT(\"'\" & B1156 & C1156 & D1156)","v":"---"},null,null,"---","---",false,"CONDITIONAL",false]
["'[Asphalt Mix Design - Template (20260115 1305 BC).xlsm]","Agg - Coarse'!","F",12,"Agg 2 - LA Abrasion",null,null,null,"Date Tested",null,null,{"$f":"INDIRECT(\"'\" & B1157 & C1157 & D1157)","v":"00:00:00"},null,null,"00:00:00","00:00:00",false,"CONDITIONAL",false]
["'[Asphalt Mix Design - Template (20260115 1305 BC).xlsm]","Agg - Coarse'!","F",13,"Agg 2 - LA Abrasion","Rep 1",null,null,"Grading",null,null,{"$f":"INDIRECT(\"'\" & B1158 & C1158 & D1158)","v":0},null,null,0,0,false,"CONDITIONAL",false]
["'[Asphalt Mix Design - Template (20260115 1305 BC).xlsm]","Agg - Coarse'!","F",14,"Agg 2 - LA Abrasion","Rep 1",null,null,"Wt Original Test Sample, g","g","g",{"$f":"INDIRECT(\"'\" & B1159 & C1159 & D1159)","v":0},null,null,0,0,false,"CONDITIONAL",false]
["'[Asphalt Mix Design - Template (20260115 1305 BC).xlsm]","Agg - Coarse'!","F",15,"Agg 2 - LA Abrasion","Rep 1",null,null,"Wt Final Test Sample, g","g","g",{"$f":"INDIRECT(\"'\" & B1160 & C1160 & D1160)","v":0},null,null,0,0,false,"CONDITIONAL",false]
["'[Asphalt Mix Design - Template (20260115 1305 BC).xlsm]","Agg - Coarse'!","F",16,"Agg 2 - LA Abrasion","Rep 1",null,null,"LA Abrasion Loss, %","%","%",{"$f":"INDIRECT(\"'\" & B1161 & C1161 & D1161)","v":"---"},null,null,"---","---",false,"CONDITIONAL",false]
["'[Asphalt Mix Design - Template (20260115 1305 BC).xlsm]","Agg - Coarse'!","G",13,"Agg 2 - LA Abrasion","Rep 2",null,null,"Grading",null,null,{"$f":"INDIRECT(\"'\" & B1162 & C1162 & D1162)","v":0},null,null,0,0,false,"CONDITIONAL",false]
["'[Asphalt Mix Design - Template (20260115 1305 BC).xlsm]","Agg - Coarse'!","G",14,"Agg 2 - LA Abrasion","Rep 2",null,null,"Wt Original Test Sample, g","g","g",{"$f":"INDIRECT(\"'\" & B1163 & C1163 & D1163)","v":0},null,null,0,0,false,"CONDITIONAL",false]
["'[Asphalt Mix Design - Template (20260115 1305 BC).xlsm]","Agg - Coarse'!","G",15,"Agg 2 - LA Abrasion","Rep 2",null,null,"Wt Final Test Sample, g","g","g",{"$f":"INDIRECT(\"'\" & B1164 & C1164 & D1164)","v":0},null,null,0,0,false,"CONDITIONAL",false]
["'[Asphalt Mix Design - Template (20260115 1305 BC).xlsm]","Agg - Coarse'!","G",16,"Agg 2 - LA Abrasion","Rep 2",null,null,"LA Abrasion Loss, %","%","%",{"$f":"INDIRECT(\"'\" & B1165 & C1165 & D1165)","v":"---"},null,null,"---","---",false,"CONDITIONAL",false]
["'[Asphalt Mix Design - Template (20260115 1305 BC).xlsm]","Agg - Coarse'!","F",17,"Agg 2 - LA Abrasion","Avg",null,null,"LA Abrasion Loss, %","%","%",{"$f":"INDIRECT(\"'\" & B1166 & C1166 & D1166)","v":"---"},null,null,"---","---","CONDITIONAL","CONDITIONAL","CONDITIONAL"]
["'[Asphalt Mix Design - Template (20260115 1305 BC).xlsm]","Agg - Coarse'!","AJ",6,"Agg 2 - Soundness",null,null,null,"Solution",null,null,{"$f":"INDIRECT(\"'\" & B1167 & C1167 & D1167)","v":1},null,{"$f":"IF(L1167=1,\"Magnesium Sulfate\",IF(L1167=2,\"Sodium Sulfate\",\"Error\"))","v":"Magnesium Sulfate"},"Magnesium Sulfate","Magnesium Sulfate",false,"CONDITIONAL",false]
["'[Asphalt Mix Design - Template (20260115 1305 BC).xlsm]","Agg - Coarse'!","F",18,"Agg 2 - Soundness",null,null,null,"Date Tested",null,null,{"$f":"INDIRECT(\"'\" & B1168 & C1168 & D1168)","v":"00:00:00"},null,null,"00:00:00","00:00:00",false,"CONDITIONAL",false]
["'[Asphalt Mix Design - Template (20260115 1305 BC).xlsm]","Agg - Coarse'!","F",19,"Agg 2 - Soundness",null,null,null,"1-1/2\" to 3/4\" -- Size Fraction, % of +#4","%","%",{"$f":"INDIRECT(\"'\" & B1169 & C1169 & D1169)","v":"---"},null,null,"---","---",false,"CONDITIONAL",false]
["'[Asphalt Mix Design - Template (20260115 1305 BC).xlsm]","Agg - Coarse'!","F",20,"Agg 2 - Soundness","Rep 1",null,null,"1-1/2\" to 3/4\" -- Wt Original Test Sample, g","g","g",{"$f":"INDIRECT(\"'\" & B1170 & C1170 & D1170)","v":0},null,null,0,0,false,false,false]
["'[Asphalt Mix Design - Template (20260115 1305 BC).xlsm]","Agg - Coarse'!","F",21,"Agg 2 - Soundness","Rep 1",null,null,"1-1/2\" to 3/4\" -- Wt Retained, No #, g","g","g",{"$f":"INDIRECT(\"'\" & B1171 & C1171 & D1171)","v":0},null,null,0,0,false,false,false]
["'[Asphalt Mix Design - Template (20260115 1305 BC).xlsm]","Agg - Coarse'!","F",22,"Agg 2 - Soundness","Rep 1",null,null,"1-1/2\" to 3/4\" -- Percent Passing, %","%","%",{"$f":"INDIRECT(\"'\" & B1172 & C1172 & D1172)","v":"---"},null,null,"---","---",false,false,false]
["'[Asphalt Mix Design - Template (20260115 1305 BC).xlsm]","Agg - Coarse'!","G",20,"Agg 2 - Soundness","Rep 2",null,null,"1-1/2\" to 3/4\" -- Wt Original Test Sample, g","g","g",{"$f":"INDIRECT(\"'\" & B1173 & C1173 & D1173)","v":0},null,null,0,0,false,false,false]
["'[Asphalt Mix Design - Template (20260115 1305 BC).xlsm]","Agg - Coarse'!","G",21,"Agg 2 - Soundness","Rep 2",null,null,"1-1/2\" to 3/4\" -- Wt Retained, No #, g","g","g",{"$f":"INDIRECT(\"'\" & B1174 & C1174 & D1174)","v":0},null,null,0,0,false,false,false]
["'[Asphalt Mix Design - Template (20260115 1305 BC).xlsm]","Agg - Coarse'!","G",22,"Agg 2 - Soundness","Rep 2",null,null,"1-1/2\" to 3/4\" -- Percent Passing, %","%","%",{"$f":"INDIRECT(\"'\" & B1175 & C1175 & D1175)","v":"---"},null,null,"---","---",false,false,false]
["'[Asphalt Mix Design - Template (20260115 1305 BC).xlsm]","Agg - Coarse'!","F",23,"Agg 2 - Soundness","Avg",null,null,"1-1/2\" to 3/4\" -- Avg Percent Passing, %","%","%",{"$f":"INDIRECT(\"'\" & B1176 & C1176 & D1176)","v":"---"},null,null,"---","---",false,"CONDITIONAL",false]
["'[Asphalt Mix Design - Template (20260115 1305 BC).xlsm]","Agg - Coarse'!","F",24,"Agg 2 - Soundness",null,null,null,"3/4\" to 3/8\" -- Size Fraction, % of +#4","%","%",{"$f":"INDIRECT(\"'\" & B1177 & C1177 & D1177)","v":"---"},null,null,"---","---",false,"CONDITIONAL",false]
["'[Asphalt Mix Design - Template (20260115 1305 BC).xlsm]","Agg - Coarse'!","F",25,"Agg 2 - Soundness","Rep 1",null,null,"3/4\" to 3/8\" -- Wt Original Test Sample, g","g","g",{"$f":"INDIRECT(\"'\" & B1178 & C1178 & D1178)","v":0},null,null,0,0,false,false,false]
["'[Asphalt Mix Design - Template (20260115 1305 BC).xlsm]","Agg - Coarse'!","F",26,"Agg 2 - Soundness","Rep 1",null,null,"3/4\" to 3/8\" -- Wt Retained, No #, g","g","g",{"$f":"INDIRECT(\"'\" & B1179 & C1179 & D1179)","v":0},null,null,0,0,false,false,false]
["'[Asphalt Mix Design - Template (20260115 1305 BC).xlsm]","Agg - Coarse'!","F",27,"Agg 2 - Soundness","Rep 1",null,null,"3/4\" to 3/8\" -- Percent Passing, %","%","%",{"$f":"INDIRECT(\"'\" & B1180 & C1180 & D1180)","v":"---"},null,null,"---","---",false,false,false]
["'[Asphalt Mix Design - Template (20260115 1305 BC).xlsm]","Agg - Coarse'!","G",25,"Agg 2 - Soundness","Rep 2",null,null,"3/4\" to 3/8\" -- Wt Original Test Sample, g","g","g",{"$f":"INDIRECT(\"'\" & B1181 & C1181 & D1181)","v":0},null,null,0,0,false,false,false]
["'[Asphalt Mix Design - Template (20260115 1305 BC).xlsm]","Agg - Coarse'!","G",26,"Agg 2 - Soundness","Rep 2",null,null,"3/4\" to 3/8\" -- Wt Retained, No #, g","g","g",{"$f":"INDIRECT(\"'\" & B1182 & C1182 & D1182)","v":0},null,null,0,0,false,false,false]
["'[Asphalt Mix Design - Template (20260115 1305 BC).xlsm]","Agg - Coarse'!","G",27,"Agg 2 - Soundness","Rep 2",null,null,"3/4\" to 3/8\" -- Percent Passing, %","%","%",{"$f":"INDIRECT(\"'\" & B1183 & C1183 & D1183)","v":"---"},null,null,"---","---",false,false,false]
["'[Asphalt Mix Design - Template (20260115 1305 BC).xlsm]","Agg - Coarse'!","F",28,"Agg 2 - Soundness","Avg",null,null,"3/4\" to 3/8\" -- Avg Percent Passing, %","%","%",{"$f":"INDIRECT(\"'\" & B1184 & C1184 & D1184)","v":"---"},null,null,"---","---",false,"CONDITIONAL",false]
["'[Asphalt Mix Design - Template (20260115 1305 BC).xlsm]","Agg - Coarse'!","F",29,"Agg 2 - Soundness",null,null,null,"3/8\" to #4 -- Size Fraction, % of +#4","%","%",{"$f":"INDIRECT(\"'\" & B1185 & C1185 & D1185)","v":"---"},null,null,"---","---",false,"CONDITIONAL",false]
["'[Asphalt Mix Design - Template (20260115 1305 BC).xlsm]","Agg - Coarse'!","F",30,"Agg 2 - Soundness","Rep 1",null,null,"3/8\" to #4 -- Wt Original Test Sample, g","g","g",{"$f":"INDIRECT(\"'\" & B1186 & C1186 & D1186)","v":0},null,null,0,0,false,false,false]
["'[Asphalt Mix Design - Template (20260115 1305 BC).xlsm]","Agg - Coarse'!","F",31,"Agg 2 - Soundness","Rep 1",null,null,"3/8\" to #4 -- Wt Retained, No #, g","g","g",{"$f":"INDIRECT(\"'\" & B1187 & C1187 & D1187)","v":0},null,null,0,0,false,false,false]
["'[Asphalt Mix Design - Template (20260115 1305 BC).xlsm]","Agg - Coarse'!","F",32,"Agg 2 - Soundness","Rep 1",null,null,"3/8\" to #4 -- Percent Passing, %","%","%",{"$f":"INDIRECT(\"'\" & B1188 & C1188 & D1188)","v":"---"},null,null,"---","---",false,false,false]
["'[Asphalt Mix Design - Template (20260115 1305 BC).xlsm]","Agg - Coarse'!","G",30,"Agg 2 - Soundness","Rep 2",null,null,"3/8\" to #4 -- Wt Original Test Sample, g","g","g",{"$f":"INDIRECT(\"'\" & B1189 & C1189 & D1189)","v":0},null,null,0,0,false,false,false]
["'[Asphalt Mix Design - Template (20260115 1305 BC).xlsm]","Agg - Coarse'!","G",31,"Agg 2 - Soundness","Rep 2",null,null,"3/8\" to #4 -- Wt Retained, No #, g","g","g",{"$f":"INDIRECT(\"'\" & B1190 & C1190 & D1190)","v":0},null,null,0,0,false,false,false]
["'[Asphalt Mix Design - Template (20260115 1305 BC).xlsm]","Agg - Coarse'!","G",32,"Agg 2 - Soundness","Rep 2",null,null,"3/8\" to #4 -- Percent Passing, %","%","%",{"$f":"INDIRECT(\"'\" & B1191 & C1191 & D1191)","v":"---"},null,null,"---","---",false,false,false]
["'[Asphalt Mix Design - Template (20260115 1305 BC).xlsm]","Agg - Coarse'!","F",33,"Agg 2 - Soundness","Avg",null,null,"3/8\" to #4 -- Avg Percent Passing, %","%","%",{"$f":"INDIRECT(\"'\" & B1192 & C1192 & D1192)","v":"---"},null,null,"---","---",false,"CONDITIONAL",false]
["'[Asphalt Mix Design - Template (20260115 1305 BC).xlsm]","Agg - Coarse'!","F",34,"Agg 2 - Soundness","Avg",null,null,"Weighted Mass Loss, %","%","%",{"$f":"INDIRECT(\"'\" & B1193 & C1193 & D1193)","v":"---"},null,null,"---","---","CONDITIONAL","CONDITIONAL",false]
["'[Asphalt Mix Design - Template (20260115 1305 BC).xlsm]","Agg - Coarse'!","F",35,"Agg 2 - Fractured Faces",null,null,null,"Date Tested",null,null,{"$f":"INDIRECT(\"'\" & B1194 & C1194 & D1194)","v":"00:00:00"},null,null,"00:00:00","00:00:00",false,"CONDITIONAL",false]
["'[Asphalt Mix Design - Template (20260115 1305 BC).xlsm]","Agg - Coarse'!","F",36,"Agg 2 - Fractured Faces","Rep 1",null,null,"Wt Original Test Sample, g","g","g",{"$f":"INDIRECT(\"'\" & B1195 & C1195 & D1195)","v":0},null,null,0,0,false,false,false]
["'[Asphalt Mix Design - Template (20260115 1305 BC).xlsm]","Agg - Coarse'!","F",37,"Agg 2 - Fractured Faces","Rep 1",null,null,"Wt 2+ Fractured Faces, g","g","g",{"$f":"INDIRECT(\"'\" & B1196 & C1196 & D1196)","v":0},null,null,0,0,false,false,false]
["'[Asphalt Mix Design - Template (20260115 1305 BC).xlsm]","Agg - Coarse'!","F",38,"Agg 2 - Fractured Faces","Rep 1",null,null,"Wt Remaining Particles, g","g","g",{"$f":"INDIRECT(\"'\" & B1197 & C1197 & D1197)","v":"---"},null,null,"---","---",false,false,false]
["'[Asphalt Mix Design - Template (20260115 1305 BC).xlsm]","Agg - Coarse'!","F",39,"Agg 2 - Fractured Faces","Rep 1",null,null,"Two Fractured Faces, %","%","%",{"$f":"INDIRECT(\"'\" & B1198 & C1198 & D1198)","v":"---"},null,null,"---","---",false,"CONDITIONAL",false]
["'[Asphalt Mix Design - Template (20260115 1305 BC).xlsm]","Agg - Coarse'!","G",36,"Agg 2 - Fractured Faces","Rep 2",null,null,"Wt Original Test Sample, g","g","g",{"$f":"INDIRECT(\"'\" & B1199 & C1199 & D1199)","v":0},null,null,0,0,false,false,false]
["'[Asphalt Mix Design - Template (20260115 1305 BC).xlsm]","Agg - Coarse'!","G",37,"Agg 2 - Fractured Faces","Rep 2",null,null,"Wt 2+ Fractured Faces, g","g","g",{"$f":"INDIRECT(\"'\" & B1200 & C1200 & D1200)","v":0},null,null,0,0,false,false,false]
["'[Asphalt Mix Design - Template (20260115 1305 BC).xlsm]","Agg - Coarse'!","G",38,"Agg 2 - Fractured Faces","Rep 2",null,null,"Wt Remaining Particles, g","g","g",{"$f":"INDIRECT(\"'\" & B1201 & C1201 & D1201)","v":"---"},null,null,"---","---",false,false,false]
["'[Asphalt Mix Design - Template (20260115 1305 BC).xlsm]","Agg - Coarse'!","G",39,"Agg 2 - Fractured Faces","Rep 2",null,null,"Two Fractured Faces, %","%","%",{"$f":"INDIRECT(\"'\" & B1202 & C1202 & D1202)","v":"---"},null,null,"---","---",false,"CONDITIONAL",false]
["'[Asphalt Mix Design - Template (20260115 1305 BC).xlsm]","Agg - Coarse'!","F",40,"Agg 2 - Fractured Faces","Avg",null,null,"Avg Two Fractured Faces, %","%","%",{"$f":"INDIRECT(\"'\" & B1203 & C1203 & D1203)","v":"---"},null,null,"---","---","CONDITIONAL","CONDITIONAL","CONDITIONAL"]
["'[Asphalt Mix Design - Template (20260115 1305 BC).xlsm]","Agg - Coarse'!","F",41,"Agg 2 - F&E",null,null,null,"Date Tested",null,null,{"$f":"INDIRECT(\"'\" & B1204 & C1204 & D1204)","v":"00:00:00"},null,null,"00:00:00","00:00:00",false,"CONDITIONAL",false]
["'[Asphalt Mix Design - Template (20260115 1305 BC).xlsm]","Agg - Coarse'!","F",42,"Agg 2 - F&E",null,null,null,"1\" to 3/4\" -- Size Fraction, % of Agg","%","%",{"$f":"INDIRECT(\"'\" & B1205 & C1205 & D1205)","v":0},null,null,0,0,false,"CONDITIONAL",false]
["'[Asphalt Mix Design - Template (20260115 1305 BC).xlsm]","Agg - Coarse'!","F",43,"Agg 2 - F&E","Rep 1",null,null,"1\" to 3/4\" -- No. Particles",null,null,{"$f":"INDIRECT(\"'\" & B1206 & C1206 & D1206)","v":0},null,null,0,0,false,false,false]
["'[Asphalt Mix Design - Template (20260115 1305 BC).xlsm]","Agg - Coarse'!","F",44,"Agg 2 - F&E","Rep 1",null,null,"1\" to 3/4\" -- Wt Original Test Sample, g","g","g",{"$f":"INDIRECT(\"'\" & B1207 & C1207 & D1207)","v":0},null,null,0,0,false,false,false]
["'[Asphalt Mix Design - Template (20260115 1305 BC).xlsm]","Agg - Coarse'!","F",45,"Agg 2 - F&E","Rep 1",null,null,"1\" to 3/4\" -- Wt Flat & Elongated (5:1), g","g","g",{"$f":"INDIRECT(\"'\" & B1208 & C1208 & D1208)","v":0},null,null,0,0,false,false,false]
["'[Asphalt Mix Design - Template (20260115 1305 BC).xlsm]","Agg - Coarse'!","F",46,"Agg 2 - F&E","Rep 1",null,null,"1\" to 3/4\" -- Flat & Elongated (5:1), %","%","%",{"$f":"INDIRECT(\"'\" & B1209 & C1209 & D1209)","v":"---"},null,null,"---","---",false,false,false]
["'[Asphalt Mix Design - Template (20260115 1305 BC).xlsm]","Agg - Coarse'!","G",43,"Agg 2 - F&E","Rep 2",null,null,"1\" to 3/4\" -- No. Particles",null,null,{"$f":"INDIRECT(\"'\" & B1210 & C1210 & D1210)","v":0},null,null,0,0,false,false,false]
["'[Asphalt Mix Design - Template (20260115 1305 BC).xlsm]","Agg - Coarse'!","G",44,"Agg 2 - F&E","Rep 2",null,null,"1\" to 3/4\" -- Wt Original Test Sample, g","g","g",{"$f":"INDIRECT(\"'\" & B1211 & C1211 & D1211)","v":0},null,null,0,0,false,false,false]
["'[Asphalt Mix Design - Template (20260115 1305 BC).xlsm]","Agg - Coarse'!","G",45,"Agg 2 - F&E","Rep 2",null,null,"1\" to 3/4\" -- Wt Flat & Elongated (5:1), g","g","g",{"$f":"INDIRECT(\"'\" & B1212 & C1212 & D1212)","v":0},null,null,0,0,false,false,false]
["'[Asphalt Mix Design - Template (20260115 1305 BC).xlsm]","Agg - Coarse'!","G",46,"Agg 2 - F&E","Rep 2",null,null,"1\" to 3/4\" -- Flat & Elongated (5:1), %","%","%",{"$f":"INDIRECT(\"'\" & B1213 & C1213 & D1213)","v":"---"},null,null,"---","---",false,false,false]
["'[Asphalt Mix Design - Template (20260115 1305 BC).xlsm]","Agg - Coarse'!","F",47,"Agg 2 - F&E","Avg",null,null,"1\" to 3/4\" -- Avg F&E (5:1), %","%","%",{"$f":"INDIRECT(\"'\" & B1214 & C1214 & D1214)","v":"---"},null,null,"---","---",false,"CONDITIONAL",false]
["'[Asphalt Mix Design - Template (20260115 1305 BC).xlsm]","Agg - Coarse'!","F",48,"Agg 2 - F&E",null,null,null,"3/4\" to 1/2\" -- Size Fraction, % of Agg","%","%",{"$f":"INDIRECT(\"'\" & B1215 & C1215 & D1215)","v":0},null,null,0,0,false,"CONDITIONAL",false]
["'[Asphalt Mix Design - Template (20260115 1305 BC).xlsm]","Agg - Coarse'!","F",49,"Agg 2 - F&E","Rep 1",null,null,"3/4\" to 1/2\" -- No. Particles",null,null,{"$f":"INDIRECT(\"'\" & B1216 & C1216 & D1216)","v":0},null,null,0,0,false,false,false]
["'[Asphalt Mix Design - Template (20260115 1305 BC).xlsm]","Agg - Coarse'!","F",50,"Agg 2 - F&E","Rep 1",null,null,"3/4\" to 1/2\" -- Wt Original Test Sample, g","g","g",{"$f":"INDIRECT(\"'\" & B1217 & C1217 & D1217)","v":0},null,null,0,0,false,false,false]
["'[Asphalt Mix Design - Template (20260115 1305 BC).xlsm]","Agg - Coarse'!","F",51,"Agg 2 - F&E","Rep 1",null,null,"3/4\" to 1/2\" -- Wt Flat & Elongated (5:1), g","g","g",{"$f":"INDIRECT(\"'\" & B1218 & C1218 & D1218)","v":0},null,null,{"$f":"IF(ISBLANK(N1218),L1218,N1218)","v":0},{"$f":"IF(ISBLANK(N1218),IF(OR(ISBLANK(M1218),ISERROR(M1218)),L1218,M1218),N1218)","v":0},false,false,false]
["'[Asphalt Mix Design - Template (20260115 1305 BC).xlsm]","Agg - Coarse'!","F",52,"Agg 2 - F&E","Rep 1",null,null,"3/4\" to 1/2\" -- Flat & Elongated (5:1), %","%","%",{"$f":"INDIRECT(\"'\" & B1219 & C1219 & D1219)","v":"---"},null,null,"---","---",false,false,false]
["'[Asphalt Mix Design - Template (20260115 1305 BC).xlsm]","Agg - Coarse'!","G",49,"Agg 2 - F&E","Rep 2",null,null,"3/4\" to 1/2\" -- No. Particles",null,null,{"$f":"INDIRECT(\"'\" & B1220 & C1220 & D1220)","v":0},null,null,0,0,false,false,false]
["'[Asphalt Mix Design - Template (20260115 1305 BC).xlsm]","Agg - Coarse'!","G",50,"Agg 2 - F&E","Rep 2",null,null,"3/4\" to 1/2\" -- Wt Original Test Sample, g","g","g",{"$f":"INDIRECT(\"'\" & B1221 & C1221 & D1221)","v":0},null,null,0,0,false,false,false]
["'[Asphalt Mix Design - Template (20260115 1305 BC).xlsm]","Agg - Coarse'!","G",51,"Agg 2 - F&E","Rep 2",null,null,"3/4\" to 1/2\" -- Wt Flat & Elongated (5:1), g","g","g",{"$f":"INDIRECT(\"'\" & B1222 & C1222 & D1222)","v":0},null,null,0,0,false,false,false]
["'[Asphalt Mix Design - Template (20260115 1305 BC).xlsm]","Agg - Coarse'!","G",52,"Agg 2 - F&E","Rep 2",null,null,"3/4\" to 1/2\" -- Flat & Elongated (5:1), %","%","%",{"$f":"INDIRECT(\"'\" & B1223 & C1223 & D1223)","v":"---"},null,null,"---","---",false,false,false]
["'[Asphalt Mix Design - Template (20260115 1305 BC).xlsm]","Agg - Coarse'!","F",53,"Agg 2 - F&E","Avg",null,null,"3/4\" to 1/2\" -- Avg F&E (5:1), %","%","%",{"$f":"INDIRECT(\"'\" & B1224 & C1224 & D1224)","v":"---"},null,null,"---","---",false,"CONDITIONAL",false]
["'[Asphalt Mix Design - Template (20260115 1305 BC).xlsm]","Agg - Coarse'!","F",54,"Agg 2 - F&E",null,null,null,"1/2\" to 3/8\" -- Size Fraction, % of Agg","%","%",{"$f":"INDIRECT(\"'\" & B1225 & C1225 & D1225)","v":0},null,null,0,0,false,"CONDITIONAL",false]
["'[Asphalt Mix Design - Template (20260115 1305 BC).xlsm]","Agg - Coarse'!","F",55,"Agg 2 - F&E","Rep 1",null,null,"1/2\" to 3/8\" -- No. Particles",null,null,{"$f":"INDIRECT(\"'\" & B1226 & C1226 & D1226)","v":0},null,null,0,0,false,false,false]
["'[Asphalt Mix Design - Template (20260115 1305 BC).xlsm]","Agg - Coarse'!","F",56,"Agg 2 - F&E","Rep 1",null,null,"1/2\" to 3/8\" -- Wt Original Test Sample, g","g","g",{"$f":"INDIRECT(\"'\" & B1227 & C1227 & D1227)","v":0},null,null,0,0,false,false,false]
["'[Asphalt Mix Design - Template (20260115 1305 BC).xlsm]","Agg - Coarse'!","F",57,"Agg 2 - F&E","Rep 1",null,null,"1/2\" to 3/8\" -- Wt Flat & Elongated (5:1), g","g","g",{"$f":"INDIRECT(\"'\" & B1228 & C1228 & D1228)","v":0},null,null,0,0,false,false,false]
["'[Asphalt Mix Design - Template (20260115 1305 BC).xlsm]","Agg - Coarse'!","F",58,"Agg 2 - F&E","Rep 1",null,null,"1/2\" to 3/8\" -- Flat & Elongated (5:1), %","%","%",{"$f":"INDIRECT(\"'\" & B1229 & C1229 & D1229)","v":"---"},null,null,"---","---",false,false,false]
["'[Asphalt Mix Design - Template (20260115 1305 BC).xlsm]","Agg - Coarse'!","G",55,"Agg 2 - F&E","Rep 2",null,null,"1/2\" to 3/8\" -- No. Particles",null,null,{"$f":"INDIRECT(\"'\" & B1230 & C1230 & D1230)","v":0},null,null,0,0,false,false,false]
["'[Asphalt Mix Design - Template (20260115 1305 BC).xlsm]","Agg - Coarse'!","G",56,"Agg 2 - F&E","Rep 2",null,null,"1/2\" to 3/8\" -- Wt Original Test Sample, g","g","g",{"$f":"INDIRECT(\"'\" & B1231 & C1231 & D1231)","v":0},null,null,0,0,false,false,false]
["'[Asphalt Mix Design - Template (20260115 1305 BC).xlsm]","Agg - Coarse'!","G",57,"Agg 2 - F&E","Rep 2",null,null,"1/2\" to 3/8\" -- Wt Flat & Elongated (5:1), g","g","g",{"$f":"INDIRECT(\"'\" & B1232 & C1232 & D1232)","v":0},null,null,0,0,false,false,false]
["'[Asphalt Mix Design - Template (20260115 1305 BC).xlsm]","Agg - Coarse'!","G",58,"Agg 2 - F&E","Rep 2",null,null,"1/2\" to 3/8\" -- Flat & Elongated (5:1), %","%","%",{"$f":"INDIRECT(\"'\" & B1233 & C1233 & D1233)","v":"---"},null,null,"---","---",false,false,false]
["'[Asphalt Mix Design - Template (20260115 1305 BC).xlsm]","Agg - Coarse'!","F",59,"Agg 2 - F&E","Avg",null,null,"1/2\" to 3/8\" -- Avg F&E (5:1), %","%","%",{"$f":"INDIRECT(\"'\" & B1234 & C1234 & D1234)","v":"---"},null,null,"---","---",false,"CONDITIONAL",false]
["'[Asphalt Mix Design - Template (20260115 1305 BC).xlsm]","Agg - Coarse'!","F",60,"Agg 2 - F&E",null,null,null,"3/8\" to #4 -- Size Fraction, % of Agg","%","%",{"$f":"INDIRECT(\"'\" & B1235 & C1235 & D1235)","v":0},null,null,0,0,false,"CONDITIONAL",false]
["'[Asphalt Mix Design - Template (20260115 1305 BC).xlsm]","Agg - Coarse'!","F",61,"Agg 2 - F&E","Rep 1",null,null,"3/8\" to #4 -- No. Particles",null,null,{"$f":"INDIRECT(\"'\" & B1236 & C1236 & D1236)","v":0},null,null,0,0,false,false,false]
["'[Asphalt Mix Design - Template (20260115 1305 BC).xlsm]","Agg - Coarse'!","F",62,"Agg 2 - F&E","Rep 1",null,null,"3/8\" to #4 -- Wt Original Test Sample, g","g","g",{"$f":"INDIRECT(\"'\" & B1237 & C1237 & D1237)","v":0},null,null,0,0,false,false,false]
["'[Asphalt Mix Design - Template (20260115 1305 BC).xlsm]","Agg - Coarse'!","F",63,"Agg 2 - F&E","Rep 1",null,null,"3/8\" to #4 -- Wt Flat & Elongated (5:1), g","g","g",{"$f":"INDIRECT(\"'\" & B1238 & C1238 & D1238)","v":0},null,null,0,0,false,false,false]
["'[Asphalt Mix Design - Template (20260115 1305 BC).xlsm]","Agg - Coarse'!","F",64,"Agg 2 - F&E","Rep 1",null,null,"3/8\" to #4 -- Flat & Elongated (5:1), %","%","%",{"$f":"INDIRECT(\"'\" & B1239 & C1239 & D1239)","v":"---"},null,null,"---","---",false,false,false]
["'[Asphalt Mix Design - Template (20260115 1305 BC).xlsm]","Agg - Coarse'!","G",61,"Agg 2 - F&E","Rep 2",null,null,"3/8\" to #4 -- No. Particles",null,null,{"$f":"INDIRECT(\"'\" & B1240 & C1240 & D1240)","v":0},null,null,0,0,false,false,false]
["'[Asphalt Mix Design - Template (20260115 1305 BC).xlsm]","Agg - Coarse'!","G",62,"Agg 2 - F&E","Rep 2",null,null,"3/8\" to #4 -- Wt Original Test Sample, g","g","g",{"$f":"INDIRECT(\"'\" & B1241 & C1241 & D1241)","v":0},null,null,0,0,false,false,false]
["'[Asphalt Mix Design - Template (20260115 1305 BC).xlsm]","Agg - Coarse'!","G",63,"Agg 2 - F&E","Rep 2",null,null,"3/8\" to #4 -- Wt Flat & Elongated (5:1), g","g","g",{"$f":"INDIRECT(\"'\" & B1242 & C1242 & D1242)","v":0},null,null,0,0,false,false,false]
["'[Asphalt Mix Design - Template (20260115 1305 BC).xlsm]","Agg - Coarse'!","G",64,"Agg 2 - F&E","Rep 2",null,null,"3/8\" to #4 -- Flat & Elongated (5:1), %","%","%",{"$f":"INDIRECT(\"'\" & B1243 & C1243 & D1243)","v":"---"},null,null,"---","---",false,false,false]
["'[Asphalt Mix Design - Template (20260115 1305 BC).xlsm]","Agg - Coarse'!","F",65,"Agg 2 - F&E","Avg",null,null,"3/8\" to #4 -- Avg F&E (5:1), %","%","%",{"$f":"INDIRECT(\"'\" & B1244 & C1244 & D1244)","v":"---"},null,null,"---","---",false,"CONDITIONAL",false]
["'[Asphalt Mix Design - Template (20260115 1305 BC).xlsm]","Agg - Coarse'!","F",66,"Agg 2 - F&E","Avg",null,null,"Weighted Avg F&E (5:1), %","%","%",{"$f":"INDIRECT(\"'\" & B1245 & C1245 & D1245)","v":"---"},null,null,"---","---","CONDITIONAL","CONDITIONAL","CONDITIONAL"]
["'[Asphalt Mix Design - Template (20260115 1305 BC).xlsm]","Agg - Coarse'!","F",67,"Agg 2 - Clay Lumps",null,null,null,"Date Tested",null,null,{"$f":"INDIRECT(\"'\" & B1246 & C1246 & D1246)","v":"00:00:00"},null,null,"00:00:00","00:00:00",false,"CONDITIONAL",false]
["'[Asphalt Mix Design - Template (20260115 1305 BC).xlsm]","Agg - Coarse'!","F",68,"Agg 2 - Clay Lumps","Rep 1",null,null,"Wt Original Test Sample, g","g","g",{"$f":"INDIRECT(\"'\" & B1247 & C1247 & D1247)","v":0},null,null,0,0,false,false,false]
["'[Asphalt Mix Design - Template (20260115 1305 BC).xlsm]","Agg - Coarse'!","F",69,"Agg 2 - Clay Lumps","Rep 1",null,null,"Wt Retained, No. 8 Sieve, g","g","g",{"$f":"INDIRECT(\"'\" & B1248 & C1248 & D1248)","v":0},null,null,0,0,false,false,false]
["'[Asphalt Mix Design - Template (20260115 1305 BC).xlsm]","Agg - Coarse'!","F",70,"Agg 2 - Clay Lumps","Rep 1",null,null,"Clay Lumps & Friable Particles, %","%","%",{"$f":"INDIRECT(\"'\" & B1249 & C1249 & D1249)","v":"---"},null,null,"---","---",false,"CONDITIONAL",false]
["'[Asphalt Mix Design - Template (20260115 1305 BC).xlsm]","Agg - Coarse'!","G",68,"Agg 2 - Clay Lumps","Rep 2",null,null,"Wt Original Test Sample, g","g","g",{"$f":"INDIRECT(\"'\" & B1250 & C1250 & D1250)","v":0},null,null,0,0,false,false,false]
["'[Asphalt Mix Design - Template (20260115 1305 BC).xlsm]","Agg - Coarse'!","G",69,"Agg 2 - Clay Lumps","Rep 2",null,null,"Wt Retained, No. 8 Sieve, g","g","g",{"$f":"INDIRECT(\"'\" & B1251 & C1251 & D1251)","v":0},null,null,0,0,false,false,false]
["'[Asphalt Mix Design - Template (20260115 1305 BC).xlsm]","Agg - Coarse'!","G",70,"Agg 2 - Clay Lumps","Rep 2",null,null,"Clay Lumps & Friable Particles, %","%","%",{"$f":"INDIRECT(\"'\" & B1252 & C1252 & D1252)","v":"---"},null,null,"---","---",false,"CONDITIONAL",false]
["'[Asphalt Mix Design - Template (20260115 1305 BC).xlsm]","Agg - Coarse'!","F",71,"Agg 2 - Clay Lumps","Avg",null,null,"Avg Clay Lumps, %","%","%",{"$f":"INDIRECT(\"'\" & B1253 & C1253 & D1253)","v":"---"},null,null,"---","---","CONDITIONAL","CONDITIONAL","CONDITIONAL"]
["'[Asphalt Mix Design - Template (20260115 1305 BC).xlsm]","Agg - Coarse'!","H",7,"Agg 3",null,null,null,"Aggreagte ID",null,null,{"$f":"INDIRECT(\"'\" & B1254 & C1254 & D1254)","v":"---"},null,null,"---","---",false,"CONDITIONAL","CONDITIONAL"]
["'[Asphalt Mix Design - Template (20260115 1305 BC).xlsm]","Agg - Coarse'!","H",8,"Agg 3",null,null,null,"Percent of Agg Blend, %","%","%",{"$f":"INDIRECT(\"'\" & B1255 & C1255 & D1255)","v":"---"},null,null,"---","---",false,"CONDITIONAL",false]
["'[Asphalt Mix Design - Template (20260115 1305 BC).xlsm]","Agg - Coarse'!","H",9,"Agg 3",null,null,null,"Percent Passing No. 4, %","%","%",{"$f":"INDIRECT(\"'\" & B1256 & C1256 & D1256)","v":"---"},null,null,"---","---",false,"CONDITIONAL",false]
["'[Asphalt Mix Design - Template (20260115 1305 BC).xlsm]","Agg - Coarse'!","H",10,"Agg 3",null,null,null,"Aggregate Size Class",null,null,{"$f":"INDIRECT(\"'\" & B1257 & C1257 & D1257)","v":"---"},null,null,"---","---",false,"CONDITIONAL",false]
["'[Asphalt Mix Design - Template (20260115 1305 BC).xlsm]","Agg - Coarse'!","H",12,"Agg 3 - LA Abrasion",null,null,null,"Date Tested",null,null,{"$f":"INDIRECT(\"'\" & B1258 & C1258 & D1258)","v":"00:00:00"},null,null,"00:00:00","00:00:00",false,"CONDITIONAL",false]
["'[Asphalt Mix Design - Template (20260115 1305 BC).xlsm]","Agg - Coarse'!","H",13,"Agg 3 - LA Abrasion","Rep 1",null,null,"Grading",null,null,{"$f":"INDIRECT(\"'\" & B1259 & C1259 & D1259)","v":0},null,null,0,0,false,"CONDITIONAL",false]
["'[Asphalt Mix Design - Template (20260115 1305 BC).xlsm]","Agg - Coarse'!","H",14,"Agg 3 - LA Abrasion","Rep 1",null,null,"Wt Original Test Sample, g","g","g",{"$f":"INDIRECT(\"'\" & B1260 & C1260 & D1260)","v":0},null,null,0,0,false,"CONDITIONAL",false]
["'[Asphalt Mix Design - Template (20260115 1305 BC).xlsm]","Agg - Coarse'!","H",15,"Agg 3 - LA Abrasion","Rep 1",null,null,"Wt Final Test Sample, g","g","g",{"$f":"INDIRECT(\"'\" & B1261 & C1261 & D1261)","v":0},null,null,0,0,false,"CONDITIONAL",false]
["'[Asphalt Mix Design - Template (20260115 1305 BC).xlsm]","Agg - Coarse'!","H",16,"Agg 3 - LA Abrasion","Rep 1",null,null,"LA Abrasion Loss, %","%","%",{"$f":"INDIRECT(\"'\" & B1262 & C1262 & D1262)","v":"---"},null,null,"---","---",false,"CONDITIONAL",false]
["'[Asphalt Mix Design - Template (20260115 1305 BC).xlsm]","Agg - Coarse'!","I",13,"Agg 3 - LA Abrasion","Rep 2",null,null,"Grading",null,null,{"$f":"INDIRECT(\"'\" & B1263 & C1263 & D1263)","v":0},null,null,0,0,false,"CONDITIONAL",false]
["'[Asphalt Mix Design - Template (20260115 1305 BC).xlsm]","Agg - Coarse'!","I",14,"Agg 3 - LA Abrasion","Rep 2",null,null,"Wt Original Test Sample, g","g","g",{"$f":"INDIRECT(\"'\" & B1264 & C1264 & D1264)","v":0},null,null,0,0,false,"CONDITIONAL",false]
["'[Asphalt Mix Design - Template (20260115 1305 BC).xlsm]","Agg - Coarse'!","I",15,"Agg 3 - LA Abrasion","Rep 2",null,null,"Wt Final Test Sample, g","g","g",{"$f":"INDIRECT(\"'\" & B1265 & C1265 & D1265)","v":0},null,null,0,0,false,"CONDITIONAL",false]
["'[Asphalt Mix Design - Template (20260115 1305 BC).xlsm]","Agg - Coarse'!","I",16,"Agg 3 - LA Abrasion","Rep 2",null,null,"LA Abrasion Loss, %","%","%",{"$f":"INDIRECT(\"'\" & B1266 & C1266 & D1266)","v":"---"},null,null,"---","---",false,"CONDITIONAL",false]
["'[Asphalt Mix Design - Template (20260115 1305 BC).xlsm]","Agg - Coarse'!","H",17,"Agg 3 - LA Abrasion","Avg",null,null,"LA Abrasion Loss, %","%","%",{"$f":"INDIRECT(\"'\" & B1267 & C1267 & D1267)","v":"---"},null,null,"---","---","CONDITIONAL","CONDITIONAL","CONDITIONAL"]
["'[Asphalt Mix Design - Template (20260115 1305 BC).xlsm]","Agg - Coarse'!","AJ",6,"Agg 3 - Soundness",null,null,null,"Solution",null,null,{"$f":"INDIRECT(\"'\" & B1268 & C1268 & D1268)","v":1},null,{"$f":"IF(L1268=1,\"Magnesium Sulfate\",IF(L1268=2,\"Sodium Sulfate\",\"Error\"))","v":"Magnesium Sulfate"},"Magnesium Sulfate","Magnesium Sulfate",false,"CONDITIONAL",false]
["'[Asphalt Mix Design - Template (20260115 1305 BC).xlsm]","Agg - Coarse'!","H",18,"Agg 3 - Soundness",null,null,null,"Date Tested",null,null,{"$f":"INDIRECT(\"'\" & B1269 & C1269 & D1269)","v":"00:00:00"},null,null,"00:00:00","00:00:00",false,"CONDITIONAL",false]
["'[Asphalt Mix Design - Template (20260115 1305 BC).xlsm]","Agg - Coarse'!","H",19,"Agg 3 - Soundness",null,null,null,"1-1/2\" to 3/4\" -- Size Fraction, % of +#4","%","%",{"$f":"INDIRECT(\"'\" & B1270 & C1270 & D1270)","v":"---"},null,null,"---","---",false,"CONDITIONAL",false]
["'[Asphalt Mix Design - Template (20260115 1305 BC).xlsm]","Agg - Coarse'!","H",20,"Agg 3 - Soundness","Rep 1",null,null,"1-1/2\" to 3/4\" -- Wt Original Test Sample, g","g","g",{"$f":"INDIRECT(\"'\" & B1271 & C1271 & D1271)","v":0},null,null,0,0,false,false,false]
["'[Asphalt Mix Design - Template (20260115 1305 BC).xlsm]","Agg - Coarse'!","H",21,"Agg 3 - Soundness","Rep 1",null,null,"1-1/2\" to 3/4\" -- Wt Retained, No #, g","g","g",{"$f":"INDIRECT(\"'\" & B1272 & C1272 & D1272)","v":0},null,null,0,0,false,false,false]
["'[Asphalt Mix Design - Template (20260115 1305 BC).xlsm]","Agg - Coarse'!","H",22,"Agg 3 - Soundness","Rep 1",null,null,"1-1/2\" to 3/4\" -- Percent Passing, %","%","%",{"$f":"INDIRECT(\"'\" & B1273 & C1273 & D1273)","v":"---"},null,null,"---","---",false,false,false]
["'[Asphalt Mix Design - Template (20260115 1305 BC).xlsm]","Agg - Coarse'!","I",20,"Agg 3 - Soundness","Rep 2",null,null,"1-1/2\" to 3/4\" -- Wt Original Test Sample, g","g","g",{"$f":"INDIRECT(\"'\" & B1274 & C1274 & D1274)","v":0},null,null,0,0,false,false,false]
["'[Asphalt Mix Design - Template (20260115 1305 BC).xlsm]","Agg - Coarse'!","I",21,"Agg 3 - Soundness","Rep 2",null,null,"1-1/2\" to 3/4\" -- Wt Retained, No #, g","g","g",{"$f":"INDIRECT(\"'\" & B1275 & C1275 & D1275)","v":0},null,null,0,0,false,false,false]
["'[Asphalt Mix Design - Template (20260115 1305 BC).xlsm]","Agg - Coarse'!","I",22,"Agg 3 - Soundness","Rep 2",null,null,"1-1/2\" to 3/4\" -- Percent Passing, %","%","%",{"$f":"INDIRECT(\"'\" & B1276 & C1276 & D1276)","v":"---"},null,null,"---","---",false,false,false]
["'[Asphalt Mix Design - Template (20260115 1305 BC).xlsm]","Agg - Coarse'!","H",23,"Agg 3 - Soundness","Avg",null,null,"1-1/2\" to 3/4\" -- Avg Percent Passing, %","%","%",{"$f":"INDIRECT(\"'\" & B1277 & C1277 & D1277)","v":"---"},null,null,"---","---",false,"CONDITIONAL",false]
["'[Asphalt Mix Design - Template (20260115 1305 BC).xlsm]","Agg - Coarse'!","H",24,"Agg 3 - Soundness",null,null,null,"3/4\" to 3/8\" -- Size Fraction, % of +#4","%","%",{"$f":"INDIRECT(\"'\" & B1278 & C1278 & D1278)","v":"---"},null,null,"---","---",false,"CONDITIONAL",false]
["'[Asphalt Mix Design - Template (20260115 1305 BC).xlsm]","Agg - Coarse'!","H",25,"Agg 3 - Soundness","Rep 1",null,null,"3/4\" to 3/8\" -- Wt Original Test Sample, g","g","g",{"$f":"INDIRECT(\"'\" & B1279 & C1279 & D1279)","v":0},null,null,0,0,false,false,false]
["'[Asphalt Mix Design - Template (20260115 1305 BC).xlsm]","Agg - Coarse'!","H",26,"Agg 3 - Soundness","Rep 1",null,null,"3/4\" to 3/8\" -- Wt Retained, No #, g","g","g",{"$f":"INDIRECT(\"'\" & B1280 & C1280 & D1280)","v":0},null,null,0,0,false,false,false]
["'[Asphalt Mix Design - Template (20260115 1305 BC).xlsm]","Agg - Coarse'!","H",27,"Agg 3 - Soundness","Rep 1",null,null,"3/4\" to 3/8\" -- Percent Passing, %","%","%",{"$f":"INDIRECT(\"'\" & B1281 & C1281 & D1281)","v":"---"},null,null,"---","---",false,false,false]
["'[Asphalt Mix Design - Template (20260115 1305 BC).xlsm]","Agg - Coarse'!","I",25,"Agg 3 - Soundness","Rep 2",null,null,"3/4\" to 3/8\" -- Wt Original Test Sample, g","g","g",{"$f":"INDIRECT(\"'\" & B1282 & C1282 & D1282)","v":0},null,null,{"$f":"IF(ISBLANK(N1282),L1282,N1282)","v":0},{"$f":"IF(ISBLANK(N1282),IF(OR(ISBLANK(M1282),ISERROR(M1282)),L1282,M1282),N1282)","v":0},false,false,false]
["'[Asphalt Mix Design - Template (20260115 1305 BC).xlsm]","Agg - Coarse'!","I",26,"Agg 3 - Soundness","Rep 2",null,null,"3/4\" to 3/8\" -- Wt Retained, No #, g","g","g",{"$f":"INDIRECT(\"'\" & B1283 & C1283 & D1283)","v":0},null,null,0,0,false,false,false]
["'[Asphalt Mix Design - Template (20260115 1305 BC).xlsm]","Agg - Coarse'!","I",27,"Agg 3 - Soundness","Rep 2",null,null,"3/4\" to 3/8\" -- Percent Passing, %","%","%",{"$f":"INDIRECT(\"'\" & B1284 & C1284 & D1284)","v":"---"},null,null,"---","---",false,false,false]
["'[Asphalt Mix Design - Template (20260115 1305 BC).xlsm]","Agg - Coarse'!","H",28,"Agg 3 - Soundness","Avg",null,null,"3/4\" to 3/8\" -- Avg Percent Passing, %","%","%",{"$f":"INDIRECT(\"'\" & B1285 & C1285 & D1285)","v":"---"},null,null,"---","---",false,"CONDITIONAL",false]
["'[Asphalt Mix Design - Template (20260115 1305 BC).xlsm]","Agg - Coarse'!","H",29,"Agg 3 - Soundness",null,null,null,"3/8\" to #4 -- Size Fraction, % of +#4","%","%",{"$f":"INDIRECT(\"'\" & B1286 & C1286 & D1286)","v":"---"},null,null,"---","---",false,"CONDITIONAL",false]
["'[Asphalt Mix Design - Template (20260115 1305 BC).xlsm]","Agg - Coarse'!","H",30,"Agg 3 - Soundness","Rep 1",null,null,"3/8\" to #4 -- Wt Original Test Sample, g","g","g",{"$f":"INDIRECT(\"'\" & B1287 & C1287 & D1287)","v":0},null,null,0,0,false,false,false]
["'[Asphalt Mix Design - Template (20260115 1305 BC).xlsm]","Agg - Coarse'!","H",31,"Agg 3 - Soundness","Rep 1",null,null,"3/8\" to #4 -- Wt Retained, No #, g","g","g",{"$f":"INDIRECT(\"'\" & B1288 & C1288 & D1288)","v":0},null,null,0,0,false,false,false]
["'[Asphalt Mix Design - Template (20260115 1305 BC).xlsm]","Agg - Coarse'!","H",32,"Agg 3 - Soundness","Rep 1",null,null,"3/8\" to #4 -- Percent Passing, %","%","%",{"$f":"INDIRECT(\"'\" & B1289 & C1289 & D1289)","v":"---"},null,null,"---","---",false,false,false]
["'[Asphalt Mix Design - Template (20260115 1305 BC).xlsm]","Agg - Coarse'!","I",30,"Agg 3 - Soundness","Rep 2",null,null,"3/8\" to #4 -- Wt Original Test Sample, g","g","g",{"$f":"INDIRECT(\"'\" & B1290 & C1290 & D1290)","v":0},null,null,0,0,false,false,false]
["'[Asphalt Mix Design - Template (20260115 1305 BC).xlsm]","Agg - Coarse'!","I",31,"Agg 3 - Soundness","Rep 2",null,null,"3/8\" to #4 -- Wt Retained, No #, g","g","g",{"$f":"INDIRECT(\"'\" & B1291 & C1291 & D1291)","v":0},null,null,0,0,false,false,false]
["'[Asphalt Mix Design - Template (20260115 1305 BC).xlsm]","Agg - Coarse'!","I",32,"Agg 3 - Soundness","Rep 2",null,null,"3/8\" to #4 -- Percent Passing, %","%","%",{"$f":"INDIRECT(\"'\" & B1292 & C1292 & D1292)","v":"---"},null,null,"---","---",false,false,false]
["'[Asphalt Mix Design - Template (20260115 1305 BC).xlsm]","Agg - Coarse'!","H",33,"Agg 3 - Soundness","Avg",null,null,"3/8\" to #4 -- Avg Percent Passing, %","%","%",{"$f":"INDIRECT(\"'\" & B1293 & C1293 & D1293)","v":"---"},null,null,"---","---",false,"CONDITIONAL",false]
["'[Asphalt Mix Design - Template (20260115 1305 BC).xlsm]","Agg - Coarse'!","H",34,"Agg 3 - Soundness","Avg",null,null,"Weighted Mass Loss, %","%","%",{"$f":"INDIRECT(\"'\" & B1294 & C1294 & D1294)","v":"---"},null,null,"---","---","CONDITIONAL","CONDITIONAL",false]
["'[Asphalt Mix Design - Template (20260115 1305 BC).xlsm]","Agg - Coarse'!","H",35,"Agg 3 - Fractured Faces",null,null,null,"Date Tested",null,null,{"$f":"INDIRECT(\"'\" & B1295 & C1295 & D1295)","v":"00:00:00"},null,null,"00:00:00","00:00:00",false,"CONDITIONAL",false]
["'[Asphalt Mix Design - Template (20260115 1305 BC).xlsm]","Agg - Coarse'!","H",36,"Agg 3 - Fractured Faces","Rep 1",null,null,"Wt Original Test Sample, g","g","g",{"$f":"INDIRECT(\"'\" & B1296 & C1296 & D1296)","v":0},null,null,0,0,false,false,false]
["'[Asphalt Mix Design - Template (20260115 1305 BC).xlsm]","Agg - Coarse'!","H",37,"Agg 3 - Fractured Faces","Rep 1",null,null,"Wt 2+ Fractured Faces, g","g","g",{"$f":"INDIRECT(\"'\" & B1297 & C1297 & D1297)","v":0},null,null,0,0,false,false,false]
["'[Asphalt Mix Design - Template (20260115 1305 BC).xlsm]","Agg - Coarse'!","H",38,"Agg 3 - Fractured Faces","Rep 1",null,null,"Wt Remaining Particles, g","g","g",{"$f":"INDIRECT(\"'\" & B1298 & C1298 & D1298)","v":"---"},null,null,"---","---",false,false,false]
["'[Asphalt Mix Design - Template (20260115 1305 BC).xlsm]","Agg - Coarse'!","H",39,"Agg 3 - Fractured Faces","Rep 1",null,null,"Two Fractured Faces, %","%","%",{"$f":"INDIRECT(\"'\" & B1299 & C1299 & D1299)","v":"---"},null,null,"---","---",false,"CONDITIONAL",false]
["'[Asphalt Mix Design - Template (20260115 1305 BC).xlsm]","Agg - Coarse'!","I",36,"Agg 3 - Fractured Faces","Rep 2",null,null,"Wt Original Test Sample, g","g","g",{"$f":"INDIRECT(\"'\" & B1300 & C1300 & D1300)","v":0},null,null,0,0,false,false,false]
["'[Asphalt Mix Design - Template (20260115 1305 BC).xlsm]","Agg - Coarse'!","I",37,"Agg 3 - Fractured Faces","Rep 2",null,null,"Wt 2+ Fractured Faces, g","g","g",{"$f":"INDIRECT(\"'\" & B1301 & C1301 & D1301)","v":0},null,null,0,0,false,false,false]
["'[Asphalt Mix Design - Template (20260115 1305 BC).xlsm]","Agg - Coarse'!","I",38,"Agg 3 - Fractured Faces","Rep 2",null,null,"Wt Remaining Particles, g","g","g",{"$f":"INDIRECT(\"'\" & B1302 & C1302 & D1302)","v":"---"},null,null,"---","---",false,false,false]
["'[Asphalt Mix Design - Template (20260115 1305 BC).xlsm]","Agg - Coarse'!","I",39,"Agg 3 - Fractured Faces","Rep 2",null,null,"Two Fractured Faces, %","%","%",{"$f":"INDIRECT(\"'\" & B1303 & C1303 & D1303)","v":"---"},null,null,"---","---",false,"CONDITIONAL",false]
["'[Asphalt Mix Design - Template (20260115 1305 BC).xlsm]","Agg - Coarse'!","H",40,"Agg 3 - Fractured Faces","Avg",null,null,"Avg Two Fractured Faces, %","%","%",{"$f":"INDIRECT(\"'\" & B1304 & C1304 & D1304)","v":"---"},null,null,"---","---","CONDITIONAL","CONDITIONAL","CONDITIONAL"]
["'[Asphalt Mix Design - Template (20260115 1305 BC).xlsm]","Agg - Coarse'!","H",41,"Agg 3 - F&E",null,null,null,"Date Tested",null,null,{"$f":"INDIRECT(\"'\" & B1305 & C1305 & D1305)","v":"00:00:00"},null,null,"00:00:00","00:00:00",false,"CONDITIONAL",false]
["'[Asphalt Mix Design - Template (20260115 1305 BC).xlsm]","Agg - Coarse'!","H",42,"Agg 3 - F&E",null,null,null,"1\" to 3/4\" -- Size Fraction, % of Agg","%","%",{"$f":"INDIRECT(\"'\" & B1306 & C1306 & D1306)","v":0},null,null,0,0,false,"CONDITIONAL",false]
["'[Asphalt Mix Design - Template (20260115 1305 BC).xlsm]","Agg - Coarse'!","H",43,"Agg 3 - F&E","Rep 1",null,null,"1\" to 3/4\" -- No. Particles",null,null,{"$f":"INDIRECT(\"'\" & B1307 & C1307 & D1307)","v":0},null,null,0,0,false,false,false]
["'[Asphalt Mix Design - Template (20260115 1305 BC).xlsm]","Agg - Coarse'!","H",44,"Agg 3 - F&E","Rep 1",null,null,"1\" to 3/4\" -- Wt Original Test Sample, g","g","g",{"$f":"INDIRECT(\"'\" & B1308 & C1308 & D1308)","v":0},null,null,0,0,false,false,false]
["'[Asphalt Mix Design - Template (20260115 1305 BC).xlsm]","Agg - Coarse'!","H",45,"Agg 3 - F&E","Rep 1",null,null,"1\" to 3/4\" -- Wt Flat & Elongated (5:1), g","g","g",{"$f":"INDIRECT(\"'\" & B1309 & C1309 & D1309)","v":0},null,null,0,0,false,false,false]
["'[Asphalt Mix Design - Template (20260115 1305 BC).xlsm]","Agg - Coarse'!","H",46,"Agg 3 - F&E","Rep 1",null,null,"1\" to 3/4\" -- Flat & Elongated (5:1), %","%","%",{"$f":"INDIRECT(\"'\" & B1310 & C1310 & D1310)","v":"---"},null,null,"---","---",false,false,false]
["'[Asphalt Mix Design - Template (20260115 1305 BC).xlsm]","Agg - Coarse'!","I",43,"Agg 3 - F&E","Rep 2",null,null,"1\" to 3/4\" -- No. Particles",null,null,{"$f":"INDIRECT(\"'\" & B1311 & C1311 & D1311)","v":0},null,null,0,0,false,false,false]
["'[Asphalt Mix Design - Template (20260115 1305 BC).xlsm]","Agg - Coarse'!","I",44,"Agg 3 - F&E","Rep 2",null,null,"1\" to 3/4\" -- Wt Original Test Sample, g","g","g",{"$f":"INDIRECT(\"'\" & B1312 & C1312 & D1312)","v":0},null,null,0,0,false,false,false]
["'[Asphalt Mix Design - Template (20260115 1305 BC).xlsm]","Agg - Coarse'!","I",45,"Agg 3 - F&E","Rep 2",null,null,"1\" to 3/4\" -- Wt Flat & Elongated (5:1), g","g","g",{"$f":"INDIRECT(\"'\" & B1313 & C1313 & D1313)","v":0},null,null,0,0,false,false,false]
["'[Asphalt Mix Design - Template (20260115 1305 BC).xlsm]","Agg - Coarse'!","I",46,"Agg 3 - F&E","Rep 2",null,null,"1\" to 3/4\" -- Flat & Elongated (5:1), %","%","%",{"$f":"INDIRECT(\"'\" & B1314 & C1314 & D1314)","v":"---"},null,null,"---","---",false,false,false]
["'[Asphalt Mix Design - Template (20260115 1305 BC).xlsm]","Agg - Coarse'!","H",47,"Agg 3 - F&E","Avg",null,null,"1\" to 3/4\" -- Avg F&E (5:1), %","%","%",{"$f":"INDIRECT(\"'\" & B1315 & C1315 & D1315)","v":"---"},null,null,"---","---",false,"CONDITIONAL",false]
["'[Asphalt Mix Design - Template (20260115 1305 BC).xlsm]","Agg - Coarse'!","H",48,"Agg 3 - F&E",null,null,null,"3/4\" to 1/2\" -- Size Fraction, % of Agg","%","%",{"$f":"INDIRECT(\"'\" & B1316 & C1316 & D1316)","v":0},null,null,0,0,false,"CONDITIONAL",false]
["'[Asphalt Mix Design - Template (20260115 1305 BC).xlsm]","Agg - Coarse'!","H",49,"Agg 3 - F&E","Rep 1",null,null,"3/4\" to 1/2\" -- No. Particles",null,null,{"$f":"INDIRECT(\"'\" & B1317 & C1317 & D1317)","v":0},null,null,0,0,false,false,false]
["'[Asphalt Mix Design - Template (20260115 1305 BC).xlsm]","Agg - Coarse'!","H",50,"Agg 3 - F&E","Rep 1",null,null,"3/4\" to 1/2\" -- Wt Original Test Sample, g","g","g",{"$f":"INDIRECT(\"'\" & B1318 & C1318 & D1318)","v":0},null,null,0,0,false,false,false]
["'[Asphalt Mix Design - Template (20260115 1305 BC).xlsm]","Agg - Coarse'!","H",51,"Agg 3 - F&E","Rep 1",null,null,"3/4\" to 1/2\" -- Wt Flat & Elongated (5:1), g","g","g",{"$f":"INDIRECT(\"'\" & B1319 & C1319 & D1319)","v":0},null,null,0,0,false,false,false]
["'[Asphalt Mix Design - Template (20260115 1305 BC).xlsm]","Agg - Coarse'!","H",52,"Agg 3 - F&E","Rep 1",null,null,"3/4\" to 1/2\" -- Flat & Elongated (5:1), %","%","%",{"$f":"INDIRECT(\"'\" & B1320 & C1320 & D1320)","v":"---"},null,null,"---","---",false,false,false]
["'[Asphalt Mix Design - Template (20260115 1305 BC).xlsm]","Agg - Coarse'!","I",49,"Agg 3 - F&E","Rep 2",null,null,"3/4\" to 1/2\" -- No. Particles",null,null,{"$f":"INDIRECT(\"'\" & B1321 & C1321 & D1321)","v":0},null,null,0,0,false,false,false]
["'[Asphalt Mix Design - Template (20260115 1305 BC).xlsm]","Agg - Coarse'!","I",50,"Agg 3 - F&E","Rep 2",null,null,"3/4\" to 1/2\" -- Wt Original Test Sample, g","g","g",{"$f":"INDIRECT(\"'\" & B1322 & C1322 & D1322)","v":0},null,null,0,0,false,false,false]
["'[Asphalt Mix Design - Template (20260115 1305 BC).xlsm]","Agg - Coarse'!","I",51,"Agg 3 - F&E","Rep 2",null,null,"3/4\" to 1/2\" -- Wt Flat & Elongated (5:1), g","g","g",{"$f":"INDIRECT(\"'\" & B1323 & C1323 & D1323)","v":0},null,null,0,0,false,false,false]
["'[Asphalt Mix Design - Template (20260115 1305 BC).xlsm]","Agg - Coarse'!","I",52,"Agg 3 - F&E","Rep 2",null,null,"3/4\" to 1/2\" -- Flat & Elongated (5:1), %","%","%",{"$f":"INDIRECT(\"'\" & B1324 & C1324 & D1324)","v":"---"},null,null,"---","---",false,false,false]
["'[Asphalt Mix Design - Template (20260115 1305 BC).xlsm]","Agg - Coarse'!","H",53,"Agg 3 - F&E","Avg",null,null,"3/4\" to 1/2\" -- Avg F&E (5:1), %","%","%",{"$f":"INDIRECT(\"'\" & B1325 & C1325 & D1325)","v":"---"},null,null,"---","---",false,"CONDITIONAL",false]
["'[Asphalt Mix Design - Template (20260115 1305 BC).xlsm]","Agg - Coarse'!","H",54,"Agg 3 - F&E",null,null,null,"1/2\" to 3/8\" -- Size Fraction, % of Agg","%","%",{"$f":"INDIRECT(\"'\" & B1326 & C1326 & D1326)","v":0},null,null,0,0,false,"CONDITIONAL",false]
["'[Asphalt Mix Design - Template (20260115 1305 BC).xlsm]","Agg - Coarse'!","H",55,"Agg 3 - F&E","Rep 1",null,null,"1/2\" to 3/8\" -- No. Particles",null,null,{"$f":"INDIRECT(\"'\" & B1327 & C1327 & D1327)","v":0},null,null,0,0,false,false,false]
["'[Asphalt Mix Design - Template (20260115 1305 BC).xlsm]","Agg - Coarse'!","H",56,"Agg 3 - F&E","Rep 1",null,null,"1/2\" to 3/8\" -- Wt Original Test Sample, g","g","g",{"$f":"INDIRECT(\"'\" & B1328 & C1328 & D1328)","v":0},null,null,0,0,false,false,false]
["'[Asphalt Mix Design - Template (20260115 1305 BC).xlsm]","Agg - Coarse'!","H",57,"Agg 3 - F&E","Rep 1",null,null,"1/2\" to 3/8\" -- Wt Flat & Elongated (5:1), g","g","g",{"$f":"INDIRECT(\"'\" & B1329 & C1329 & D1329)","v":0},null,null,0,0,false,false,false]
["'[Asphalt Mix Design - Template (20260115 1305 BC).xlsm]","Agg - Coarse'!","H",58,"Agg 3 - F&E","Rep 1",null,null,"1/2\" to 3/8\" -- Flat & Elongated (5:1), %","%","%",{"$f":"INDIRECT(\"'\" & B1330 & C1330 & D1330)","v":"---"},null,null,"---","---",false,false,false]
["'[Asphalt Mix Design - Template (20260115 1305 BC).xlsm]","Agg - Coarse'!","I",55,"Agg 3 - F&E","Rep 2",null,null,"1/2\" to 3/8\" -- No. Particles",null,null,{"$f":"INDIRECT(\"'\" & B1331 & C1331 & D1331)","v":0},null,null,0,0,false,false,false]
["'[Asphalt Mix Design - Template (20260115 1305 BC).xlsm]","Agg - Coarse'!","I",56,"Agg 3 - F&E","Rep 2",null,null,"1/2\" to 3/8\" -- Wt Original Test Sample, g","g","g",{"$f":"INDIRECT(\"'\" & B1332 & C1332 & D1332)","v":0},null,null,0,0,false,false,false]
["'[Asphalt Mix Design - Template (20260115 1305 BC).xlsm]","Agg - Coarse'!","I",57,"Agg 3 - F&E","Rep 2",null,null,"1/2\" to 3/8\" -- Wt Flat & Elongated (5:1), g","g","g",{"$f":"INDIRECT(\"'\" & B1333 & C1333 & D1333)","v":0},null,null,0,0,false,false,false]
["'[Asphalt Mix Design - Template (20260115 1305 BC).xlsm]","Agg - Coarse'!","I",58,"Agg 3 - F&E","Rep 2",null,null,"1/2\" to 3/8\" -- Flat & Elongated (5:1), %","%","%",{"$f":"INDIRECT(\"'\" & B1334 & C1334 & D1334)","v":"---"},null,null,"---","---",false,false,false]
["'[Asphalt Mix Design - Template (20260115 1305 BC).xlsm]","Agg - Coarse'!","H",59,"Agg 3 - F&E","Avg",null,null,"1/2\" to 3/8\" -- Avg F&E (5:1), %","%","%",{"$f":"INDIRECT(\"'\" & B1335 & C1335 & D1335)","v":"---"},null,null,"---","---",false,"CONDITIONAL",false]
["'[Asphalt Mix Design - Template (20260115 1305 BC).xlsm]","Agg - Coarse'!","H",60,"Agg 3 - F&E",null,null,null,"3/8\" to #4 -- Size Fraction, % of Agg","%","%",{"$f":"INDIRECT(\"'\" & B1336 & C1336 & D1336)","v":0},null,null,0,0,false,"CONDITIONAL",false]
["'[Asphalt Mix Design - Template (20260115 1305 BC).xlsm]","Agg - Coarse'!","H",61,"Agg 3 - F&E","Rep 1",null,null,"3/8\" to #4 -- No. Particles",null,null,{"$f":"INDIRECT(\"'\" & B1337 & C1337 & D1337)","v":0},null,null,0,0,false,false,false]
["'[Asphalt Mix Design - Template (20260115 1305 BC).xlsm]","Agg - Coarse'!","H",62,"Agg 3 - F&E","Rep 1",null,null,"3/8\" to #4 -- Wt Original Test Sample, g","g","g",{"$f":"INDIRECT(\"'\" & B1338 & C1338 & D1338)","v":0},null,null,0,0,false,false,false]
["'[Asphalt Mix Design - Template (20260115 1305 BC).xlsm]","Agg - Coarse'!","H",63,"Agg 3 - F&E","Rep 1",null,null,"3/8\" to #4 -- Wt Flat & Elongated (5:1), g","g","g",{"$f":"INDIRECT(\"'\" & B1339 & C1339 & D1339)","v":0},null,null,0,0,false,false,false]
["'[Asphalt Mix Design - Template (20260115 1305 BC).xlsm]","Agg - Coarse'!","H",64,"Agg 3 - F&E","Rep 1",null,null,"3/8\" to #4 -- Flat & Elongated (5:1), %","%","%",{"$f":"INDIRECT(\"'\" & B1340 & C1340 & D1340)","v":"---"},null,null,"---","---",false,false,false]
["'[Asphalt Mix Design - Template (20260115 1305 BC).xlsm]","Agg - Coarse'!","I",61,"Agg 3 - F&E","Rep 2",null,null,"3/8\" to #4 -- No. Particles",null,null,{"$f":"INDIRECT(\"'\" & B1341 & C1341 & D1341)","v":0},null,null,0,0,false,false,false]
["'[Asphalt Mix Design - Template (20260115 1305 BC).xlsm]","Agg - Coarse'!","I",62,"Agg 3 - F&E","Rep 2",null,null,"3/8\" to #4 -- Wt Original Test Sample, g","g","g",{"$f":"INDIRECT(\"'\" & B1342 & C1342 & D1342)","v":0},null,null,0,0,false,false,false]
["'[Asphalt Mix Design - Template (20260115 1305 BC).xlsm]","Agg - Coarse'!","I",63,"Agg 3 - F&E","Rep 2",null,null,"3/8\" to #4 -- Wt Flat & Elongated (5:1), g","g","g",{"$f":"INDIRECT(\"'\" & B1343 & C1343 & D1343)","v":0},null,null,0,0,false,false,false]
["'[Asphalt Mix Design - Template (20260115 1305 BC).xlsm]","Agg - Coarse'!","I",64,"Agg 3 - F&E","Rep 2",null,null,"3/8\" to #4 -- Flat & Elongated (5:1), %","%","%",{"$f":"INDIRECT(\"'\" & B1344 & C1344 & D1344)","v":"---"},null,null,"---","---",false,false,false]
["'[Asphalt Mix Design - Template (20260115 1305 BC).xlsm]","Agg - Coarse'!","H",65,"Agg 3 - F&E","Avg",null,null,"3/8\" to #4 -- Avg F&E (5:1), %","%","%",{"$f":"INDIRECT(\"'\" & B1345 & C1345 & D1345)","v":"---"},null,null,"---","---",false,"CONDITIONAL",false]
["'[Asphalt Mix Design - Template (20260115 1305 BC).xlsm]","Agg - Coarse'!","H",66,"Agg 3 - F&E","Avg",null,null,"Weighted Avg F&E (5:1), %","%","%",{"$f":"INDIRECT(\"'\" & B1346 & C1346 & D1346)","v":"---"},null,null,{"$f":"IF(ISBLANK(N1346),L1346,N1346)","v":"---"},{"$f":"IF(ISBLANK(N1346),IF(OR(ISBLANK(M1346),ISERROR(M1346)),L1346,M1346),N1346)","v":"---"},"CONDITIONAL","CONDITIONAL","CONDITIONAL"]
["'[Asphalt Mix Design - Template (20260115 1305 BC).xlsm]","Agg - Coarse'!","H",67,"Agg 3 - Clay Lumps",null,null,null,"Date Tested",null,null,{"$f":"INDIRECT(\"'\" & B1347 & C1347 & D1347)","v":"00:00:00"},null,null,"00:00:00","00:00:00",false,"CONDITIONAL",false]
["'[Asphalt Mix Design - Template (20260115 1305 BC).xlsm]","Agg - Coarse'!","H",68,"Agg 3 - Clay Lumps","Rep 1",null,null,"Wt Original Test Sample, g","g","g",{"$f":"INDIRECT(\"'\" & B1348 & C1348 & D1348)","v":0},null,null,0,0,false,false,false]
["'[Asphalt Mix Design - Template (20260115 1305 BC).xlsm]","Agg - Coarse'!","H",69,"Agg 3 - Clay Lumps","Rep 1",null,null,"Wt Retained, No. 8 Sieve, g","g","g",{"$f":"INDIRECT(\"'\" & B1349 & C1349 & D1349)","v":0},null,null,0,0,false,false,false]
["'[Asphalt Mix Design - Template (20260115 1305 BC).xlsm]","Agg - Coarse'!","H",70,"Agg 3 - Clay Lumps","Rep 1",null,null,"Clay Lumps & Friable Particles, %","%","%",{"$f":"INDIRECT(\"'\" & B1350 & C1350 & D1350)","v":"---"},null,null,"---","---",false,"CONDITIONAL",false]
["'[Asphalt Mix Design - Template (20260115 1305 BC).xlsm]","Agg - Coarse'!","I",68,"Agg 3 - Clay Lumps","Rep 2",null,null,"Wt Original Test Sample, g","g","g",{"$f":"INDIRECT(\"'\" & B1351 & C1351 & D1351)","v":0},null,null,0,0,false,false,false]
["'[Asphalt Mix Design - Template (20260115 1305 BC).xlsm]","Agg - Coarse'!","I",69,"Agg 3 - Clay Lumps","Rep 2",null,null,"Wt Retained, No. 8 Sieve, g","g","g",{"$f":"INDIRECT(\"'\" & B1352 & C1352 & D1352)","v":0},null,null,0,0,false,false,false]
["'[Asphalt Mix Design - Template (20260115 1305 BC).xlsm]","Agg - Coarse'!","I",70,"Agg 3 - Clay Lumps","Rep 2",null,null,"Clay Lumps & Friable Particles, %","%","%",{"$f":"INDIRECT(\"'\" & B1353 & C1353 & D1353)","v":"---"},null,null,"---","---",false,"CONDITIONAL",false]
["'[Asphalt Mix Design - Template (20260115 1305 BC).xlsm]","Agg - Coarse'!","H",71,"Agg 3 - Clay Lumps","Avg",null,null,"Avg Clay Lumps, %","%","%",{"$f":"INDIRECT(\"'\" & B1354 & C1354 & D1354)","v":"---"},null,null,"---","---","CONDITIONAL","CONDITIONAL","CONDITIONAL"]
["'[Asphalt Mix Design - Template (20260115 1305 BC).xlsm]","Agg - Coarse'!","J",7,"Agg 4",null,null,null,"Aggreagte ID",null,null,{"$f":"INDIRECT(\"'\" & B1355 & C1355 & D1355)","v":"---"},null,null,"---","---",false,"CONDITIONAL","CONDITIONAL"]
["'[Asphalt Mix Design - Template (20260115 1305 BC).xlsm]","Agg - Coarse'!","J",8,"Agg 4",null,null,null,"Percent of Agg Blend, %","%","%",{"$f":"INDIRECT(\"'\" & B1356 & C1356 & D1356)","v":"---"},null,null,"---","---",false,"CONDITIONAL",false]
["'[Asphalt Mix Design - Template (20260115 1305 BC).xlsm]","Agg - Coarse'!","J",9,"Agg 4",null,null,null,"Percent Passing No. 4, %","%","%",{"$f":"INDIRECT(\"'\" & B1357 & C1357 & D1357)","v":"---"},null,null,"---","---",false,"CONDITIONAL",false]
["'[Asphalt Mix Design - Template (20260115 1305 BC).xlsm]","Agg - Coarse'!","J",10,"Agg 4",null,null,null,"Aggregate Size Class",null,null,{"$f":"INDIRECT(\"'\" & B1358 & C1358 & D1358)","v":"---"},null,null,"---","---",false,"CONDITIONAL",false]
["'[Asphalt Mix Design - Template (20260115 1305 BC).xlsm]","Agg - Coarse'!","J",12,"Agg 4 - LA Abrasion",null,null,null,"Date Tested",null,null,{"$f":"INDIRECT(\"'\" & B1359 & C1359 & D1359)","v":"00:00:00"},null,null,"00:00:00","00:00:00",false,"CONDITIONAL",false]
["'[Asphalt Mix Design - Template (20260115 1305 BC).xlsm]","Agg - Coarse'!","J",13,"Agg 4 - LA Abrasion","Rep 1",null,null,"Grading",null,null,{"$f":"INDIRECT(\"'\" & B1360 & C1360 & D1360)","v":0},null,null,0,0,false,"CONDITIONAL",false]
["'[Asphalt Mix Design - Template (20260115 1305 BC).xlsm]","Agg - Coarse'!","J",14,"Agg 4 - LA Abrasion","Rep 1",null,null,"Wt Original Test Sample, g","g","g",{"$f":"INDIRECT(\"'\" & B1361 & C1361 & D1361)","v":0},null,null,0,0,false,"CONDITIONAL",false]
["'[Asphalt Mix Design - Template (20260115 1305 BC).xlsm]","Agg - Coarse'!","J",15,"Agg 4 - LA Abrasion","Rep 1",null,null,"Wt Final Test Sample, g","g","g",{"$f":"INDIRECT(\"'\" & B1362 & C1362 & D1362)","v":0},null,null,0,0,false,"CONDITIONAL",false]
["'[Asphalt Mix Design - Template (20260115 1305 BC).xlsm]","Agg - Coarse'!","J",16,"Agg 4 - LA Abrasion","Rep 1",null,null,"LA Abrasion Loss, %","%","%",{"$f":"INDIRECT(\"'\" & B1363 & C1363 & D1363)","v":"---"},null,null,"---","---",false,"CONDITIONAL",false]
["'[Asphalt Mix Design - Template (20260115 1305 BC).xlsm]","Agg - Coarse'!","K",13,"Agg 4 - LA Abrasion","Rep 2",null,null,"Grading",null,null,{"$f":"INDIRECT(\"'\" & B1364 & C1364 & D1364)","v":0},null,null,0,0,false,"CONDITIONAL",false]
["'[Asphalt Mix Design - Template (20260115 1305 BC).xlsm]","Agg - Coarse'!","K",14,"Agg 4 - LA Abrasion","Rep 2",null,null,"Wt Original Test Sample, g","g","g",{"$f":"INDIRECT(\"'\" & B1365 & C1365 & D1365)","v":0},null,null,0,0,false,"CONDITIONAL",false]
["'[Asphalt Mix Design - Template (20260115 1305 BC).xlsm]","Agg - Coarse'!","K",15,"Agg 4 - LA Abrasion","Rep 2",null,null,"Wt Final Test Sample, g","g","g",{"$f":"INDIRECT(\"'\" & B1366 & C1366 & D1366)","v":0},null,null,0,0,false,"CONDITIONAL",false]
["'[Asphalt Mix Design - Template (20260115 1305 BC).xlsm]","Agg - Coarse'!","K",16,"Agg 4 - LA Abrasion","Rep 2",null,null,"LA Abrasion Loss, %","%","%",{"$f":"INDIRECT(\"'\" & B1367 & C1367 & D1367)","v":"---"},null,null,"---","---",false,"CONDITIONAL",false]
["'[Asphalt Mix Design - Template (20260115 1305 BC).xlsm]","Agg - Coarse'!","J",17,"Agg 4 - LA Abrasion","Avg",null,null,"LA Abrasion Loss, %","%","%",{"$f":"INDIRECT(\"'\" & B1368 & C1368 & D1368)","v":"---"},null,null,"---","---","CONDITIONAL","CONDITIONAL","CONDITIONAL"]
["'[Asphalt Mix Design - Template (20260115 1305 BC).xlsm]","Agg - Coarse'!","AJ",6,"Agg 4 - Soundness",null,null,null,"Solution",null,null,{"$f":"INDIRECT(\"'\" & B1369 & C1369 & D1369)","v":1},null,{"$f":"IF(L1369=1,\"Magnesium Sulfate\",IF(L1369=2,\"Sodium Sulfate\",\"Error\"))","v":"Magnesium Sulfate"},"Magnesium Sulfate","Magnesium Sulfate",false,"CONDITIONAL",false]
["'[Asphalt Mix Design - Template (20260115 1305 BC).xlsm]","Agg - Coarse'!","J",18,"Agg 4 - Soundness",null,null,null,"Date Tested",null,null,{"$f":"INDIRECT(\"'\" & B1370 & C1370 & D1370)","v":"00:00:00"},null,null,"00:00:00","00:00:00",false,"CONDITIONAL",false]
["'[Asphalt Mix Design - Template (20260115 1305 BC).xlsm]","Agg - Coarse'!","J",19,"Agg 4 - Soundness",null,null,null,"1-1/2\" to 3/4\" -- Size Fraction, % of +#4","%","%",{"$f":"INDIRECT(\"'\" & B1371 & C1371 & D1371)","v":"---"},null,null,"---","---",false,"CONDITIONAL",false]
["'[Asphalt Mix Design - Template (20260115 1305 BC).xlsm]","Agg - Coarse'!","J",20,"Agg 4 - Soundness","Rep 1",null,null,"1-1/2\" to 3/4\" -- Wt Original Test Sample, g","g","g",{"$f":"INDIRECT(\"'\" & B1372 & C1372 & D1372)","v":0},null,null,0,0,false,false,false]
["'[Asphalt Mix Design - Template (20260115 1305 BC).xlsm]","Agg - Coarse'!","J",21,"Agg 4 - Soundness","Rep 1",null,null,"1-1/2\" to 3/4\" -- Wt Retained, No #, g","g","g",{"$f":"INDIRECT(\"'\" & B1373 & C1373 & D1373)","v":0},null,null,0,0,false,false,false]
["'[Asphalt Mix Design - Template (20260115 1305 BC).xlsm]","Agg - Coarse'!","J",22,"Agg 4 - Soundness","Rep 1",null,null,"1-1/2\" to 3/4\" -- Percent Passing, %","%","%",{"$f":"INDIRECT(\"'\" & B1374 & C1374 & D1374)","v":"---"},null,null,"---","---",false,false,false]
["'[Asphalt Mix Design - Template (20260115 1305 BC).xlsm]","Agg - Coarse'!","K",20,"Agg 4 - Soundness","Rep 2",null,null,"1-1/2\" to 3/4\" -- Wt Original Test Sample, g","g","g",{"$f":"INDIRECT(\"'\" & B1375 & C1375 & D1375)","v":0},null,null,0,0,false,false,false]
["'[Asphalt Mix Design - Template (20260115 1305 BC).xlsm]","Agg - Coarse'!","K",21,"Agg 4 - Soundness","Rep 2",null,null,"1-1/2\" to 3/4\" -- Wt Retained, No #, g","g","g",{"$f":"INDIRECT(\"'\" & B1376 & C1376 & D1376)","v":0},null,null,0,0,false,false,false]
["'[Asphalt Mix Design - Template (20260115 1305 BC).xlsm]","Agg - Coarse'!","K",22,"Agg 4 - Soundness","Rep 2",null,null,"1-1/2\" to 3/4\" -- Percent Passing, %","%","%",{"$f":"INDIRECT(\"'\" & B1377 & C1377 & D1377)","v":"---"},null,null,"---","---",false,false,false]
["'[Asphalt Mix Design - Template (20260115 1305 BC).xlsm]","Agg - Coarse'!","J",23,"Agg 4 - Soundness","Avg",null,null,"1-1/2\" to 3/4\" -- Avg Percent Passing, %","%","%",{"$f":"INDIRECT(\"'\" & B1378 & C1378 & D1378)","v":"---"},null,null,"---","---",false,"CONDITIONAL",false]
["'[Asphalt Mix Design - Template (20260115 1305 BC).xlsm]","Agg - Coarse'!","J",24,"Agg 4 - Soundness",null,null,null,"3/4\" to 3/8\" -- Size Fraction, % of +#4","%","%",{"$f":"INDIRECT(\"'\" & B1379 & C1379 & D1379)","v":"---"},null,null,"---","---",false,"CONDITIONAL",false]
["'[Asphalt Mix Design - Template (20260115 1305 BC).xlsm]","Agg - Coarse'!","J",25,"Agg 4 - Soundness","Rep 1",null,null,"3/4\" to 3/8\" -- Wt Original Test Sample, g","g","g",{"$f":"INDIRECT(\"'\" & B1380 & C1380 & D1380)","v":0},null,null,0,0,false,false,false]
["'[Asphalt Mix Design - Template (20260115 1305 BC).xlsm]","Agg - Coarse'!","J",26,"Agg 4 - Soundness","Rep 1",null,null,"3/4\" to 3/8\" -- Wt Retained, No #, g","g","g",{"$f":"INDIRECT(\"'\" & B1381 & C1381 & D1381)","v":0},null,null,0,0,false,false,false]
["'[Asphalt Mix Design - Template (20260115 1305 BC).xlsm]","Agg - Coarse'!","J",27,"Agg 4 - Soundness","Rep 1",null,null,"3/4\" to 3/8\" -- Percent Passing, %","%","%",{"$f":"INDIRECT(\"'\" & B1382 & C1382 & D1382)","v":"---"},null,null,"---","---",false,false,false]
["'[Asphalt Mix Design - Template (20260115 1305 BC).xlsm]","Agg - Coarse'!","K",25,"Agg 4 - Soundness","Rep 2",null,null,"3/4\" to 3/8\" -- Wt Original Test Sample, g","g","g",{"$f":"INDIRECT(\"'\" & B1383 & C1383 & D1383)","v":0},null,null,0,0,false,false,false]
["'[Asphalt Mix Design - Template (20260115 1305 BC).xlsm]","Agg - Coarse'!","K",26,"Agg 4 - Soundness","Rep 2",null,null,"3/4\" to 3/8\" -- Wt Retained, No #, g","g","g",{"$f":"INDIRECT(\"'\" & B1384 & C1384 & D1384)","v":0},null,null,0,0,false,false,false]
["'[Asphalt Mix Design - Template (20260115 1305 BC).xlsm]","Agg - Coarse'!","K",27,"Agg 4 - Soundness","Rep 2",null,null,"3/4\" to 3/8\" -- Percent Passing, %","%","%",{"$f":"INDIRECT(\"'\" & B1385 & C1385 & D1385)","v":"---"},null,null,"---","---",false,false,false]
["'[Asphalt Mix Design - Template (20260115 1305 BC).xlsm]","Agg - Coarse'!","J",28,"Agg 4 - Soundness","Avg",null,null,"3/4\" to 3/8\" -- Avg Percent Passing, %","%","%",{"$f":"INDIRECT(\"'\" & B1386 & C1386 & D1386)","v":"---"},null,null,"---","---",false,"CONDITIONAL",false]
["'[Asphalt Mix Design - Template (20260115 1305 BC).xlsm]","Agg - Coarse'!","J",29,"Agg 4 - Soundness",null,null,null,"3/8\" to #4 -- Size Fraction, % of +#4","%","%",{"$f":"INDIRECT(\"'\" & B1387 & C1387 & D1387)","v":"---"},null,null,"---","---",false,"CONDITIONAL",false]
["'[Asphalt Mix Design - Template (20260115 1305 BC).xlsm]","Agg - Coarse'!","J",30,"Agg 4 - Soundness","Rep 1",null,null,"3/8\" to #4 -- Wt Original Test Sample, g","g","g",{"$f":"INDIRECT(\"'\" & B1388 & C1388 & D1388)","v":0},null,null,0,0,false,false,false]
["'[Asphalt Mix Design - Template (20260115 1305 BC).xlsm]","Agg - Coarse'!","J",31,"Agg 4 - Soundness","Rep 1",null,null,"3/8\" to #4 -- Wt Retained, No #, g","g","g",{"$f":"INDIRECT(\"'\" & B1389 & C1389 & D1389)","v":0},null,null,0,0,false,false,false]
["'[Asphalt Mix Design - Template (20260115 1305 BC).xlsm]","Agg - Coarse'!","J",32,"Agg 4 - Soundness","Rep 1",null,null,"3/8\" to #4 -- Percent Passing, %","%","%",{"$f":"INDIRECT(\"'\" & B1390 & C1390 & D1390)","v":"---"},null,null,"---","---",false,false,false]
["'[Asphalt Mix Design - Template (20260115 1305 BC).xlsm]","Agg - Coarse'!","K",30,"Agg 4 - Soundness","Rep 2",null,null,"3/8\" to #4 -- Wt Original Test Sample, g","g","g",{"$f":"INDIRECT(\"'\" & B1391 & C1391 & D1391)","v":0},null,null,0,0,false,false,false]
["'[Asphalt Mix Design - Template (20260115 1305 BC).xlsm]","Agg - Coarse'!","K",31,"Agg 4 - Soundness","Rep 2",null,null,"3/8\" to #4 -- Wt Retained, No #, g","g","g",{"$f":"INDIRECT(\"'\" & B1392 & C1392 & D1392)","v":0},null,null,0,0,false,false,false]
["'[Asphalt Mix Design - Template (20260115 1305 BC).xlsm]","Agg - Coarse'!","K",32,"Agg 4 - Soundness","Rep 2",null,null,"3/8\" to #4 -- Percent Passing, %","%","%",{"$f":"INDIRECT(\"'\" & B1393 & C1393 & D1393)","v":"---"},null,null,"---","---",false,false,false]
["'[Asphalt Mix Design - Template (20260115 1305 BC).xlsm]","Agg - Coarse'!","J",33,"Agg 4 - Soundness","Avg",null,null,"3/8\" to #4 -- Avg Percent Passing, %","%","%",{"$f":"INDIRECT(\"'\" & B1394 & C1394 & D1394)","v":"---"},null,null,"---","---",false,"CONDITIONAL",false]
["'[Asphalt Mix Design - Template (20260115 1305 BC).xlsm]","Agg - Coarse'!","J",34,"Agg 4 - Soundness","Avg",null,null,"Weighted Mass Loss, %","%","%",{"$f":"INDIRECT(\"'\" & B1395 & C1395 & D1395)","v":"---"},null,null,"---","---","CONDITIONAL","CONDITIONAL",false]
["'[Asphalt Mix Design - Template (20260115 1305 BC).xlsm]","Agg - Coarse'!","J",35,"Agg 4 - Fractured Faces",null,null,null,"Date Tested",null,null,{"$f":"INDIRECT(\"'\" & B1396 & C1396 & D1396)","v":"00:00:00"},null,null,"00:00:00","00:00:00",false,"CONDITIONAL",false]
["'[Asphalt Mix Design - Template (20260115 1305 BC).xlsm]","Agg - Coarse'!","J",36,"Agg 4 - Fractured Faces","Rep 1",null,null,"Wt Original Test Sample, g","g","g",{"$f":"INDIRECT(\"'\" & B1397 & C1397 & D1397)","v":0},null,null,0,0,false,false,false]
["'[Asphalt Mix Design - Template (20260115 1305 BC).xlsm]","Agg - Coarse'!","J",37,"Agg 4 - Fractured Faces","Rep 1",null,null,"Wt 2+ Fractured Faces, g","g","g",{"$f":"INDIRECT(\"'\" & B1398 & C1398 & D1398)","v":0},null,null,0,0,false,false,false]
["'[Asphalt Mix Design - Template (20260115 1305 BC).xlsm]","Agg - Coarse'!","J",38,"Agg 4 - Fractured Faces","Rep 1",null,null,"Wt Remaining Particles, g","g","g",{"$f":"INDIRECT(\"'\" & B1399 & C1399 & D1399)","v":"---"},null,null,"---","---",false,false,false]
["'[Asphalt Mix Design - Template (20260115 1305 BC).xlsm]","Agg - Coarse'!","J",39,"Agg 4 - Fractured Faces","Rep 1",null,null,"Two Fractured Faces, %","%","%",{"$f":"INDIRECT(\"'\" & B1400 & C1400 & D1400)","v":"---"},null,null,"---","---",false,"CONDITIONAL",false]
["'[Asphalt Mix Design - Template (20260115 1305 BC).xlsm]","Agg - Coarse'!","K",36,"Agg 4 - Fractured Faces","Rep 2",null,null,"Wt Original Test Sample, g","g","g",{"$f":"INDIRECT(\"'\" & B1401 & C1401 & D1401)","v":0},null,null,0,0,false,false,false]
["'[Asphalt Mix Design - Template (20260115 1305 BC).xlsm]","Agg - Coarse'!","K",37,"Agg 4 - Fractured Faces","Rep 2",null,null,"Wt 2+ Fractured Faces, g","g","g",{"$f":"INDIRECT(\"'\" & B1402 & C1402 & D1402)","v":0},null,null,0,0,false,false,false]
["'[Asphalt Mix Design - Template (20260115 1305 BC).xlsm]","Agg - Coarse'!","K",38,"Agg 4 - Fractured Faces","Rep 2",null,null,"Wt Remaining Particles, g","g","g",{"$f":"INDIRECT(\"'\" & B1403 & C1403 & D1403)","v":"---"},null,null,"---","---",false,false,false]
["'[Asphalt Mix Design - Template (20260115 1305 BC).xlsm]","Agg - Coarse'!","K",39,"Agg 4 - Fractured Faces","Rep 2",null,null,"Two Fractured Faces, %","%","%",{"$f":"INDIRECT(\"'\" & B1404 & C1404 & D1404)","v":"---"},null,null,"---","---",false,"CONDITIONAL",false]
["'[Asphalt Mix Design - Template (20260115 1305 BC).xlsm]","Agg - Coarse'!","J",40,"Agg 4 - Fractured Faces","Avg",null,null,"Avg Two Fractured Faces, %","%","%",{"$f":"INDIRECT(\"'\" & B1405 & C1405 & D1405)","v":"---"},null,null,"---","---","CONDITIONAL","CONDITIONAL","CONDITIONAL"]
["'[Asphalt Mix Design - Template (20260115 1305 BC).xlsm]","Agg - Coarse'!","J",41,"Agg 4 - F&E",null,null,null,"Date Tested",null,null,{"$f":"INDIRECT(\"'\" & B1406 & C1406 & D1406)","v":"00:00:00"},null,null,"00:00:00","00:00:00",false,"CONDITIONAL",false]
["'[Asphalt Mix Design - Template (20260115 1305 BC).xlsm]","Agg - Coarse'!","J",42,"Agg 4 - F&E",null,null,null,"1\" to 3/4\" -- Size Fraction, % of Agg","%","%",{"$f":"INDIRECT(\"'\" & B1407 & C1407 & D1407)","v":0},null,null,0,0,false,"CONDITIONAL",false]
["'[Asphalt Mix Design - Template (20260115 1305 BC).xlsm]","Agg - Coarse'!","J",43,"Agg 4 - F&E","Rep 1",null,null,"1\" to 3/4\" -- No. Particles",null,null,{"$f":"INDIRECT(\"'\" & B1408 & C1408 & D1408)","v":0},null,null,0,0,false,false,false]
["'[Asphalt Mix Design - Template (20260115 1305 BC).xlsm]","Agg - Coarse'!","J",44,"Agg 4 - F&E","Rep 1",null,null,"1\" to 3/4\" -- Wt Original Test Sample, g","g","g",{"$f":"INDIRECT(\"'\" & B1409 & C1409 & D1409)","v":0},null,null,0,0,false,false,false]
["'[Asphalt Mix Design - Template (20260115 1305 BC).xlsm]","Agg - Coarse'!","J",45,"Agg 4 - F&E","Rep 1",null,null,"1\" to 3/4\" -- Wt Flat & Elongated (5:1), g","g","g",{"$f":"INDIRECT(\"'\" & B1410 & C1410 & D1410)","v":0},null,null,{"$f":"IF(ISBLANK(N1410),L1410,N1410)","v":0},{"$f":"IF(ISBLANK(N1410),IF(OR(ISBLANK(M1410),ISERROR(M1410)),L1410,M1410),N1410)","v":0},false,false,false]
["'[Asphalt Mix Design - Template (20260115 1305 BC).xlsm]","Agg - Coarse'!","J",46,"Agg 4 - F&E","Rep 1",null,null,"1\" to 3/4\" -- Flat & Elongated (5:1), %","%","%",{"$f":"INDIRECT(\"'\" & B1411 & C1411 & D1411)","v":"---"},null,null,"---","---",false,false,false]
["'[Asphalt Mix Design - Template (20260115 1305 BC).xlsm]","Agg - Coarse'!","K",43,"Agg 4 - F&E","Rep 2",null,null,"1\" to 3/4\" -- No. Particles",null,null,{"$f":"INDIRECT(\"'\" & B1412 & C1412 & D1412)","v":0},null,null,0,0,false,false,false]
["'[Asphalt Mix Design - Template (20260115 1305 BC).xlsm]","Agg - Coarse'!","K",44,"Agg 4 - F&E","Rep 2",null,null,"1\" to 3/4\" -- Wt Original Test Sample, g","g","g",{"$f":"INDIRECT(\"'\" & B1413 & C1413 & D1413)","v":0},null,null,0,0,false,false,false]
["'[Asphalt Mix Design - Template (20260115 1305 BC).xlsm]","Agg - Coarse'!","K",45,"Agg 4 - F&E","Rep 2",null,null,"1\" to 3/4\" -- Wt Flat & Elongated (5:1), g","g","g",{"$f":"INDIRECT(\"'\" & B1414 & C1414 & D1414)","v":0},null,null,0,0,false,false,false]
["'[Asphalt Mix Design - Template (20260115 1305 BC).xlsm]","Agg - Coarse'!","K",46,"Agg 4 - F&E","Rep 2",null,null,"1\" to 3/4\" -- Flat & Elongated (5:1), %","%","%",{"$f":"INDIRECT(\"'\" & B1415 & C1415 & D1415)","v":"---"},null,null,"---","---",false,false,false]
["'[Asphalt Mix Design - Template (20260115 1305 BC).xlsm]","Agg - Coarse'!","J",47,"Agg 4 - F&E","Avg",null,null,"1\" to 3/4\" -- Avg F&E (5:1), %","%","%",{"$f":"INDIRECT(\"'\" & B1416 & C1416 & D1416)","v":"---"},null,null,"---","---",false,"CONDITIONAL",false]
["'[Asphalt Mix Design - Template (20260115 1305 BC).xlsm]","Agg - Coarse'!","J",48,"Agg 4 - F&E",null,null,null,"3/4\" to 1/2\" -- Size Fraction, % of Agg","%","%",{"$f":"INDIRECT(\"'\" & B1417 & C1417 & D1417)","v":0},null,null,0,0,false,"CONDITIONAL",false]
["'[Asphalt Mix Design - Template (20260115 1305 BC).xlsm]","Agg - Coarse'!","J",49,"Agg 4 - F&E","Rep 1",null,null,"3/4\" to 1/2\" -- No. Particles",null,null,{"$f":"INDIRECT(\"'\" & B1418 & C1418 & D1418)","v":0},null,null,0,0,false,false,false]
["'[Asphalt Mix Design - Template (20260115 1305 BC).xlsm]","Agg - Coarse'!","J",50,"Agg 4 - F&E","Rep 1",null,null,"3/4\" to 1/2\" -- Wt Original Test Sample, g","g","g",{"$f":"INDIRECT(\"'\" & B1419 & C1419 & D1419)","v":0},null,null,0,0,false,false,false]
["'[Asphalt Mix Design - Template (20260115 1305 BC).xlsm]","Agg - Coarse'!","J",51,"Agg 4 - F&E","Rep 1",null,null,"3/4\" to 1/2\" -- Wt Flat & Elongated (5:1), g","g","g",{"$f":"INDIRECT(\"'\" & B1420 & C1420 & D1420)","v":0},null,null,0,0,false,false,false]
["'[Asphalt Mix Design - Template (20260115 1305 BC).xlsm]","Agg - Coarse'!","J",52,"Agg 4 - F&E","Rep 1",null,null,"3/4\" to 1/2\" -- Flat & Elongated (5:1), %","%","%",{"$f":"INDIRECT(\"'\" & B1421 & C1421 & D1421)","v":"---"},null,null,"---","---",false,false,false]
["'[Asphalt Mix Design - Template (20260115 1305 BC).xlsm]","Agg - Coarse'!","K",49,"Agg 4 - F&E","Rep 2",null,null,"3/4\" to 1/2\" -- No. Particles",null,null,{"$f":"INDIRECT(\"'\" & B1422 & C1422 & D1422)","v":0},null,null,0,0,false,false,false]
["'[Asphalt Mix Design - Template (20260115 1305 BC).xlsm]","Agg - Coarse'!","K",50,"Agg 4 - F&E","Rep 2",null,null,"3/4\" to 1/2\" -- Wt Original Test Sample, g","g","g",{"$f":"INDIRECT(\"'\" & B1423 & C1423 & D1423)","v":0},null,null,0,0,false,false,false]
["'[Asphalt Mix Design - Template (20260115 1305 BC).xlsm]","Agg - Coarse'!","K",51,"Agg 4 - F&E","Rep 2",null,null,"3/4\" to 1/2\" -- Wt Flat & Elongated (5:1), g","g","g",{"$f":"INDIRECT(\"'\" & B1424 & C1424 & D1424)","v":0},null,null,0,0,false,false,false]
["'[Asphalt Mix Design - Template (20260115 1305 BC).xlsm]","Agg - Coarse'!","K",52,"Agg 4 - F&E","Rep 2",null,null,"3/4\" to 1/2\" -- Flat & Elongated (5:1), %","%","%",{"$f":"INDIRECT(\"'\" & B1425 & C1425 & D1425)","v":"---"},null,null,"---","---",false,false,false]
["'[Asphalt Mix Design - Template (20260115 1305 BC).xlsm]","Agg - Coarse'!","J",53,"Agg 4 - F&E","Avg",null,null,"3/4\" to 1/2\" -- Avg F&E (5:1), %","%","%",{"$f":"INDIRECT(\"'\" & B1426 & C1426 & D1426)","v":"---"},null,null,"---","---",false,"CONDITIONAL",false]
["'[Asphalt Mix Design - Template (20260115 1305 BC).xlsm]","Agg - Coarse'!","J",54,"Agg 4 - F&E",null,null,null,"1/2\" to 3/8\" -- Size Fraction, % of Agg","%","%",{"$f":"INDIRECT(\"'\" & B1427 & C1427 & D1427)","v":0},null,null,0,0,false,"CONDITIONAL",false]
["'[Asphalt Mix Design - Template (20260115 1305 BC).xlsm]","Agg - Coarse'!","J",55,"Agg 4 - F&E","Rep 1",null,null,"1/2\" to 3/8\" -- No. Particles",null,null,{"$f":"INDIRECT(\"'\" & B1428 & C1428 & D1428)","v":0},null,null,0,0,false,false,false]
["'[Asphalt Mix Design - Template (20260115 1305 BC).xlsm]","Agg - Coarse'!","J",56,"Agg 4 - F&E","Rep 1",null,null,"1/2\" to 3/8\" -- Wt Original Test Sample, g","g","g",{"$f":"INDIRECT(\"'\" & B1429 & C1429 & D1429)","v":0},null,null,0,0,false,false,false]
["'[Asphalt Mix Design - Template (20260115 1305 BC).xlsm]","Agg - Coarse'!","J",57,"Agg 4 - F&E","Rep 1",null,null,"1/2\" to 3/8\" -- Wt Flat & Elongated (5:1), g","g","g",{"$f":"INDIRECT(\"'\" & B1430 & C1430 & D1430)","v":0},null,null,0,0,false,false,false]
["'[Asphalt Mix Design - Template (20260115 1305 BC).xlsm]","Agg - Coarse'!","J",58,"Agg 4 - F&E","Rep 1",null,null,"1/2\" to 3/8\" -- Flat & Elongated (5:1), %","%","%",{"$f":"INDIRECT(\"'\" & B1431 & C1431 & D1431)","v":"---"},null,null,"---","---",false,false,false]
["'[Asphalt Mix Design - Template (20260115 1305 BC).xlsm]","Agg - Coarse'!","K",55,"Agg 4 - F&E","Rep 2",null,null,"1/2\" to 3/8\" -- No. Particles",null,null,{"$f":"INDIRECT(\"'\" & B1432 & C1432 & D1432)","v":0},null,null,0,0,false,false,false]
["'[Asphalt Mix Design - Template (20260115 1305 BC).xlsm]","Agg - Coarse'!","K",56,"Agg 4 - F&E","Rep 2",null,null,"1/2\" to 3/8\" -- Wt Original Test Sample, g","g","g",{"$f":"INDIRECT(\"'\" & B1433 & C1433 & D1433)","v":0},null,null,0,0,false,false,false]
["'[Asphalt Mix Design - Template (20260115 1305 BC).xlsm]","Agg - Coarse'!","K",57,"Agg 4 - F&E","Rep 2",null,null,"1/2\" to 3/8\" -- Wt Flat & Elongated (5:1), g","g","g",{"$f":"INDIRECT(\"'\" & B1434 & C1434 & D1434)","v":0},null,null,0,0,false,false,false]
["'[Asphalt Mix Design - Template (20260115 1305 BC).xlsm]","Agg - Coarse'!","K",58,"Agg 4 - F&E","Rep 2",null,null,"1/2\" to 3/8\" -- Flat & Elongated (5:1), %","%","%",{"$f":"INDIRECT(\"'\" & B1435 & C1435 & D1435)","v":"---"},null,null,"---","---",false,false,false]
["'[Asphalt Mix Design - Template (20260115 1305 BC).xlsm]","Agg - Coarse'!","J",59,"Agg 4 - F&E","Avg",null,null,"1/2\" to 3/8\" -- Avg F&E (5:1), %","%","%",{"$f":"INDIRECT(\"'\" & B1436 & C1436 & D1436)","v":"---"},null,null,"---","---",false,"CONDITIONAL",false]
["'[Asphalt Mix Design - Template (20260115 1305 BC).xlsm]","Agg - Coarse'!","J",60,"Agg 4 - F&E",null,null,null,"3/8\" to #4 -- Size Fraction, % of Agg","%","%",{"$f":"INDIRECT(\"'\" & B1437 & C1437 & D1437)","v":0},null,null,0,0,false,"CONDITIONAL",false]
["'[Asphalt Mix Design - Template (20260115 1305 BC).xlsm]","Agg - Coarse'!","J",61,"Agg 4 - F&E","Rep 1",null,null,"3/8\" to #4 -- No. Particles",null,null,{"$f":"INDIRECT(\"'\" & B1438 & C1438 & D1438)","v":0},null,null,0,0,false,false,false]
["'[Asphalt Mix Design - Template (20260115 1305 BC).xlsm]","Agg - Coarse'!","J",62,"Agg 4 - F&E","Rep 1",null,null,"3/8\" to #4 -- Wt Original Test Sample, g","g","g",{"$f":"INDIRECT(\"'\" & B1439 & C1439 & D1439)","v":0},null,null,0,0,false,false,false]
["'[Asphalt Mix Design - Template (20260115 1305 BC).xlsm]","Agg - Coarse'!","J",63,"Agg 4 - F&E","Rep 1",null,null,"3/8\" to #4 -- Wt Flat & Elongated (5:1), g","g","g",{"$f":"INDIRECT(\"'\" & B1440 & C1440 & D1440)","v":0},null,null,0,0,false,false,false]
["'[Asphalt Mix Design - Template (20260115 1305 BC).xlsm]","Agg - Coarse'!","J",64,"Agg 4 - F&E","Rep 1",null,null,"3/8\" to #4 -- Flat & Elongated (5:1), %","%","%",{"$f":"INDIRECT(\"'\" & B1441 & C1441 & D1441)","v":"---"},null,null,"---","---",false,false,false]
["'[Asphalt Mix Design - Template (20260115 1305 BC).xlsm]","Agg - Coarse'!","K",61,"Agg 4 - F&E","Rep 2",null,null,"3/8\" to #4 -- No. Particles",null,null,{"$f":"INDIRECT(\"'\" & B1442 & C1442 & D1442)","v":0},null,null,0,0,false,false,false]
["'[Asphalt Mix Design - Template (20260115 1305 BC).xlsm]","Agg - Coarse'!","K",62,"Agg 4 - F&E","Rep 2",null,null,"3/8\" to #4 -- Wt Original Test Sample, g","g","g",{"$f":"INDIRECT(\"'\" & B1443 & C1443 & D1443)","v":0},null,null,0,0,false,false,false]
["'[Asphalt Mix Design - Template (20260115 1305 BC).xlsm]","Agg - Coarse'!","K",63,"Agg 4 - F&E","Rep 2",null,null,"3/8\" to #4 -- Wt Flat & Elongated (5:1), g","g","g",{"$f":"INDIRECT(\"'\" & B1444 & C1444 & D1444)","v":0},null,null,0,0,false,false,false]
["'[Asphalt Mix Design - Template (20260115 1305 BC).xlsm]","Agg - Coarse'!","K",64,"Agg 4 - F&E","Rep 2",null,null,"3/8\" to #4 -- Flat & Elongated (5:1), %","%","%",{"$f":"INDIRECT(\"'\" & B1445 & C1445 & D1445)","v":"---"},null,null,"---","---",false,false,false]
["'[Asphalt Mix Design - Template (20260115 1305 BC).xlsm]","Agg - Coarse'!","J",65,"Agg 4 - F&E","Avg",null,null,"3/8\" to #4 -- Avg F&E (5:1), %","%","%",{"$f":"INDIRECT(\"'\" & B1446 & C1446 & D1446)","v":"---"},null,null,"---","---",false,"CONDITIONAL",false]
["'[Asphalt Mix Design - Template (20260115 1305 BC).xlsm]","Agg - Coarse'!","J",66,"Agg 4 - F&E","Avg",null,null,"Weighted Avg F&E (5:1), %","%","%",{"$f":"INDIRECT(\"'\" & B1447 & C1447 & D1447)","v":"---"},null,null,"---","---","CONDITIONAL","CONDITIONAL","CONDITIONAL"]
["'[Asphalt Mix Design - Template (20260115 1305 BC).xlsm]","Agg - Coarse'!","J",67,"Agg 4 - Clay Lumps",null,null,null,"Date Tested",null,null,{"$f":"INDIRECT(\"'\" & B1448 & C1448 & D1448)","v":"00:00:00"},null,null,"00:00:00","00:00:00",false,"CONDITIONAL",false]
["'[Asphalt Mix Design - Template (20260115 1305 BC).xlsm]","Agg - Coarse'!","J",68,"Agg 4 - Clay Lumps","Rep 1",null,null,"Wt Original Test Sample, g","g","g",{"$f":"INDIRECT(\"'\" & B1449 & C1449 & D1449)","v":0},null,null,0,0,false,false,false]
["'[Asphalt Mix Design - Template (20260115 1305 BC).xlsm]","Agg - Coarse'!","J",69,"Agg 4 - Clay Lumps","Rep 1",null,null,"Wt Retained, No. 8 Sieve, g","g","g",{"$f":"INDIRECT(\"'\" & B1450 & C1450 & D1450)","v":0},null,null,0,0,false,false,false]
["'[Asphalt Mix Design - Template (20260115 1305 BC).xlsm]","Agg - Coarse'!","J",70,"Agg 4 - Clay Lumps","Rep 1",null,null,"Clay Lumps & Friable Particles, %","%","%",{"$f":"INDIRECT(\"'\" & B1451 & C1451 & D1451)","v":"---"},null,null,"---","---",false,"CONDITIONAL",false]
["'[Asphalt Mix Design - Template (20260115 1305 BC).xlsm]","Agg - Coarse'!","K",68,"Agg 4 - Clay Lumps","Rep 2",null,null,"Wt Original Test Sample, g","g","g",{"$f":"INDIRECT(\"'\" & B1452 & C1452 & D1452)","v":0},null,null,0,0,false,false,false]
["'[Asphalt Mix Design - Template (20260115 1305 BC).xlsm]","Agg - Coarse'!","K",69,"Agg 4 - Clay Lumps","Rep 2",null,null,"Wt Retained, No. 8 Sieve, g","g","g",{"$f":"INDIRECT(\"'\" & B1453 & C1453 & D1453)","v":0},null,null,0,0,false,false,false]
["'[Asphalt Mix Design - Template (20260115 1305 BC).xlsm]","Agg - Coarse'!","K",70,"Agg 4 - Clay Lumps","Rep 2",null,null,"Clay Lumps & Friable Particles, %","%","%",{"$f":"INDIRECT(\"'\" & B1454 & C1454 & D1454)","v":"---"},null,null,"---","---",false,"CONDITIONAL",false]
["'[Asphalt Mix Design - Template (20260115 1305 BC).xlsm]","Agg - Coarse'!","J",71,"Agg 4 - Clay Lumps","Avg",null,null,"Avg Clay Lumps, %","%","%",{"$f":"INDIRECT(\"'\" & B1455 & C1455 & D1455)","v":"---"},null,null,"---","---","CONDITIONAL","CONDITIONAL","CONDITIONAL"]
["'[Asphalt Mix Design - Template (20260115 1305 BC).xlsm]","Agg - Coarse'!","L",7,"Agg 5",null,null,null,"Aggreagte ID",null,null,{"$f":"INDIRECT(\"'\" & B1456 & C1456 & D1456)","v":"---"},null,null,"---","---",false,"CONDITIONAL","CONDITIONAL"]
["'[Asphalt Mix Design - Template (20260115 1305 BC).xlsm]","Agg - Coarse'!","L",8,"Agg 5",null,null,null,"Percent of Agg Blend, %","%","%",{"$f":"INDIRECT(\"'\" & B1457 & C1457 & D1457)","v":"---"},null,null,"---","---",false,"CONDITIONAL",false]
["'[Asphalt Mix Design - Template (20260115 1305 BC).xlsm]","Agg - Coarse'!","L",9,"Agg 5",null,null,null,"Percent Passing No. 4, %","%","%",{"$f":"INDIRECT(\"'\" & B1458 & C1458 & D1458)","v":"---"},null,null,"---","---",false,"CONDITIONAL",false]
["'[Asphalt Mix Design - Template (20260115 1305 BC).xlsm]","Agg - Coarse'!","L",10,"Agg 5",null,null,null,"Aggregate Size Class",null,null,{"$f":"INDIRECT(\"'\" & B1459 & C1459 & D1459)","v":"---"},null,null,"---","---",false,"CONDITIONAL",false]
["'[Asphalt Mix Design - Template (20260115 1305 BC).xlsm]","Agg - Coarse'!","L",12,"Agg 5 - LA Abrasion",null,null,null,"Date Tested",null,null,{"$f":"INDIRECT(\"'\" & B1460 & C1460 & D1460)","v":"00:00:00"},null,null,"00:00:00","00:00:00",false,"CONDITIONAL",false]
["'[Asphalt Mix Design - Template (20260115 1305 BC).xlsm]","Agg - Coarse'!","L",13,"Agg 5 - LA Abrasion","Rep 1",null,null,"Grading",null,null,{"$f":"INDIRECT(\"'\" & B1461 & C1461 & D1461)","v":0},null,null,0,0,false,"CONDITIONAL",false]
["'[Asphalt Mix Design - Template (20260115 1305 BC).xlsm]","Agg - Coarse'!","L",14,"Agg 5 - LA Abrasion","Rep 1",null,null,"Wt Original Test Sample, g","g","g",{"$f":"INDIRECT(\"'\" & B1462 & C1462 & D1462)","v":0},null,null,0,0,false,"CONDITIONAL",false]
["'[Asphalt Mix Design - Template (20260115 1305 BC).xlsm]","Agg - Coarse'!","L",15,"Agg 5 - LA Abrasion","Rep 1",null,null,"Wt Final Test Sample, g","g","g",{"$f":"INDIRECT(\"'\" & B1463 & C1463 & D1463)","v":0},null,null,0,0,false,"CONDITIONAL",false]
["'[Asphalt Mix Design - Template (20260115 1305 BC).xlsm]","Agg - Coarse'!","L",16,"Agg 5 - LA Abrasion","Rep 1",null,null,"LA Abrasion Loss, %","%","%",{"$f":"INDIRECT(\"'\" & B1464 & C1464 & D1464)","v":"---"},null,null,"---","---",false,"CONDITIONAL",false]
["'[Asphalt Mix Design - Template (20260115 1305 BC).xlsm]","Agg - Coarse'!","M",13,"Agg 5 - LA Abrasion","Rep 2",null,null,"Grading",null,null,{"$f":"INDIRECT(\"'\" & B1465 & C1465 & D1465)","v":0},null,null,0,0,false,"CONDITIONAL",false]
["'[Asphalt Mix Design - Template (20260115 1305 BC).xlsm]","Agg - Coarse'!","M",14,"Agg 5 - LA Abrasion","Rep 2",null,null,"Wt Original Test Sample, g","g","g",{"$f":"INDIRECT(\"'\" & B1466 & C1466 & D1466)","v":0},null,null,0,0,false,"CONDITIONAL",false]
["'[Asphalt Mix Design - Template (20260115 1305 BC).xlsm]","Agg - Coarse'!","M",15,"Agg 5 - LA Abrasion","Rep 2",null,null,"Wt Final Test Sample, g","g","g",{"$f":"INDIRECT(\"'\" & B1467 & C1467 & D1467)","v":0},null,null,0,0,false,"CONDITIONAL",false]
["'[Asphalt Mix Design - Template (20260115 1305 BC).xlsm]","Agg - Coarse'!","M",16,"Agg 5 - LA Abrasion","Rep 2",null,null,"LA Abrasion Loss, %","%","%",{"$f":"INDIRECT(\"'\" & B1468 & C1468 & D1468)","v":"---"},null,null,"---","---",false,"CONDITIONAL",false]
["'[Asphalt Mix Design - Template (20260115 1305 BC).xlsm]","Agg - Coarse'!","L",17,"Agg 5 - LA Abrasion","Avg",null,null,"LA Abrasion Loss, %","%","%",{"$f":"INDIRECT(\"'\" & B1469 & C1469 & D1469)","v":"---"},null,null,"---","---","CONDITIONAL","CONDITIONAL","CONDITIONAL"]
["'[Asphalt Mix Design - Template (20260115 1305 BC).xlsm]","Agg - Coarse'!","AJ",6,"Agg 5 - Soundness",null,null,null,"Solution",null,null,{"$f":"INDIRECT(\"'\" & B1470 & C1470 & D1470)","v":1},null,{"$f":"IF(L1470=1,\"Magnesium Sulfate\",IF(L1470=2,\"Sodium Sulfate\",\"Error\"))","v":"Magnesium Sulfate"},"Magnesium Sulfate","Magnesium Sulfate",false,"CONDITIONAL",false]
["'[Asphalt Mix Design - Template (20260115 1305 BC).xlsm]","Agg - Coarse'!","L",18,"Agg 5 - Soundness",null,null,null,"Date Tested",null,null,{"$f":"INDIRECT(\"'\" & B1471 & C1471 & D1471)","v":"00:00:00"},null,null,"00:00:00","00:00:00",false,"CONDITIONAL",false]
["'[Asphalt Mix Design - Template (20260115 1305 BC).xlsm]","Agg - Coarse'!","L",19,"Agg 5 - Soundness",null,null,null,"1-1/2\" to 3/4\" -- Size Fraction, % of +#4","%","%",{"$f":"INDIRECT(\"'\" & B1472 & C1472 & D1472)","v":"---"},null,null,"---","---",false,"CONDITIONAL",false]
["'[Asphalt Mix Design - Template (20260115 1305 BC).xlsm]","Agg - Coarse'!","L",20,"Agg 5 - Soundness","Rep 1",null,null,"1-1/2\" to 3/4\" -- Wt Original Test Sample, g","g","g",{"$f":"INDIRECT(\"'\" & B1473 & C1473 & D1473)","v":0},null,null,0,0,false,false,false]
["'[Asphalt Mix Design - Template (20260115 1305 BC).xlsm]","Agg - Coarse'!","L",21,"Agg 5 - Soundness","Rep 1",null,null,"1-1/2\" to 3/4\" -- Wt Retained, No #, g","g","g",{"$f":"INDIRECT(\"'\" & B1474 & C1474 & D1474)","v":0},null,null,{"$f":"IF(ISBLANK(N1474),L1474,N1474)","v":0},{"$f":"IF(ISBLANK(N1474),IF(OR(ISBLANK(M1474),ISERROR(M1474)),L1474,M1474),N1474)","v":0},false,false,false]
["'[Asphalt Mix Design - Template (20260115 1305 BC).xlsm]","Agg - Coarse'!","L",22,"Agg 5 - Soundness","Rep 1",null,null,"1-1/2\" to 3/4\" -- Percent Passing, %","%","%",{"$f":"INDIRECT(\"'\" & B1475 & C1475 & D1475)","v":"---"},null,null,"---","---",false,false,false]
["'[Asphalt Mix Design - Template (20260115 1305 BC).xlsm]","Agg - Coarse'!","M",20,"Agg 5 - Soundness","Rep 2",null,null,"1-1/2\" to 3/4\" -- Wt Original Test Sample, g","g","g",{"$f":"INDIRECT(\"'\" & B1476 & C1476 & D1476)","v":0},null,null,0,0,false,false,false]
["'[Asphalt Mix Design - Template (20260115 1305 BC).xlsm]","Agg - Coarse'!","M",21,"Agg 5 - Soundness","Rep 2",null,null,"1-1/2\" to 3/4\" -- Wt Retained, No #, g","g","g",{"$f":"INDIRECT(\"'\" & B1477 & C1477 & D1477)","v":0},null,null,0,0,false,false,false]
["'[Asphalt Mix Design - Template (20260115 1305 BC).xlsm]","Agg - Coarse'!","M",22,"Agg 5 - Soundness","Rep 2",null,null,"1-1/2\" to 3/4\" -- Percent Passing, %","%","%",{"$f":"INDIRECT(\"'\" & B1478 & C1478 & D1478)","v":"---"},null,null,"---","---",false,false,false]
["'[Asphalt Mix Design - Template (20260115 1305 BC).xlsm]","Agg - Coarse'!","L",23,"Agg 5 - Soundness","Avg",null,null,"1-1/2\" to 3/4\" -- Avg Percent Passing, %","%","%",{"$f":"INDIRECT(\"'\" & B1479 & C1479 & D1479)","v":"---"},null,null,"---","---",false,"CONDITIONAL",false]
["'[Asphalt Mix Design - Template (20260115 1305 BC).xlsm]","Agg - Coarse'!","L",24,"Agg 5 - Soundness",null,null,null,"3/4\" to 3/8\" -- Size Fraction, % of +#4","%","%",{"$f":"INDIRECT(\"'\" & B1480 & C1480 & D1480)","v":"---"},null,null,"---","---",false,"CONDITIONAL",false]
["'[Asphalt Mix Design - Template (20260115 1305 BC).xlsm]","Agg - Coarse'!","L",25,"Agg 5 - Soundness","Rep 1",null,null,"3/4\" to 3/8\" -- Wt Original Test Sample, g","g","g",{"$f":"INDIRECT(\"'\" & B1481 & C1481 & D1481)","v":0},null,null,0,0,false,false,false]
["'[Asphalt Mix Design - Template (20260115 1305 BC).xlsm]","Agg - Coarse'!","L",26,"Agg 5 - Soundness","Rep 1",null,null,"3/4\" to 3/8\" -- Wt Retained, No #, g","g","g",{"$f":"INDIRECT(\"'\" & B1482 & C1482 & D1482)","v":0},null,null,0,0,false,false,false]
["'[Asphalt Mix Design - Template (20260115 1305 BC).xlsm]","Agg - Coarse'!","L",27,"Agg 5 - Soundness","Rep 1",null,null,"3/4\" to 3/8\" -- Percent Passing, %","%","%",{"$f":"INDIRECT(\"'\" & B1483 & C1483 & D1483)","v":"---"},null,null,"---","---",false,false,false]
["'[Asphalt Mix Design - Template (20260115 1305 BC).xlsm]","Agg - Coarse'!","M",25,"Agg 5 - Soundness","Rep 2",null,null,"3/4\" to 3/8\" -- Wt Original Test Sample, g","g","g",{"$f":"INDIRECT(\"'\" & B1484 & C1484 & D1484)","v":0},null,null,0,0,false,false,false]
["'[Asphalt Mix Design - Template (20260115 1305 BC).xlsm]","Agg - Coarse'!","M",26,"Agg 5 - Soundness","Rep 2",null,null,"3/4\" to 3/8\" -- Wt Retained, No #, g","g","g",{"$f":"INDIRECT(\"'\" & B1485 & C1485 & D1485)","v":0},null,null,0,0,false,false,false]
["'[Asphalt Mix Design - Template (20260115 1305 BC).xlsm]","Agg - Coarse'!","M",27,"Agg 5 - Soundness","Rep 2",null,null,"3/4\" to 3/8\" -- Percent Passing, %","%","%",{"$f":"INDIRECT(\"'\" & B1486 & C1486 & D1486)","v":"---"},null,null,"---","---",false,false,false]
["'[Asphalt Mix Design - Template (20260115 1305 BC).xlsm]","Agg - Coarse'!","L",28,"Agg 5 - Soundness","Avg",null,null,"3/4\" to 3/8\" -- Avg Percent Passing, %","%","%",{"$f":"INDIRECT(\"'\" & B1487 & C1487 & D1487)","v":"---"},null,null,"---","---",false,"CONDITIONAL",false]
["'[Asphalt Mix Design - Template (20260115 1305 BC).xlsm]","Agg - Coarse'!","L",29,"Agg 5 - Soundness",null,null,null,"3/8\" to #4 -- Size Fraction, % of +#4","%","%",{"$f":"INDIRECT(\"'\" & B1488 & C1488 & D1488)","v":"---"},null,null,"---","---",false,"CONDITIONAL",false]
["'[Asphalt Mix Design - Template (20260115 1305 BC).xlsm]","Agg - Coarse'!","L",30,"Agg 5 - Soundness","Rep 1",null,null,"3/8\" to #4 -- Wt Original Test Sample, g","g","g",{"$f":"INDIRECT(\"'\" & B1489 & C1489 & D1489)","v":0},null,null,0,0,false,false,false]
["'[Asphalt Mix Design - Template (20260115 1305 BC).xlsm]","Agg - Coarse'!","L",31,"Agg 5 - Soundness","Rep 1",null,null,"3/8\" to #4 -- Wt Retained, No #, g","g","g",{"$f":"INDIRECT(\"'\" & B1490 & C1490 & D1490)","v":0},null,null,0,0,false,false,false]
["'[Asphalt Mix Design - Template (20260115 1305 BC).xlsm]","Agg - Coarse'!","L",32,"Agg 5 - Soundness","Rep 1",null,null,"3/8\" to #4 -- Percent Passing, %","%","%",{"$f":"INDIRECT(\"'\" & B1491 & C1491 & D1491)","v":"---"},null,null,"---","---",false,false,false]
["'[Asphalt Mix Design - Template (20260115 1305 BC).xlsm]","Agg - Coarse'!","M",30,"Agg 5 - Soundness","Rep 2",null,null,"3/8\" to #4 -- Wt Original Test Sample, g","g","g",{"$f":"INDIRECT(\"'\" & B1492 & C1492 & D1492)","v":0},null,null,0,0,false,false,false]
["'[Asphalt Mix Design - Template (20260115 1305 BC).xlsm]","Agg - Coarse'!","M",31,"Agg 5 - Soundness","Rep 2",null,null,"3/8\" to #4 -- Wt Retained, No #, g","g","g",{"$f":"INDIRECT(\"'\" & B1493 & C1493 & D1493)","v":0},null,null,0,0,false,false,false]
["'[Asphalt Mix Design - Template (20260115 1305 BC).xlsm]","Agg - Coarse'!","M",32,"Agg 5 - Soundness","Rep 2",null,null,"3/8\" to #4 -- Percent Passing, %","%","%",{"$f":"INDIRECT(\"'\" & B1494 & C1494 & D1494)","v":"---"},null,null,"---","---",false,false,false]
["'[Asphalt Mix Design - Template (20260115 1305 BC).xlsm]","Agg - Coarse'!","L",33,"Agg 5 - Soundness","Avg",null,null,"3/8\" to #4 -- Avg Percent Passing, %","%","%",{"$f":"INDIRECT(\"'\" & B1495 & C1495 & D1495)","v":"---"},null,null,"---","---",false,"CONDITIONAL",false]
["'[Asphalt Mix Design - Template (20260115 1305 BC).xlsm]","Agg - Coarse'!","L",34,"Agg 5 - Soundness","Avg",null,null,"Weighted Mass Loss, %","%","%",{"$f":"INDIRECT(\"'\" & B1496 & C1496 & D1496)","v":"---"},null,null,"---","---","CONDITIONAL","CONDITIONAL",false]
["'[Asphalt Mix Design - Template (20260115 1305 BC).xlsm]","Agg - Coarse'!","L",35,"Agg 5 - Fractured Faces",null,null,null,"Date Tested",null,null,{"$f":"INDIRECT(\"'\" & B1497 & C1497 & D1497)","v":"00:00:00"},null,null,"00:00:00","00:00:00",false,"CONDITIONAL",false]
["'[Asphalt Mix Design - Template (20260115 1305 BC).xlsm]","Agg - Coarse'!","L",36,"Agg 5 - Fractured Faces","Rep 1",null,null,"Wt Original Test Sample, g","g","g",{"$f":"INDIRECT(\"'\" & B1498 & C1498 & D1498)","v":0},null,null,0,0,false,false,false]
["'[Asphalt Mix Design - Template (20260115 1305 BC).xlsm]","Agg - Coarse'!","L",37,"Agg 5 - Fractured Faces","Rep 1",null,null,"Wt 2+ Fractured Faces, g","g","g",{"$f":"INDIRECT(\"'\" & B1499 & C1499 & D1499)","v":0},null,null,0,0,false,false,false]
["'[Asphalt Mix Design - Template (20260115 1305 BC).xlsm]","Agg - Coarse'!","L",38,"Agg 5 - Fractured Faces","Rep 1",null,null,"Wt Remaining Particles, g","g","g",{"$f":"INDIRECT(\"'\" & B1500 & C1500 & D1500)","v":"---"},null,null,"---","---",false,false,false]
["'[Asphalt Mix Design - Template (20260115 1305 BC).xlsm]","Agg - Coarse'!","L",39,"Agg 5 - Fractured Faces","Rep 1",null,null,"Two Fractured Faces, %","%","%",{"$f":"INDIRECT(\"'\" & B1501 & C1501 & D1501)","v":"---"},null,null,"---","---",false,"CONDITIONAL",false]
["'[Asphalt Mix Design - Template (20260115 1305 BC).xlsm]","Agg - Coarse'!","M",36,"Agg 5 - Fractured Faces","Rep 2",null,null,"Wt Original Test Sample, g","g","g",{"$f":"INDIRECT(\"'\" & B1502 & C1502 & D1502)","v":0},null,null,0,0,false,false,false]
["'[Asphalt Mix Design - Template (20260115 1305 BC).xlsm]","Agg - Coarse'!","M",37,"Agg 5 - Fractured Faces","Rep 2",null,null,"Wt 2+ Fractured Faces, g","g","g",{"$f":"INDIRECT(\"'\" & B1503 & C1503 & D1503)","v":0},null,null,0,0,false,false,false]
["'[Asphalt Mix Design - Template (20260115 1305 BC).xlsm]","Agg - Coarse'!","M",38,"Agg 5 - Fractured Faces","Rep 2",null,null,"Wt Remaining Particles, g","g","g",{"$f":"INDIRECT(\"'\" & B1504 & C1504 & D1504)","v":"---"},null,null,"---","---",false,false,false]
["'[Asphalt Mix Design - Template (20260115 1305 BC).xlsm]","Agg - Coarse'!","M",39,"Agg 5 - Fractured Faces","Rep 2",null,null,"Two Fractured Faces, %","%","%",{"$f":"INDIRECT(\"'\" & B1505 & C1505 & D1505)","v":"---"},null,null,"---","---",false,"CONDITIONAL",false]
["'[Asphalt Mix Design - Template (20260115 1305 BC).xlsm]","Agg - Coarse'!","L",40,"Agg 5 - Fractured Faces","Avg",null,null,"Avg Two Fractured Faces, %","%","%",{"$f":"INDIRECT(\"'\" & B1506 & C1506 & D1506)","v":"---"},null,null,"---","---","CONDITIONAL","CONDITIONAL","CONDITIONAL"]
["'[Asphalt Mix Design - Template (20260115 1305 BC).xlsm]","Agg - Coarse'!","L",41,"Agg 5 - F&E",null,null,null,"Date Tested",null,null,{"$f":"INDIRECT(\"'\" & B1507 & C1507 & D1507)","v":"00:00:00"},null,null,"00:00:00","00:00:00",false,"CONDITIONAL",false]
["'[Asphalt Mix Design - Template (20260115 1305 BC).xlsm]","Agg - Coarse'!","L",42,"Agg 5 - F&E",null,null,null,"1\" to 3/4\" -- Size Fraction, % of Agg","%","%",{"$f":"INDIRECT(\"'\" & B1508 & C1508 & D1508)","v":0},null,null,0,0,false,"CONDITIONAL",false]
["'[Asphalt Mix Design - Template (20260115 1305 BC).xlsm]","Agg - Coarse'!","L",43,"Agg 5 - F&E","Rep 1",null,null,"1\" to 3/4\" -- No. Particles",null,null,{"$f":"INDIRECT(\"'\" & B1509 & C1509 & D1509)","v":0},null,null,0,0,false,false,false]
["'[Asphalt Mix Design - Template (20260115 1305 BC).xlsm]","Agg - Coarse'!","L",44,"Agg 5 - F&E","Rep 1",null,null,"1\" to 3/4\" -- Wt Original Test Sample, g","g","g",{"$f":"INDIRECT(\"'\" & B1510 & C1510 & D1510)","v":0},null,null,0,0,false,false,false]
["'[Asphalt Mix Design - Template (20260115 1305 BC).xlsm]","Agg - Coarse'!","L",45,"Agg 5 - F&E","Rep 1",null,null,"1\" to 3/4\" -- Wt Flat & Elongated (5:1), g","g","g",{"$f":"INDIRECT(\"'\" & B1511 & C1511 & D1511)","v":0},null,null,0,0,false,false,false]
["'[Asphalt Mix Design - Template (20260115 1305 BC).xlsm]","Agg - Coarse'!","L",46,"Agg 5 - F&E","Rep 1",null,null,"1\" to 3/4\" -- Flat & Elongated (5:1), %","%","%",{"$f":"INDIRECT(\"'\" & B1512 & C1512 & D1512)","v":"---"},null,null,"---","---",false,false,false]
["'[Asphalt Mix Design - Template (20260115 1305 BC).xlsm]","Agg - Coarse'!","M",43,"Agg 5 - F&E","Rep 2",null,null,"1\" to 3/4\" -- No. Particles",null,null,{"$f":"INDIRECT(\"'\" & B1513 & C1513 & D1513)","v":0},null,null,0,0,false,false,false]
["'[Asphalt Mix Design - Template (20260115 1305 BC).xlsm]","Agg - Coarse'!","M",44,"Agg 5 - F&E","Rep 2",null,null,"1\" to 3/4\" -- Wt Original Test Sample, g","g","g",{"$f":"INDIRECT(\"'\" & B1514 & C1514 & D1514)","v":0},null,null,0,0,false,false,false]
["'[Asphalt Mix Design - Template (20260115 1305 BC).xlsm]","Agg - Coarse'!","M",45,"Agg 5 - F&E","Rep 2",null,null,"1\" to 3/4\" -- Wt Flat & Elongated (5:1), g","g","g",{"$f":"INDIRECT(\"'\" & B1515 & C1515 & D1515)","v":0},null,null,0,0,false,false,false]
["'[Asphalt Mix Design - Template (20260115 1305 BC).xlsm]","Agg - Coarse'!","M",46,"Agg 5 - F&E","Rep 2",null,null,"1\" to 3/4\" -- Flat & Elongated (5:1), %","%","%",{"$f":"INDIRECT(\"'\" & B1516 & C1516 & D1516)","v":"---"},null,null,"---","---",false,false,false]
["'[Asphalt Mix Design - Template (20260115 1305 BC).xlsm]","Agg - Coarse'!","L",47,"Agg 5 - F&E","Avg",null,null,"1\" to 3/4\" -- Avg F&E (5:1), %","%","%",{"$f":"INDIRECT(\"'\" & B1517 & C1517 & D1517)","v":"---"},null,null,"---","---",false,"CONDITIONAL",false]
["'[Asphalt Mix Design - Template (20260115 1305 BC).xlsm]","Agg - Coarse'!","L",48,"Agg 5 - F&E",null,null,null,"3/4\" to 1/2\" -- Size Fraction, % of Agg","%","%",{"$f":"INDIRECT(\"'\" & B1518 & C1518 & D1518)","v":0},null,null,0,0,false,"CONDITIONAL",false]
["'[Asphalt Mix Design - Template (20260115 1305 BC).xlsm]","Agg - Coarse'!","L",49,"Agg 5 - F&E","Rep 1",null,null,"3/4\" to 1/2\" -- No. Particles",null,null,{"$f":"INDIRECT(\"'\" & B1519 & C1519 & D1519)","v":0},null,null,0,0,false,false,false]
["'[Asphalt Mix Design - Template (20260115 1305 BC).xlsm]","Agg - Coarse'!","L",50,"Agg 5 - F&E","Rep 1",null,null,"3/4\" to 1/2\" -- Wt Original Test Sample, g","g","g",{"$f":"INDIRECT(\"'\" & B1520 & C1520 & D1520)","v":0},null,null,0,0,false,false,false]
["'[Asphalt Mix Design - Template (20260115 1305 BC).xlsm]","Agg - Coarse'!","L",51,"Agg 5 - F&E","Rep 1",null,null,"3/4\" to 1/2\" -- Wt Flat & Elongated (5:1), g","g","g",{"$f":"INDIRECT(\"'\" & B1521 & C1521 & D1521)","v":0},null,null,0,0,false,false,false]
["'[Asphalt Mix Design - Template (20260115 1305 BC).xlsm]","Agg - Coarse'!","L",52,"Agg 5 - F&E","Rep 1",null,null,"3/4\" to 1/2\" -- Flat & Elongated (5:1), %","%","%",{"$f":"INDIRECT(\"'\" & B1522 & C1522 & D1522)","v":"---"},null,null,"---","---",false,false,false]
["'[Asphalt Mix Design - Template (20260115 1305 BC).xlsm]","Agg - Coarse'!","M",49,"Agg 5 - F&E","Rep 2",null,null,"3/4\" to 1/2\" -- No. Particles",null,null,{"$f":"INDIRECT(\"'\" & B1523 & C1523 & D1523)","v":0},null,null,0,0,false,false,false]
["'[Asphalt Mix Design - Template (20260115 1305 BC).xlsm]","Agg - Coarse'!","M",50,"Agg 5 - F&E","Rep 2",null,null,"3/4\" to 1/2\" -- Wt Original Test Sample, g","g","g",{"$f":"INDIRECT(\"'\" & B1524 & C1524 & D1524)","v":0},null,null,0,0,false,false,false]
["'[Asphalt Mix Design - Template (20260115 1305 BC).xlsm]","Agg - Coarse'!","M",51,"Agg 5 - F&E","Rep 2",null,null,"3/4\" to 1/2\" -- Wt Flat & Elongated (5:1), g","g","g",{"$f":"INDIRECT(\"'\" & B1525 & C1525 & D1525)","v":0},null,null,0,0,false,false,false]
["'[Asphalt Mix Design - Template (20260115 1305 BC).xlsm]","Agg - Coarse'!","M",52,"Agg 5 - F&E","Rep 2",null,null,"3/4\" to 1/2\" -- Flat & Elongated (5:1), %","%","%",{"$f":"INDIRECT(\"'\" & B1526 & C1526 & D1526)","v":"---"},null,null,"---","---",false,false,false]
["'[Asphalt Mix Design - Template (20260115 1305 BC).xlsm]","Agg - Coarse'!","L",53,"Agg 5 - F&E","Avg",null,null,"3/4\" to 1/2\" -- Avg F&E (5:1), %","%","%",{"$f":"INDIRECT(\"'\" & B1527 & C1527 & D1527)","v":"---"},null,null,"---","---",false,"CONDITIONAL",false]
["'[Asphalt Mix Design - Template (20260115 1305 BC).xlsm]","Agg - Coarse'!","L",54,"Agg 5 - F&E",null,null,null,"1/2\" to 3/8\" -- Size Fraction, % of Agg","%","%",{"$f":"INDIRECT(\"'\" & B1528 & C1528 & D1528)","v":0},null,null,0,0,false,"CONDITIONAL",false]
["'[Asphalt Mix Design - Template (20260115 1305 BC).xlsm]","Agg - Coarse'!","L",55,"Agg 5 - F&E","Rep 1",null,null,"1/2\" to 3/8\" -- No. Particles",null,null,{"$f":"INDIRECT(\"'\" & B1529 & C1529 & D1529)","v":0},null,null,0,0,false,false,false]
["'[Asphalt Mix Design - Template (20260115 1305 BC).xlsm]","Agg - Coarse'!","L",56,"Agg 5 - F&E","Rep 1",null,null,"1/2\" to 3/8\" -- Wt Original Test Sample, g","g","g",{"$f":"INDIRECT(\"'\" & B1530 & C1530 & D1530)","v":0},null,null,0,0,false,false,false]
["'[Asphalt Mix Design - Template (20260115 1305 BC).xlsm]","Agg - Coarse'!","L",57,"Agg 5 - F&E","Rep 1",null,null,"1/2\" to 3/8\" -- Wt Flat & Elongated (5:1), g","g","g",{"$f":"INDIRECT(\"'\" & B1531 & C1531 & D1531)","v":0},null,null,0,0,false,false,false]
["'[Asphalt Mix Design - Template (20260115 1305 BC).xlsm]","Agg - Coarse'!","L",58,"Agg 5 - F&E","Rep 1",null,null,"1/2\" to 3/8\" -- Flat & Elongated (5:1), %","%","%",{"$f":"INDIRECT(\"'\" & B1532 & C1532 & D1532)","v":"---"},null,null,"---","---",false,false,false]
["'[Asphalt Mix Design - Template (20260115 1305 BC).xlsm]","Agg - Coarse'!","M",55,"Agg 5 - F&E","Rep 2",null,null,"1/2\" to 3/8\" -- No. Particles",null,null,{"$f":"INDIRECT(\"'\" & B1533 & C1533 & D1533)","v":0},null,null,0,0,false,false,false]
["'[Asphalt Mix Design - Template (20260115 1305 BC).xlsm]","Agg - Coarse'!","M",56,"Agg 5 - F&E","Rep 2",null,null,"1/2\" to 3/8\" -- Wt Original Test Sample, g","g","g",{"$f":"INDIRECT(\"'\" & B1534 & C1534 & D1534)","v":0},null,null,0,0,false,false,false]
["'[Asphalt Mix Design - Template (20260115 1305 BC).xlsm]","Agg - Coarse'!","M",57,"Agg 5 - F&E","Rep 2",null,null,"1/2\" to 3/8\" -- Wt Flat & Elongated (5:1), g","g","g",{"$f":"INDIRECT(\"'\" & B1535 & C1535 & D1535)","v":0},null,null,0,0,false,false,false]
["'[Asphalt Mix Design - Template (20260115 1305 BC).xlsm]","Agg - Coarse'!","M",58,"Agg 5 - F&E","Rep 2",null,null,"1/2\" to 3/8\" -- Flat & Elongated (5:1), %","%","%",{"$f":"INDIRECT(\"'\" & B1536 & C1536 & D1536)","v":"---"},null,null,"---","---",false,false,false]
["'[Asphalt Mix Design - Template (20260115 1305 BC).xlsm]","Agg - Coarse'!","L",59,"Agg 5 - F&E","Avg",null,null,"1/2\" to 3/8\" -- Avg F&E (5:1), %","%","%",{"$f":"INDIRECT(\"'\" & B1537 & C1537 & D1537)","v":"---"},null,null,"---","---",false,"CONDITIONAL",false]
["'[Asphalt Mix Design - Template (20260115 1305 BC).xlsm]","Agg - Coarse'!","L",60,"Agg 5 - F&E",null,null,null,"3/8\" to #4 -- Size Fraction, % of Agg","%","%",{"$f":"INDIRECT(\"'\" & B1538 & C1538 & D1538)","v":0},null,null,{"$f":"IF(ISBLANK(N1538),L1538,N1538)","v":0},{"$f":"IF(ISBLANK(N1538),IF(OR(ISBLANK(M1538),ISERROR(M1538)),L1538,M1538),N1538)","v":0},false,"CONDITIONAL",false]
["'[Asphalt Mix Design - Template (20260115 1305 BC).xlsm]","Agg - Coarse'!","L",61,"Agg 5 - F&E","Rep 1",null,null,"3/8\" to #4 -- No. Particles",null,null,{"$f":"INDIRECT(\"'\" & B1539 & C1539 & D1539)","v":0},null,null,0,0,false,false,false]
["'[Asphalt Mix Design - Template (20260115 1305 BC).xlsm]","Agg - Coarse'!","L",62,"Agg 5 - F&E","Rep 1",null,null,"3/8\" to #4 -- Wt Original Test Sample, g","g","g",{"$f":"INDIRECT(\"'\" & B1540 & C1540 & D1540)","v":0},null,null,0,0,false,false,false]
["'[Asphalt Mix Design - Template (20260115 1305 BC).xlsm]","Agg - Coarse'!","L",63,"Agg 5 - F&E","Rep 1",null,null,"3/8\" to #4 -- Wt Flat & Elongated (5:1), g","g","g",{"$f":"INDIRECT(\"'\" & B1541 & C1541 & D1541)","v":0},null,null,0,0,false,false,false]
["'[Asphalt Mix Design - Template (20260115 1305 BC).xlsm]","Agg - Coarse'!","L",64,"Agg 5 - F&E","Rep 1",null,null,"3/8\" to #4 -- Flat & Elongated (5:1), %","%","%",{"$f":"INDIRECT(\"'\" & B1542 & C1542 & D1542)","v":"---"},null,null,"---","---",false,false,false]
["'[Asphalt Mix Design - Template (20260115 1305 BC).xlsm]","Agg - Coarse'!","M",61,"Agg 5 - F&E","Rep 2",null,null,"3/8\" to #4 -- No. Particles",null,null,{"$f":"INDIRECT(\"'\" & B1543 & C1543 & D1543)","v":0},null,null,0,0,false,false,false]
["'[Asphalt Mix Design - Template (20260115 1305 BC).xlsm]","Agg - Coarse'!","M",62,"Agg 5 - F&E","Rep 2",null,null,"3/8\" to #4 -- Wt Original Test Sample, g","g","g",{"$f":"INDIRECT(\"'\" & B1544 & C1544 & D1544)","v":0},null,null,0,0,false,false,false]
["'[Asphalt Mix Design - Template (20260115 1305 BC).xlsm]","Agg - Coarse'!","M",63,"Agg 5 - F&E","Rep 2",null,null,"3/8\" to #4 -- Wt Flat & Elongated (5:1), g","g","g",{"$f":"INDIRECT(\"'\" & B1545 & C1545 & D1545)","v":0},null,null,0,0,false,false,false]
["'[Asphalt Mix Design - Template (20260115 1305 BC).xlsm]","Agg - Coarse'!","M",64,"Agg 5 - F&E","Rep 2",null,null,"3/8\" to #4 -- Flat & Elongated (5:1), %","%","%",{"$f":"INDIRECT(\"'\" & B1546 & C1546 & D1546)","v":"---"},null,null,"---","---",false,false,false]
["'[Asphalt Mix Design - Template (20260115 1305 BC).xlsm]","Agg - Coarse'!","L",65,"Agg 5 - F&E","Avg",null,null,"3/8\" to #4 -- Avg F&E (5:1), %","%","%",{"$f":"INDIRECT(\"'\" & B1547 & C1547 & D1547)","v":"---"},null,null,"---","---",false,"CONDITIONAL",false]
["'[Asphalt Mix Design - Template (20260115 1305 BC).xlsm]","Agg - Coarse'!","L",66,"Agg 5 - F&E","Avg",null,null,"Weighted Avg F&E (5:1), %","%","%",{"$f":"INDIRECT(\"'\" & B1548 & C1548 & D1548)","v":"---"},null,null,"---","---","CONDITIONAL","CONDITIONAL","CONDITIONAL"]
["'[Asphalt Mix Design - Template (20260115 1305 BC).xlsm]","Agg - Coarse'!","L",67,"Agg 5 - Clay Lumps",null,null,null,"Date Tested",null,null,{"$f":"INDIRECT(\"'\" & B1549 & C1549 & D1549)","v":"00:00:00"},null,null,"00:00:00","00:00:00",false,"CONDITIONAL",false]
["'[Asphalt Mix Design - Template (20260115 1305 BC).xlsm]","Agg - Coarse'!","L",68,"Agg 5 - Clay Lumps","Rep 1",null,null,"Wt Original Test Sample, g","g","g",{"$f":"INDIRECT(\"'\" & B1550 & C1550 & D1550)","v":0},null,null,0,0,false,false,false]
["'[Asphalt Mix Design - Template (20260115 1305 BC).xlsm]","Agg - Coarse'!","L",69,"Agg 5 - Clay Lumps","Rep 1",null,null,"Wt Retained, No. 8 Sieve, g","g","g",{"$f":"INDIRECT(\"'\" & B1551 & C1551 & D1551)","v":0},null,null,0,0,false,false,false]
["'[Asphalt Mix Design - Template (20260115 1305 BC).xlsm]","Agg - Coarse'!","L",70,"Agg 5 - Clay Lumps","Rep 1",null,null,"Clay Lumps & Friable Particles, %","%","%",{"$f":"INDIRECT(\"'\" & B1552 & C1552 & D1552)","v":"---"},null,null,"---","---",false,"CONDITIONAL",false]
["'[Asphalt Mix Design - Template (20260115 1305 BC).xlsm]","Agg - Coarse'!","M",68,"Agg 5 - Clay Lumps","Rep 2",null,null,"Wt Original Test Sample, g","g","g",{"$f":"INDIRECT(\"'\" & B1553 & C1553 & D1553)","v":0},null,null,0,0,false,false,false]
["'[Asphalt Mix Design - Template (20260115 1305 BC).xlsm]","Agg - Coarse'!","M",69,"Agg 5 - Clay Lumps","Rep 2",null,null,"Wt Retained, No. 8 Sieve, g","g","g",{"$f":"INDIRECT(\"'\" & B1554 & C1554 & D1554)","v":0},null,null,0,0,false,false,false]
["'[Asphalt Mix Design - Template (20260115 1305 BC).xlsm]","Agg - Coarse'!","M",70,"Agg 5 - Clay Lumps","Rep 2",null,null,"Clay Lumps & Friable Particles, %","%","%",{"$f":"INDIRECT(\"'\" & B1555 & C1555 & D1555)","v":"---"},null,null,"---","---",false,"CONDITIONAL",false]
["'[Asphalt Mix Design - Template (20260115 1305 BC).xlsm]","Agg - Coarse'!","L",71,"Agg 5 - Clay Lumps","Avg",null,null,"Avg Clay Lumps, %","%","%",{"$f":"INDIRECT(\"'\" & B1556 & C1556 & D1556)","v":"---"},null,null,"---","---","CONDITIONAL","CONDITIONAL","CONDITIONAL"]
["'[Asphalt Mix Design - Template (20260115 1305 BC).xlsm]","Agg - Coarse'!","N",7,"Agg 6",null,null,null,"Aggreagte ID",null,null,{"$f":"INDIRECT(\"'\" & B1557 & C1557 & D1557)","v":"---"},null,null,"---","---",false,"CONDITIONAL","CONDITIONAL"]
["'[Asphalt Mix Design - Template (20260115 1305 BC).xlsm]","Agg - Coarse'!","N",8,"Agg 6",null,null,null,"Percent of Agg Blend, %","%","%",{"$f":"INDIRECT(\"'\" & B1558 & C1558 & D1558)","v":"---"},null,null,"---","---",false,"CONDITIONAL",false]
["'[Asphalt Mix Design - Template (20260115 1305 BC).xlsm]","Agg - Coarse'!","N",9,"Agg 6",null,null,null,"Percent Passing No. 4, %","%","%",{"$f":"INDIRECT(\"'\" & B1559 & C1559 & D1559)","v":"---"},null,null,"---","---",false,"CONDITIONAL",false]
["'[Asphalt Mix Design - Template (20260115 1305 BC).xlsm]","Agg - Coarse'!","N",10,"Agg 6",null,null,null,"Aggregate Size Class",null,null,{"$f":"INDIRECT(\"'\" & B1560 & C1560 & D1560)","v":"---"},null,null,"---","---",false,"CONDITIONAL",false]
["'[Asphalt Mix Design - Template (20260115 1305 BC).xlsm]","Agg - Coarse'!","N",12,"Agg 6 - LA Abrasion",null,null,null,"Date Tested",null,null,{"$f":"INDIRECT(\"'\" & B1561 & C1561 & D1561)","v":"00:00:00"},null,null,"00:00:00","00:00:00",false,"CONDITIONAL",false]
["'[Asphalt Mix Design - Template (20260115 1305 BC).xlsm]","Agg - Coarse'!","N",13,"Agg 6 - LA Abrasion","Rep 1",null,null,"Grading",null,null,{"$f":"INDIRECT(\"'\" & B1562 & C1562 & D1562)","v":0},null,null,0,0,false,"CONDITIONAL",false]
["'[Asphalt Mix Design - Template (20260115 1305 BC).xlsm]","Agg - Coarse'!","N",14,"Agg 6 - LA Abrasion","Rep 1",null,null,"Wt Original Test Sample, g","g","g",{"$f":"INDIRECT(\"'\" & B1563 & C1563 & D1563)","v":0},null,null,0,0,false,"CONDITIONAL",false]
["'[Asphalt Mix Design - Template (20260115 1305 BC).xlsm]","Agg - Coarse'!","N",15,"Agg 6 - LA Abrasion","Rep 1",null,null,"Wt Final Test Sample, g","g","g",{"$f":"INDIRECT(\"'\" & B1564 & C1564 & D1564)","v":0},null,null,0,0,false,"CONDITIONAL",false]
["'[Asphalt Mix Design - Template (20260115 1305 BC).xlsm]","Agg - Coarse'!","N",16,"Agg 6 - LA Abrasion","Rep 1",null,null,"LA Abrasion Loss, %","%","%",{"$f":"INDIRECT(\"'\" & B1565 & C1565 & D1565)","v":"---"},null,null,"---","---",false,"CONDITIONAL",false]
["'[Asphalt Mix Design - Template (20260115 1305 BC).xlsm]","Agg - Coarse'!","O",13,"Agg 6 - LA Abrasion","Rep 2",null,null,"Grading",null,null,{"$f":"INDIRECT(\"'\" & B1566 & C1566 & D1566)","v":0},null,null,0,0,false,"CONDITIONAL",false]
["'[Asphalt Mix Design - Template (20260115 1305 BC).xlsm]","Agg - Coarse'!","O",14,"Agg 6 - LA Abrasion","Rep 2",null,null,"Wt Original Test Sample, g","g","g",{"$f":"INDIRECT(\"'\" & B1567 & C1567 & D1567)","v":0},null,null,0,0,false,"CONDITIONAL",false]
["'[Asphalt Mix Design - Template (20260115 1305 BC).xlsm]","Agg - Coarse'!","O",15,"Agg 6 - LA Abrasion","Rep 2",null,null,"Wt Final Test Sample, g","g","g",{"$f":"INDIRECT(\"'\" & B1568 & C1568 & D1568)","v":0},null,null,0,0,false,"CONDITIONAL",false]
["'[Asphalt Mix Design - Template (20260115 1305 BC).xlsm]","Agg - Coarse'!","O",16,"Agg 6 - LA Abrasion","Rep 2",null,null,"LA Abrasion Loss, %","%","%",{"$f":"INDIRECT(\"'\" & B1569 & C1569 & D1569)","v":"---"},null,null,"---","---",false,"CONDITIONAL",false]
["'[Asphalt Mix Design - Template (20260115 1305 BC).xlsm]","Agg - Coarse'!","N",17,"Agg 6 - LA Abrasion","Avg",null,null,"LA Abrasion Loss, %","%","%",{"$f":"INDIRECT(\"'\" & B1570 & C1570 & D1570)","v":"---"},null,null,"---","---","CONDITIONAL","CONDITIONAL","CONDITIONAL"]
["'[Asphalt Mix Design - Template (20260115 1305 BC).xlsm]","Agg - Coarse'!","AJ",6,"Agg 6 - Soundness",null,null,null,"Solution",null,null,{"$f":"INDIRECT(\"'\" & B1571 & C1571 & D1571)","v":1},null,{"$f":"IF(L1571=1,\"Magnesium Sulfate\",IF(L1571=2,\"Sodium Sulfate\",\"Error\"))","v":"Magnesium Sulfate"},"Magnesium Sulfate","Magnesium Sulfate",false,"CONDITIONAL",false]
["'[Asphalt Mix Design - Template (20260115 1305 BC).xlsm]","Agg - Coarse'!","N",18,"Agg 6 - Soundness",null,null,null,"Date Tested",null,null,{"$f":"INDIRECT(\"'\" & B1572 & C1572 & D1572)","v":"00:00:00"},null,null,"00:00:00","00:00:00",false,"CONDITIONAL",false]
["'[Asphalt Mix Design - Template (20260115 1305 BC).xlsm]","Agg - Coarse'!","N",19,"Agg 6 - Soundness",null,null,null,"1-1/2\" to 3/4\" -- Size Fraction, % of +#4","%","%",{"$f":"INDIRECT(\"'\" & B1573 & C1573 & D1573)","v":"---"},null,null,"---","---",false,"CONDITIONAL",false]
["'[Asphalt Mix Design - Template (20260115 1305 BC).xlsm]","Agg - Coarse'!","N",20,"Agg 6 - Soundness","Rep 1",null,null,"1-1/2\" to 3/4\" -- Wt Original Test Sample, g","g","g",{"$f":"INDIRECT(\"'\" & B1574 & C1574 & D1574)","v":0},null,null,0,0,false,false,false]
["'[Asphalt Mix Design - Template (20260115 1305 BC).xlsm]","Agg - Coarse'!","N",21,"Agg 6 - Soundness","Rep 1",null,null,"1-1/2\" to 3/4\" -- Wt Retained, No #, g","g","g",{"$f":"INDIRECT(\"'\" & B1575 & C1575 & D1575)","v":0},null,null,0,0,false,false,false]
["'[Asphalt Mix Design - Template (20260115 1305 BC).xlsm]","Agg - Coarse'!","N",22,"Agg 6 - Soundness","Rep 1",null,null,"1-1/2\" to 3/4\" -- Percent Passing, %","%","%",{"$f":"INDIRECT(\"'\" & B1576 & C1576 & D1576)","v":"---"},null,null,"---","---",false,false,false]
["'[Asphalt Mix Design - Template (20260115 1305 BC).xlsm]","Agg - Coarse'!","O",20,"Agg 6 - Soundness","Rep 2",null,null,"1-1/2\" to 3/4\" -- Wt Original Test Sample, g","g","g",{"$f":"INDIRECT(\"'\" & B1577 & C1577 & D1577)","v":0},null,null,0,0,false,false,false]
["'[Asphalt Mix Design - Template (20260115 1305 BC).xlsm]","Agg - Coarse'!","O",21,"Agg 6 - Soundness","Rep 2",null,null,"1-1/2\" to 3/4\" -- Wt Retained, No #, g","g","g",{"$f":"INDIRECT(\"'\" & B1578 & C1578 & D1578)","v":0},null,null,0,0,false,false,false]
["'[Asphalt Mix Design - Template (20260115 1305 BC).xlsm]","Agg - Coarse'!","O",22,"Agg 6 - Soundness","Rep 2",null,null,"1-1/2\" to 3/4\" -- Percent Passing, %","%","%",{"$f":"INDIRECT(\"'\" & B1579 & C1579 & D1579)","v":"---"},null,null,"---","---",false,false,false]
["'[Asphalt Mix Design - Template (20260115 1305 BC).xlsm]","Agg - Coarse'!","N",23,"Agg 6 - Soundness","Avg",null,null,"1-1/2\" to 3/4\" -- Avg Percent Passing, %","%","%",{"$f":"INDIRECT(\"'\" & B1580 & C1580 & D1580)","v":"---"},null,null,"---","---",false,"CONDITIONAL",false]
["'[Asphalt Mix Design - Template (20260115 1305 BC).xlsm]","Agg - Coarse'!","N",24,"Agg 6 - Soundness",null,null,null,"3/4\" to 3/8\" -- Size Fraction, % of +#4","%","%",{"$f":"INDIRECT(\"'\" & B1581 & C1581 & D1581)","v":"---"},null,null,"---","---",false,"CONDITIONAL",false]
["'[Asphalt Mix Design - Template (20260115 1305 BC).xlsm]","Agg - Coarse'!","N",25,"Agg 6 - Soundness","Rep 1",null,null,"3/4\" to 3/8\" -- Wt Original Test Sample, g","g","g",{"$f":"INDIRECT(\"'\" & B1582 & C1582 & D1582)","v":0},null,null,0,0,false,false,false]
["'[Asphalt Mix Design - Template (20260115 1305 BC).xlsm]","Agg - Coarse'!","N",26,"Agg 6 - Soundness","Rep 1",null,null,"3/4\" to 3/8\" -- Wt Retained, No #, g","g","g",{"$f":"INDIRECT(\"'\" & B1583 & C1583 & D1583)","v":0},null,null,0,0,false,false,false]
["'[Asphalt Mix Design - Template (20260115 1305 BC).xlsm]","Agg - Coarse'!","N",27,"Agg 6 - Soundness","Rep 1",null,null,"3/4\" to 3/8\" -- Percent Passing, %","%","%",{"$f":"INDIRECT(\"'\" & B1584 & C1584 & D1584)","v":"---"},null,null,"---","---",false,false,false]
["'[Asphalt Mix Design - Template (20260115 1305 BC).xlsm]","Agg - Coarse'!","O",25,"Agg 6 - Soundness","Rep 2",null,null,"3/4\" to 3/8\" -- Wt Original Test Sample, g","g","g",{"$f":"INDIRECT(\"'\" & B1585 & C1585 & D1585)","v":0},null,null,0,0,false,false,false]
["'[Asphalt Mix Design - Template (20260115 1305 BC).xlsm]","Agg - Coarse'!","O",26,"Agg 6 - Soundness","Rep 2",null,null,"3/4\" to 3/8\" -- Wt Retained, No #, g","g","g",{"$f":"INDIRECT(\"'\" & B1586 & C1586 & D1586)","v":0},null,null,0,0,false,false,false]
["'[Asphalt Mix Design - Template (20260115 1305 BC).xlsm]","Agg - Coarse'!","O",27,"Agg 6 - Soundness","Rep 2",null,null,"3/4\" to 3/8\" -- Percent Passing, %","%","%",{"$f":"INDIRECT(\"'\" & B1587 & C1587 & D1587)","v":"---"},null,null,"---","---",false,false,false]
["'[Asphalt Mix Design - Template (20260115 1305 BC).xlsm]","Agg - Coarse'!","N",28,"Agg 6 - Soundness","Avg",null,null,"3/4\" to 3/8\" -- Avg Percent Passing, %","%","%",{"$f":"INDIRECT(\"'\" & B1588 & C1588 & D1588)","v":"---"},null,null,"---","---",false,"CONDITIONAL",false]
["'[Asphalt Mix Design - Template (20260115 1305 BC).xlsm]","Agg - Coarse'!","N",29,"Agg 6 - Soundness",null,null,null,"3/8\" to #4 -- Size Fraction, % of +#4","%","%",{"$f":"INDIRECT(\"'\" & B1589 & C1589 & D1589)","v":"---"},null,null,"---","---",false,"CONDITIONAL",false]
["'[Asphalt Mix Design - Template (20260115 1305 BC).xlsm]","Agg - Coarse'!","N",30,"Agg 6 - Soundness","Rep 1",null,null,"3/8\" to #4 -- Wt Original Test Sample, g","g","g",{"$f":"INDIRECT(\"'\" & B1590 & C1590 & D1590)","v":0},null,null,0,0,false,false,false]
["'[Asphalt Mix Design - Template (20260115 1305 BC).xlsm]","Agg - Coarse'!","N",31,"Agg 6 - Soundness","Rep 1",null,null,"3/8\" to #4 -- Wt Retained, No #, g","g","g",{"$f":"INDIRECT(\"'\" & B1591 & C1591 & D1591)","v":0},null,null,0,0,false,false,false]
["'[Asphalt Mix Design - Template (20260115 1305 BC).xlsm]","Agg - Coarse'!","N",32,"Agg 6 - Soundness","Rep 1",null,null,"3/8\" to #4 -- Percent Passing, %","%","%",{"$f":"INDIRECT(\"'\" & B1592 & C1592 & D1592)","v":"---"},null,null,"---","---",false,false,false]
["'[Asphalt Mix Design - Template (20260115 1305 BC).xlsm]","Agg - Coarse'!","O",30,"Agg 6 - Soundness","Rep 2",null,null,"3/8\" to #4 -- Wt Original Test Sample, g","g","g",{"$f":"INDIRECT(\"'\" & B1593 & C1593 & D1593)","v":0},null,null,0,0,false,false,false]
["'[Asphalt Mix Design - Template (20260115 1305 BC).xlsm]","Agg - Coarse'!","O",31,"Agg 6 - Soundness","Rep 2",null,null,"3/8\" to #4 -- Wt Retained, No #, g","g","g",{"$f":"INDIRECT(\"'\" & B1594 & C1594 & D1594)","v":0},null,null,0,0,false,false,false]
["'[Asphalt Mix Design - Template (20260115 1305 BC).xlsm]","Agg - Coarse'!","O",32,"Agg 6 - Soundness","Rep 2",null,null,"3/8\" to #4 -- Percent Passing, %","%","%",{"$f":"INDIRECT(\"'\" & B1595 & C1595 & D1595)","v":"---"},null,null,"---","---",false,false,false]
["'[Asphalt Mix Design - Template (20260115 1305 BC).xlsm]","Agg - Coarse'!","N",33,"Agg 6 - Soundness","Avg",null,null,"3/8\" to #4 -- Avg Percent Passing, %","%","%",{"$f":"INDIRECT(\"'\" & B1596 & C1596 & D1596)","v":"---"},null,null,"---","---",false,"CONDITIONAL",false]
["'[Asphalt Mix Design - Template (20260115 1305 BC).xlsm]","Agg - Coarse'!","N",34,"Agg 6 - Soundness","Avg",null,null,"Weighted Mass Loss, %","%","%",{"$f":"INDIRECT(\"'\" & B1597 & C1597 & D1597)","v":"---"},null,null,"---","---","CONDITIONAL","CONDITIONAL",false]
["'[Asphalt Mix Design - Template (20260115 1305 BC).xlsm]","Agg - Coarse'!","N",35,"Agg 6 - Fractured Faces",null,null,null,"Date Tested",null,null,{"$f":"INDIRECT(\"'\" & B1598 & C1598 & D1598)","v":"00:00:00"},null,null,"00:00:00","00:00:00",false,"CONDITIONAL",false]
["'[Asphalt Mix Design - Template (20260115 1305 BC).xlsm]","Agg - Coarse'!","N",36,"Agg 6 - Fractured Faces","Rep 1",null,null,"Wt Original Test Sample, g","g","g",{"$f":"INDIRECT(\"'\" & B1599 & C1599 & D1599)","v":0},null,null,0,0,false,false,false]
["'[Asphalt Mix Design - Template (20260115 1305 BC).xlsm]","Agg - Coarse'!","N",37,"Agg 6 - Fractured Faces","Rep 1",null,null,"Wt 2+ Fractured Faces, g","g","g",{"$f":"INDIRECT(\"'\" & B1600 & C1600 & D1600)","v":0},null,null,0,0,false,false,false]
["'[Asphalt Mix Design - Template (20260115 1305 BC).xlsm]","Agg - Coarse'!","N",38,"Agg 6 - Fractured Faces","Rep 1",null,null,"Wt Remaining Particles, g","g","g",{"$f":"INDIRECT(\"'\" & B1601 & C1601 & D1601)","v":"---"},null,null,"---","---",false,false,false]
["'[Asphalt Mix Design - Template (20260115 1305 BC).xlsm]","Agg - Coarse'!","N",39,"Agg 6 - Fractured Faces","Rep 1",null,null,"Two Fractured Faces, %","%","%",{"$f":"INDIRECT(\"'\" & B1602 & C1602 & D1602)","v":"---"},null,null,{"$f":"IF(ISBLANK(N1602),L1602,N1602)","v":"---"},{"$f":"IF(ISBLANK(N1602),IF(OR(ISBLANK(M1602),ISERROR(M1602)),L1602,M1602),N1602)","v":"---"},false,"CONDITIONAL",false]
["'[Asphalt Mix Design - Template (20260115 1305 BC).xlsm]","Agg - Coarse'!","O",36,"Agg 6 - Fractured Faces","Rep 2",null,null,"Wt Original Test Sample, g","g","g",{"$f":"INDIRECT(\"'\" & B1603 & C1603 & D1603)","v":0},null,null,0,0,false,false,false]
["'[Asphalt Mix Design - Template (20260115 1305 BC).xlsm]","Agg - Coarse'!","O",37,"Agg 6 - Fractured Faces","Rep 2",null,null,"Wt 2+ Fractured Faces, g","g","g",{"$f":"INDIRECT(\"'\" & B1604 & C1604 & D1604)","v":0},null,null,0,0,false,false,false]
["'[Asphalt Mix Design - Template (20260115 1305 BC).xlsm]","Agg - Coarse'!","O",38,"Agg 6 - Fractured Faces","Rep 2",null,null,"Wt Remaining Particles, g","g","g",{"$f":"INDIRECT(\"'\" & B1605 & C1605 & D1605)","v":"---"},null,null,"---","---",false,false,false]
["'[Asphalt Mix Design - Template (20260115 1305 BC).xlsm]","Agg - Coarse'!","O",39,"Agg 6 - Fractured Faces","Rep 2",null,null,"Two Fractured Faces, %","%","%",{"$f":"INDIRECT(\"'\" & B1606 & C1606 & D1606)","v":"---"},null,null,"---","---",false,"CONDITIONAL",false]
["'[Asphalt Mix Design - Template (20260115 1305 BC).xlsm]","Agg - Coarse'!","N",40,"Agg 6 - Fractured Faces","Avg",null,null,"Avg Two Fractured Faces, %","%","%",{"$f":"INDIRECT(\"'\" & B1607 & C1607 & D1607)","v":"---"},null,null,"---","---","CONDITIONAL","CONDITIONAL","CONDITIONAL"]
["'[Asphalt Mix Design - Template (20260115 1305 BC).xlsm]","Agg - Coarse'!","N",41,"Agg 6 - F&E",null,null,null,"Date Tested",null,null,{"$f":"INDIRECT(\"'\" & B1608 & C1608 & D1608)","v":"00:00:00"},null,null,"00:00:00","00:00:00",false,"CONDITIONAL",false]
["'[Asphalt Mix Design - Template (20260115 1305 BC).xlsm]","Agg - Coarse'!","N",42,"Agg 6 - F&E",null,null,null,"1\" to 3/4\" -- Size Fraction, % of Agg","%","%",{"$f":"INDIRECT(\"'\" & B1609 & C1609 & D1609)","v":0},null,null,0,0,false,"CONDITIONAL",false]
["'[Asphalt Mix Design - Template (20260115 1305 BC).xlsm]","Agg - Coarse'!","N",43,"Agg 6 - F&E","Rep 1",null,null,"1\" to 3/4\" -- No. Particles",null,null,{"$f":"INDIRECT(\"'\" & B1610 & C1610 & D1610)","v":0},null,null,0,0,false,false,false]
["'[Asphalt Mix Design - Template (20260115 1305 BC).xlsm]","Agg - Coarse'!","N",44,"Agg 6 - F&E","Rep 1",null,null,"1\" to 3/4\" -- Wt Original Test Sample, g","g","g",{"$f":"INDIRECT(\"'\" & B1611 & C1611 & D1611)","v":0},null,null,0,0,false,false,false]
["'[Asphalt Mix Design - Template (20260115 1305 BC).xlsm]","Agg - Coarse'!","N",45,"Agg 6 - F&E","Rep 1",null,null,"1\" to 3/4\" -- Wt Flat & Elongated (5:1), g","g","g",{"$f":"INDIRECT(\"'\" & B1612 & C1612 & D1612)","v":0},null,null,0,0,false,false,false]
["'[Asphalt Mix Design - Template (20260115 1305 BC).xlsm]","Agg - Coarse'!","N",46,"Agg 6 - F&E","Rep 1",null,null,"1\" to 3/4\" -- Flat & Elongated (5:1), %","%","%",{"$f":"INDIRECT(\"'\" & B1613 & C1613 & D1613)","v":"---"},null,null,"---","---",false,false,false]
["'[Asphalt Mix Design - Template (20260115 1305 BC).xlsm]","Agg - Coarse'!","O",43,"Agg 6 - F&E","Rep 2",null,null,"1\" to 3/4\" -- No. Particles",null,null,{"$f":"INDIRECT(\"'\" & B1614 & C1614 & D1614)","v":0},null,null,0,0,false,false,false]
["'[Asphalt Mix Design - Template (20260115 1305 BC).xlsm]","Agg - Coarse'!","O",44,"Agg 6 - F&E","Rep 2",null,null,"1\" to 3/4\" -- Wt Original Test Sample, g","g","g",{"$f":"INDIRECT(\"'\" & B1615 & C1615 & D1615)","v":0},null,null,0,0,false,false,false]
["'[Asphalt Mix Design - Template (20260115 1305 BC).xlsm]","Agg - Coarse'!","O",45,"Agg 6 - F&E","Rep 2",null,null,"1\" to 3/4\" -- Wt Flat & Elongated (5:1), g","g","g",{"$f":"INDIRECT(\"'\" & B1616 & C1616 & D1616)","v":0},null,null,0,0,false,false,false]
["'[Asphalt Mix Design - Template (20260115 1305 BC).xlsm]","Agg - Coarse'!","O",46,"Agg 6 - F&E","Rep 2",null,null,"1\" to 3/4\" -- Flat & Elongated (5:1), %","%","%",{"$f":"INDIRECT(\"'\" & B1617 & C1617 & D1617)","v":"---"},null,null,"---","---",false,false,false]
["'[Asphalt Mix Design - Template (20260115 1305 BC).xlsm]","Agg - Coarse'!","N",47,"Agg 6 - F&E","Avg",null,null,"1\" to 3/4\" -- Avg F&E (5:1), %","%","%",{"$f":"INDIRECT(\"'\" & B1618 & C1618 & D1618)","v":"---"},null,null,"---","---",false,"CONDITIONAL",false]
["'[Asphalt Mix Design - Template (20260115 1305 BC).xlsm]","Agg - Coarse'!","N",48,"Agg 6 - F&E",null,null,null,"3/4\" to 1/2\" -- Size Fraction, % of Agg","%","%",{"$f":"INDIRECT(\"'\" & B1619 & C1619 & D1619)","v":0},null,null,0,0,false,"CONDITIONAL",false]
["'[Asphalt Mix Design - Template (20260115 1305 BC).xlsm]","Agg - Coarse'!","N",49,"Agg 6 - F&E","Rep 1",null,null,"3/4\" to 1/2\" -- No. Particles",null,null,{"$f":"INDIRECT(\"'\" & B1620 & C1620 & D1620)","v":0},null,null,0,0,false,false,false]
["'[Asphalt Mix Design - Template (20260115 1305 BC).xlsm]","Agg - Coarse'!","N",50,"Agg 6 - F&E","Rep 1",null,null,"3/4\" to 1/2\" -- Wt Original Test Sample, g","g","g",{"$f":"INDIRECT(\"'\" & B1621 & C1621 & D1621)","v":0},null,null,0,0,false,false,false]
["'[Asphalt Mix Design - Template (20260115 1305 BC).xlsm]","Agg - Coarse'!","N",51,"Agg 6 - F&E","Rep 1",null,null,"3/4\" to 1/2\" -- Wt Flat & Elongated (5:1), g","g","g",{"$f":"INDIRECT(\"'\" & B1622 & C1622 & D1622)","v":0},null,null,0,0,false,false,false]
["'[Asphalt Mix Design - Template (20260115 1305 BC).xlsm]","Agg - Coarse'!","N",52,"Agg 6 - F&E","Rep 1",null,null,"3/4\" to 1/2\" -- Flat & Elongated (5:1), %","%","%",{"$f":"INDIRECT(\"'\" & B1623 & C1623 & D1623)","v":"---"},null,null,"---","---",false,false,false]
["'[Asphalt Mix Design - Template (20260115 1305 BC).xlsm]","Agg - Coarse'!","O",49,"Agg 6 - F&E","Rep 2",null,null,"3/4\" to 1/2\" -- No. Particles",null,null,{"$f":"INDIRECT(\"'\" & B1624 & C1624 & D1624)","v":0},null,null,0,0,false,false,false]
["'[Asphalt Mix Design - Template (20260115 1305 BC).xlsm]","Agg - Coarse'!","O",50,"Agg 6 - F&E","Rep 2",null,null,"3/4\" to 1/2\" -- Wt Original Test Sample, g","g","g",{"$f":"INDIRECT(\"'\" & B1625 & C1625 & D1625)","v":0},null,null,0,0,false,false,false]
["'[Asphalt Mix Design - Template (20260115 1305 BC).xlsm]","Agg - Coarse'!","O",51,"Agg 6 - F&E","Rep 2",null,null,"3/4\" to 1/2\" -- Wt Flat & Elongated (5:1), g","g","g",{"$f":"INDIRECT(\"'\" & B1626 & C1626 & D1626)","v":0},null,null,0,0,false,false,false]
["'[Asphalt Mix Design - Template (20260115 1305 BC).xlsm]","Agg - Coarse'!","O",52,"Agg 6 - F&E","Rep 2",null,null,"3/4\" to 1/2\" -- Flat & Elongated (5:1), %","%","%",{"$f":"INDIRECT(\"'\" & B1627 & C1627 & D1627)","v":"---"},null,null,"---","---",false,false,false]
["'[Asphalt Mix Design - Template (20260115 1305 BC).xlsm]","Agg - Coarse'!","N",53,"Agg 6 - F&E","Avg",null,null,"3/4\" to 1/2\" -- Avg F&E (5:1), %","%","%",{"$f":"INDIRECT(\"'\" & B1628 & C1628 & D1628)","v":"---"},null,null,"---","---",false,"CONDITIONAL",false]
["'[Asphalt Mix Design - Template (20260115 1305 BC).xlsm]","Agg - Coarse'!","N",54,"Agg 6 - F&E",null,null,null,"1/2\" to 3/8\" -- Size Fraction, % of Agg","%","%",{"$f":"INDIRECT(\"'\" & B1629 & C1629 & D1629)","v":0},null,null,0,0,false,"CONDITIONAL",false]
["'[Asphalt Mix Design - Template (20260115 1305 BC).xlsm]","Agg - Coarse'!","N",55,"Agg 6 - F&E","Rep 1",null,null,"1/2\" to 3/8\" -- No. Particles",null,null,{"$f":"INDIRECT(\"'\" & B1630 & C1630 & D1630)","v":0},null,null,0,0,false,false,false]
["'[Asphalt Mix Design - Template (20260115 1305 BC).xlsm]","Agg - Coarse'!","N",56,"Agg 6 - F&E","Rep 1",null,null,"1/2\" to 3/8\" -- Wt Original Test Sample, g","g","g",{"$f":"INDIRECT(\"'\" & B1631 & C1631 & D1631)","v":0},null,null,0,0,false,false,false]
["'[Asphalt Mix Design - Template (20260115 1305 BC).xlsm]","Agg - Coarse'!","N",57,"Agg 6 - F&E","Rep 1",null,null,"1/2\" to 3/8\" -- Wt Flat & Elongated (5:1), g","g","g",{"$f":"INDIRECT(\"'\" & B1632 & C1632 & D1632)","v":0},null,null,0,0,false,false,false]
["'[Asphalt Mix Design - Template (20260115 1305 BC).xlsm]","Agg - Coarse'!","N",58,"Agg 6 - F&E","Rep 1",null,null,"1/2\" to 3/8\" -- Flat & Elongated (5:1), %","%","%",{"$f":"INDIRECT(\"'\" & B1633 & C1633 & D1633)","v":"---"},null,null,"---","---",false,false,false]
["'[Asphalt Mix Design - Template (20260115 1305 BC).xlsm]","Agg - Coarse'!","O",55,"Agg 6 - F&E","Rep 2",null,null,"1/2\" to 3/8\" -- No. Particles",null,null,{"$f":"INDIRECT(\"'\" & B1634 & C1634 & D1634)","v":0},null,null,0,0,false,false,false]
["'[Asphalt Mix Design - Template (20260115 1305 BC).xlsm]","Agg - Coarse'!","O",56,"Agg 6 - F&E","Rep 2",null,null,"1/2\" to 3/8\" -- Wt Original Test Sample, g","g","g",{"$f":"INDIRECT(\"'\" & B1635 & C1635 & D1635)","v":0},null,null,0,0,false,false,false]
["'[Asphalt Mix Design - Template (20260115 1305 BC).xlsm]","Agg - Coarse'!","O",57,"Agg 6 - F&E","Rep 2",null,null,"1/2\" to 3/8\" -- Wt Flat & Elongated (5:1), g","g","g",{"$f":"INDIRECT(\"'\" & B1636 & C1636 & D1636)","v":0},null,null,0,0,false,false,false]
["'[Asphalt Mix Design - Template (20260115 1305 BC).xlsm]","Agg - Coarse'!","O",58,"Agg 6 - F&E","Rep 2",null,null,"1/2\" to 3/8\" -- Flat & Elongated (5:1), %","%","%",{"$f":"INDIRECT(\"'\" & B1637 & C1637 & D1637)","v":"---"},null,null,"---","---",false,false,false]
["'[Asphalt Mix Design - Template (20260115 1305 BC).xlsm]","Agg - Coarse'!","N",59,"Agg 6 - F&E","Avg",null,null,"1/2\" to 3/8\" -- Avg F&E (5:1), %","%","%",{"$f":"INDIRECT(\"'\" & B1638 & C1638 & D1638)","v":"---"},null,null,"---","---",false,"CONDITIONAL",false]
["'[Asphalt Mix Design - Template (20260115 1305 BC).xlsm]","Agg - Coarse'!","N",60,"Agg 6 - F&E",null,null,null,"3/8\" to #4 -- Size Fraction, % of Agg","%","%",{"$f":"INDIRECT(\"'\" & B1639 & C1639 & D1639)","v":0},null,null,0,0,false,"CONDITIONAL",false]
["'[Asphalt Mix Design - Template (20260115 1305 BC).xlsm]","Agg - Coarse'!","N",61,"Agg 6 - F&E","Rep 1",null,null,"3/8\" to #4 -- No. Particles",null,null,{"$f":"INDIRECT(\"'\" & B1640 & C1640 & D1640)","v":0},null,null,0,0,false,false,false]
["'[Asphalt Mix Design - Template (20260115 1305 BC).xlsm]","Agg - Coarse'!","N",62,"Agg 6 - F&E","Rep 1",null,null,"3/8\" to #4 -- Wt Original Test Sample, g","g","g",{"$f":"INDIRECT(\"'\" & B1641 & C1641 & D1641)","v":0},null,null,0,0,false,false,false]
["'[Asphalt Mix Design - Template (20260115 1305 BC).xlsm]","Agg - Coarse'!","N",63,"Agg 6 - F&E","Rep 1",null,null,"3/8\" to #4 -- Wt Flat & Elongated (5:1), g","g","g",{"$f":"INDIRECT(\"'\" & B1642 & C1642 & D1642)","v":0},null,null,0,0,false,false,false]
["'[Asphalt Mix Design - Template (20260115 1305 BC).xlsm]","Agg - Coarse'!","N",64,"Agg 6 - F&E","Rep 1",null,null,"3/8\" to #4 -- Flat & Elongated (5:1), %","%","%",{"$f":"INDIRECT(\"'\" & B1643 & C1643 & D1643)","v":"---"},null,null,"---","---",false,false,false]
["'[Asphalt Mix Design - Template (20260115 1305 BC).xlsm]","Agg - Coarse'!","O",61,"Agg 6 - F&E","Rep 2",null,null,"3/8\" to #4 -- No. Particles",null,null,{"$f":"INDIRECT(\"'\" & B1644 & C1644 & D1644)","v":0},null,null,0,0,false,false,false]
["'[Asphalt Mix Design - Template (20260115 1305 BC).xlsm]","Agg - Coarse'!","O",62,"Agg 6 - F&E","Rep 2",null,null,"3/8\" to #4 -- Wt Original Test Sample, g","g","g",{"$f":"INDIRECT(\"'\" & B1645 & C1645 & D1645)","v":0},null,null,0,0,false,false,false]
["'[Asphalt Mix Design - Template (20260115 1305 BC).xlsm]","Agg - Coarse'!","O",63,"Agg 6 - F&E","Rep 2",null,null,"3/8\" to #4 -- Wt Flat & Elongated (5:1), g","g","g",{"$f":"INDIRECT(\"'\" & B1646 & C1646 & D1646)","v":0},null,null,0,0,false,false,false]
["'[Asphalt Mix Design - Template (20260115 1305 BC).xlsm]","Agg - Coarse'!","O",64,"Agg 6 - F&E","Rep 2",null,null,"3/8\" to #4 -- Flat & Elongated (5:1), %","%","%",{"$f":"INDIRECT(\"'\" & B1647 & C1647 & D1647)","v":"---"},null,null,"---","---",false,false,false]
["'[Asphalt Mix Design - Template (20260115 1305 BC).xlsm]","Agg - Coarse'!","N",65,"Agg 6 - F&E","Avg",null,null,"3/8\" to #4 -- Avg F&E (5:1), %","%","%",{"$f":"INDIRECT(\"'\" & B1648 & C1648 & D1648)","v":"---"},null,null,"---","---",false,"CONDITIONAL",false]
["'[Asphalt Mix Design - Template (20260115 1305 BC).xlsm]","Agg - Coarse'!","N",66,"Agg 6 - F&E","Avg",null,null,"Weighted Avg F&E (5:1), %","%","%",{"$f":"INDIRECT(\"'\" & B1649 & C1649 & D1649)","v":"---"},null,null,"---","---","CONDITIONAL","CONDITIONAL","CONDITIONAL"]
["'[Asphalt Mix Design - Template (20260115 1305 BC).xlsm]","Agg - Coarse'!","N",67,"Agg 6 - Clay Lumps",null,null,null,"Date Tested",null,null,{"$f":"INDIRECT(\"'\" & B1650 & C1650 & D1650)","v":"00:00:00"},null,null,"00:00:00","00:00:00",false,"CONDITIONAL",false]
["'[Asphalt Mix Design - Template (20260115 1305 BC).xlsm]","Agg - Coarse'!","N",68,"Agg 6 - Clay Lumps","Rep 1",null,null,"Wt Original Test Sample, g","g","g",{"$f":"INDIRECT(\"'\" & B1651 & C1651 & D1651)","v":0},null,null,0,0,false,false,false]
["'[Asphalt Mix Design - Template (20260115 1305 BC).xlsm]","Agg - Coarse'!","N",69,"Agg 6 - Clay Lumps","Rep 1",null,null,"Wt Retained, No. 8 Sieve, g","g","g",{"$f":"INDIRECT(\"'\" & B1652 & C1652 & D1652)","v":0},null,null,0,0,false,false,false]
["'[Asphalt Mix Design - Template (20260115 1305 BC).xlsm]","Agg - Coarse'!","N",70,"Agg 6 - Clay Lumps","Rep 1",null,null,"Clay Lumps & Friable Particles, %","%","%",{"$f":"INDIRECT(\"'\" & B1653 & C1653 & D1653)","v":"---"},null,null,"---","---",false,"CONDITIONAL",false]
["'[Asphalt Mix Design - Template (20260115 1305 BC).xlsm]","Agg - Coarse'!","O",68,"Agg 6 - Clay Lumps","Rep 2",null,null,"Wt Original Test Sample, g","g","g",{"$f":"INDIRECT(\"'\" & B1654 & C1654 & D1654)","v":0},null,null,0,0,false,false,false]
["'[Asphalt Mix Design - Template (20260115 1305 BC).xlsm]","Agg - Coarse'!","O",69,"Agg 6 - Clay Lumps","Rep 2",null,null,"Wt Retained, No. 8 Sieve, g","g","g",{"$f":"INDIRECT(\"'\" & B1655 & C1655 & D1655)","v":0},null,null,0,0,false,false,false]
["'[Asphalt Mix Design - Template (20260115 1305 BC).xlsm]","Agg - Coarse'!","O",70,"Agg 6 - Clay Lumps","Rep 2",null,null,"Clay Lumps & Friable Particles, %","%","%",{"$f":"INDIRECT(\"'\" & B1656 & C1656 & D1656)","v":"---"},null,null,"---","---",false,"CONDITIONAL",false]
["'[Asphalt Mix Design - Template (20260115 1305 BC).xlsm]","Agg - Coarse'!","N",71,"Agg 6 - Clay Lumps","Avg",null,null,"Avg Clay Lumps, %","%","%",{"$f":"INDIRECT(\"'\" & B1657 & C1657 & D1657)","v":"---"},null,null,"---","---","CONDITIONAL","CONDITIONAL","CONDITIONAL"]
["'[Asphalt Mix Design - Template (20260115 1305 BC).xlsm]","Agg - Coarse'!","P",7,"Agg 7",null,null,null,"Aggreagte ID",null,null,{"$f":"INDIRECT(\"'\" & B1658 & C1658 & D1658)","v":"---"},null,null,"---","---",false,"CONDITIONAL","CONDITIONAL"]
["'[Asphalt Mix Design - Template (20260115 1305 BC).xlsm]","Agg - Coarse'!","P",8,"Agg 7",null,null,null,"Percent of Agg Blend, %","%","%",{"$f":"INDIRECT(\"'\" & B1659 & C1659 & D1659)","v":"---"},null,null,"---","---",false,"CONDITIONAL",false]
["'[Asphalt Mix Design - Template (20260115 1305 BC).xlsm]","Agg - Coarse'!","P",9,"Agg 7",null,null,null,"Percent Passing No. 4, %","%","%",{"$f":"INDIRECT(\"'\" & B1660 & C1660 & D1660)","v":"---"},null,null,"---","---",false,"CONDITIONAL",false]
["'[Asphalt Mix Design - Template (20260115 1305 BC).xlsm]","Agg - Coarse'!","P",10,"Agg 7",null,null,null,"Aggregate Size Class",null,null,{"$f":"INDIRECT(\"'\" & B1661 & C1661 & D1661)","v":"---"},null,null,"---","---",false,"CONDITIONAL",false]
["'[Asphalt Mix Design - Template (20260115 1305 BC).xlsm]","Agg - Coarse'!","P",12,"Agg 7 - LA Abrasion",null,null,null,"Date Tested",null,null,{"$f":"INDIRECT(\"'\" & B1662 & C1662 & D1662)","v":"00:00:00"},null,null,"00:00:00","00:00:00",false,"CONDITIONAL",false]
["'[Asphalt Mix Design - Template (20260115 1305 BC).xlsm]","Agg - Coarse'!","P",13,"Agg 7 - LA Abrasion","Rep 1",null,null,"Grading",null,null,{"$f":"INDIRECT(\"'\" & B1663 & C1663 & D1663)","v":0},null,null,0,0,false,"CONDITIONAL",false]
["'[Asphalt Mix Design - Template (20260115 1305 BC).xlsm]","Agg - Coarse'!","P",14,"Agg 7 - LA Abrasion","Rep 1",null,null,"Wt Original Test Sample, g","g","g",{"$f":"INDIRECT(\"'\" & B1664 & C1664 & D1664)","v":0},null,null,0,0,false,"CONDITIONAL",false]
["'[Asphalt Mix Design - Template (20260115 1305 BC).xlsm]","Agg - Coarse'!","P",15,"Agg 7 - LA Abrasion","Rep 1",null,null,"Wt Final Test Sample, g","g","g",{"$f":"INDIRECT(\"'\" & B1665 & C1665 & D1665)","v":0},null,null,0,0,false,"CONDITIONAL",false]
["'[Asphalt Mix Design - Template (20260115 1305 BC).xlsm]","Agg - Coarse'!","P",16,"Agg 7 - LA Abrasion","Rep 1",null,null,"LA Abrasion Loss, %","%","%",{"$f":"INDIRECT(\"'\" & B1666 & C1666 & D1666)","v":"---"},null,null,{"$f":"IF(ISBLANK(N1666),L1666,N1666)","v":"---"},{"$f":"IF(ISBLANK(N1666),IF(OR(ISBLANK(M1666),ISERROR(M1666)),L1666,M1666),N1666)","v":"---"},false,"CONDITIONAL",false]
["'[Asphalt Mix Design - Template (20260115 1305 BC).xlsm]","Agg - Coarse'!","Q",13,"Agg 7 - LA Abrasion","Rep 2",null,null,"Grading",null,null,{"$f":"INDIRECT(\"'\" & B1667 & C1667 & D1667)","v":0},null,null,0,0,false,"CONDITIONAL",false]
["'[Asphalt Mix Design - Template (20260115 1305 BC).xlsm]","Agg - Coarse'!","Q",14,"Agg 7 - LA Abrasion","Rep 2",null,null,"Wt Original Test Sample, g","g","g",{"$f":"INDIRECT(\"'\" & B1668 & C1668 & D1668)","v":0},null,null,0,0,false,"CONDITIONAL",false]
["'[Asphalt Mix Design - Template (20260115 1305 BC).xlsm]","Agg - Coarse'!","Q",15,"Agg 7 - LA Abrasion","Rep 2",null,null,"Wt Final Test Sample, g","g","g",{"$f":"INDIRECT(\"'\" & B1669 & C1669 & D1669)","v":0},null,null,0,0,false,"CONDITIONAL",false]
["'[Asphalt Mix Design - Template (20260115 1305 BC).xlsm]","Agg - Coarse'!","Q",16,"Agg 7 - LA Abrasion","Rep 2",null,null,"LA Abrasion Loss, %","%","%",{"$f":"INDIRECT(\"'\" & B1670 & C1670 & D1670)","v":"---"},null,null,"---","---",false,"CONDITIONAL",false]
["'[Asphalt Mix Design - Template (20260115 1305 BC).xlsm]","Agg - Coarse'!","P",17,"Agg 7 - LA Abrasion","Avg",null,null,"LA Abrasion Loss, %","%","%",{"$f":"INDIRECT(\"'\" & B1671 & C1671 & D1671)","v":"---"},null,null,"---","---","CONDITIONAL","CONDITIONAL","CONDITIONAL"]
["'[Asphalt Mix Design - Template (20260115 1305 BC).xlsm]","Agg - Coarse'!","AJ",6,"Agg 7 - Soundness",null,null,null,"Solution",null,null,{"$f":"INDIRECT(\"'\" & B1672 & C1672 & D1672)","v":1},null,{"$f":"IF(L1672=1,\"Magnesium Sulfate\",IF(L1672=2,\"Sodium Sulfate\",\"Error\"))","v":"Magnesium Sulfate"},"Magnesium Sulfate","Magnesium Sulfate",false,"CONDITIONAL",false]
["'[Asphalt Mix Design - Template (20260115 1305 BC).xlsm]","Agg - Coarse'!","P",18,"Agg 7 - Soundness",null,null,null,"Date Tested",null,null,{"$f":"INDIRECT(\"'\" & B1673 & C1673 & D1673)","v":"00:00:00"},null,null,"00:00:00","00:00:00",false,"CONDITIONAL",false]
["'[Asphalt Mix Design - Template (20260115 1305 BC).xlsm]","Agg - Coarse'!","P",19,"Agg 7 - Soundness",null,null,null,"1-1/2\" to 3/4\" -- Size Fraction, % of +#4","%","%",{"$f":"INDIRECT(\"'\" & B1674 & C1674 & D1674)","v":"---"},null,null,"---","---",false,"CONDITIONAL",false]
["'[Asphalt Mix Design - Template (20260115 1305 BC).xlsm]","Agg - Coarse'!","P",20,"Agg 7 - Soundness","Rep 1",null,null,"1-1/2\" to 3/4\" -- Wt Original Test Sample, g","g","g",{"$f":"INDIRECT(\"'\" & B1675 & C1675 & D1675)","v":0},null,null,0,0,false,false,false]
["'[Asphalt Mix Design - Template (20260115 1305 BC).xlsm]","Agg - Coarse'!","P",21,"Agg 7 - Soundness","Rep 1",null,null,"1-1/2\" to 3/4\" -- Wt Retained, No #, g","g","g",{"$f":"INDIRECT(\"'\" & B1676 & C1676 & D1676)","v":0},null,null,0,0,false,false,false]
["'[Asphalt Mix Design - Template (20260115 1305 BC).xlsm]","Agg - Coarse'!","P",22,"Agg 7 - Soundness","Rep 1",null,null,"1-1/2\" to 3/4\" -- Percent Passing, %","%","%",{"$f":"INDIRECT(\"'\" & B1677 & C1677 & D1677)","v":"---"},null,null,"---","---",false,false,false]
["'[Asphalt Mix Design - Template (20260115 1305 BC).xlsm]","Agg - Coarse'!","Q",20,"Agg 7 - Soundness","Rep 2",null,null,"1-1/2\" to 3/4\" -- Wt Original Test Sample, g","g","g",{"$f":"INDIRECT(\"'\" & B1678 & C1678 & D1678)","v":0},null,null,0,0,false,false,false]
["'[Asphalt Mix Design - Template (20260115 1305 BC).xlsm]","Agg - Coarse'!","Q",21,"Agg 7 - Soundness","Rep 2",null,null,"1-1/2\" to 3/4\" -- Wt Retained, No #, g","g","g",{"$f":"INDIRECT(\"'\" & B1679 & C1679 & D1679)","v":0},null,null,0,0,false,false,false]
["'[Asphalt Mix Design - Template (20260115 1305 BC).xlsm]","Agg - Coarse'!","Q",22,"Agg 7 - Soundness","Rep 2",null,null,"1-1/2\" to 3/4\" -- Percent Passing, %","%","%",{"$f":"INDIRECT(\"'\" & B1680 & C1680 & D1680)","v":"---"},null,null,"---","---",false,false,false]
["'[Asphalt Mix Design - Template (20260115 1305 BC).xlsm]","Agg - Coarse'!","P",23,"Agg 7 - Soundness","Avg",null,null,"1-1/2\" to 3/4\" -- Avg Percent Passing, %","%","%",{"$f":"INDIRECT(\"'\" & B1681 & C1681 & D1681)","v":"---"},null,null,"---","---",false,"CONDITIONAL",false]
["'[Asphalt Mix Design - Template (20260115 1305 BC).xlsm]","Agg - Coarse'!","P",24,"Agg 7 - Soundness",null,null,null,"3/4\" to 3/8\" -- Size Fraction, % of +#4","%","%",{"$f":"INDIRECT(\"'\" & B1682 & C1682 & D1682)","v":"---"},null,null,"---","---",false,"CONDITIONAL",false]
["'[Asphalt Mix Design - Template (20260115 1305 BC).xlsm]","Agg - Coarse'!","P",25,"Agg 7 - Soundness","Rep 1",null,null,"3/4\" to 3/8\" -- Wt Original Test Sample, g","g","g",{"$f":"INDIRECT(\"'\" & B1683 & C1683 & D1683)","v":0},null,null,0,0,false,false,false]
["'[Asphalt Mix Design - Template (20260115 1305 BC).xlsm]","Agg - Coarse'!","P",26,"Agg 7 - Soundness","Rep 1",null,null,"3/4\" to 3/8\" -- Wt Retained, No #, g","g","g",{"$f":"INDIRECT(\"'\" & B1684 & C1684 & D1684)","v":0},null,null,0,0,false,false,false]
["'[Asphalt Mix Design - Template (20260115 1305 BC).xlsm]","Agg - Coarse'!","P",27,"Agg 7 - Soundness","Rep 1",null,null,"3/4\" to 3/8\" -- Percent Passing, %","%","%",{"$f":"INDIRECT(\"'\" & B1685 & C1685 & D1685)","v":"---"},null,null,"---","---",false,false,false]
["'[Asphalt Mix Design - Template (20260115 1305 BC).xlsm]","Agg - Coarse'!","Q",25,"Agg 7 - Soundness","Rep 2",null,null,"3/4\" to 3/8\" -- Wt Original Test Sample, g","g","g",{"$f":"INDIRECT(\"'\" & B1686 & C1686 & D1686)","v":0},null,null,0,0,false,false,false]
["'[Asphalt Mix Design - Template (20260115 1305 BC).xlsm]","Agg - Coarse'!","Q",26,"Agg 7 - Soundness","Rep 2",null,null,"3/4\" to 3/8\" -- Wt Retained, No #, g","g","g",{"$f":"INDIRECT(\"'\" & B1687 & C1687 & D1687)","v":0},null,null,0,0,false,false,false]
["'[Asphalt Mix Design - Template (20260115 1305 BC).xlsm]","Agg - Coarse'!","Q",27,"Agg 7 - Soundness","Rep 2",null,null,"3/4\" to 3/8\" -- Percent Passing, %","%","%",{"$f":"INDIRECT(\"'\" & B1688 & C1688 & D1688)","v":"---"},null,null,"---","---",false,false,false]
["'[Asphalt Mix Design - Template (20260115 1305 BC).xlsm]","Agg - Coarse'!","P",28,"Agg 7 - Soundness","Avg",null,null,"3/4\" to 3/8\" -- Avg Percent Passing, %","%","%",{"$f":"INDIRECT(\"'\" & B1689 & C1689 & D1689)","v":"---"},null,null,"---","---",false,"CONDITIONAL",false]
["'[Asphalt Mix Design - Template (20260115 1305 BC).xlsm]","Agg - Coarse'!","P",29,"Agg 7 - Soundness",null,null,null,"3/8\" to #4 -- Size Fraction, % of +#4","%","%",{"$f":"INDIRECT(\"'\" & B1690 & C1690 & D1690)","v":"---"},null,null,"---","---",false,"CONDITIONAL",false]
["'[Asphalt Mix Design - Template (20260115 1305 BC).xlsm]","Agg - Coarse'!","P",30,"Agg 7 - Soundness","Rep 1",null,null,"3/8\" to #4 -- Wt Original Test Sample, g","g","g",{"$f":"INDIRECT(\"'\" & B1691 & C1691 & D1691)","v":0},null,null,0,0,false,false,false]
["'[Asphalt Mix Design - Template (20260115 1305 BC).xlsm]","Agg - Coarse'!","P",31,"Agg 7 - Soundness","Rep 1",null,null,"3/8\" to #4 -- Wt Retained, No #, g","g","g",{"$f":"INDIRECT(\"'\" & B1692 & C1692 & D1692)","v":0},null,null,0,0,false,false,false]
["'[Asphalt Mix Design - Template (20260115 1305 BC).xlsm]","Agg - Coarse'!","P",32,"Agg 7 - Soundness","Rep 1",null,null,"3/8\" to #4 -- Percent Passing, %","%","%",{"$f":"INDIRECT(\"'\" & B1693 & C1693 & D1693)","v":"---"},null,null,"---","---",false,false,false]
["'[Asphalt Mix Design - Template (20260115 1305 BC).xlsm]","Agg - Coarse'!","Q",30,"Agg 7 - Soundness","Rep 2",null,null,"3/8\" to #4 -- Wt Original Test Sample, g","g","g",{"$f":"INDIRECT(\"'\" & B1694 & C1694 & D1694)","v":0},null,null,0,0,false,false,false]
["'[Asphalt Mix Design - Template (20260115 1305 BC).xlsm]","Agg - Coarse'!","Q",31,"Agg 7 - Soundness","Rep 2",null,null,"3/8\" to #4 -- Wt Retained, No #, g","g","g",{"$f":"INDIRECT(\"'\" & B1695 & C1695 & D1695)","v":0},null,null,0,0,false,false,false]
["'[Asphalt Mix Design - Template (20260115 1305 BC).xlsm]","Agg - Coarse'!","Q",32,"Agg 7 - Soundness","Rep 2",null,null,"3/8\" to #4 -- Percent Passing, %","%","%",{"$f":"INDIRECT(\"'\" & B1696 & C1696 & D1696)","v":"---"},null,null,"---","---",false,false,false]
["'[Asphalt Mix Design - Template (20260115 1305 BC).xlsm]","Agg - Coarse'!","P",33,"Agg 7 - Soundness","Avg",null,null,"3/8\" to #4 -- Avg Percent Passing, %","%","%",{"$f":"INDIRECT(\"'\" & B1697 & C1697 & D1697)","v":"---"},null,null,"---","---",false,"CONDITIONAL",false]
["'[Asphalt Mix Design - Template (20260115 1305 BC).xlsm]","Agg - Coarse'!","P",34,"Agg 7 - Soundness","Avg",null,null,"Weighted Mass Loss, %","%","%",{"$f":"INDIRECT(\"'\" & B1698 & C1698 & D1698)","v":"---"},null,null,"---","---","CONDITIONAL","CONDITIONAL",false]
["'[Asphalt Mix Design - Template (20260115 1305 BC).xlsm]","Agg - Coarse'!","P",35,"Agg 7 - Fractured Faces",null,null,null,"Date Tested",null,null,{"$f":"INDIRECT(\"'\" & B1699 & C1699 & D1699)","v":"00:00:00"},null,null,"00:00:00","00:00:00",false,"CONDITIONAL",false]
["'[Asphalt Mix Design - Template (20260115 1305 BC).xlsm]","Agg - Coarse'!","P",36,"Agg 7 - Fractured Faces","Rep 1",null,null,"Wt Original Test Sample, g","g","g",{"$f":"INDIRECT(\"'\" & B1700 & C1700 & D1700)","v":0},null,null,0,0,false,false,false]
["'[Asphalt Mix Design - Template (20260115 1305 BC).xlsm]","Agg - Coarse'!","P",37,"Agg 7 - Fractured Faces","Rep 1",null,null,"Wt 2+ Fractured Faces, g","g","g",{"$f":"INDIRECT(\"'\" & B1701 & C1701 & D1701)","v":0},null,null,0,0,false,false,false]
["'[Asphalt Mix Design - Template (20260115 1305 BC).xlsm]","Agg - Coarse'!","P",38,"Agg 7 - Fractured Faces","Rep 1",null,null,"Wt Remaining Particles, g","g","g",{"$f":"INDIRECT(\"'\" & B1702 & C1702 & D1702)","v":"---"},null,null,"---","---",false,false,false]
["'[Asphalt Mix Design - Template (20260115 1305 BC).xlsm]","Agg - Coarse'!","P",39,"Agg 7 - Fractured Faces","Rep 1",null,null,"Two Fractured Faces, %","%","%",{"$f":"INDIRECT(\"'\" & B1703 & C1703 & D1703)","v":"---"},null,null,"---","---",false,"CONDITIONAL",false]
["'[Asphalt Mix Design - Template (20260115 1305 BC).xlsm]","Agg - Coarse'!","Q",36,"Agg 7 - Fractured Faces","Rep 2",null,null,"Wt Original Test Sample, g","g","g",{"$f":"INDIRECT(\"'\" & B1704 & C1704 & D1704)","v":0},null,null,0,0,false,false,false]
["'[Asphalt Mix Design - Template (20260115 1305 BC).xlsm]","Agg - Coarse'!","Q",37,"Agg 7 - Fractured Faces","Rep 2",null,null,"Wt 2+ Fractured Faces, g","g","g",{"$f":"INDIRECT(\"'\" & B1705 & C1705 & D1705)","v":0},null,null,0,0,false,false,false]
["'[Asphalt Mix Design - Template (20260115 1305 BC).xlsm]","Agg - Coarse'!","Q",38,"Agg 7 - Fractured Faces","Rep 2",null,null,"Wt Remaining Particles, g","g","g",{"$f":"INDIRECT(\"'\" & B1706 & C1706 & D1706)","v":"---"},null,null,"---","---",false,false,false]
["'[Asphalt Mix Design - Template (20260115 1305 BC).xlsm]","Agg - Coarse'!","Q",39,"Agg 7 - Fractured Faces","Rep 2",null,null,"Two Fractured Faces, %","%","%",{"$f":"INDIRECT(\"'\" & B1707 & C1707 & D1707)","v":"---"},null,null,"---","---",false,"CONDITIONAL",false]
["'[Asphalt Mix Design - Template (20260115 1305 BC).xlsm]","Agg - Coarse'!","P",40,"Agg 7 - Fractured Faces","Avg",null,null,"Avg Two Fractured Faces, %","%","%",{"$f":"INDIRECT(\"'\" & B1708 & C1708 & D1708)","v":"---"},null,null,"---","---","CONDITIONAL","CONDITIONAL","CONDITIONAL"]
["'[Asphalt Mix Design - Template (20260115 1305 BC).xlsm]","Agg - Coarse'!","P",41,"Agg 7 - F&E",null,null,null,"Date Tested",null,null,{"$f":"INDIRECT(\"'\" & B1709 & C1709 & D1709)","v":"00:00:00"},null,null,"00:00:00","00:00:00",false,"CONDITIONAL",false]
["'[Asphalt Mix Design - Template (20260115 1305 BC).xlsm]","Agg - Coarse'!","P",42,"Agg 7 - F&E",null,null,null,"1\" to 3/4\" -- Size Fraction, % of Agg","%","%",{"$f":"INDIRECT(\"'\" & B1710 & C1710 & D1710)","v":0},null,null,0,0,false,"CONDITIONAL",false]
["'[Asphalt Mix Design - Template (20260115 1305 BC).xlsm]","Agg - Coarse'!","P",43,"Agg 7 - F&E","Rep 1",null,null,"1\" to 3/4\" -- No. Particles",null,null,{"$f":"INDIRECT(\"'\" & B1711 & C1711 & D1711)","v":0},null,null,0,0,false,false,false]
["'[Asphalt Mix Design - Template (20260115 1305 BC).xlsm]","Agg - Coarse'!","P",44,"Agg 7 - F&E","Rep 1",null,null,"1\" to 3/4\" -- Wt Original Test Sample, g","g","g",{"$f":"INDIRECT(\"'\" & B1712 & C1712 & D1712)","v":0},null,null,0,0,false,false,false]
["'[Asphalt Mix Design - Template (20260115 1305 BC).xlsm]","Agg - Coarse'!","P",45,"Agg 7 - F&E","Rep 1",null,null,"1\" to 3/4\" -- Wt Flat & Elongated (5:1), g","g","g",{"$f":"INDIRECT(\"'\" & B1713 & C1713 & D1713)","v":0},null,null,0,0,false,false,false]
["'[Asphalt Mix Design - Template (20260115 1305 BC).xlsm]","Agg - Coarse'!","P",46,"Agg 7 - F&E","Rep 1",null,null,"1\" to 3/4\" -- Flat & Elongated (5:1), %","%","%",{"$f":"INDIRECT(\"'\" & B1714 & C1714 & D1714)","v":"---"},null,null,"---","---",false,false,false]
["'[Asphalt Mix Design - Template (20260115 1305 BC).xlsm]","Agg - Coarse'!","Q",43,"Agg 7 - F&E","Rep 2",null,null,"1\" to 3/4\" -- No. Particles",null,null,{"$f":"INDIRECT(\"'\" & B1715 & C1715 & D1715)","v":0},null,null,0,0,false,false,false]
["'[Asphalt Mix Design - Template (20260115 1305 BC).xlsm]","Agg - Coarse'!","Q",44,"Agg 7 - F&E","Rep 2",null,null,"1\" to 3/4\" -- Wt Original Test Sample, g","g","g",{"$f":"INDIRECT(\"'\" & B1716 & C1716 & D1716)","v":0},null,null,0,0,false,false,false]
["'[Asphalt Mix Design - Template (20260115 1305 BC).xlsm]","Agg - Coarse'!","Q",45,"Agg 7 - F&E","Rep 2",null,null,"1\" to 3/4\" -- Wt Flat & Elongated (5:1), g","g","g",{"$f":"INDIRECT(\"'\" & B1717 & C1717 & D1717)","v":0},null,null,0,0,false,false,false]
["'[Asphalt Mix Design - Template (20260115 1305 BC).xlsm]","Agg - Coarse'!","Q",46,"Agg 7 - F&E","Rep 2",null,null,"1\" to 3/4\" -- Flat & Elongated (5:1), %","%","%",{"$f":"INDIRECT(\"'\" & B1718 & C1718 & D1718)","v":"---"},null,null,"---","---",false,false,false]
["'[Asphalt Mix Design - Template (20260115 1305 BC).xlsm]","Agg - Coarse'!","P",47,"Agg 7 - F&E","Avg",null,null,"1\" to 3/4\" -- Avg F&E (5:1), %","%","%",{"$f":"INDIRECT(\"'\" & B1719 & C1719 & D1719)","v":"---"},null,null,"---","---",false,"CONDITIONAL",false]
["'[Asphalt Mix Design - Template (20260115 1305 BC).xlsm]","Agg - Coarse'!","P",48,"Agg 7 - F&E",null,null,null,"3/4\" to 1/2\" -- Size Fraction, % of Agg","%","%",{"$f":"INDIRECT(\"'\" & B1720 & C1720 & D1720)","v":0},null,null,0,0,false,"CONDITIONAL",false]
["'[Asphalt Mix Design - Template (20260115 1305 BC).xlsm]","Agg - Coarse'!","P",49,"Agg 7 - F&E","Rep 1",null,null,"3/4\" to 1/2\" -- No. Particles",null,null,{"$f":"INDIRECT(\"'\" & B1721 & C1721 & D1721)","v":0},null,null,0,0,false,false,false]
["'[Asphalt Mix Design - Template (20260115 1305 BC).xlsm]","Agg - Coarse'!","P",50,"Agg 7 - F&E","Rep 1",null,null,"3/4\" to 1/2\" -- Wt Original Test Sample, g","g","g",{"$f":"INDIRECT(\"'\" & B1722 & C1722 & D1722)","v":0},null,null,0,0,false,false,false]
["'[Asphalt Mix Design - Template (20260115 1305 BC).xlsm]","Agg - Coarse'!","P",51,"Agg 7 - F&E","Rep 1",null,null,"3/4\" to 1/2\" -- Wt Flat & Elongated (5:1), g","g","g",{"$f":"INDIRECT(\"'\" & B1723 & C1723 & D1723)","v":0},null,null,0,0,false,false,false]
["'[Asphalt Mix Design - Template (20260115 1305 BC).xlsm]","Agg - Coarse'!","P",52,"Agg 7 - F&E","Rep 1",null,null,"3/4\" to 1/2\" -- Flat & Elongated (5:1), %","%","%",{"$f":"INDIRECT(\"'\" & B1724 & C1724 & D1724)","v":"---"},null,null,"---","---",false,false,false]
["'[Asphalt Mix Design - Template (20260115 1305 BC).xlsm]","Agg - Coarse'!","Q",49,"Agg 7 - F&E","Rep 2",null,null,"3/4\" to 1/2\" -- No. Particles",null,null,{"$f":"INDIRECT(\"'\" & B1725 & C1725 & D1725)","v":0},null,null,0,0,false,false,false]
["'[Asphalt Mix Design - Template (20260115 1305 BC).xlsm]","Agg - Coarse'!","Q",50,"Agg 7 - F&E","Rep 2",null,null,"3/4\" to 1/2\" -- Wt Original Test Sample, g","g","g",{"$f":"INDIRECT(\"'\" & B1726 & C1726 & D1726)","v":0},null,null,0,0,false,false,false]
["'[Asphalt Mix Design - Template (20260115 1305 BC).xlsm]","Agg - Coarse'!","Q",51,"Agg 7 - F&E","Rep 2",null,null,"3/4\" to 1/2\" -- Wt Flat & Elongated (5:1), g","g","g",{"$f":"INDIRECT(\"'\" & B1727 & C1727 & D1727)","v":0},null,null,0,0,false,false,false]
["'[Asphalt Mix Design - Template (20260115 1305 BC).xlsm]","Agg - Coarse'!","Q",52,"Agg 7 - F&E","Rep 2",null,null,"3/4\" to 1/2\" -- Flat & Elongated (5:1), %","%","%",{"$f":"INDIRECT(\"'\" & B1728 & C1728 & D1728)","v":"---"},null,null,"---","---",false,false,false]
["'[Asphalt Mix Design - Template (20260115 1305 BC).xlsm]","Agg - Coarse'!","P",53,"Agg 7 - F&E","Avg",null,null,"3/4\" to 1/2\" -- Avg F&E (5:1), %","%","%",{"$f":"INDIRECT(\"'\" & B1729 & C1729 & D1729)","v":"---"},null,null,"---","---",false,"CONDITIONAL",false]
["'[Asphalt Mix Design - Template (20260115 1305 BC).xlsm]","Agg - Coarse'!","P",54,"Agg 7 - F&E",null,null,null,"1/2\" to 3/8\" -- Size Fraction, % of Agg","%","%",{"$f":"INDIRECT(\"'\" & B1730 & C1730 & D1730)","v":0},null,null,{"$f":"IF(ISBLANK(N1730),L1730,N1730)","v":0},{"$f":"IF(ISBLANK(N1730),IF(OR(ISBLANK(M1730),ISERROR(M1730)),L1730,M1730),N1730)","v":0},false,"CONDITIONAL",false]
["'[Asphalt Mix Design - Template (20260115 1305 BC).xlsm]","Agg - Coarse'!","P",55,"Agg 7 - F&E","Rep 1",null,null,"1/2\" to 3/8\" -- No. Particles",null,null,{"$f":"INDIRECT(\"'\" & B1731 & C1731 & D1731)","v":0},null,null,0,0,false,false,false]
["'[Asphalt Mix Design - Template (20260115 1305 BC).xlsm]","Agg - Coarse'!","P",56,"Agg 7 - F&E","Rep 1",null,null,"1/2\" to 3/8\" -- Wt Original Test Sample, g","g","g",{"$f":"INDIRECT(\"'\" & B1732 & C1732 & D1732)","v":0},null,null,0,0,false,false,false]
["'[Asphalt Mix Design - Template (20260115 1305 BC).xlsm]","Agg - Coarse'!","P",57,"Agg 7 - F&E","Rep 1",null,null,"1/2\" to 3/8\" -- Wt Flat & Elongated (5:1), g","g","g",{"$f":"INDIRECT(\"'\" & B1733 & C1733 & D1733)","v":0},null,null,0,0,false,false,false]
["'[Asphalt Mix Design - Template (20260115 1305 BC).xlsm]","Agg - Coarse'!","P",58,"Agg 7 - F&E","Rep 1",null,null,"1/2\" to 3/8\" -- Flat & Elongated (5:1), %","%","%",{"$f":"INDIRECT(\"'\" & B1734 & C1734 & D1734)","v":"---"},null,null,"---","---",false,false,false]
["'[Asphalt Mix Design - Template (20260115 1305 BC).xlsm]","Agg - Coarse'!","Q",55,"Agg 7 - F&E","Rep 2",null,null,"1/2\" to 3/8\" -- No. Particles",null,null,{"$f":"INDIRECT(\"'\" & B1735 & C1735 & D1735)","v":0},null,null,0,0,false,false,false]
["'[Asphalt Mix Design - Template (20260115 1305 BC).xlsm]","Agg - Coarse'!","Q",56,"Agg 7 - F&E","Rep 2",null,null,"1/2\" to 3/8\" -- Wt Original Test Sample, g","g","g",{"$f":"INDIRECT(\"'\" & B1736 & C1736 & D1736)","v":0},null,null,0,0,false,false,false]
["'[Asphalt Mix Design - Template (20260115 1305 BC).xlsm]","Agg - Coarse'!","Q",57,"Agg 7 - F&E","Rep 2",null,null,"1/2\" to 3/8\" -- Wt Flat & Elongated (5:1), g","g","g",{"$f":"INDIRECT(\"'\" & B1737 & C1737 & D1737)","v":0},null,null,0,0,false,false,false]
["'[Asphalt Mix Design - Template (20260115 1305 BC).xlsm]","Agg - Coarse'!","Q",58,"Agg 7 - F&E","Rep 2",null,null,"1/2\" to 3/8\" -- Flat & Elongated (5:1), %","%","%",{"$f":"INDIRECT(\"'\" & B1738 & C1738 & D1738)","v":"---"},null,null,"---","---",false,false,false]
["'[Asphalt Mix Design - Template (20260115 1305 BC).xlsm]","Agg - Coarse'!","P",59,"Agg 7 - F&E","Avg",null,null,"1/2\" to 3/8\" -- Avg F&E (5:1), %","%","%",{"$f":"INDIRECT(\"'\" & B1739 & C1739 & D1739)","v":"---"},null,null,"---","---",false,"CONDITIONAL",false]
["'[Asphalt Mix Design - Template (20260115 1305 BC).xlsm]","Agg - Coarse'!","P",60,"Agg 7 - F&E",null,null,null,"3/8\" to #4 -- Size Fraction, % of Agg","%","%",{"$f":"INDIRECT(\"'\" & B1740 & C1740 & D1740)","v":0},null,null,0,0,false,"CONDITIONAL",false]
["'[Asphalt Mix Design - Template (20260115 1305 BC).xlsm]","Agg - Coarse'!","P",61,"Agg 7 - F&E","Rep 1",null,null,"3/8\" to #4 -- No. Particles",null,null,{"$f":"INDIRECT(\"'\" & B1741 & C1741 & D1741)","v":0},null,null,0,0,false,false,false]
["'[Asphalt Mix Design - Template (20260115 1305 BC).xlsm]","Agg - Coarse'!","P",62,"Agg 7 - F&E","Rep 1",null,null,"3/8\" to #4 -- Wt Original Test Sample, g","g","g",{"$f":"INDIRECT(\"'\" & B1742 & C1742 & D1742)","v":0},null,null,0,0,false,false,false]
["'[Asphalt Mix Design - Template (20260115 1305 BC).xlsm]","Agg - Coarse'!","P",63,"Agg 7 - F&E","Rep 1",null,null,"3/8\" to #4 -- Wt Flat & Elongated (5:1), g","g","g",{"$f":"INDIRECT(\"'\" & B1743 & C1743 & D1743)","v":0},null,null,0,0,false,false,false]
["'[Asphalt Mix Design - Template (20260115 1305 BC).xlsm]","Agg - Coarse'!","P",64,"Agg 7 - F&E","Rep 1",null,null,"3/8\" to #4 -- Flat & Elongated (5:1), %","%","%",{"$f":"INDIRECT(\"'\" & B1744 & C1744 & D1744)","v":"---"},null,null,"---","---",false,false,false]
["'[Asphalt Mix Design - Template (20260115 1305 BC).xlsm]","Agg - Coarse'!","Q",61,"Agg 7 - F&E","Rep 2",null,null,"3/8\" to #4 -- No. Particles",null,null,{"$f":"INDIRECT(\"'\" & B1745 & C1745 & D1745)","v":0},null,null,0,0,false,false,false]
["'[Asphalt Mix Design - Template (20260115 1305 BC).xlsm]","Agg - Coarse'!","Q",62,"Agg 7 - F&E","Rep 2",null,null,"3/8\" to #4 -- Wt Original Test Sample, g","g","g",{"$f":"INDIRECT(\"'\" & B1746 & C1746 & D1746)","v":0},null,null,0,0,false,false,false]
["'[Asphalt Mix Design - Template (20260115 1305 BC).xlsm]","Agg - Coarse'!","Q",63,"Agg 7 - F&E","Rep 2",null,null,"3/8\" to #4 -- Wt Flat & Elongated (5:1), g","g","g",{"$f":"INDIRECT(\"'\" & B1747 & C1747 & D1747)","v":0},null,null,0,0,false,false,false]
["'[Asphalt Mix Design - Template (20260115 1305 BC).xlsm]","Agg - Coarse'!","Q",64,"Agg 7 - F&E","Rep 2",null,null,"3/8\" to #4 -- Flat & Elongated (5:1), %","%","%",{"$f":"INDIRECT(\"'\" & B1748 & C1748 & D1748)","v":"---"},null,null,"---","---",false,false,false]
["'[Asphalt Mix Design - Template (20260115 1305 BC).xlsm]","Agg - Coarse'!","P",65,"Agg 7 - F&E","Avg",null,null,"3/8\" to #4 -- Avg F&E (5:1), %","%","%",{"$f":"INDIRECT(\"'\" & B1749 & C1749 & D1749)","v":"---"},null,null,"---","---",false,"CONDITIONAL",false]
["'[Asphalt Mix Design - Template (20260115 1305 BC).xlsm]","Agg - Coarse'!","P",66,"Agg 7 - F&E","Avg",null,null,"Weighted Avg F&E (5:1), %","%","%",{"$f":"INDIRECT(\"'\" & B1750 & C1750 & D1750)","v":"---"},null,null,"---","---","CONDITIONAL","CONDITIONAL","CONDITIONAL"]
["'[Asphalt Mix Design - Template (20260115 1305 BC).xlsm]","Agg - Coarse'!","P",67,"Agg 7 - Clay Lumps",null,null,null,"Date Tested",null,null,{"$f":"INDIRECT(\"'\" & B1751 & C1751 & D1751)","v":"00:00:00"},null,null,"00:00:00","00:00:00",false,"CONDITIONAL",false]
["'[Asphalt Mix Design - Template (20260115 1305 BC).xlsm]","Agg - Coarse'!","P",68,"Agg 7 - Clay Lumps","Rep 1",null,null,"Wt Original Test Sample, g","g","g",{"$f":"INDIRECT(\"'\" & B1752 & C1752 & D1752)","v":0},null,null,0,0,false,false,false]
["'[Asphalt Mix Design - Template (20260115 1305 BC).xlsm]","Agg - Coarse'!","P",69,"Agg 7 - Clay Lumps","Rep 1",null,null,"Wt Retained, No. 8 Sieve, g","g","g",{"$f":"INDIRECT(\"'\" & B1753 & C1753 & D1753)","v":0},null,null,0,0,false,false,false]
["'[Asphalt Mix Design - Template (20260115 1305 BC).xlsm]","Agg - Coarse'!","P",70,"Agg 7 - Clay Lumps","Rep 1",null,null,"Clay Lumps & Friable Particles, %","%","%",{"$f":"INDIRECT(\"'\" & B1754 & C1754 & D1754)","v":"---"},null,null,"---","---",false,"CONDITIONAL",false]
["'[Asphalt Mix Design - Template (20260115 1305 BC).xlsm]","Agg - Coarse'!","Q",68,"Agg 7 - Clay Lumps","Rep 2",null,null,"Wt Original Test Sample, g","g","g",{"$f":"INDIRECT(\"'\" & B1755 & C1755 & D1755)","v":0},null,null,0,0,false,false,false]
["'[Asphalt Mix Design - Template (20260115 1305 BC).xlsm]","Agg - Coarse'!","Q",69,"Agg 7 - Clay Lumps","Rep 2",null,null,"Wt Retained, No. 8 Sieve, g","g","g",{"$f":"INDIRECT(\"'\" & B1756 & C1756 & D1756)","v":0},null,null,0,0,false,false,false]
["'[Asphalt Mix Design - Template (20260115 1305 BC).xlsm]","Agg - Coarse'!","Q",70,"Agg 7 - Clay Lumps","Rep 2",null,null,"Clay Lumps & Friable Particles, %","%","%",{"$f":"INDIRECT(\"'\" & B1757 & C1757 & D1757)","v":"---"},null,null,"---","---",false,"CONDITIONAL",false]
["'[Asphalt Mix Design - Template (20260115 1305 BC).xlsm]","Agg - Coarse'!","P",71,"Agg 7 - Clay Lumps","Avg",null,null,"Avg Clay Lumps, %","%","%",{"$f":"INDIRECT(\"'\" & B1758 & C1758 & D1758)","v":"---"},null,null,"---","---","CONDITIONAL","CONDITIONAL","CONDITIONAL"]
["'[Asphalt Mix Design - Template (20260115 1305 BC).xlsm]","Agg - Fine'!","C",7,"Agg 1",null,null,null,"Aggreagte ID",null,null,{"$f":"INDIRECT(\"'\" & B1759 & C1759 & D1759)","v":"---"},null,null,"---","---",false,"CONDITIONAL",false,"Note: Conditional is based primarily on whether an aggregate is present in the mix. If present, these would be required."]
["'[Asphalt Mix Design - Template (20260115 1305 BC).xlsm]","Agg - Fine'!","C",8,"Agg 1",null,null,null,"Percent of Agg Blend, %","%","%",{"$f":"INDIRECT(\"'\" & B1760 & C1760 & D1760)","v":"---"},null,null,"---","---",false,"CONDITIONAL",false]
["'[Asphalt Mix Design - Template (20260115 1305 BC).xlsm]","Agg - Fine'!","C",9,"Agg 1",null,null,null,"Percent Passing No. 4, %","%","%",{"$f":"INDIRECT(\"'\" & B1761 & C1761 & D1761)","v":"---"},null,null,"---","---",false,"CONDITIONAL",false]
["'[Asphalt Mix Design - Template (20260115 1305 BC).xlsm]","Agg - Fine'!","C",10,"Agg 1",null,null,null,"Aggregate Size Class",null,null,{"$f":"INDIRECT(\"'\" & B1762 & C1762 & D1762)","v":"---"},null,null,"---","---",false,"CONDITIONAL",false]
["'[Asphalt Mix Design - Template (20260115 1305 BC).xlsm]","Agg - Fine'!","AK",8,"Agg 1",null,null,null,"Natural Sand",null,null,{"$f":"INDIRECT(\"'\" & B1763 & C1763 & D1763)","v":false},null,null,false,false,false,"CONDITIONAL",false]
["'[Asphalt Mix Design - Template (20260115 1305 BC).xlsm]","Agg - Fine'!","C",13,"Agg 1 - Sand Equivalency",null,null,null,"Date Tested",null,null,{"$f":"INDIRECT(\"'\" & B1764 & C1764 & D1764)","v":"00:00:00"},null,null,"00:00:00","00:00:00",false,false,false]
["'[Asphalt Mix Design - Template (20260115 1305 BC).xlsm]","Agg - Fine'!","C",14,"Agg 1 - Sand Equivalency","Rep 1",null,null,"Agitation Method",null,null,{"$f":"INDIRECT(\"'\" & B1765 & C1765 & D1765)","v":0},null,null,0,0,false,false,false]
["'[Asphalt Mix Design - Template (20260115 1305 BC).xlsm]","Agg - Fine'!","C",15,"Agg 1 - Sand Equivalency","Rep 1",null,null,"Clay Reading",null,null,{"$f":"INDIRECT(\"'\" & B1766 & C1766 & D1766)","v":0},null,null,0,0,false,false,false]
["'[Asphalt Mix Design - Template (20260115 1305 BC).xlsm]","Agg - Fine'!","C",16,"Agg 1 - Sand Equivalency","Rep 1",null,null,"Sand Reading",null,null,{"$f":"INDIRECT(\"'\" & B1767 & C1767 & D1767)","v":0},null,null,0,0,false,false,false]
["'[Asphalt Mix Design - Template (20260115 1305 BC).xlsm]","Agg - Fine'!","C",17,"Agg 1 - Sand Equivalency","Rep 1",null,null,"Sand Equivalent",null,null,{"$f":"INDIRECT(\"'\" & B1768 & C1768 & D1768)","v":"---"},null,null,"---","---",false,"CONDITIONAL",false]
["'[Asphalt Mix Design - Template (20260115 1305 BC).xlsm]","Agg - Fine'!","D",14,"Agg 1 - Sand Equivalency","Rep 2",null,null,"Agitation Method",null,null,{"$f":"INDIRECT(\"'\" & B1769 & C1769 & D1769)","v":0},null,null,0,0,false,false,false]
["'[Asphalt Mix Design - Template (20260115 1305 BC).xlsm]","Agg - Fine'!","D",15,"Agg 1 - Sand Equivalency","Rep 2",null,null,"Clay Reading",null,null,{"$f":"INDIRECT(\"'\" & B1770 & C1770 & D1770)","v":0},null,null,0,0,false,false,false]
["'[Asphalt Mix Design - Template (20260115 1305 BC).xlsm]","Agg - Fine'!","D",16,"Agg 1 - Sand Equivalency","Rep 2",null,null,"Sand Reading",null,null,{"$f":"INDIRECT(\"'\" & B1771 & C1771 & D1771)","v":0},null,null,0,0,false,false,false]
["'[Asphalt Mix Design - Template (20260115 1305 BC).xlsm]","Agg - Fine'!","D",17,"Agg 1 - Sand Equivalency","Rep 2",null,null,"Sand Equivalent",null,null,{"$f":"INDIRECT(\"'\" & B1772 & C1772 & D1772)","v":"---"},null,null,"---","---",false,"CONDITIONAL",false]
["'[Asphalt Mix Design - Template (20260115 1305 BC).xlsm]","Agg - Fine'!","C",18,"Agg 1 - Sand Equivalency","Avg",null,null,"Avg Sand Equivalency",null,null,{"$f":"INDIRECT(\"'\" & B1773 & C1773 & D1773)","v":"---"},null,null,"---","---","CONDITIONAL","CONDITIONAL",false]
["'[Asphalt Mix Design - Template (20260115 1305 BC).xlsm]","Agg - Fine'!","C",19,"Agg 1 - Clay Lumps",null,null,null,"Date Tested",null,null,{"$f":"INDIRECT(\"'\" & B1774 & C1774 & D1774)","v":"00:00:00"},null,null,"00:00:00","00:00:00",false,"CONDITIONAL",false]
["'[Asphalt Mix Design - Template (20260115 1305 BC).xlsm]","Agg - Fine'!","C",20,"Agg 1 - Clay Lumps","Rep 1",null,null,"Wt Original Test Sample, g","g","g",{"$f":"INDIRECT(\"'\" & B1775 & C1775 & D1775)","v":0},null,null,0,0,false,false,false]
["'[Asphalt Mix Design - Template (20260115 1305 BC).xlsm]","Agg - Fine'!","C",21,"Agg 1 - Clay Lumps","Rep 1",null,null,"Wt Retained, No. 8 Sieve, g","g","g",{"$f":"INDIRECT(\"'\" & B1776 & C1776 & D1776)","v":0},null,null,0,0,false,false,false]
["'[Asphalt Mix Design - Template (20260115 1305 BC).xlsm]","Agg - Fine'!","C",22,"Agg 1 - Clay Lumps","Rep 1",null,null,"Clay Lumps & Friable Particles, %","%","%",{"$f":"INDIRECT(\"'\" & B1777 & C1777 & D1777)","v":"---"},null,null,"---","---",false,"CONDITIONAL",false]
["'[Asphalt Mix Design - Template (20260115 1305 BC).xlsm]","Agg - Fine'!","D",20,"Agg 1 - Clay Lumps","Rep 2",null,null,"Wt Original Test Sample, g","g","g",{"$f":"INDIRECT(\"'\" & B1778 & C1778 & D1778)","v":0},null,null,0,0,false,false,false]
["'[Asphalt Mix Design - Template (20260115 1305 BC).xlsm]","Agg - Fine'!","D",21,"Agg 1 - Clay Lumps","Rep 2",null,null,"Wt Retained, No. 8 Sieve, g","g","g",{"$f":"INDIRECT(\"'\" & B1779 & C1779 & D1779)","v":0},null,null,0,0,false,false,false]
["'[Asphalt Mix Design - Template (20260115 1305 BC).xlsm]","Agg - Fine'!","D",22,"Agg 1 - Clay Lumps","Rep 2",null,null,"Clay Lumps & Friable Particles, %","%","%",{"$f":"INDIRECT(\"'\" & B1780 & C1780 & D1780)","v":"---"},null,null,"---","---",false,"CONDITIONAL",false]
["'[Asphalt Mix Design - Template (20260115 1305 BC).xlsm]","Agg - Fine'!","C",23,"Agg 1 - Clay Lumps","Avg",null,null,"Avg Clay Lumps, %","%","%",{"$f":"INDIRECT(\"'\" & B1781 & C1781 & D1781)","v":"---"},null,null,"---","---","CONDITIONAL","CONDITIONAL",false]
["'[Asphalt Mix Design - Template (20260115 1305 BC).xlsm]","Agg - Fine'!","C",24,"Agg 1 - FAA",null,null,null,"Date Tested",null,null,{"$f":"INDIRECT(\"'\" & B1782 & C1782 & D1782)","v":"00:00:00"},null,null,"00:00:00","00:00:00",false,"CONDITIONAL",false]
["'[Asphalt Mix Design - Template (20260115 1305 BC).xlsm]","Agg - Fine'!","C",25,"Agg 1 - FAA",null,null,null,"Gsb, Blend Passing No. 4",null,null,{"$f":"INDIRECT(\"'\" & B1783 & C1783 & D1783)","v":0},null,null,0,0,false,false,false]
["'[Asphalt Mix Design - Template (20260115 1305 BC).xlsm]","Agg - Fine'!","C",26,"Agg 1 - FAA","Rep 1",null,null,"Volume of Measure, mL","mL","mL",{"$f":"INDIRECT(\"'\" & B1784 & C1784 & D1784)","v":0},null,null,0,0,false,false,false]
["'[Asphalt Mix Design - Template (20260115 1305 BC).xlsm]","Agg - Fine'!","C",27,"Agg 1 - FAA","Rep 1",null,null,"Wt Agg, Test Run 1, g","g","g",{"$f":"INDIRECT(\"'\" & B1785 & C1785 & D1785)","v":0},null,null,0,0,false,false,false]
["'[Asphalt Mix Design - Template (20260115 1305 BC).xlsm]","Agg - Fine'!","C",28,"Agg 1 - FAA","Rep 1",null,null,"Wt Agg, Test Run 2, g","g","g",{"$f":"INDIRECT(\"'\" & B1786 & C1786 & D1786)","v":0},null,null,0,0,false,false,false]
["'[Asphalt Mix Design - Template (20260115 1305 BC).xlsm]","Agg - Fine'!","C",29,"Agg 1 - FAA","Rep 1",null,null,"FAA, Test Run 1, %","%","%",{"$f":"INDIRECT(\"'\" & B1787 & C1787 & D1787)","v":"---"},null,null,"---","---",false,false,false]
["'[Asphalt Mix Design - Template (20260115 1305 BC).xlsm]","Agg - Fine'!","C",30,"Agg 1 - FAA","Rep 1",null,null,"FAA, Test Run 2, %","%","%",{"$f":"INDIRECT(\"'\" & B1788 & C1788 & D1788)","v":"---"},null,null,"---","---",false,false,false]
["'[Asphalt Mix Design - Template (20260115 1305 BC).xlsm]","Agg - Fine'!","D",26,"Agg 1 - FAA","Rep 2",null,null,"Volume of Measure, mL","mL","mL",{"$f":"INDIRECT(\"'\" & B1789 & C1789 & D1789)","v":0},null,null,0,0,false,false,false]
["'[Asphalt Mix Design - Template (20260115 1305 BC).xlsm]","Agg - Fine'!","D",27,"Agg 1 - FAA","Rep 2",null,null,"Wt Agg, Test Run 1, g","g","g",{"$f":"INDIRECT(\"'\" & B1790 & C1790 & D1790)","v":0},null,null,0,0,false,false,false]
["'[Asphalt Mix Design - Template (20260115 1305 BC).xlsm]","Agg - Fine'!","D",28,"Agg 1 - FAA","Rep 2",null,null,"Wt Agg, Test Run 2, g","g","g",{"$f":"INDIRECT(\"'\" & B1791 & C1791 & D1791)","v":0},null,null,0,0,false,false,false]
["'[Asphalt Mix Design - Template (20260115 1305 BC).xlsm]","Agg - Fine'!","D",29,"Agg 1 - FAA","Rep 2",null,null,"FAA, Test Run 1, %","%","%",{"$f":"INDIRECT(\"'\" & B1792 & C1792 & D1792)","v":"---"},null,null,"---","---",false,false,false]
["'[Asphalt Mix Design - Template (20260115 1305 BC).xlsm]","Agg - Fine'!","D",30,"Agg 1 - FAA","Rep 2",null,null,"FAA, Test Run 2, %","%","%",{"$f":"INDIRECT(\"'\" & B1793 & C1793 & D1793)","v":"---"},null,null,"---","---",false,false,false]
["'[Asphalt Mix Design - Template (20260115 1305 BC).xlsm]","Agg - Fine'!","C",31,"Agg 1 - FAA","Avg",null,null,"Avg FAA, %","%","%",{"$f":"INDIRECT(\"'\" & B1794 & C1794 & D1794)","v":"---"},null,null,{"$f":"IF(ISBLANK(N1794),L1794,N1794)","v":"---"},{"$f":"IF(ISBLANK(N1794),IF(OR(ISBLANK(M1794),ISERROR(M1794)),L1794,M1794),N1794)","v":"---"},false,false,false]
["'[Asphalt Mix Design - Template (20260115 1305 BC).xlsm]","Agg - Fine'!","E",7,"Agg 2",null,null,null,"Aggreagte ID",null,null,{"$f":"INDIRECT(\"'\" & B1795 & C1795 & D1795)","v":"---"},null,null,"---","---",false,"CONDITIONAL",false]
["'[Asphalt Mix Design - Template (20260115 1305 BC).xlsm]","Agg - Fine'!","E",8,"Agg 2",null,null,null,"Percent of Agg Blend, %","%","%",{"$f":"INDIRECT(\"'\" & B1796 & C1796 & D1796)","v":"---"},null,null,"---","---",false,"CONDITIONAL",false]
["'[Asphalt Mix Design - Template (20260115 1305 BC).xlsm]","Agg - Fine'!","E",9,"Agg 2",null,null,null,"Percent Passing No. 4, %","%","%",{"$f":"INDIRECT(\"'\" & B1797 & C1797 & D1797)","v":"---"},null,null,"---","---",false,"CONDITIONAL",false]
["'[Asphalt Mix Design - Template (20260115 1305 BC).xlsm]","Agg - Fine'!","E",10,"Agg 2",null,null,null,"Aggregate Size Class",null,null,{"$f":"INDIRECT(\"'\" & B1798 & C1798 & D1798)","v":"---"},null,null,"---","---",false,"CONDITIONAL",false]
["'[Asphalt Mix Design - Template (20260115 1305 BC).xlsm]","Agg - Fine'!","AK",9,"Agg 2",null,null,null,"Natural Sand",null,null,{"$f":"INDIRECT(\"'\" & B1799 & C1799 & D1799)","v":false},null,null,false,false,false,"CONDITIONAL",false]
["'[Asphalt Mix Design - Template (20260115 1305 BC).xlsm]","Agg - Fine'!","E",13,"Agg 2 - Sand Equivalency",null,null,null,"Date Tested",null,null,{"$f":"INDIRECT(\"'\" & B1800 & C1800 & D1800)","v":"00:00:00"},null,null,"00:00:00","00:00:00",false,false,false]
["'[Asphalt Mix Design - Template (20260115 1305 BC).xlsm]","Agg - Fine'!","E",14,"Agg 2 - Sand Equivalency","Rep 1",null,null,"Agitation Method",null,null,{"$f":"INDIRECT(\"'\" & B1801 & C1801 & D1801)","v":0},null,null,0,0,false,false,false]
["'[Asphalt Mix Design - Template (20260115 1305 BC).xlsm]","Agg - Fine'!","E",15,"Agg 2 - Sand Equivalency","Rep 1",null,null,"Clay Reading",null,null,{"$f":"INDIRECT(\"'\" & B1802 & C1802 & D1802)","v":0},null,null,0,0,false,false,false]
["'[Asphalt Mix Design - Template (20260115 1305 BC).xlsm]","Agg - Fine'!","E",16,"Agg 2 - Sand Equivalency","Rep 1",null,null,"Sand Reading",null,null,{"$f":"INDIRECT(\"'\" & B1803 & C1803 & D1803)","v":0},null,null,0,0,false,false,false]
["'[Asphalt Mix Design - Template (20260115 1305 BC).xlsm]","Agg - Fine'!","E",17,"Agg 2 - Sand Equivalency","Rep 1",null,null,"Sand Equivalent",null,null,{"$f":"INDIRECT(\"'\" & B1804 & C1804 & D1804)","v":"---"},null,null,"---","---",false,"CONDITIONAL",false]
["'[Asphalt Mix Design - Template (20260115 1305 BC).xlsm]","Agg - Fine'!","F",14,"Agg 2 - Sand Equivalency","Rep 2",null,null,"Agitation Method",null,null,{"$f":"INDIRECT(\"'\" & B1805 & C1805 & D1805)","v":0},null,null,0,0,false,false,false]
["'[Asphalt Mix Design - Template (20260115 1305 BC).xlsm]","Agg - Fine'!","F",15,"Agg 2 - Sand Equivalency","Rep 2",null,null,"Clay Reading",null,null,{"$f":"INDIRECT(\"'\" & B1806 & C1806 & D1806)","v":0},null,null,0,0,false,false,false]
["'[Asphalt Mix Design - Template (20260115 1305 BC).xlsm]","Agg - Fine'!","F",16,"Agg 2 - Sand Equivalency","Rep 2",null,null,"Sand Reading",null,null,{"$f":"INDIRECT(\"'\" & B1807 & C1807 & D1807)","v":0},null,null,0,0,false,false,false]
["'[Asphalt Mix Design - Template (20260115 1305 BC).xlsm]","Agg - Fine'!","F",17,"Agg 2 - Sand Equivalency","Rep 2",null,null,"Sand Equivalent",null,null,{"$f":"INDIRECT(\"'\" & B1808 & C1808 & D1808)","v":"---"},null,null,"---","---",false,"CONDITIONAL",false]
["'[Asphalt Mix Design - Template (20260115 1305 BC).xlsm]","Agg - Fine'!","E",18,"Agg 2 - Sand Equivalency","Avg",null,null,"Avg Sand Equivalency",null,null,{"$f":"INDIRECT(\"'\" & B1809 & C1809 & D1809)","v":"---"},null,null,"---","---","CONDITIONAL","CONDITIONAL",false]
["'[Asphalt Mix Design - Template (20260115 1305 BC).xlsm]","Agg - Fine'!","E",19,"Agg 2 - Clay Lumps",null,null,null,"Date Tested",null,null,{"$f":"INDIRECT(\"'\" & B1810 & C1810 & D1810)","v":"00:00:00"},null,null,"00:00:00","00:00:00",false,"CONDITIONAL",false]
["'[Asphalt Mix Design - Template (20260115 1305 BC).xlsm]","Agg - Fine'!","E",20,"Agg 2 - Clay Lumps","Rep 1",null,null,"Wt Original Test Sample, g","g","g",{"$f":"INDIRECT(\"'\" & B1811 & C1811 & D1811)","v":0},null,null,0,0,false,false,false]
["'[Asphalt Mix Design - Template (20260115 1305 BC).xlsm]","Agg - Fine'!","E",21,"Agg 2 - Clay Lumps","Rep 1",null,null,"Wt Retained, No. 8 Sieve, g","g","g",{"$f":"INDIRECT(\"'\" & B1812 & C1812 & D1812)","v":0},null,null,0,0,false,false,false]
["'[Asphalt Mix Design - Template (20260115 1305 BC).xlsm]","Agg - Fine'!","E",22,"Agg 2 - Clay Lumps","Rep 1",null,null,"Clay Lumps & Friable Particles, %","%","%",{"$f":"INDIRECT(\"'\" & B1813 & C1813 & D1813)","v":"---"},null,null,"---","---",false,"CONDITIONAL",false]
["'[Asphalt Mix Design - Template (20260115 1305 BC).xlsm]","Agg - Fine'!","F",20,"Agg 2 - Clay Lumps","Rep 2",null,null,"Wt Original Test Sample, g","g","g",{"$f":"INDIRECT(\"'\" & B1814 & C1814 & D1814)","v":0},null,null,0,0,false,false,false]
["'[Asphalt Mix Design - Template (20260115 1305 BC).xlsm]","Agg - Fine'!","F",21,"Agg 2 - Clay Lumps","Rep 2",null,null,"Wt Retained, No. 8 Sieve, g","g","g",{"$f":"INDIRECT(\"'\" & B1815 & C1815 & D1815)","v":0},null,null,0,0,false,false,false]
["'[Asphalt Mix Design - Template (20260115 1305 BC).xlsm]","Agg - Fine'!","F",22,"Agg 2 - Clay Lumps","Rep 2",null,null,"Clay Lumps & Friable Particles, %","%","%",{"$f":"INDIRECT(\"'\" & B1816 & C1816 & D1816)","v":"---"},null,null,"---","---",false,"CONDITIONAL",false]
["'[Asphalt Mix Design - Template (20260115 1305 BC).xlsm]","Agg - Fine'!","E",23,"Agg 2 - Clay Lumps","Avg",null,null,"Avg Clay Lumps, %","%","%",{"$f":"INDIRECT(\"'\" & B1817 & C1817 & D1817)","v":"---"},null,null,"---","---","CONDITIONAL","CONDITIONAL",false]
["'[Asphalt Mix Design - Template (20260115 1305 BC).xlsm]","Agg - Fine'!","E",24,"Agg 2 - FAA",null,null,null,"Date Tested",null,null,{"$f":"INDIRECT(\"'\" & B1818 & C1818 & D1818)","v":"00:00:00"},null,null,"00:00:00","00:00:00",false,"CONDITIONAL",false]
["'[Asphalt Mix Design - Template (20260115 1305 BC).xlsm]","Agg - Fine'!","E",25,"Agg 2 - FAA",null,null,null,"Gsb, Blend Passing No. 4",null,null,{"$f":"INDIRECT(\"'\" & B1819 & C1819 & D1819)","v":0},null,null,0,0,false,false,false]
["'[Asphalt Mix Design - Template (20260115 1305 BC).xlsm]","Agg - Fine'!","E",26,"Agg 2 - FAA","Rep 1",null,null,"Volume of Measure, mL","mL","mL",{"$f":"INDIRECT(\"'\" & B1820 & C1820 & D1820)","v":0},null,null,0,0,false,false,false]
["'[Asphalt Mix Design - Template (20260115 1305 BC).xlsm]","Agg - Fine'!","E",27,"Agg 2 - FAA","Rep 1",null,null,"Wt Agg, Test Run 1, g","g","g",{"$f":"INDIRECT(\"'\" & B1821 & C1821 & D1821)","v":0},null,null,0,0,false,false,false]
["'[Asphalt Mix Design - Template (20260115 1305 BC).xlsm]","Agg - Fine'!","E",28,"Agg 2 - FAA","Rep 1",null,null,"Wt Agg, Test Run 2, g","g","g",{"$f":"INDIRECT(\"'\" & B1822 & C1822 & D1822)","v":0},null,null,0,0,false,false,false]
["'[Asphalt Mix Design - Template (20260115 1305 BC).xlsm]","Agg - Fine'!","E",29,"Agg 2 - FAA","Rep 1",null,null,"FAA, Test Run 1, %","%","%",{"$f":"INDIRECT(\"'\" & B1823 & C1823 & D1823)","v":"---"},null,null,"---","---",false,false,false]
["'[Asphalt Mix Design - Template (20260115 1305 BC).xlsm]","Agg - Fine'!","E",30,"Agg 2 - FAA","Rep 1",null,null,"FAA, Test Run 2, %","%","%",{"$f":"INDIRECT(\"'\" & B1824 & C1824 & D1824)","v":"---"},null,null,"---","---",false,false,false]
["'[Asphalt Mix Design - Template (20260115 1305 BC).xlsm]","Agg - Fine'!","F",26,"Agg 2 - FAA","Rep 2",null,null,"Volume of Measure, mL","mL","mL",{"$f":"INDIRECT(\"'\" & B1825 & C1825 & D1825)","v":0},null,null,0,0,false,false,false]
["'[Asphalt Mix Design - Template (20260115 1305 BC).xlsm]","Agg - Fine'!","F",27,"Agg 2 - FAA","Rep 2",null,null,"Wt Agg, Test Run 1, g","g","g",{"$f":"INDIRECT(\"'\" & B1826 & C1826 & D1826)","v":0},null,null,0,0,false,false,false]
["'[Asphalt Mix Design - Template (20260115 1305 BC).xlsm]","Agg - Fine'!","F",28,"Agg 2 - FAA","Rep 2",null,null,"Wt Agg, Test Run 2, g","g","g",{"$f":"INDIRECT(\"'\" & B1827 & C1827 & D1827)","v":0},null,null,0,0,false,false,false]
["'[Asphalt Mix Design - Template (20260115 1305 BC).xlsm]","Agg - Fine'!","F",29,"Agg 2 - FAA","Rep 2",null,null,"FAA, Test Run 1, %","%","%",{"$f":"INDIRECT(\"'\" & B1828 & C1828 & D1828)","v":"---"},null,null,"---","---",false,false,false]
["'[Asphalt Mix Design - Template (20260115 1305 BC).xlsm]","Agg - Fine'!","F",30,"Agg 2 - FAA","Rep 2",null,null,"FAA, Test Run 2, %","%","%",{"$f":"INDIRECT(\"'\" & B1829 & C1829 & D1829)","v":"---"},null,null,"---","---",false,false,false]
["'[Asphalt Mix Design - Template (20260115 1305 BC).xlsm]","Agg - Fine'!","E",31,"Agg 2 - FAA","Avg",null,null,"Avg FAA, %","%","%",{"$f":"INDIRECT(\"'\" & B1830 & C1830 & D1830)","v":"---"},null,null,"---","---",false,false,false]
["'[Asphalt Mix Design - Template (20260115 1305 BC).xlsm]","Agg - Fine'!","G",7,"Agg 3",null,null,null,"Aggreagte ID",null,null,{"$f":"INDIRECT(\"'\" & B1831 & C1831 & D1831)","v":"---"},null,null,"---","---",false,"CONDITIONAL",false]
["'[Asphalt Mix Design - Template (20260115 1305 BC).xlsm]","Agg - Fine'!","G",8,"Agg 3",null,null,null,"Percent of Agg Blend, %","%","%",{"$f":"INDIRECT(\"'\" & B1832 & C1832 & D1832)","v":"---"},null,null,"---","---",false,"CONDITIONAL",false]
["'[Asphalt Mix Design - Template (20260115 1305 BC).xlsm]","Agg - Fine'!","G",9,"Agg 3",null,null,null,"Percent Passing No. 4, %","%","%",{"$f":"INDIRECT(\"'\" & B1833 & C1833 & D1833)","v":"---"},null,null,"---","---",false,"CONDITIONAL",false]
["'[Asphalt Mix Design - Template (20260115 1305 BC).xlsm]","Agg - Fine'!","G",10,"Agg 3",null,null,null,"Aggregate Size Class",null,null,{"$f":"INDIRECT(\"'\" & B1834 & C1834 & D1834)","v":"---"},null,null,"---","---",false,"CONDITIONAL",false]
["'[Asphalt Mix Design - Template (20260115 1305 BC).xlsm]","Agg - Fine'!","AK",10,"Agg 3",null,null,null,"Natural Sand",null,null,{"$f":"INDIRECT(\"'\" & B1835 & C1835 & D1835)","v":false},null,null,false,false,false,"CONDITIONAL",false]
["'[Asphalt Mix Design - Template (20260115 1305 BC).xlsm]","Agg - Fine'!","G",13,"Agg 3 - Sand Equivalency",null,null,null,"Date Tested",null,null,{"$f":"INDIRECT(\"'\" & B1836 & C1836 & D1836)","v":"00:00:00"},null,null,"00:00:00","00:00:00",false,false,false]
["'[Asphalt Mix Design - Template (20260115 1305 BC).xlsm]","Agg - Fine'!","G",14,"Agg 3 - Sand Equivalency","Rep 1",null,null,"Agitation Method",null,null,{"$f":"INDIRECT(\"'\" & B1837 & C1837 & D1837)","v":0},null,null,0,0,false,false,false]
["'[Asphalt Mix Design - Template (20260115 1305 BC).xlsm]","Agg - Fine'!","G",15,"Agg 3 - Sand Equivalency","Rep 1",null,null,"Clay Reading",null,null,{"$f":"INDIRECT(\"'\" & B1838 & C1838 & D1838)","v":0},null,null,0,0,false,false,false]
["'[Asphalt Mix Design - Template (20260115 1305 BC).xlsm]","Agg - Fine'!","G",16,"Agg 3 - Sand Equivalency","Rep 1",null,null,"Sand Reading",null,null,{"$f":"INDIRECT(\"'\" & B1839 & C1839 & D1839)","v":0},null,null,0,0,false,false,false]
["'[Asphalt Mix Design - Template (20260115 1305 BC).xlsm]","Agg - Fine'!","G",17,"Agg 3 - Sand Equivalency","Rep 1",null,null,"Sand Equivalent",null,null,{"$f":"INDIRECT(\"'\" & B1840 & C1840 & D1840)","v":"---"},null,null,"---","---",false,"CONDITIONAL",false]
["'[Asphalt Mix Design - Template (20260115 1305 BC).xlsm]","Agg - Fine'!","H",14,"Agg 3 - Sand Equivalency","Rep 2",null,null,"Agitation Method",null,null,{"$f":"INDIRECT(\"'\" & B1841 & C1841 & D1841)","v":0},null,null,0,0,false,false,false]
["'[Asphalt Mix Design - Template (20260115 1305 BC).xlsm]","Agg - Fine'!","H",15,"Agg 3 - Sand Equivalency","Rep 2",null,null,"Clay Reading",null,null,{"$f":"INDIRECT(\"'\" & B1842 & C1842 & D1842)","v":0},null,null,0,0,false,false,false]
["'[Asphalt Mix Design - Template (20260115 1305 BC).xlsm]","Agg - Fine'!","H",16,"Agg 3 - Sand Equivalency","Rep 2",null,null,"Sand Reading",null,null,{"$f":"INDIRECT(\"'\" & B1843 & C1843 & D1843)","v":0},null,null,0,0,false,false,false]
["'[Asphalt Mix Design - Template (20260115 1305 BC).xlsm]","Agg - Fine'!","H",17,"Agg 3 - Sand Equivalency","Rep 2",null,null,"Sand Equivalent",null,null,{"$f":"INDIRECT(\"'\" & B1844 & C1844 & D1844)","v":"---"},null,null,"---","---",false,"CONDITIONAL",false]
["'[Asphalt Mix Design - Template (20260115 1305 BC).xlsm]","Agg - Fine'!","G",18,"Agg 3 - Sand Equivalency","Avg",null,null,"Avg Sand Equivalency",null,null,{"$f":"INDIRECT(\"'\" & B1845 & C1845 & D1845)","v":"---"},null,null,"---","---","CONDITIONAL","CONDITIONAL",false]
["'[Asphalt Mix Design - Template (20260115 1305 BC).xlsm]","Agg - Fine'!","G",19,"Agg 3 - Clay Lumps",null,null,null,"Date Tested",null,null,{"$f":"INDIRECT(\"'\" & B1846 & C1846 & D1846)","v":"00:00:00"},null,null,"00:00:00","00:00:00",false,"CONDITIONAL",false]
["'[Asphalt Mix Design - Template (20260115 1305 BC).xlsm]","Agg - Fine'!","G",20,"Agg 3 - Clay Lumps","Rep 1",null,null,"Wt Original Test Sample, g","g","g",{"$f":"INDIRECT(\"'\" & B1847 & C1847 & D1847)","v":0},null,null,0,0,false,false,false]
["'[Asphalt Mix Design - Template (20260115 1305 BC).xlsm]","Agg - Fine'!","G",21,"Agg 3 - Clay Lumps","Rep 1",null,null,"Wt Retained, No. 8 Sieve, g","g","g",{"$f":"INDIRECT(\"'\" & B1848 & C1848 & D1848)","v":0},null,null,0,0,false,false,false]
["'[Asphalt Mix Design - Template (20260115 1305 BC).xlsm]","Agg - Fine'!","G",22,"Agg 3 - Clay Lumps","Rep 1",null,null,"Clay Lumps & Friable Particles, %","%","%",{"$f":"INDIRECT(\"'\" & B1849 & C1849 & D1849)","v":"---"},null,null,"---","---",false,"CONDITIONAL",false]
["'[Asphalt Mix Design - Template (20260115 1305 BC).xlsm]","Agg - Fine'!","H",20,"Agg 3 - Clay Lumps","Rep 2",null,null,"Wt Original Test Sample, g","g","g",{"$f":"INDIRECT(\"'\" & B1850 & C1850 & D1850)","v":0},null,null,0,0,false,false,false]
["'[Asphalt Mix Design - Template (20260115 1305 BC).xlsm]","Agg - Fine'!","H",21,"Agg 3 - Clay Lumps","Rep 2",null,null,"Wt Retained, No. 8 Sieve, g","g","g",{"$f":"INDIRECT(\"'\" & B1851 & C1851 & D1851)","v":0},null,null,0,0,false,false,false]
["'[Asphalt Mix Design - Template (20260115 1305 BC).xlsm]","Agg - Fine'!","H",22,"Agg 3 - Clay Lumps","Rep 2",null,null,"Clay Lumps & Friable Particles, %","%","%",{"$f":"INDIRECT(\"'\" & B1852 & C1852 & D1852)","v":"---"},null,null,"---","---",false,"CONDITIONAL",false]
["'[Asphalt Mix Design - Template (20260115 1305 BC).xlsm]","Agg - Fine'!","G",23,"Agg 3 - Clay Lumps","Avg",null,null,"Avg Clay Lumps, %","%","%",{"$f":"INDIRECT(\"'\" & B1853 & C1853 & D1853)","v":"---"},null,null,"---","---","CONDITIONAL","CONDITIONAL",false]
["'[Asphalt Mix Design - Template (20260115 1305 BC).xlsm]","Agg - Fine'!","G",24,"Agg 3 - FAA",null,null,null,"Date Tested",null,null,{"$f":"INDIRECT(\"'\" & B1854 & C1854 & D1854)","v":"00:00:00"},null,null,"00:00:00","00:00:00",false,"CONDITIONAL",false]
["'[Asphalt Mix Design - Template (20260115 1305 BC).xlsm]","Agg - Fine'!","G",25,"Agg 3 - FAA",null,null,null,"Gsb, Blend Passing No. 4",null,null,{"$f":"INDIRECT(\"'\" & B1855 & C1855 & D1855)","v":0},null,null,0,0,false,false,false]
["'[Asphalt Mix Design - Template (20260115 1305 BC).xlsm]","Agg - Fine'!","G",26,"Agg 3 - FAA","Rep 1",null,null,"Volume of Measure, mL","mL","mL",{"$f":"INDIRECT(\"'\" & B1856 & C1856 & D1856)","v":0},null,null,0,0,false,false,false]
["'[Asphalt Mix Design - Template (20260115 1305 BC).xlsm]","Agg - Fine'!","G",27,"Agg 3 - FAA","Rep 1",null,null,"Wt Agg, Test Run 1, g","g","g",{"$f":"INDIRECT(\"'\" & B1857 & C1857 & D1857)","v":0},null,null,0,0,false,false,false]
["'[Asphalt Mix Design - Template (20260115 1305 BC).xlsm]","Agg - Fine'!","G",28,"Agg 3 - FAA","Rep 1",null,null,"Wt Agg, Test Run 2, g","g","g",{"$f":"INDIRECT(\"'\" & B1858 & C1858 & D1858)","v":0},null,null,{"$f":"IF(ISBLANK(N1858),L1858,N1858)","v":0},{"$f":"IF(ISBLANK(N1858),IF(OR(ISBLANK(M1858),ISERROR(M1858)),L1858,M1858),N1858)","v":0},false,false,false]
["'[Asphalt Mix Design - Template (20260115 1305 BC).xlsm]","Agg - Fine'!","G",29,"Agg 3 - FAA","Rep 1",null,null,"FAA, Test Run 1, %","%","%",{"$f":"INDIRECT(\"'\" & B1859 & C1859 & D1859)","v":"---"},null,null,"---","---",false,false,false]
["'[Asphalt Mix Design - Template (20260115 1305 BC).xlsm]","Agg - Fine'!","G",30,"Agg 3 - FAA","Rep 1",null,null,"FAA, Test Run 2, %","%","%",{"$f":"INDIRECT(\"'\" & B1860 & C1860 & D1860)","v":"---"},null,null,"---","---",false,false,false]
["'[Asphalt Mix Design - Template (20260115 1305 BC).xlsm]","Agg - Fine'!","H",26,"Agg 3 - FAA","Rep 2",null,null,"Volume of Measure, mL","mL","mL",{"$f":"INDIRECT(\"'\" & B1861 & C1861 & D1861)","v":0},null,null,0,0,false,false,false]
["'[Asphalt Mix Design - Template (20260115 1305 BC).xlsm]","Agg - Fine'!","H",27,"Agg 3 - FAA","Rep 2",null,null,"Wt Agg, Test Run 1, g","g","g",{"$f":"INDIRECT(\"'\" & B1862 & C1862 & D1862)","v":0},null,null,0,0,false,false,false]
["'[Asphalt Mix Design - Template (20260115 1305 BC).xlsm]","Agg - Fine'!","H",28,"Agg 3 - FAA","Rep 2",null,null,"Wt Agg, Test Run 2, g","g","g",{"$f":"INDIRECT(\"'\" & B1863 & C1863 & D1863)","v":0},null,null,0,0,false,false,false]
["'[Asphalt Mix Design - Template (20260115 1305 BC).xlsm]","Agg - Fine'!","H",29,"Agg 3 - FAA","Rep 2",null,null,"FAA, Test Run 1, %","%","%",{"$f":"INDIRECT(\"'\" & B1864 & C1864 & D1864)","v":"---"},null,null,"---","---",false,false,false]
["'[Asphalt Mix Design - Template (20260115 1305 BC).xlsm]","Agg - Fine'!","H",30,"Agg 3 - FAA","Rep 2",null,null,"FAA, Test Run 2, %","%","%",{"$f":"INDIRECT(\"'\" & B1865 & C1865 & D1865)","v":"---"},null,null,"---","---",false,false,false]
["'[Asphalt Mix Design - Template (20260115 1305 BC).xlsm]","Agg - Fine'!","G",31,"Agg 3 - FAA","Avg",null,null,"Avg FAA, %","%","%",{"$f":"INDIRECT(\"'\" & B1866 & C1866 & D1866)","v":"---"},null,null,"---","---",false,false,false]
["'[Asphalt Mix Design - Template (20260115 1305 BC).xlsm]","Agg - Fine'!","I",7,"Agg 4",null,null,null,"Aggreagte ID",null,null,{"$f":"INDIRECT(\"'\" & B1867 & C1867 & D1867)","v":"---"},null,null,"---","---",false,"CONDITIONAL",false]
["'[Asphalt Mix Design - Template (20260115 1305 BC).xlsm]","Agg - Fine'!","I",8,"Agg 4",null,null,null,"Percent of Agg Blend, %","%","%",{"$f":"INDIRECT(\"'\" & B1868 & C1868 & D1868)","v":"---"},null,null,"---","---",false,"CONDITIONAL",false]
["'[Asphalt Mix Design - Template (20260115 1305 BC).xlsm]","Agg - Fine'!","I",9,"Agg 4",null,null,null,"Percent Passing No. 4, %","%","%",{"$f":"INDIRECT(\"'\" & B1869 & C1869 & D1869)","v":"---"},null,null,"---","---",false,"CONDITIONAL",false]
["'[Asphalt Mix Design - Template (20260115 1305 BC).xlsm]","Agg - Fine'!","I",10,"Agg 4",null,null,null,"Aggregate Size Class",null,null,{"$f":"INDIRECT(\"'\" & B1870 & C1870 & D1870)","v":"---"},null,null,"---","---",false,"CONDITIONAL",false]
["'[Asphalt Mix Design - Template (20260115 1305 BC).xlsm]","Agg - Fine'!","AK",11,"Agg 4",null,null,null,"Natural Sand",null,null,{"$f":"INDIRECT(\"'\" & B1871 & C1871 & D1871)","v":false},null,null,false,false,false,"CONDITIONAL",false]
["'[Asphalt Mix Design - Template (20260115 1305 BC).xlsm]","Agg - Fine'!","I",13,"Agg 4 - Sand Equivalency",null,null,null,"Date Tested",null,null,{"$f":"INDIRECT(\"'\" & B1872 & C1872 & D1872)","v":"00:00:00"},null,null,"00:00:00","00:00:00",false,false,false]
["'[Asphalt Mix Design - Template (20260115 1305 BC).xlsm]","Agg - Fine'!","I",14,"Agg 4 - Sand Equivalency","Rep 1",null,null,"Agitation Method",null,null,{"$f":"INDIRECT(\"'\" & B1873 & C1873 & D1873)","v":0},null,null,0,0,false,false,false]
["'[Asphalt Mix Design - Template (20260115 1305 BC).xlsm]","Agg - Fine'!","I",15,"Agg 4 - Sand Equivalency","Rep 1",null,null,"Clay Reading",null,null,{"$f":"INDIRECT(\"'\" & B1874 & C1874 & D1874)","v":0},null,null,0,0,false,false,false]
["'[Asphalt Mix Design - Template (20260115 1305 BC).xlsm]","Agg - Fine'!","I",16,"Agg 4 - Sand Equivalency","Rep 1",null,null,"Sand Reading",null,null,{"$f":"INDIRECT(\"'\" & B1875 & C1875 & D1875)","v":0},null,null,0,0,false,false,false]
["'[Asphalt Mix Design - Template (20260115 1305 BC).xlsm]","Agg - Fine'!","I",17,"Agg 4 - Sand Equivalency","Rep 1",null,null,"Sand Equivalent",null,null,{"$f":"INDIRECT(\"'\" & B1876 & C1876 & D1876)","v":"---"},null,null,"---","---",false,"CONDITIONAL",false]
["'[Asphalt Mix Design - Template (20260115 1305 BC).xlsm]","Agg - Fine'!","J",14,"Agg 4 - Sand Equivalency","Rep 2",null,null,"Agitation Method",null,null,{"$f":"INDIRECT(\"'\" & B1877 & C1877 & D1877)","v":0},null,null,0,0,false,false,false]
["'[Asphalt Mix Design - Template (20260115 1305 BC).xlsm]","Agg - Fine'!","J",15,"Agg 4 - Sand Equivalency","Rep 2",null,null,"Clay Reading",null,null,{"$f":"INDIRECT(\"'\" & B1878 & C1878 & D1878)","v":0},null,null,0,0,false,false,false]
["'[Asphalt Mix Design - Template (20260115 1305 BC).xlsm]","Agg - Fine'!","J",16,"Agg 4 - Sand Equivalency","Rep 2",null,null,"Sand Reading",null,null,{"$f":"INDIRECT(\"'\" & B1879 & C1879 & D1879)","v":0},null,null,0,0,false,false,false]
["'[Asphalt Mix Design - Template (20260115 1305 BC).xlsm]","Agg - Fine'!","J",17,"Agg 4 - Sand Equivalency","Rep 2",null,null,"Sand Equivalent",null,null,{"$f":"INDIRECT(\"'\" & B1880 & C1880 & D1880)","v":"---"},null,null,"---","---",false,"CONDITIONAL",false]
["'[Asphalt Mix Design - Template (20260115 1305 BC).xlsm]","Agg - Fine'!","I",18,"Agg 4 - Sand Equivalency","Avg",null,null,"Avg Sand Equivalency",null,null,{"$f":"INDIRECT(\"'\" & B1881 & C1881 & D1881)","v":"---"},null,null,"---","---","CONDITIONAL","CONDITIONAL",false]
["'[Asphalt Mix Design - Template (20260115 1305 BC).xlsm]","Agg - Fine'!","I",19,"Agg 4 - Clay Lumps",null,null,null,"Date Tested",null,null,{"$f":"INDIRECT(\"'\" & B1882 & C1882 & D1882)","v":"00:00:00"},null,null,"00:00:00","00:00:00",false,"CONDITIONAL",false]
["'[Asphalt Mix Design - Template (20260115 1305 BC).xlsm]","Agg - Fine'!","I",20,"Agg 4 - Clay Lumps","Rep 1",null,null,"Wt Original Test Sample, g","g","g",{"$f":"INDIRECT(\"'\" & B1883 & C1883 & D1883)","v":0},null,null,0,0,false,false,false]
["'[Asphalt Mix Design - Template (20260115 1305 BC).xlsm]","Agg - Fine'!","I",21,"Agg 4 - Clay Lumps","Rep 1",null,null,"Wt Retained, No. 8 Sieve, g","g","g",{"$f":"INDIRECT(\"'\" & B1884 & C1884 & D1884)","v":0},null,null,0,0,false,false,false]
["'[Asphalt Mix Design - Template (20260115 1305 BC).xlsm]","Agg - Fine'!","I",22,"Agg 4 - Clay Lumps","Rep 1",null,null,"Clay Lumps & Friable Particles, %","%","%",{"$f":"INDIRECT(\"'\" & B1885 & C1885 & D1885)","v":"---"},null,null,"---","---",false,"CONDITIONAL",false]
["'[Asphalt Mix Design - Template (20260115 1305 BC).xlsm]","Agg - Fine'!","J",20,"Agg 4 - Clay Lumps","Rep 2",null,null,"Wt Original Test Sample, g","g","g",{"$f":"INDIRECT(\"'\" & B1886 & C1886 & D1886)","v":0},null,null,0,0,false,false,false]
["'[Asphalt Mix Design - Template (20260115 1305 BC).xlsm]","Agg - Fine'!","J",21,"Agg 4 - Clay Lumps","Rep 2",null,null,"Wt Retained, No. 8 Sieve, g","g","g",{"$f":"INDIRECT(\"'\" & B1887 & C1887 & D1887)","v":0},null,null,0,0,false,false,false]
["'[Asphalt Mix Design - Template (20260115 1305 BC).xlsm]","Agg - Fine'!","J",22,"Agg 4 - Clay Lumps","Rep 2",null,null,"Clay Lumps & Friable Particles, %","%","%",{"$f":"INDIRECT(\"'\" & B1888 & C1888 & D1888)","v":"---"},null,null,"---","---",false,"CONDITIONAL",false]
["'[Asphalt Mix Design - Template (20260115 1305 BC).xlsm]","Agg - Fine'!","I",23,"Agg 4 - Clay Lumps","Avg",null,null,"Avg Clay Lumps, %","%","%",{"$f":"INDIRECT(\"'\" & B1889 & C1889 & D1889)","v":"---"},null,null,"---","---","CONDITIONAL","CONDITIONAL",false]
["'[Asphalt Mix Design - Template (20260115 1305 BC).xlsm]","Agg - Fine'!","I",24,"Agg 4 - FAA",null,null,null,"Date Tested",null,null,{"$f":"INDIRECT(\"'\" & B1890 & C1890 & D1890)","v":"00:00:00"},null,null,"00:00:00","00:00:00",false,"CONDITIONAL",false]
["'[Asphalt Mix Design - Template (20260115 1305 BC).xlsm]","Agg - Fine'!","I",25,"Agg 4 - FAA",null,null,null,"Gsb, Blend Passing No. 4",null,null,{"$f":"INDIRECT(\"'\" & B1891 & C1891 & D1891)","v":0},null,null,0,0,false,false,false]
["'[Asphalt Mix Design - Template (20260115 1305 BC).xlsm]","Agg - Fine'!","I",26,"Agg 4 - FAA","Rep 1",null,null,"Volume of Measure, mL","mL","mL",{"$f":"INDIRECT(\"'\" & B1892 & C1892 & D1892)","v":0},null,null,0,0,false,false,false]
["'[Asphalt Mix Design - Template (20260115 1305 BC).xlsm]","Agg - Fine'!","I",27,"Agg 4 - FAA","Rep 1",null,null,"Wt Agg, Test Run 1, g","g","g",{"$f":"INDIRECT(\"'\" & B1893 & C1893 & D1893)","v":0},null,null,0,0,false,false,false]
["'[Asphalt Mix Design - Template (20260115 1305 BC).xlsm]","Agg - Fine'!","I",28,"Agg 4 - FAA","Rep 1",null,null,"Wt Agg, Test Run 2, g","g","g",{"$f":"INDIRECT(\"'\" & B1894 & C1894 & D1894)","v":0},null,null,0,0,false,false,false]
["'[Asphalt Mix Design - Template (20260115 1305 BC).xlsm]","Agg - Fine'!","I",29,"Agg 4 - FAA","Rep 1",null,null,"FAA, Test Run 1, %","%","%",{"$f":"INDIRECT(\"'\" & B1895 & C1895 & D1895)","v":"---"},null,null,"---","---",false,false,false]
["'[Asphalt Mix Design - Template (20260115 1305 BC).xlsm]","Agg - Fine'!","I",30,"Agg 4 - FAA","Rep 1",null,null,"FAA, Test Run 2, %","%","%",{"$f":"INDIRECT(\"'\" & B1896 & C1896 & D1896)","v":"---"},null,null,"---","---",false,false,false]
["'[Asphalt Mix Design - Template (20260115 1305 BC).xlsm]","Agg - Fine'!","J",26,"Agg 4 - FAA","Rep 2",null,null,"Volume of Measure, mL","mL","mL",{"$f":"INDIRECT(\"'\" & B1897 & C1897 & D1897)","v":0},null,null,0,0,false,false,false]
["'[Asphalt Mix Design - Template (20260115 1305 BC).xlsm]","Agg - Fine'!","J",27,"Agg 4 - FAA","Rep 2",null,null,"Wt Agg, Test Run 1, g","g","g",{"$f":"INDIRECT(\"'\" & B1898 & C1898 & D1898)","v":0},null,null,0,0,false,false,false]
["'[Asphalt Mix Design - Template (20260115 1305 BC).xlsm]","Agg - Fine'!","J",28,"Agg 4 - FAA","Rep 2",null,null,"Wt Agg, Test Run 2, g","g","g",{"$f":"INDIRECT(\"'\" & B1899 & C1899 & D1899)","v":0},null,null,0,0,false,false,false]
["'[Asphalt Mix Design - Template (20260115 1305 BC).xlsm]","Agg - Fine'!","J",29,"Agg 4 - FAA","Rep 2",null,null,"FAA, Test Run 1, %","%","%",{"$f":"INDIRECT(\"'\" & B1900 & C1900 & D1900)","v":"---"},null,null,"---","---",false,false,false]
["'[Asphalt Mix Design - Template (20260115 1305 BC).xlsm]","Agg - Fine'!","J",30,"Agg 4 - FAA","Rep 2",null,null,"FAA, Test Run 2, %","%","%",{"$f":"INDIRECT(\"'\" & B1901 & C1901 & D1901)","v":"---"},null,null,"---","---",false,false,false]
["'[Asphalt Mix Design - Template (20260115 1305 BC).xlsm]","Agg - Fine'!","I",31,"Agg 4 - FAA","Avg",null,null,"Avg FAA, %","%","%",{"$f":"INDIRECT(\"'\" & B1902 & C1902 & D1902)","v":"---"},null,null,"---","---",false,false,false]
["'[Asphalt Mix Design - Template (20260115 1305 BC).xlsm]","Agg - Fine'!","K",7,"Agg 5",null,null,null,"Aggreagte ID",null,null,{"$f":"INDIRECT(\"'\" & B1903 & C1903 & D1903)","v":"---"},null,null,"---","---",false,"CONDITIONAL",false]
["'[Asphalt Mix Design - Template (20260115 1305 BC).xlsm]","Agg - Fine'!","K",8,"Agg 5",null,null,null,"Percent of Agg Blend, %","%","%",{"$f":"INDIRECT(\"'\" & B1904 & C1904 & D1904)","v":"---"},null,null,"---","---",false,"CONDITIONAL",false]
["'[Asphalt Mix Design - Template (20260115 1305 BC).xlsm]","Agg - Fine'!","K",9,"Agg 5",null,null,null,"Percent Passing No. 4, %","%","%",{"$f":"INDIRECT(\"'\" & B1905 & C1905 & D1905)","v":"---"},null,null,"---","---",false,"CONDITIONAL",false]
["'[Asphalt Mix Design - Template (20260115 1305 BC).xlsm]","Agg - Fine'!","K",10,"Agg 5",null,null,null,"Aggregate Size Class",null,null,{"$f":"INDIRECT(\"'\" & B1906 & C1906 & D1906)","v":"---"},null,null,"---","---",false,"CONDITIONAL",false]
["'[Asphalt Mix Design - Template (20260115 1305 BC).xlsm]","Agg - Fine'!","AK",12,"Agg 5",null,null,null,"Natural Sand",null,null,{"$f":"INDIRECT(\"'\" & B1907 & C1907 & D1907)","v":false},null,null,false,false,false,"CONDITIONAL",false]
["'[Asphalt Mix Design - Template (20260115 1305 BC).xlsm]","Agg - Fine'!","K",13,"Agg 5 - Sand Equivalency",null,null,null,"Date Tested",null,null,{"$f":"INDIRECT(\"'\" & B1908 & C1908 & D1908)","v":"00:00:00"},null,null,"00:00:00","00:00:00",false,false,false]
["'[Asphalt Mix Design - Template (20260115 1305 BC).xlsm]","Agg - Fine'!","K",14,"Agg 5 - Sand Equivalency","Rep 1",null,null,"Agitation Method",null,null,{"$f":"INDIRECT(\"'\" & B1909 & C1909 & D1909)","v":0},null,null,0,0,false,false,false]
["'[Asphalt Mix Design - Template (20260115 1305 BC).xlsm]","Agg - Fine'!","K",15,"Agg 5 - Sand Equivalency","Rep 1",null,null,"Clay Reading",null,null,{"$f":"INDIRECT(\"'\" & B1910 & C1910 & D1910)","v":0},null,null,0,0,false,false,false]
["'[Asphalt Mix Design - Template (20260115 1305 BC).xlsm]","Agg - Fine'!","K",16,"Agg 5 - Sand Equivalency","Rep 1",null,null,"Sand Reading",null,null,{"$f":"INDIRECT(\"'\" & B1911 & C1911 & D1911)","v":0},null,null,0,0,false,false,false]
["'[Asphalt Mix Design - Template (20260115 1305 BC).xlsm]","Agg - Fine'!","K",17,"Agg 5 - Sand Equivalency","Rep 1",null,null,"Sand Equivalent",null,null,{"$f":"INDIRECT(\"'\" & B1912 & C1912 & D1912)","v":"---"},null,null,"---","---",false,"CONDITIONAL",false]
["'[Asphalt Mix Design - Template (20260115 1305 BC).xlsm]","Agg - Fine'!","L",14,"Agg 5 - Sand Equivalency","Rep 2",null,null,"Agitation Method",null,null,{"$f":"INDIRECT(\"'\" & B1913 & C1913 & D1913)","v":0},null,null,0,0,false,false,false]
["'[Asphalt Mix Design - Template (20260115 1305 BC).xlsm]","Agg - Fine'!","L",15,"Agg 5 - Sand Equivalency","Rep 2",null,null,"Clay Reading",null,null,{"$f":"INDIRECT(\"'\" & B1914 & C1914 & D1914)","v":0},null,null,0,0,false,false,false]
["'[Asphalt Mix Design - Template (20260115 1305 BC).xlsm]","Agg - Fine'!","L",16,"Agg 5 - Sand Equivalency","Rep 2",null,null,"Sand Reading",null,null,{"$f":"INDIRECT(\"'\" & B1915 & C1915 & D1915)","v":0},null,null,0,0,false,false,false]
["'[Asphalt Mix Design - Template (20260115 1305 BC).xlsm]","Agg - Fine'!","L",17,"Agg 5 - Sand Equivalency","Rep 2",null,null,"Sand Equivalent",null,null,{"$f":"INDIRECT(\"'\" & B1916 & C1916 & D1916)","v":"---"},null,null,"---","---",false,"CONDITIONAL",false]
["'[Asphalt Mix Design - Template (20260115 1305 BC).xlsm]","Agg - Fine'!","K",18,"Agg 5 - Sand Equivalency","Avg",null,null,"Avg Sand Equivalency",null,null,{"$f":"INDIRECT(\"'\" & B1917 & C1917 & D1917)","v":"---"},null,null,"---","---","CONDITIONAL","CONDITIONAL",false]
["'[Asphalt Mix Design - Template (20260115 1305 BC).xlsm]","Agg - Fine'!","K",19,"Agg 5 - Clay Lumps",null,null,null,"Date Tested",null,null,{"$f":"INDIRECT(\"'\" & B1918 & C1918 & D1918)","v":"00:00:00"},null,null,"00:00:00","00:00:00",false,"CONDITIONAL",false]
["'[Asphalt Mix Design - Template (20260115 1305 BC).xlsm]","Agg - Fine'!","K",20,"Agg 5 - Clay Lumps","Rep 1",null,null,"Wt Original Test Sample, g","g","g",{"$f":"INDIRECT(\"'\" & B1919 & C1919 & D1919)","v":0},null,null,0,0,false,false,false]
["'[Asphalt Mix Design - Template (20260115 1305 BC).xlsm]","Agg - Fine'!","K",21,"Agg 5 - Clay Lumps","Rep 1",null,null,"Wt Retained, No. 8 Sieve, g","g","g",{"$f":"INDIRECT(\"'\" & B1920 & C1920 & D1920)","v":0},null,null,0,0,false,false,false]
["'[Asphalt Mix Design - Template (20260115 1305 BC).xlsm]","Agg - Fine'!","K",22,"Agg 5 - Clay Lumps","Rep 1",null,null,"Clay Lumps & Friable Particles, %","%","%",{"$f":"INDIRECT(\"'\" & B1921 & C1921 & D1921)","v":"---"},null,null,"---","---",false,"CONDITIONAL",false]
["'[Asphalt Mix Design - Template (20260115 1305 BC).xlsm]","Agg - Fine'!","L",20,"Agg 5 - Clay Lumps","Rep 2",null,null,"Wt Original Test Sample, g","g","g",{"$f":"INDIRECT(\"'\" & B1922 & C1922 & D1922)","v":0},null,null,{"$f":"IF(ISBLANK(N1922),L1922,N1922)","v":0},{"$f":"IF(ISBLANK(N1922),IF(OR(ISBLANK(M1922),ISERROR(M1922)),L1922,M1922),N1922)","v":0},false,false,false]
["'[Asphalt Mix Design - Template (20260115 1305 BC).xlsm]","Agg - Fine'!","L",21,"Agg 5 - Clay Lumps","Rep 2",null,null,"Wt Retained, No. 8 Sieve, g","g","g",{"$f":"INDIRECT(\"'\" & B1923 & C1923 & D1923)","v":0},null,null,0,0,false,false,false]
["'[Asphalt Mix Design - Template (20260115 1305 BC).xlsm]","Agg - Fine'!","L",22,"Agg 5 - Clay Lumps","Rep 2",null,null,"Clay Lumps & Friable Particles, %","%","%",{"$f":"INDIRECT(\"'\" & B1924 & C1924 & D1924)","v":"---"},null,null,"---","---",false,"CONDITIONAL",false]
["'[Asphalt Mix Design - Template (20260115 1305 BC).xlsm]","Agg - Fine'!","K",23,"Agg 5 - Clay Lumps","Avg",null,null,"Avg Clay Lumps, %","%","%",{"$f":"INDIRECT(\"'\" & B1925 & C1925 & D1925)","v":"---"},null,null,"---","---","CONDITIONAL","CONDITIONAL",false]
["'[Asphalt Mix Design - Template (20260115 1305 BC).xlsm]","Agg - Fine'!","K",24,"Agg 5 - FAA",null,null,null,"Date Tested",null,null,{"$f":"INDIRECT(\"'\" & B1926 & C1926 & D1926)","v":"00:00:00"},null,null,"00:00:00","00:00:00",false,"CONDITIONAL",false]
["'[Asphalt Mix Design - Template (20260115 1305 BC).xlsm]","Agg - Fine'!","K",25,"Agg 5 - FAA",null,null,null,"Gsb, Blend Passing No. 4",null,null,{"$f":"INDIRECT(\"'\" & B1927 & C1927 & D1927)","v":0},null,null,0,0,false,false,false]
["'[Asphalt Mix Design - Template (20260115 1305 BC).xlsm]","Agg - Fine'!","K",26,"Agg 5 - FAA","Rep 1",null,null,"Volume of Measure, mL","mL","mL",{"$f":"INDIRECT(\"'\" & B1928 & C1928 & D1928)","v":0},null,null,0,0,false,false,false]
["'[Asphalt Mix Design - Template (20260115 1305 BC).xlsm]","Agg - Fine'!","K",27,"Agg 5 - FAA","Rep 1",null,null,"Wt Agg, Test Run 1, g","g","g",{"$f":"INDIRECT(\"'\" & B1929 & C1929 & D1929)","v":0},null,null,0,0,false,false,false]
["'[Asphalt Mix Design - Template (20260115 1305 BC).xlsm]","Agg - Fine'!","K",28,"Agg 5 - FAA","Rep 1",null,null,"Wt Agg, Test Run 2, g","g","g",{"$f":"INDIRECT(\"'\" & B1930 & C1930 & D1930)","v":0},null,null,0,0,false,false,false]
["'[Asphalt Mix Design - Template (20260115 1305 BC).xlsm]","Agg - Fine'!","K",29,"Agg 5 - FAA","Rep 1",null,null,"FAA, Test Run 1, %","%","%",{"$f":"INDIRECT(\"'\" & B1931 & C1931 & D1931)","v":"---"},null,null,"---","---",false,false,false]
["'[Asphalt Mix Design - Template (20260115 1305 BC).xlsm]","Agg - Fine'!","K",30,"Agg 5 - FAA","Rep 1",null,null,"FAA, Test Run 2, %","%","%",{"$f":"INDIRECT(\"'\" & B1932 & C1932 & D1932)","v":"---"},null,null,"---","---",false,false,false]
["'[Asphalt Mix Design - Template (20260115 1305 BC).xlsm]","Agg - Fine'!","L",26,"Agg 5 - FAA","Rep 2",null,null,"Volume of Measure, mL","mL","mL",{"$f":"INDIRECT(\"'\" & B1933 & C1933 & D1933)","v":0},null,null,0,0,false,false,false]
["'[Asphalt Mix Design - Template (20260115 1305 BC).xlsm]","Agg - Fine'!","L",27,"Agg 5 - FAA","Rep 2",null,null,"Wt Agg, Test Run 1, g","g","g",{"$f":"INDIRECT(\"'\" & B1934 & C1934 & D1934)","v":0},null,null,0,0,false,false,false]
["'[Asphalt Mix Design - Template (20260115 1305 BC).xlsm]","Agg - Fine'!","L",28,"Agg 5 - FAA","Rep 2",null,null,"Wt Agg, Test Run 2, g","g","g",{"$f":"INDIRECT(\"'\" & B1935 & C1935 & D1935)","v":0},null,null,0,0,false,false,false]
["'[Asphalt Mix Design - Template (20260115 1305 BC).xlsm]","Agg - Fine'!","L",29,"Agg 5 - FAA","Rep 2",null,null,"FAA, Test Run 1, %","%","%",{"$f":"INDIRECT(\"'\" & B1936 & C1936 & D1936)","v":"---"},null,null,"---","---",false,false,false]
["'[Asphalt Mix Design - Template (20260115 1305 BC).xlsm]","Agg - Fine'!","L",30,"Agg 5 - FAA","Rep 2",null,null,"FAA, Test Run 2, %","%","%",{"$f":"INDIRECT(\"'\" & B1937 & C1937 & D1937)","v":"---"},null,null,"---","---",false,false,false]
["'[Asphalt Mix Design - Template (20260115 1305 BC).xlsm]","Agg - Fine'!","K",31,"Agg 5 - FAA","Avg",null,null,"Avg FAA, %","%","%",{"$f":"INDIRECT(\"'\" & B1938 & C1938 & D1938)","v":"---"},null,null,"---","---",false,false,false]
["'[Asphalt Mix Design - Template (20260115 1305 BC).xlsm]","Agg - Fine'!","M",7,"Agg 6",null,null,null,"Aggreagte ID",null,null,{"$f":"INDIRECT(\"'\" & B1939 & C1939 & D1939)","v":"---"},null,null,"---","---",false,"CONDITIONAL",false]
["'[Asphalt Mix Design - Template (20260115 1305 BC).xlsm]","Agg - Fine'!","M",8,"Agg 6",null,null,null,"Percent of Agg Blend, %","%","%",{"$f":"INDIRECT(\"'\" & B1940 & C1940 & D1940)","v":"---"},null,null,"---","---",false,"CONDITIONAL",false]
["'[Asphalt Mix Design - Template (20260115 1305 BC).xlsm]","Agg - Fine'!","M",9,"Agg 6",null,null,null,"Percent Passing No. 4, %","%","%",{"$f":"INDIRECT(\"'\" & B1941 & C1941 & D1941)","v":"---"},null,null,"---","---",false,"CONDITIONAL",false]
["'[Asphalt Mix Design - Template (20260115 1305 BC).xlsm]","Agg - Fine'!","M",10,"Agg 6",null,null,null,"Aggregate Size Class",null,null,{"$f":"INDIRECT(\"'\" & B1942 & C1942 & D1942)","v":"---"},null,null,"---","---",false,"CONDITIONAL",false]
["'[Asphalt Mix Design - Template (20260115 1305 BC).xlsm]","Agg - Fine'!","AK",13,"Agg 6",null,null,null,"Natural Sand",null,null,{"$f":"INDIRECT(\"'\" & B1943 & C1943 & D1943)","v":false},null,null,false,false,false,"CONDITIONAL",false]
["'[Asphalt Mix Design - Template (20260115 1305 BC).xlsm]","Agg - Fine'!","M",13,"Agg 6 - Sand Equivalency",null,null,null,"Date Tested",null,null,{"$f":"INDIRECT(\"'\" & B1944 & C1944 & D1944)","v":"00:00:00"},null,null,"00:00:00","00:00:00",false,false,false]
["'[Asphalt Mix Design - Template (20260115 1305 BC).xlsm]","Agg - Fine'!","M",14,"Agg 6 - Sand Equivalency","Rep 1",null,null,"Agitation Method",null,null,{"$f":"INDIRECT(\"'\" & B1945 & C1945 & D1945)","v":0},null,null,0,0,false,false,false]
["'[Asphalt Mix Design - Template (20260115 1305 BC).xlsm]","Agg - Fine'!","M",15,"Agg 6 - Sand Equivalency","Rep 1",null,null,"Clay Reading",null,null,{"$f":"INDIRECT(\"'\" & B1946 & C1946 & D1946)","v":0},null,null,0,0,false,false,false]
["'[Asphalt Mix Design - Template (20260115 1305 BC).xlsm]","Agg - Fine'!","M",16,"Agg 6 - Sand Equivalency","Rep 1",null,null,"Sand Reading",null,null,{"$f":"INDIRECT(\"'\" & B1947 & C1947 & D1947)","v":0},null,null,0,0,false,false,false]
["'[Asphalt Mix Design - Template (20260115 1305 BC).xlsm]","Agg - Fine'!","M",17,"Agg 6 - Sand Equivalency","Rep 1",null,null,"Sand Equivalent",null,null,{"$f":"INDIRECT(\"'\" & B1948 & C1948 & D1948)","v":"---"},null,null,"---","---",false,"CONDITIONAL",false]
["'[Asphalt Mix Design - Template (20260115 1305 BC).xlsm]","Agg - Fine'!","N",14,"Agg 6 - Sand Equivalency","Rep 2",null,null,"Agitation Method",null,null,{"$f":"INDIRECT(\"'\" & B1949 & C1949 & D1949)","v":0},null,null,0,0,false,false,false]
["'[Asphalt Mix Design - Template (20260115 1305 BC).xlsm]","Agg - Fine'!","N",15,"Agg 6 - Sand Equivalency","Rep 2",null,null,"Clay Reading",null,null,{"$f":"INDIRECT(\"'\" & B1950 & C1950 & D1950)","v":0},null,null,0,0,false,false,false]
["'[Asphalt Mix Design - Template (20260115 1305 BC).xlsm]","Agg - Fine'!","N",16,"Agg 6 - Sand Equivalency","Rep 2",null,null,"Sand Reading",null,null,{"$f":"INDIRECT(\"'\" & B1951 & C1951 & D1951)","v":0},null,null,0,0,false,false,false]
["'[Asphalt Mix Design - Template (20260115 1305 BC).xlsm]","Agg - Fine'!","N",17,"Agg 6 - Sand Equivalency","Rep 2",null,null,"Sand Equivalent",null,null,{"$f":"INDIRECT(\"'\" & B1952 & C1952 & D1952)","v":"---"},null,null,"---","---",false,"CONDITIONAL",false]
["'[Asphalt Mix Design - Template (20260115 1305 BC).xlsm]","Agg - Fine'!","M",18,"Agg 6 - Sand Equivalency","Avg",null,null,"Avg Sand Equivalency",null,null,{"$f":"INDIRECT(\"'\" & B1953 & C1953 & D1953)","v":"---"},null,null,"---","---","CONDITIONAL","CONDITIONAL",false]
["'[Asphalt Mix Design - Template (20260115 1305 BC).xlsm]","Agg - Fine'!","M",19,"Agg 6 - Clay Lumps",null,null,null,"Date Tested",null,null,{"$f":"INDIRECT(\"'\" & B1954 & C1954 & D1954)","v":"00:00:00"},null,null,"00:00:00","00:00:00",false,"CONDITIONAL",false]
["'[Asphalt Mix Design - Template (20260115 1305 BC).xlsm]","Agg - Fine'!","M",20,"Agg 6 - Clay Lumps","Rep 1",null,null,"Wt Original Test Sample, g","g","g",{"$f":"INDIRECT(\"'\" & B1955 & C1955 & D1955)","v":0},null,null,0,0,false,false,false]
["'[Asphalt Mix Design - Template (20260115 1305 BC).xlsm]","Agg - Fine'!","M",21,"Agg 6 - Clay Lumps","Rep 1",null,null,"Wt Retained, No. 8 Sieve, g","g","g",{"$f":"INDIRECT(\"'\" & B1956 & C1956 & D1956)","v":0},null,null,0,0,false,false,false]
["'[Asphalt Mix Design - Template (20260115 1305 BC).xlsm]","Agg - Fine'!","M",22,"Agg 6 - Clay Lumps","Rep 1",null,null,"Clay Lumps & Friable Particles, %","%","%",{"$f":"INDIRECT(\"'\" & B1957 & C1957 & D1957)","v":"---"},null,null,"---","---",false,"CONDITIONAL",false]
["'[Asphalt Mix Design - Template (20260115 1305 BC).xlsm]","Agg - Fine'!","N",20,"Agg 6 - Clay Lumps","Rep 2",null,null,"Wt Original Test Sample, g","g","g",{"$f":"INDIRECT(\"'\" & B1958 & C1958 & D1958)","v":0},null,null,0,0,false,false,false]
["'[Asphalt Mix Design - Template (20260115 1305 BC).xlsm]","Agg - Fine'!","N",21,"Agg 6 - Clay Lumps","Rep 2",null,null,"Wt Retained, No. 8 Sieve, g","g","g",{"$f":"INDIRECT(\"'\" & B1959 & C1959 & D1959)","v":0},null,null,0,0,false,false,false]
["'[Asphalt Mix Design - Template (20260115 1305 BC).xlsm]","Agg - Fine'!","N",22,"Agg 6 - Clay Lumps","Rep 2",null,null,"Clay Lumps & Friable Particles, %","%","%",{"$f":"INDIRECT(\"'\" & B1960 & C1960 & D1960)","v":"---"},null,null,"---","---",false,"CONDITIONAL",false]
["'[Asphalt Mix Design - Template (20260115 1305 BC).xlsm]","Agg - Fine'!","M",23,"Agg 6 - Clay Lumps","Avg",null,null,"Avg Clay Lumps, %","%","%",{"$f":"INDIRECT(\"'\" & B1961 & C1961 & D1961)","v":"---"},null,null,"---","---","CONDITIONAL","CONDITIONAL",false]
["'[Asphalt Mix Design - Template (20260115 1305 BC).xlsm]","Agg - Fine'!","M",24,"Agg 6 - FAA",null,null,null,"Date Tested",null,null,{"$f":"INDIRECT(\"'\" & B1962 & C1962 & D1962)","v":"00:00:00"},null,null,"00:00:00","00:00:00",false,"CONDITIONAL",false]
["'[Asphalt Mix Design - Template (20260115 1305 BC).xlsm]","Agg - Fine'!","M",25,"Agg 6 - FAA",null,null,null,"Gsb, Blend Passing No. 4",null,null,{"$f":"INDIRECT(\"'\" & B1963 & C1963 & D1963)","v":0},null,null,0,0,false,false,false]
["'[Asphalt Mix Design - Template (20260115 1305 BC).xlsm]","Agg - Fine'!","M",26,"Agg 6 - FAA","Rep 1",null,null,"Volume of Measure, mL","mL","mL",{"$f":"INDIRECT(\"'\" & B1964 & C1964 & D1964)","v":0},null,null,0,0,false,false,false]
["'[Asphalt Mix Design - Template (20260115 1305 BC).xlsm]","Agg - Fine'!","M",27,"Agg 6 - FAA","Rep 1",null,null,"Wt Agg, Test Run 1, g","g","g",{"$f":"INDIRECT(\"'\" & B1965 & C1965 & D1965)","v":0},null,null,0,0,false,false,false]
["'[Asphalt Mix Design - Template (20260115 1305 BC).xlsm]","Agg - Fine'!","M",28,"Agg 6 - FAA","Rep 1",null,null,"Wt Agg, Test Run 2, g","g","g",{"$f":"INDIRECT(\"'\" & B1966 & C1966 & D1966)","v":0},null,null,0,0,false,false,false]
["'[Asphalt Mix Design - Template (20260115 1305 BC).xlsm]","Agg - Fine'!","M",29,"Agg 6 - FAA","Rep 1",null,null,"FAA, Test Run 1, %","%","%",{"$f":"INDIRECT(\"'\" & B1967 & C1967 & D1967)","v":"---"},null,null,"---","---",false,false,false]
["'[Asphalt Mix Design - Template (20260115 1305 BC).xlsm]","Agg - Fine'!","M",30,"Agg 6 - FAA","Rep 1",null,null,"FAA, Test Run 2, %","%","%",{"$f":"INDIRECT(\"'\" & B1968 & C1968 & D1968)","v":"---"},null,null,"---","---",false,false,false]
["'[Asphalt Mix Design - Template (20260115 1305 BC).xlsm]","Agg - Fine'!","N",26,"Agg 6 - FAA","Rep 2",null,null,"Volume of Measure, mL","mL","mL",{"$f":"INDIRECT(\"'\" & B1969 & C1969 & D1969)","v":0},null,null,0,0,false,false,false]
["'[Asphalt Mix Design - Template (20260115 1305 BC).xlsm]","Agg - Fine'!","N",27,"Agg 6 - FAA","Rep 2",null,null,"Wt Agg, Test Run 1, g","g","g",{"$f":"INDIRECT(\"'\" & B1970 & C1970 & D1970)","v":0},null,null,0,0,false,false,false]
["'[Asphalt Mix Design - Template (20260115 1305 BC).xlsm]","Agg - Fine'!","N",28,"Agg 6 - FAA","Rep 2",null,null,"Wt Agg, Test Run 2, g","g","g",{"$f":"INDIRECT(\"'\" & B1971 & C1971 & D1971)","v":0},null,null,0,0,false,false,false]
["'[Asphalt Mix Design - Template (20260115 1305 BC).xlsm]","Agg - Fine'!","N",29,"Agg 6 - FAA","Rep 2",null,null,"FAA, Test Run 1, %","%","%",{"$f":"INDIRECT(\"'\" & B1972 & C1972 & D1972)","v":"---"},null,null,"---","---",false,false,false]
["'[Asphalt Mix Design - Template (20260115 1305 BC).xlsm]","Agg - Fine'!","N",30,"Agg 6 - FAA","Rep 2",null,null,"FAA, Test Run 2, %","%","%",{"$f":"INDIRECT(\"'\" & B1973 & C1973 & D1973)","v":"---"},null,null,"---","---",false,false,false]
["'[Asphalt Mix Design - Template (20260115 1305 BC).xlsm]","Agg - Fine'!","M",31,"Agg 6 - FAA","Avg",null,null,"Avg FAA, %","%","%",{"$f":"INDIRECT(\"'\" & B1974 & C1974 & D1974)","v":"---"},null,null,"---","---",false,false,false]
["'[Asphalt Mix Design - Template (20260115 1305 BC).xlsm]","Agg - Fine'!","O",7,"Agg 7",null,null,null,"Aggreagte ID",null,null,{"$f":"INDIRECT(\"'\" & B1975 & C1975 & D1975)","v":"---"},null,null,"---","---",false,"CONDITIONAL",false]
["'[Asphalt Mix Design - Template (20260115 1305 BC).xlsm]","Agg - Fine'!","O",8,"Agg 7",null,null,null,"Percent of Agg Blend, %","%","%",{"$f":"INDIRECT(\"'\" & B1976 & C1976 & D1976)","v":"---"},null,null,"---","---",false,"CONDITIONAL",false]
["'[Asphalt Mix Design - Template (20260115 1305 BC).xlsm]","Agg - Fine'!","O",9,"Agg 7",null,null,null,"Percent Passing No. 4, %","%","%",{"$f":"INDIRECT(\"'\" & B1977 & C1977 & D1977)","v":"---"},null,null,"---","---",false,"CONDITIONAL",false]
["'[Asphalt Mix Design - Template (20260115 1305 BC).xlsm]","Agg - Fine'!","O",10,"Agg 7",null,null,null,"Aggregate Size Class",null,null,{"$f":"INDIRECT(\"'\" & B1978 & C1978 & D1978)","v":"---"},null,null,"---","---",false,"CONDITIONAL",false]
["'[Asphalt Mix Design - Template (20260115 1305 BC).xlsm]","Agg - Fine'!","AK",14,"Agg 7",null,null,null,"Natural Sand",null,null,{"$f":"INDIRECT(\"'\" & B1979 & C1979 & D1979)","v":false},null,null,false,false,false,"CONDITIONAL",false]
["'[Asphalt Mix Design - Template (20260115 1305 BC).xlsm]","Agg - Fine'!","O",13,"Agg 7 - Sand Equivalency",null,null,null,"Date Tested",null,null,{"$f":"INDIRECT(\"'\" & B1980 & C1980 & D1980)","v":"00:00:00"},null,null,"00:00:00","00:00:00",false,false,false]
["'[Asphalt Mix Design - Template (20260115 1305 BC).xlsm]","Agg - Fine'!","O",14,"Agg 7 - Sand Equivalency","Rep 1",null,null,"Agitation Method",null,null,{"$f":"INDIRECT(\"'\" & B1981 & C1981 & D1981)","v":0},null,null,0,0,false,false,false]
["'[Asphalt Mix Design - Template (20260115 1305 BC).xlsm]","Agg - Fine'!","O",15,"Agg 7 - Sand Equivalency","Rep 1",null,null,"Clay Reading",null,null,{"$f":"INDIRECT(\"'\" & B1982 & C1982 & D1982)","v":0},null,null,0,0,false,false,false]
["'[Asphalt Mix Design - Template (20260115 1305 BC).xlsm]","Agg - Fine'!","O",16,"Agg 7 - Sand Equivalency","Rep 1",null,null,"Sand Reading",null,null,{"$f":"INDIRECT(\"'\" & B1983 & C1983 & D1983)","v":0},null,null,0,0,false,false,false]
["'[Asphalt Mix Design - Template (20260115 1305 BC).xlsm]","Agg - Fine'!","O",17,"Agg 7 - Sand Equivalency","Rep 1",null,null,"Sand Equivalent",null,null,{"$f":"INDIRECT(\"'\" & B1984 & C1984 & D1984)","v":"---"},null,null,"---","---",false,"CONDITIONAL",false]
["'[Asphalt Mix Design - Template (20260115 1305 BC).xlsm]","Agg - Fine'!","P",14,"Agg 7 - Sand Equivalency","Rep 2",null,null,"Agitation Method",null,null,{"$f":"INDIRECT(\"'\" & B1985 & C1985 & D1985)","v":0},null,null,0,0,false,false,false]
["'[Asphalt Mix Design - Template (20260115 1305 BC).xlsm]","Agg - Fine'!","P",15,"Agg 7 - Sand Equivalency","Rep 2",null,null,"Clay Reading",null,null,{"$f":"INDIRECT(\"'\" & B1986 & C1986 & D1986)","v":0},null,null,{"$f":"IF(ISBLANK(N1986),L1986,N1986)","v":0},{"$f":"IF(ISBLANK(N1986),IF(OR(ISBLANK(M1986),ISERROR(M1986)),L1986,M1986),N1986)","v":0},false,false,false]
["'[Asphalt Mix Design - Template (20260115 1305 BC).xlsm]","Agg - Fine'!","P",16,"Agg 7 - Sand Equivalency","Rep 2",null,null,"Sand Reading",null,null,{"$f":"INDIRECT(\"'\" & B1987 & C1987 & D1987)","v":0},null,null,0,0,false,false,false]
["'[Asphalt Mix Design - Template (20260115 1305 BC).xlsm]","Agg - Fine'!","P",17,"Agg 7 - Sand Equivalency","Rep 2",null,null,"Sand Equivalent",null,null,{"$f":"INDIRECT(\"'\" & B1988 & C1988 & D1988)","v":"---"},null,null,"---","---",false,"CONDITIONAL",false]
["'[Asphalt Mix Design - Template (20260115 1305 BC).xlsm]","Agg - Fine'!","O",18,"Agg 7 - Sand Equivalency","Avg",null,null,"Avg Sand Equivalency",null,null,{"$f":"INDIRECT(\"'\" & B1989 & C1989 & D1989)","v":"---"},null,null,"---","---","CONDITIONAL","CONDITIONAL",false]
["'[Asphalt Mix Design - Template (20260115 1305 BC).xlsm]","Agg - Fine'!","O",19,"Agg 7 - Clay Lumps",null,null,null,"Date Tested",null,null,{"$f":"INDIRECT(\"'\" & B1990 & C1990 & D1990)","v":"00:00:00"},null,null,"00:00:00","00:00:00",false,"CONDITIONAL",false]
["'[Asphalt Mix Design - Template (20260115 1305 BC).xlsm]","Agg - Fine'!","O",20,"Agg 7 - Clay Lumps","Rep 1",null,null,"Wt Original Test Sample, g","g","g",{"$f":"INDIRECT(\"'\" & B1991 & C1991 & D1991)","v":0},null,null,0,0,false,false,false]
["'[Asphalt Mix Design - Template (20260115 1305 BC).xlsm]","Agg - Fine'!","O",21,"Agg 7 - Clay Lumps","Rep 1",null,null,"Wt Retained, No. 8 Sieve, g","g","g",{"$f":"INDIRECT(\"'\" & B1992 & C1992 & D1992)","v":0},null,null,0,0,false,false,false]
["'[Asphalt Mix Design - Template (20260115 1305 BC).xlsm]","Agg - Fine'!","O",22,"Agg 7 - Clay Lumps","Rep 1",null,null,"Clay Lumps & Friable Particles, %","%","%",{"$f":"INDIRECT(\"'\" & B1993 & C1993 & D1993)","v":"---"},null,null,"---","---",false,"CONDITIONAL",false]
["'[Asphalt Mix Design - Template (20260115 1305 BC).xlsm]","Agg - Fine'!","P",20,"Agg 7 - Clay Lumps","Rep 2",null,null,"Wt Original Test Sample, g","g","g",{"$f":"INDIRECT(\"'\" & B1994 & C1994 & D1994)","v":0},null,null,0,0,false,false,false]
["'[Asphalt Mix Design - Template (20260115 1305 BC).xlsm]","Agg - Fine'!","P",21,"Agg 7 - Clay Lumps","Rep 2",null,null,"Wt Retained, No. 8 Sieve, g","g","g",{"$f":"INDIRECT(\"'\" & B1995 & C1995 & D1995)","v":0},null,null,0,0,false,false,false]
["'[Asphalt Mix Design - Template (20260115 1305 BC).xlsm]","Agg - Fine'!","P",22,"Agg 7 - Clay Lumps","Rep 2",null,null,"Clay Lumps & Friable Particles, %","%","%",{"$f":"INDIRECT(\"'\" & B1996 & C1996 & D1996)","v":"---"},null,null,"---","---",false,"CONDITIONAL",false]
["'[Asphalt Mix Design - Template (20260115 1305 BC).xlsm]","Agg - Fine'!","O",23,"Agg 7 - Clay Lumps","Avg",null,null,"Avg Clay Lumps, %","%","%",{"$f":"INDIRECT(\"'\" & B1997 & C1997 & D1997)","v":"---"},null,null,"---","---","CONDITIONAL","CONDITIONAL",false]
["'[Asphalt Mix Design - Template (20260115 1305 BC).xlsm]","Agg - Fine'!","O",24,"Agg 7 - FAA",null,null,null,"Date Tested",null,null,{"$f":"INDIRECT(\"'\" & B1998 & C1998 & D1998)","v":"00:00:00"},null,null,"00:00:00","00:00:00",false,"CONDITIONAL",false]
["'[Asphalt Mix Design - Template (20260115 1305 BC).xlsm]","Agg - Fine'!","O",25,"Agg 7 - FAA",null,null,null,"Gsb, Blend Passing No. 4",null,null,{"$f":"INDIRECT(\"'\" & B1999 & C1999 & D1999)","v":0},null,null,0,0,false,false,false]
["'[Asphalt Mix Design - Template (20260115 1305 BC).xlsm]","Agg - Fine'!","O",26,"Agg 7 - FAA","Rep 1",null,null,"Volume of Measure, mL","mL","mL",{"$f":"INDIRECT(\"'\" & B2000 & C2000 & D2000)","v":0},null,null,0,0,false,false,false]
["'[Asphalt Mix Design - Template (20260115 1305 BC).xlsm]","Agg - Fine'!","O",27,"Agg 7 - FAA","Rep 1",null,null,"Wt Agg, Test Run 1, g","g","g",{"$f":"INDIRECT(\"'\" & B2001 & C2001 & D2001)","v":0},null,null,0,0,false,false,false]
["'[Asphalt Mix Design - Template (20260115 1305 BC).xlsm]","Agg - Fine'!","O",28,"Agg 7 - FAA","Rep 1",null,null,"Wt Agg, Test Run 2, g","g","g",{"$f":"INDIRECT(\"'\" & B2002 & C2002 & D2002)","v":0},null,null,0,0,false,false,false]
["'[Asphalt Mix Design - Template (20260115 1305 BC).xlsm]","Agg - Fine'!","O",29,"Agg 7 - FAA","Rep 1",null,null,"FAA, Test Run 1, %","%","%",{"$f":"INDIRECT(\"'\" & B2003 & C2003 & D2003)","v":"---"},null,null,"---","---",false,false,false]
["'[Asphalt Mix Design - Template (20260115 1305 BC).xlsm]","Agg - Fine'!","O",30,"Agg 7 - FAA","Rep 1",null,null,"FAA, Test Run 2, %","%","%",{"$f":"INDIRECT(\"'\" & B2004 & C2004 & D2004)","v":"---"},null,null,"---","---",false,false,false]
["'[Asphalt Mix Design - Template (20260115 1305 BC).xlsm]","Agg - Fine'!","P",26,"Agg 7 - FAA","Rep 2",null,null,"Volume of Measure, mL","mL","mL",{"$f":"INDIRECT(\"'\" & B2005 & C2005 & D2005)","v":0},null,null,0,0,false,false,false]
["'[Asphalt Mix Design - Template (20260115 1305 BC).xlsm]","Agg - Fine'!","P",27,"Agg 7 - FAA","Rep 2",null,null,"Wt Agg, Test Run 1, g","g","g",{"$f":"INDIRECT(\"'\" & B2006 & C2006 & D2006)","v":0},null,null,0,0,false,false,false]
["'[Asphalt Mix Design - Template (20260115 1305 BC).xlsm]","Agg - Fine'!","P",28,"Agg 7 - FAA","Rep 2",null,null,"Wt Agg, Test Run 2, g","g","g",{"$f":"INDIRECT(\"'\" & B2007 & C2007 & D2007)","v":0},null,null,0,0,false,false,false]
["'[Asphalt Mix Design - Template (20260115 1305 BC).xlsm]","Agg - Fine'!","P",29,"Agg 7 - FAA","Rep 2",null,null,"FAA, Test Run 1, %","%","%",{"$f":"INDIRECT(\"'\" & B2008 & C2008 & D2008)","v":"---"},null,null,"---","---",false,false,false]
["'[Asphalt Mix Design - Template (20260115 1305 BC).xlsm]","Agg - Fine'!","P",30,"Agg 7 - FAA","Rep 2",null,null,"FAA, Test Run 2, %","%","%",{"$f":"INDIRECT(\"'\" & B2009 & C2009 & D2009)","v":"---"},null,null,"---","---",false,false,false]
["'[Asphalt Mix Design - Template (20260115 1305 BC).xlsm]","Agg - Fine'!","O",31,"Agg 7 - FAA","Avg",null,null,"Avg FAA, %","%","%",{"$f":"INDIRECT(\"'\" & B2010 & C2010 & D2010)","v":"---"},null,null,"---","---",false,false,false]
["'[Asphalt Mix Design - Template (20260115 1305 BC).xlsm]","Agg - Fine'!","Q",12,"Blend",null,null,null,"Natural Sand, %","%","%",{"$f":"INDIRECT(\"'\" & B2011 & C2011 & D2011)","v":0},null,null,0,0,true,true,false]
["'[Asphalt Mix Design - Template (20260115 1305 BC).xlsm]","Agg - Fine'!","Q",13,"Blend - Sand Equivalency",null,null,null,"Date Tested",null,null,{"$f":"INDIRECT(\"'\" & B2012 & C2012 & D2012)","v":"00:00:00"},null,null,"00:00:00","00:00:00",false,false,false]
["'[Asphalt Mix Design - Template (20260115 1305 BC).xlsm]","Agg - Fine'!","Q",14,"Blend - Sand Equivalency","Rep 1",null,null,"Agitation Method",null,null,{"$f":"INDIRECT(\"'\" & B2013 & C2013 & D2013)","v":0},null,null,0,0,false,false,false]
["'[Asphalt Mix Design - Template (20260115 1305 BC).xlsm]","Agg - Fine'!","Q",15,"Blend - Sand Equivalency","Rep 1",null,null,"Clay Reading",null,null,{"$f":"INDIRECT(\"'\" & B2014 & C2014 & D2014)","v":0},null,null,0,0,false,false,false]
["'[Asphalt Mix Design - Template (20260115 1305 BC).xlsm]","Agg - Fine'!","Q",16,"Blend - Sand Equivalency","Rep 1",null,null,"Sand Reading",null,null,{"$f":"INDIRECT(\"'\" & B2015 & C2015 & D2015)","v":0},null,null,0,0,false,false,false]
["'[Asphalt Mix Design - Template (20260115 1305 BC).xlsm]","Agg - Fine'!","Q",17,"Blend - Sand Equivalency","Rep 1",null,null,"Sand Equivalent",null,null,{"$f":"INDIRECT(\"'\" & B2016 & C2016 & D2016)","v":"---"},null,null,"---","---",false,false,false]
["'[Asphalt Mix Design - Template (20260115 1305 BC).xlsm]","Agg - Fine'!","R",14,"Blend - Sand Equivalency","Rep 2",null,null,"Agitation Method",null,null,{"$f":"INDIRECT(\"'\" & B2017 & C2017 & D2017)","v":0},null,null,0,0,false,false,false]
["'[Asphalt Mix Design - Template (20260115 1305 BC).xlsm]","Agg - Fine'!","R",15,"Blend - Sand Equivalency","Rep 2",null,null,"Clay Reading",null,null,{"$f":"INDIRECT(\"'\" & B2018 & C2018 & D2018)","v":0},null,null,0,0,false,false,false]
["'[Asphalt Mix Design - Template (20260115 1305 BC).xlsm]","Agg - Fine'!","R",16,"Blend - Sand Equivalency","Rep 2",null,null,"Sand Reading",null,null,{"$f":"INDIRECT(\"'\" & B2019 & C2019 & D2019)","v":0},null,null,0,0,false,false,false]
["'[Asphalt Mix Design - Template (20260115 1305 BC).xlsm]","Agg - Fine'!","R",17,"Blend - Sand Equivalency","Rep 2",null,null,"Sand Equivalent",null,null,{"$f":"INDIRECT(\"'\" & B2020 & C2020 & D2020)","v":"---"},null,null,"---","---",false,false,false]
["'[Asphalt Mix Design - Template (20260115 1305 BC).xlsm]","Agg - Fine'!","Q",18,"Blend - Sand Equivalency","Avg",null,null,"Avg Sand Equivalency",null,null,{"$f":"INDIRECT(\"'\" & B2021 & C2021 & D2021)","v":"---"},null,null,"---","---",false,false,false]
["'[Asphalt Mix Design - Template (20260115 1305 BC).xlsm]","Agg - Fine'!","Q",19,"Blend - Clay Lumps",null,null,null,"Date Tested",null,null,{"$f":"INDIRECT(\"'\" & B2022 & C2022 & D2022)","v":"00:00:00"},null,null,"00:00:00","00:00:00",false,false,false]
["'[Asphalt Mix Design - Template (20260115 1305 BC).xlsm]","Agg - Fine'!","Q",20,"Blend - Clay Lumps","Rep 1",null,null,"Wt Original Test Sample, g","g","g",{"$f":"INDIRECT(\"'\" & B2023 & C2023 & D2023)","v":0},null,null,0,0,false,false,false]
["'[Asphalt Mix Design - Template (20260115 1305 BC).xlsm]","Agg - Fine'!","Q",21,"Blend - Clay Lumps","Rep 1",null,null,"Wt Retained, No. 8 Sieve, g","g","g",{"$f":"INDIRECT(\"'\" & B2024 & C2024 & D2024)","v":0},null,null,0,0,false,false,false]
["'[Asphalt Mix Design - Template (20260115 1305 BC).xlsm]","Agg - Fine'!","Q",22,"Blend - Clay Lumps","Rep 1",null,null,"Clay Lumps & Friable Particles, %","%","%",{"$f":"INDIRECT(\"'\" & B2025 & C2025 & D2025)","v":"---"},null,null,"---","---",false,false,false]
["'[Asphalt Mix Design - Template (20260115 1305 BC).xlsm]","Agg - Fine'!","R",20,"Blend - Clay Lumps","Rep 2",null,null,"Wt Original Test Sample, g","g","g",{"$f":"INDIRECT(\"'\" & B2026 & C2026 & D2026)","v":0},null,null,0,0,false,false,false]
["'[Asphalt Mix Design - Template (20260115 1305 BC).xlsm]","Agg - Fine'!","R",21,"Blend - Clay Lumps","Rep 2",null,null,"Wt Retained, No. 8 Sieve, g","g","g",{"$f":"INDIRECT(\"'\" & B2027 & C2027 & D2027)","v":0},null,null,0,0,false,false,false]
["'[Asphalt Mix Design - Template (20260115 1305 BC).xlsm]","Agg - Fine'!","R",22,"Blend - Clay Lumps","Rep 2",null,null,"Clay Lumps & Friable Particles, %","%","%",{"$f":"INDIRECT(\"'\" & B2028 & C2028 & D2028)","v":"---"},null,null,"---","---",false,false,false]
["'[Asphalt Mix Design - Template (20260115 1305 BC).xlsm]","Agg - Fine'!","Q",23,"Blend - Clay Lumps","Avg",null,null,"Avg Clay Lumps, %","%","%",{"$f":"INDIRECT(\"'\" & B2029 & C2029 & D2029)","v":"---"},null,null,"---","---",false,false,false]
["'[Asphalt Mix Design - Template (20260115 1305 BC).xlsm]","Agg - Fine'!","Q",24,"Blend - FAA",null,null,null,"Date Tested",null,null,{"$f":"INDIRECT(\"'\" & B2030 & C2030 & D2030)","v":"00:00:00"},null,null,"00:00:00","00:00:00",false,true,false]
["'[Asphalt Mix Design - Template (20260115 1305 BC).xlsm]","Agg - Fine'!","Q",25,"Blend - FAA",null,null,null,"Gsb, Blend Passing No. 4",null,null,{"$f":"INDIRECT(\"'\" & B2031 & C2031 & D2031)","v":"---"},null,null,"---","---",false,true,false]
["'[Asphalt Mix Design - Template (20260115 1305 BC).xlsm]","Agg - Fine'!","Q",26,"Blend - FAA","Rep 1",null,null,"Volume of Measure, mL","mL","mL",{"$f":"INDIRECT(\"'\" & B2032 & C2032 & D2032)","v":0},null,null,0,0,false,false,false]
["'[Asphalt Mix Design - Template (20260115 1305 BC).xlsm]","Agg - Fine'!","Q",27,"Blend - FAA","Rep 1",null,null,"Wt Agg, Test Run 1, g","g","g",{"$f":"INDIRECT(\"'\" & B2033 & C2033 & D2033)","v":0},null,null,0,0,false,false,false]
["'[Asphalt Mix Design - Template (20260115 1305 BC).xlsm]","Agg - Fine'!","Q",28,"Blend - FAA","Rep 1",null,null,"Wt Agg, Test Run 2, g","g","g",{"$f":"INDIRECT(\"'\" & B2034 & C2034 & D2034)","v":0},null,null,0,0,false,false,false]
["'[Asphalt Mix Design - Template (20260115 1305 BC).xlsm]","Agg - Fine'!","Q",29,"Blend - FAA","Rep 1",null,null,"FAA, Test Run 1, %","%","%",{"$f":"INDIRECT(\"'\" & B2035 & C2035 & D2035)","v":"---"},null,null,"---","---",false,true,false]
["'[Asphalt Mix Design - Template (20260115 1305 BC).xlsm]","Agg - Fine'!","Q",30,"Blend - FAA","Rep 1",null,null,"FAA, Test Run 2, %","%","%",{"$f":"INDIRECT(\"'\" & B2036 & C2036 & D2036)","v":"---"},null,null,"---","---",false,true,false]
["'[Asphalt Mix Design - Template (20260115 1305 BC).xlsm]","Agg - Fine'!","R",26,"Blend - FAA","Rep 2",null,null,"Volume of Measure, mL","mL","mL",{"$f":"INDIRECT(\"'\" & B2037 & C2037 & D2037)","v":0},null,null,0,0,false,false,false]
["'[Asphalt Mix Design - Template (20260115 1305 BC).xlsm]","Agg - Fine'!","R",27,"Blend - FAA","Rep 2",null,null,"Wt Agg, Test Run 1, g","g","g",{"$f":"INDIRECT(\"'\" & B2038 & C2038 & D2038)","v":0},null,null,0,0,false,false,false]
["'[Asphalt Mix Design - Template (20260115 1305 BC).xlsm]","Agg - Fine'!","R",28,"Blend - FAA","Rep 2",null,null,"Wt Agg, Test Run 2, g","g","g",{"$f":"INDIRECT(\"'\" & B2039 & C2039 & D2039)","v":0},null,null,0,0,false,false,false]
["'[Asphalt Mix Design - Template (20260115 1305 BC).xlsm]","Agg - Fine'!","R",29,"Blend - FAA","Rep 2",null,null,"FAA, Test Run 1, %","%","%",{"$f":"INDIRECT(\"'\" & B2040 & C2040 & D2040)","v":"---"},null,null,"---","---",false,true,false]
["'[Asphalt Mix Design - Template (20260115 1305 BC).xlsm]","Agg - Fine'!","R",30,"Blend - FAA","Rep 2",null,null,"FAA, Test Run 2, %","%","%",{"$f":"INDIRECT(\"'\" & B2041 & C2041 & D2041)","v":"---"},null,null,"---","---",false,true,false]
["'[Asphalt Mix Design - Template (20260115 1305 BC).xlsm]","Agg - Fine'!","Q",31,"Blend - FAA","Avg",null,null,"Avg FAA, %","%","%",{"$f":"INDIRECT(\"'\" & B2042 & C2042 & D2042)","v":"---"},null,null,"---","---",true,true,true]
["'[Asphalt Mix Design - Template (20260115 1305 BC).xlsm]","Agg Gsb'!","O",4,"Overall",null,null,null,"Date Tested",null,null,{"$f":"INDIRECT(\"'\" & B2043 & C2043 & D2043)","v":"00:00:00"},null,null,"00:00:00","00:00:00",false,true,false]
["'[Asphalt Mix Design - Template (20260115 1305 BC).xlsm]","Agg Gsb'!","AI",6,"Overall",null,null,null,"Procedure",null,null,{"$f":"INDIRECT(\"'\" & B2044 & C2044 & D2044)","v":1},null,{"$f":"IF(L2044=1,\"Gravimetric (Pycnometer)\",IF(L2044=2,\"Volumetric (Le Chatelier Flask)\",\"Error\"))","v":"Gravimetric (Pycnometer)"},"Gravimetric (Pycnometer)","Gravimetric (Pycnometer)",false,true,false]
["'[Asphalt Mix Design - Template (20260115 1305 BC).xlsm]","Agg Gsb'!","C",7,"Agg 1",null,null,null,"Aggreagte ID",null,null,{"$f":"INDIRECT(\"'\" & B2045 & C2045 & D2045)","v":"---"},null,null,"---","---",false,"CONDITIONAL",false,"Note: Conditional based primarily on whether aggregate is present in mix. If present, it is required."]
["'[Asphalt Mix Design - Template (20260115 1305 BC).xlsm]","Agg Gsb'!","C",8,"Agg 1",null,null,null,"Percent of Agg Blend, %","%","%",{"$f":"INDIRECT(\"'\" & B2046 & C2046 & D2046)","v":"---"},null,null,"---","---",false,"CONDITIONAL",false]
["'[Asphalt Mix Design - Template (20260115 1305 BC).xlsm]","Agg Gsb'!","C",9,"Agg 1",null,null,null,"Percent Passing No. 4, %","%","%",{"$f":"INDIRECT(\"'\" & B2047 & C2047 & D2047)","v":"---"},null,null,"---","---",false,"CONDITIONAL",false]
["'[Asphalt Mix Design - Template (20260115 1305 BC).xlsm]","Agg Gsb'!","C",10,"Agg 1",null,null,null,"Aggregate Size Class",null,null,{"$f":"INDIRECT(\"'\" & B2048 & C2048 & D2048)","v":"---"},null,null,"---","---",false,"CONDITIONAL",false]
["'[Asphalt Mix Design - Template (20260115 1305 BC).xlsm]","Agg Gsb'!","C",11,"Agg 1",null,null,null,"Governing Standard(s)",null,null,{"$f":"INDIRECT(\"'\" & B2049 & C2049 & D2049)","v":"---"},null,null,"---","---",false,false,false]
["'[Asphalt Mix Design - Template (20260115 1305 BC).xlsm]","Agg Gsb'!","C",13,"Agg 1 - C127 Coarse","Rep 1",null,null,"Wt OD Sample in Air, g (A)","g","g",{"$f":"INDIRECT(\"'\" & B2050 & C2050 & D2050)","v":0},null,null,{"$f":"IF(ISBLANK(N2050),L2050,N2050)","v":0},{"$f":"IF(ISBLANK(N2050),IF(OR(ISBLANK(M2050),ISERROR(M2050)),L2050,M2050),N2050)","v":0},false,false,false]
["'[Asphalt Mix Design - Template (20260115 1305 BC).xlsm]","Agg Gsb'!","C",14,"Agg 1 - C127 Coarse","Rep 1",null,null,"Wt SSD Sample in Air, g (B)","g","g",{"$f":"INDIRECT(\"'\" & B2051 & C2051 & D2051)","v":0},null,null,0,0,false,false,false]
["'[Asphalt Mix Design - Template (20260115 1305 BC).xlsm]","Agg Gsb'!","C",15,"Agg 1 - C127 Coarse","Rep 1",null,null,"Wt Sub. Sample in Water, g (C) ","g","g",{"$f":"INDIRECT(\"'\" & B2052 & C2052 & D2052)","v":0},null,null,0,0,false,false,false]
["'[Asphalt Mix Design - Template (20260115 1305 BC).xlsm]","Agg Gsb'!","C",16,"Agg 1 - C127 Coarse","Rep 1",null,null,"Gsa",null,null,{"$f":"INDIRECT(\"'\" & B2053 & C2053 & D2053)","v":"---"},null,null,"---","---",false,"CONDITIONAL",false]
["'[Asphalt Mix Design - Template (20260115 1305 BC).xlsm]","Agg Gsb'!","C",17,"Agg 1 - C127 Coarse","Rep 1",null,null,"Gsb",null,null,{"$f":"INDIRECT(\"'\" & B2054 & C2054 & D2054)","v":"---"},null,null,"---","---",false,"CONDITIONAL",false]
["'[Asphalt Mix Design - Template (20260115 1305 BC).xlsm]","Agg Gsb'!","C",18,"Agg 1 - C127 Coarse","Rep 1",null,null,"Abs, %","%","%",{"$f":"INDIRECT(\"'\" & B2055 & C2055 & D2055)","v":"---"},null,null,"---","---",false,"CONDITIONAL",false]
["'[Asphalt Mix Design - Template (20260115 1305 BC).xlsm]","Agg Gsb'!","D",13,"Agg 1 - C127 Coarse","Rep 2",null,null,"Wt OD Sample in Air, g (A)","g","g",{"$f":"INDIRECT(\"'\" & B2056 & C2056 & D2056)","v":0},null,null,0,0,false,false,false]
["'[Asphalt Mix Design - Template (20260115 1305 BC).xlsm]","Agg Gsb'!","D",14,"Agg 1 - C127 Coarse","Rep 2",null,null,"Wt SSD Sample in Air, g (B)","g","g",{"$f":"INDIRECT(\"'\" & B2057 & C2057 & D2057)","v":0},null,null,0,0,false,false,false]
["'[Asphalt Mix Design - Template (20260115 1305 BC).xlsm]","Agg Gsb'!","D",15,"Agg 1 - C127 Coarse","Rep 2",null,null,"Wt Sub. Sample in Water, g (C) ","g","g",{"$f":"INDIRECT(\"'\" & B2058 & C2058 & D2058)","v":0},null,null,0,0,false,false,false]
["'[Asphalt Mix Design - Template (20260115 1305 BC).xlsm]","Agg Gsb'!","D",16,"Agg 1 - C127 Coarse","Rep 2",null,null,"Gsa",null,null,{"$f":"INDIRECT(\"'\" & B2059 & C2059 & D2059)","v":"---"},null,null,"---","---",false,"CONDITIONAL",false]
["'[Asphalt Mix Design - Template (20260115 1305 BC).xlsm]","Agg Gsb'!","D",17,"Agg 1 - C127 Coarse","Rep 2",null,null,"Gsb",null,null,{"$f":"INDIRECT(\"'\" & B2060 & C2060 & D2060)","v":"---"},null,null,"---","---",false,"CONDITIONAL",false]
["'[Asphalt Mix Design - Template (20260115 1305 BC).xlsm]","Agg Gsb'!","D",18,"Agg 1 - C127 Coarse","Rep 2",null,null,"Abs, %","%","%",{"$f":"INDIRECT(\"'\" & B2061 & C2061 & D2061)","v":"---"},null,null,"---","---",false,"CONDITIONAL",false]
["'[Asphalt Mix Design - Template (20260115 1305 BC).xlsm]","Agg Gsb'!","C",19,"Agg 1 - C127 Coarse","Avg",null,null,"Gsa Difference",null,null,{"$f":"INDIRECT(\"'\" & B2062 & C2062 & D2062)","v":"---"},null,null,"---","---",false,"CONDITIONAL",false]
["'[Asphalt Mix Design - Template (20260115 1305 BC).xlsm]","Agg Gsb'!","C",20,"Agg 1 - C127 Coarse","Avg",null,null,"Gsb Difference",null,null,{"$f":"INDIRECT(\"'\" & B2063 & C2063 & D2063)","v":"---"},null,null,"---","---",false,"CONDITIONAL",false]
["'[Asphalt Mix Design - Template (20260115 1305 BC).xlsm]","Agg Gsb'!","C",21,"Agg 1 - C127 Coarse","Avg",null,null,"Avg Gsa",null,null,{"$f":"INDIRECT(\"'\" & B2064 & C2064 & D2064)","v":"---"},null,null,"---","---",false,"CONDITIONAL",false]
["'[Asphalt Mix Design - Template (20260115 1305 BC).xlsm]","Agg Gsb'!","C",22,"Agg 1 - C127 Coarse","Avg",null,null,"Avg Gsb",null,null,{"$f":"INDIRECT(\"'\" & B2065 & C2065 & D2065)","v":"---"},null,null,"---","---",false,"CONDITIONAL",false]
["'[Asphalt Mix Design - Template (20260115 1305 BC).xlsm]","Agg Gsb'!","C",23,"Agg 1 - C127 Coarse","Avg",null,null,"Avg Abs, %","%","%",{"$f":"INDIRECT(\"'\" & B2066 & C2066 & D2066)","v":"---"},null,null,"---","---",false,"CONDITIONAL",false]
["'[Asphalt Mix Design - Template (20260115 1305 BC).xlsm]","Agg Gsb'!","C",24,"Agg 1 - C128 Fine","Rep 1",null,null,"Wt OD Sample, g (A)","g","g",{"$f":"INDIRECT(\"'\" & B2067 & C2067 & D2067)","v":0},null,null,0,0,false,false,false]
["'[Asphalt Mix Design - Template (20260115 1305 BC).xlsm]","Agg Gsb'!","C",25,"Agg 1 - C128 Fine","Rep 1",null,null,"Wt Pycn. + Water, g (B)","g","g",{"$f":"INDIRECT(\"'\" & B2068 & C2068 & D2068)","v":0},null,null,0,0,false,false,false]
["'[Asphalt Mix Design - Template (20260115 1305 BC).xlsm]","Agg Gsb'!","C",26,"Agg 1 - C128 Fine","Rep 1",null,null,"Wt Pycn. + Sample + Water, g (C) ","g","g",{"$f":"INDIRECT(\"'\" & B2069 & C2069 & D2069)","v":0},null,null,0,0,false,false,false]
["'[Asphalt Mix Design - Template (20260115 1305 BC).xlsm]","Agg Gsb'!","C",27,"Agg 1 - C128 Fine","Rep 1",null,null,"Wt SSD Sample, g (S)","g","g",{"$f":"INDIRECT(\"'\" & B2070 & C2070 & D2070)","v":0},null,null,0,0,false,false,false]
["'[Asphalt Mix Design - Template (20260115 1305 BC).xlsm]","Agg Gsb'!","C",28,"Agg 1 - C128 Fine","Rep 1",null,null,"Wt Le Chatelier SSD Sample, g (S1)","g","g",{"$f":"INDIRECT(\"'\" & B2071 & C2071 & D2071)","v":0},null,null,0,0,false,false,false]
["'[Asphalt Mix Design - Template (20260115 1305 BC).xlsm]","Agg Gsb'!","C",29,"Agg 1 - C128 Fine","Rep 1",null,null,"Water Level Reading, Initial, mL (R1)","mL","mL",{"$f":"INDIRECT(\"'\" & B2072 & C2072 & D2072)","v":0},null,null,0,0,false,false,false]
["'[Asphalt Mix Design - Template (20260115 1305 BC).xlsm]","Agg Gsb'!","C",30,"Agg 1 - C128 Fine","Rep 1",null,null,"Water Level Reading, Final, mL (R2)","mL","mL",{"$f":"INDIRECT(\"'\" & B2073 & C2073 & D2073)","v":0},null,null,0,0,false,false,false]
["'[Asphalt Mix Design - Template (20260115 1305 BC).xlsm]","Agg Gsb'!","C",31,"Agg 1 - C128 Fine","Rep 1",null,null,"Gsa",null,null,{"$f":"INDIRECT(\"'\" & B2074 & C2074 & D2074)","v":"---"},null,null,"---","---",false,"CONDITIONAL",false]
["'[Asphalt Mix Design - Template (20260115 1305 BC).xlsm]","Agg Gsb'!","C",32,"Agg 1 - C128 Fine","Rep 1",null,null,"Gsb",null,null,{"$f":"INDIRECT(\"'\" & B2075 & C2075 & D2075)","v":"---"},null,null,"---","---",false,"CONDITIONAL",false]
["'[Asphalt Mix Design - Template (20260115 1305 BC).xlsm]","Agg Gsb'!","C",33,"Agg 1 - C128 Fine","Rep 1",null,null,"Abs, %","%","%",{"$f":"INDIRECT(\"'\" & B2076 & C2076 & D2076)","v":"---"},null,null,"---","---",false,"CONDITIONAL",false]
["'[Asphalt Mix Design - Template (20260115 1305 BC).xlsm]","Agg Gsb'!","D",24,"Agg 1 - C128 Fine","Rep 2",null,null,"Wt OD Sample, g (A)","g","g",{"$f":"INDIRECT(\"'\" & B2077 & C2077 & D2077)","v":0},null,null,0,0,false,false,false]
["'[Asphalt Mix Design - Template (20260115 1305 BC).xlsm]","Agg Gsb'!","D",25,"Agg 1 - C128 Fine","Rep 2",null,null,"Wt Pycn. + Water, g (B)","g","g",{"$f":"INDIRECT(\"'\" & B2078 & C2078 & D2078)","v":0},null,null,0,0,false,false,false]
["'[Asphalt Mix Design - Template (20260115 1305 BC).xlsm]","Agg Gsb'!","D",26,"Agg 1 - C128 Fine","Rep 2",null,null,"Wt Pycn. + Sample + Water, g (C) ","g","g",{"$f":"INDIRECT(\"'\" & B2079 & C2079 & D2079)","v":0},null,null,0,0,false,false,false]
["'[Asphalt Mix Design - Template (20260115 1305 BC).xlsm]","Agg Gsb'!","D",27,"Agg 1 - C128 Fine","Rep 2",null,null,"Wt SSD Sample, g (S)","g","g",{"$f":"INDIRECT(\"'\" & B2080 & C2080 & D2080)","v":0},null,null,0,0,false,false,false]
["'[Asphalt Mix Design - Template (20260115 1305 BC).xlsm]","Agg Gsb'!","D",28,"Agg 1 - C128 Fine","Rep 2",null,null,"Wt Le Chatelier SSD Sample, g (S1)","g","g",{"$f":"INDIRECT(\"'\" & B2081 & C2081 & D2081)","v":0},null,null,0,0,false,false,false]
["'[Asphalt Mix Design - Template (20260115 1305 BC).xlsm]","Agg Gsb'!","D",29,"Agg 1 - C128 Fine","Rep 2",null,null,"Water Level Reading, Initial, mL (R1)","mL","mL",{"$f":"INDIRECT(\"'\" & B2082 & C2082 & D2082)","v":0},null,null,0,0,false,false,false]
["'[Asphalt Mix Design - Template (20260115 1305 BC).xlsm]","Agg Gsb'!","D",30,"Agg 1 - C128 Fine","Rep 2",null,null,"Water Level Reading, Final, mL (R2)","mL","mL",{"$f":"INDIRECT(\"'\" & B2083 & C2083 & D2083)","v":0},null,null,0,0,false,false,false]
["'[Asphalt Mix Design - Template (20260115 1305 BC).xlsm]","Agg Gsb'!","D",31,"Agg 1 - C128 Fine","Rep 2",null,null,"Gsa",null,null,{"$f":"INDIRECT(\"'\" & B2084 & C2084 & D2084)","v":"---"},null,null,"---","---",false,"CONDITIONAL",false]
["'[Asphalt Mix Design - Template (20260115 1305 BC).xlsm]","Agg Gsb'!","D",32,"Agg 1 - C128 Fine","Rep 2",null,null,"Gsb",null,null,{"$f":"INDIRECT(\"'\" & B2085 & C2085 & D2085)","v":"---"},null,null,"---","---",false,"CONDITIONAL",false]
["'[Asphalt Mix Design - Template (20260115 1305 BC).xlsm]","Agg Gsb'!","D",33,"Agg 1 - C128 Fine","Rep 2",null,null,"Abs, %","%","%",{"$f":"INDIRECT(\"'\" & B2086 & C2086 & D2086)","v":"---"},null,null,"---","---",false,"CONDITIONAL",false]
["'[Asphalt Mix Design - Template (20260115 1305 BC).xlsm]","Agg Gsb'!","C",34,"Agg 1 - C128 Fine","Avg",null,null,"Gsa Difference",null,null,{"$f":"INDIRECT(\"'\" & B2087 & C2087 & D2087)","v":"---"},null,null,"---","---",false,"CONDITIONAL",false]
["'[Asphalt Mix Design - Template (20260115 1305 BC).xlsm]","Agg Gsb'!","C",35,"Agg 1 - C128 Fine","Avg",null,null,"Gsb Difference",null,null,{"$f":"INDIRECT(\"'\" & B2088 & C2088 & D2088)","v":"---"},null,null,"---","---",false,"CONDITIONAL",false]
["'[Asphalt Mix Design - Template (20260115 1305 BC).xlsm]","Agg Gsb'!","C",36,"Agg 1 - C128 Fine","Avg",null,null,"Avg Gsa",null,null,{"$f":"INDIRECT(\"'\" & B2089 & C2089 & D2089)","v":"---"},null,null,"---","---",false,"CONDITIONAL",false]
["'[Asphalt Mix Design - Template (20260115 1305 BC).xlsm]","Agg Gsb'!","C",37,"Agg 1 - C128 Fine","Avg",null,null,"Avg Gsb",null,null,{"$f":"INDIRECT(\"'\" & B2090 & C2090 & D2090)","v":"---"},null,null,"---","---",false,"CONDITIONAL",false]
["'[Asphalt Mix Design - Template (20260115 1305 BC).xlsm]","Agg Gsb'!","C",38,"Agg 1 - C128 Fine","Avg",null,null,"Avg Abs, %","%","%",{"$f":"INDIRECT(\"'\" & B2091 & C2091 & D2091)","v":"---"},null,null,"---","---",false,"CONDITIONAL",false]
["'[Asphalt Mix Design - Template (20260115 1305 BC).xlsm]","Agg Gsb'!","C",39,"Agg 1 - Combined",null,null,null,"Gsa",null,null,{"$f":"INDIRECT(\"'\" & B2092 & C2092 & D2092)","v":"---"},null,null,"---","---",false,"CONDITIONAL",false]
["'[Asphalt Mix Design - Template (20260115 1305 BC).xlsm]","Agg Gsb'!","C",40,"Agg 1 - Combined",null,null,null,"Gsb",null,null,{"$f":"INDIRECT(\"'\" & B2093 & C2093 & D2093)","v":"---"},null,null,"---","---",false,"CONDITIONAL",false]
["'[Asphalt Mix Design - Template (20260115 1305 BC).xlsm]","Agg Gsb'!","C",41,"Agg 1 - Combined",null,null,null,"Abs, %","%","%",{"$f":"INDIRECT(\"'\" & B2094 & C2094 & D2094)","v":"---"},null,null,"---","---",false,"CONDITIONAL",false]
["'[Asphalt Mix Design - Template (20260115 1305 BC).xlsm]","Agg Gsb'!","C",43,"Agg 1 - FAA",null,null,null,"Percent of Minus No. 4 Fraction, %","%","%",{"$f":"INDIRECT(\"'\" & B2095 & C2095 & D2095)","v":"---"},null,null,"---","---",false,false,false]
["'[Asphalt Mix Design - Template (20260115 1305 BC).xlsm]","Agg Gsb'!","C",44,"Agg 1 - FAA",null,null,null,"Combined Gsb for FAA Calculation",null,null,{"$f":"INDIRECT(\"'\" & B2096 & C2096 & D2096)","v":"---"},null,null,"---","---",false,false,false]
["'[Asphalt Mix Design - Template (20260115 1305 BC).xlsm]","Agg Gsb'!","E",7,"Agg 2",null,null,null,"Aggreagte ID",null,null,{"$f":"INDIRECT(\"'\" & B2097 & C2097 & D2097)","v":"---"},null,null,"---","---",false,"CONDITIONAL",false]
["'[Asphalt Mix Design - Template (20260115 1305 BC).xlsm]","Agg Gsb'!","E",8,"Agg 2",null,null,null,"Percent of Agg Blend, %","%","%",{"$f":"INDIRECT(\"'\" & B2098 & C2098 & D2098)","v":"---"},null,null,"---","---",false,"CONDITIONAL",false]
["'[Asphalt Mix Design - Template (20260115 1305 BC).xlsm]","Agg Gsb'!","E",9,"Agg 2",null,null,null,"Percent Passing No. 4, %","%","%",{"$f":"INDIRECT(\"'\" & B2099 & C2099 & D2099)","v":"---"},null,null,"---","---",false,"CONDITIONAL",false]
["'[Asphalt Mix Design - Template (20260115 1305 BC).xlsm]","Agg Gsb'!","E",10,"Agg 2",null,null,null,"Aggregate Size Class",null,null,{"$f":"INDIRECT(\"'\" & B2100 & C2100 & D2100)","v":"---"},null,null,"---","---",false,"CONDITIONAL",false]
["'[Asphalt Mix Design - Template (20260115 1305 BC).xlsm]","Agg Gsb'!","E",11,"Agg 2",null,null,null,"Governing Standard(s)",null,null,{"$f":"INDIRECT(\"'\" & B2101 & C2101 & D2101)","v":"---"},null,null,"---","---",false,false,false]
["'[Asphalt Mix Design - Template (20260115 1305 BC).xlsm]","Agg Gsb'!","E",13,"Agg 2 - C127 Coarse","Rep 1",null,null,"Wt OD Sample in Air, g (A)","g","g",{"$f":"INDIRECT(\"'\" & B2102 & C2102 & D2102)","v":0},null,null,0,0,false,false,false]
["'[Asphalt Mix Design - Template (20260115 1305 BC).xlsm]","Agg Gsb'!","E",14,"Agg 2 - C127 Coarse","Rep 1",null,null,"Wt SSD Sample in Air, g (B)","g","g",{"$f":"INDIRECT(\"'\" & B2103 & C2103 & D2103)","v":0},null,null,0,0,false,false,false]
["'[Asphalt Mix Design - Template (20260115 1305 BC).xlsm]","Agg Gsb'!","E",15,"Agg 2 - C127 Coarse","Rep 1",null,null,"Wt Sub. Sample in Water, g (C) ","g","g",{"$f":"INDIRECT(\"'\" & B2104 & C2104 & D2104)","v":0},null,null,0,0,false,false,false]
["'[Asphalt Mix Design - Template (20260115 1305 BC).xlsm]","Agg Gsb'!","E",16,"Agg 2 - C127 Coarse","Rep 1",null,null,"Gsa",null,null,{"$f":"INDIRECT(\"'\" & B2105 & C2105 & D2105)","v":"---"},null,null,"---","---",false,"CONDITIONAL",false]
["'[Asphalt Mix Design - Template (20260115 1305 BC).xlsm]","Agg Gsb'!","E",17,"Agg 2 - C127 Coarse","Rep 1",null,null,"Gsb",null,null,{"$f":"INDIRECT(\"'\" & B2106 & C2106 & D2106)","v":"---"},null,null,"---","---",false,"CONDITIONAL",false]
["'[Asphalt Mix Design - Template (20260115 1305 BC).xlsm]","Agg Gsb'!","E",18,"Agg 2 - C127 Coarse","Rep 1",null,null,"Abs, %","%","%",{"$f":"INDIRECT(\"'\" & B2107 & C2107 & D2107)","v":"---"},null,null,"---","---",false,"CONDITIONAL",false]
["'[Asphalt Mix Design - Template (20260115 1305 BC).xlsm]","Agg Gsb'!","F",13,"Agg 2 - C127 Coarse","Rep 2",null,null,"Wt OD Sample in Air, g (A)","g","g",{"$f":"INDIRECT(\"'\" & B2108 & C2108 & D2108)","v":0},null,null,0,0,false,false,false]
["'[Asphalt Mix Design - Template (20260115 1305 BC).xlsm]","Agg Gsb'!","F",14,"Agg 2 - C127 Coarse","Rep 2",null,null,"Wt SSD Sample in Air, g (B)","g","g",{"$f":"INDIRECT(\"'\" & B2109 & C2109 & D2109)","v":0},null,null,0,0,false,false,false]
["'[Asphalt Mix Design - Template (20260115 1305 BC).xlsm]","Agg Gsb'!","F",15,"Agg 2 - C127 Coarse","Rep 2",null,null,"Wt Sub. Sample in Water, g (C) ","g","g",{"$f":"INDIRECT(\"'\" & B2110 & C2110 & D2110)","v":0},null,null,0,0,false,false,false]
["'[Asphalt Mix Design - Template (20260115 1305 BC).xlsm]","Agg Gsb'!","F",16,"Agg 2 - C127 Coarse","Rep 2",null,null,"Gsa",null,null,{"$f":"INDIRECT(\"'\" & B2111 & C2111 & D2111)","v":"---"},null,null,"---","---",false,"CONDITIONAL",false]
["'[Asphalt Mix Design - Template (20260115 1305 BC).xlsm]","Agg Gsb'!","F",17,"Agg 2 - C127 Coarse","Rep 2",null,null,"Gsb",null,null,{"$f":"INDIRECT(\"'\" & B2112 & C2112 & D2112)","v":"---"},null,null,"---","---",false,"CONDITIONAL",false]
["'[Asphalt Mix Design - Template (20260115 1305 BC).xlsm]","Agg Gsb'!","F",18,"Agg 2 - C127 Coarse","Rep 2",null,null,"Abs, %","%","%",{"$f":"INDIRECT(\"'\" & B2113 & C2113 & D2113)","v":"---"},null,null,"---","---",false,"CONDITIONAL",false]
["'[Asphalt Mix Design - Template (20260115 1305 BC).xlsm]","Agg Gsb'!","E",19,"Agg 2 - C127 Coarse","Avg",null,null,"Gsa Difference",null,null,{"$f":"INDIRECT(\"'\" & B2114 & C2114 & D2114)","v":"---"},null,null,{"$f":"IF(ISBLANK(N2114),L2114,N2114)","v":"---"},{"$f":"IF(ISBLANK(N2114),IF(OR(ISBLANK(M2114),ISERROR(M2114)),L2114,M2114),N2114)","v":"---"},false,"CONDITIONAL",false]
["'[Asphalt Mix Design - Template (20260115 1305 BC).xlsm]","Agg Gsb'!","E",20,"Agg 2 - C127 Coarse","Avg",null,null,"Gsb Difference",null,null,{"$f":"INDIRECT(\"'\" & B2115 & C2115 & D2115)","v":"---"},null,null,"---","---",false,"CONDITIONAL",false]
["'[Asphalt Mix Design - Template (20260115 1305 BC).xlsm]","Agg Gsb'!","E",21,"Agg 2 - C127 Coarse","Avg",null,null,"Avg Gsa",null,null,{"$f":"INDIRECT(\"'\" & B2116 & C2116 & D2116)","v":"---"},null,null,"---","---",false,"CONDITIONAL",false]
["'[Asphalt Mix Design - Template (20260115 1305 BC).xlsm]","Agg Gsb'!","E",22,"Agg 2 - C127 Coarse","Avg",null,null,"Avg Gsb",null,null,{"$f":"INDIRECT(\"'\" & B2117 & C2117 & D2117)","v":"---"},null,null,"---","---",false,"CONDITIONAL",false]
["'[Asphalt Mix Design - Template (20260115 1305 BC).xlsm]","Agg Gsb'!","E",23,"Agg 2 - C127 Coarse","Avg",null,null,"Avg Abs, %","%","%",{"$f":"INDIRECT(\"'\" & B2118 & C2118 & D2118)","v":"---"},null,null,"---","---",false,"CONDITIONAL",false]
["'[Asphalt Mix Design - Template (20260115 1305 BC).xlsm]","Agg Gsb'!","E",24,"Agg 2 - C128 Fine","Rep 1",null,null,"Wt OD Sample, g (A)","g","g",{"$f":"INDIRECT(\"'\" & B2119 & C2119 & D2119)","v":0},null,null,0,0,false,false,false]
["'[Asphalt Mix Design - Template (20260115 1305 BC).xlsm]","Agg Gsb'!","E",25,"Agg 2 - C128 Fine","Rep 1",null,null,"Wt Pycn. + Water, g (B)","g","g",{"$f":"INDIRECT(\"'\" & B2120 & C2120 & D2120)","v":0},null,null,0,0,false,false,false]
["'[Asphalt Mix Design - Template (20260115 1305 BC).xlsm]","Agg Gsb'!","E",26,"Agg 2 - C128 Fine","Rep 1",null,null,"Wt Pycn. + Sample + Water, g (C) ","g","g",{"$f":"INDIRECT(\"'\" & B2121 & C2121 & D2121)","v":0},null,null,0,0,false,false,false]
["'[Asphalt Mix Design - Template (20260115 1305 BC).xlsm]","Agg Gsb'!","E",27,"Agg 2 - C128 Fine","Rep 1",null,null,"Wt SSD Sample, g (S)","g","g",{"$f":"INDIRECT(\"'\" & B2122 & C2122 & D2122)","v":0},null,null,0,0,false,false,false]
["'[Asphalt Mix Design - Template (20260115 1305 BC).xlsm]","Agg Gsb'!","E",28,"Agg 2 - C128 Fine","Rep 1",null,null,"Wt Le Chatelier SSD Sample, g (S1)","g","g",{"$f":"INDIRECT(\"'\" & B2123 & C2123 & D2123)","v":0},null,null,0,0,false,false,false]
["'[Asphalt Mix Design - Template (20260115 1305 BC).xlsm]","Agg Gsb'!","E",29,"Agg 2 - C128 Fine","Rep 1",null,null,"Water Level Reading, Initial, mL (R1)","mL","mL",{"$f":"INDIRECT(\"'\" & B2124 & C2124 & D2124)","v":0},null,null,0,0,false,false,false]
["'[Asphalt Mix Design - Template (20260115 1305 BC).xlsm]","Agg Gsb'!","E",30,"Agg 2 - C128 Fine","Rep 1",null,null,"Water Level Reading, Final, mL (R2)","mL","mL",{"$f":"INDIRECT(\"'\" & B2125 & C2125 & D2125)","v":0},null,null,0,0,false,false,false]
["'[Asphalt Mix Design - Template (20260115 1305 BC).xlsm]","Agg Gsb'!","E",31,"Agg 2 - C128 Fine","Rep 1",null,null,"Gsa",null,null,{"$f":"INDIRECT(\"'\" & B2126 & C2126 & D2126)","v":"---"},null,null,"---","---",false,"CONDITIONAL",false]
["'[Asphalt Mix Design - Template (20260115 1305 BC).xlsm]","Agg Gsb'!","E",32,"Agg 2 - C128 Fine","Rep 1",null,null,"Gsb",null,null,{"$f":"INDIRECT(\"'\" & B2127 & C2127 & D2127)","v":"---"},null,null,"---","---",false,"CONDITIONAL",false]
["'[Asphalt Mix Design - Template (20260115 1305 BC).xlsm]","Agg Gsb'!","E",33,"Agg 2 - C128 Fine","Rep 1",null,null,"Abs, %","%","%",{"$f":"INDIRECT(\"'\" & B2128 & C2128 & D2128)","v":"---"},null,null,"---","---",false,"CONDITIONAL",false]
["'[Asphalt Mix Design - Template (20260115 1305 BC).xlsm]","Agg Gsb'!","F",24,"Agg 2 - C128 Fine","Rep 2",null,null,"Wt OD Sample, g (A)","g","g",{"$f":"INDIRECT(\"'\" & B2129 & C2129 & D2129)","v":0},null,null,0,0,false,false,false]
["'[Asphalt Mix Design - Template (20260115 1305 BC).xlsm]","Agg Gsb'!","F",25,"Agg 2 - C128 Fine","Rep 2",null,null,"Wt Pycn. + Water, g (B)","g","g",{"$f":"INDIRECT(\"'\" & B2130 & C2130 & D2130)","v":0},null,null,0,0,false,false,false]
["'[Asphalt Mix Design - Template (20260115 1305 BC).xlsm]","Agg Gsb'!","F",26,"Agg 2 - C128 Fine","Rep 2",null,null,"Wt Pycn. + Sample + Water, g (C) ","g","g",{"$f":"INDIRECT(\"'\" & B2131 & C2131 & D2131)","v":0},null,null,0,0,false,false,false]
["'[Asphalt Mix Design - Template (20260115 1305 BC).xlsm]","Agg Gsb'!","F",27,"Agg 2 - C128 Fine","Rep 2",null,null,"Wt SSD Sample, g (S)","g","g",{"$f":"INDIRECT(\"'\" & B2132 & C2132 & D2132)","v":0},null,null,0,0,false,false,false]
["'[Asphalt Mix Design - Template (20260115 1305 BC).xlsm]","Agg Gsb'!","F",28,"Agg 2 - C128 Fine","Rep 2",null,null,"Wt Le Chatelier SSD Sample, g (S1)","g","g",{"$f":"INDIRECT(\"'\" & B2133 & C2133 & D2133)","v":0},null,null,0,0,false,false,false]
["'[Asphalt Mix Design - Template (20260115 1305 BC).xlsm]","Agg Gsb'!","F",29,"Agg 2 - C128 Fine","Rep 2",null,null,"Water Level Reading, Initial, mL (R1)","mL","mL",{"$f":"INDIRECT(\"'\" & B2134 & C2134 & D2134)","v":0},null,null,0,0,false,false,false]
["'[Asphalt Mix Design - Template (20260115 1305 BC).xlsm]","Agg Gsb'!","F",30,"Agg 2 - C128 Fine","Rep 2",null,null,"Water Level Reading, Final, mL (R2)","mL","mL",{"$f":"INDIRECT(\"'\" & B2135 & C2135 & D2135)","v":0},null,null,0,0,false,false,false]
["'[Asphalt Mix Design - Template (20260115 1305 BC).xlsm]","Agg Gsb'!","F",31,"Agg 2 - C128 Fine","Rep 2",null,null,"Gsa",null,null,{"$f":"INDIRECT(\"'\" & B2136 & C2136 & D2136)","v":"---"},null,null,"---","---",false,"CONDITIONAL",false]
["'[Asphalt Mix Design - Template (20260115 1305 BC).xlsm]","Agg Gsb'!","F",32,"Agg 2 - C128 Fine","Rep 2",null,null,"Gsb",null,null,{"$f":"INDIRECT(\"'\" & B2137 & C2137 & D2137)","v":"---"},null,null,"---","---",false,"CONDITIONAL",false]
["'[Asphalt Mix Design - Template (20260115 1305 BC).xlsm]","Agg Gsb'!","F",33,"Agg 2 - C128 Fine","Rep 2",null,null,"Abs, %","%","%",{"$f":"INDIRECT(\"'\" & B2138 & C2138 & D2138)","v":"---"},null,null,"---","---",false,"CONDITIONAL",false]
["'[Asphalt Mix Design - Template (20260115 1305 BC).xlsm]","Agg Gsb'!","E",34,"Agg 2 - C128 Fine","Avg",null,null,"Gsa Difference",null,null,{"$f":"INDIRECT(\"'\" & B2139 & C2139 & D2139)","v":"---"},null,null,"---","---",false,"CONDITIONAL",false]
["'[Asphalt Mix Design - Template (20260115 1305 BC).xlsm]","Agg Gsb'!","E",35,"Agg 2 - C128 Fine","Avg",null,null,"Gsb Difference",null,null,{"$f":"INDIRECT(\"'\" & B2140 & C2140 & D2140)","v":"---"},null,null,"---","---",false,"CONDITIONAL",false]
["'[Asphalt Mix Design - Template (20260115 1305 BC).xlsm]","Agg Gsb'!","E",36,"Agg 2 - C128 Fine","Avg",null,null,"Avg Gsa",null,null,{"$f":"INDIRECT(\"'\" & B2141 & C2141 & D2141)","v":"---"},null,null,"---","---",false,"CONDITIONAL",false]
["'[Asphalt Mix Design - Template (20260115 1305 BC).xlsm]","Agg Gsb'!","E",37,"Agg 2 - C128 Fine","Avg",null,null,"Avg Gsb",null,null,{"$f":"INDIRECT(\"'\" & B2142 & C2142 & D2142)","v":"---"},null,null,"---","---",false,"CONDITIONAL",false]
["'[Asphalt Mix Design - Template (20260115 1305 BC).xlsm]","Agg Gsb'!","E",38,"Agg 2 - C128 Fine","Avg",null,null,"Avg Abs, %","%","%",{"$f":"INDIRECT(\"'\" & B2143 & C2143 & D2143)","v":"---"},null,null,"---","---",false,"CONDITIONAL",false]
["'[Asphalt Mix Design - Template (20260115 1305 BC).xlsm]","Agg Gsb'!","E",39,"Agg 2 - Combined",null,null,null,"Gsa",null,null,{"$f":"INDIRECT(\"'\" & B2144 & C2144 & D2144)","v":"---"},null,null,"---","---",false,"CONDITIONAL",false]
["'[Asphalt Mix Design - Template (20260115 1305 BC).xlsm]","Agg Gsb'!","E",40,"Agg 2 - Combined",null,null,null,"Gsb",null,null,{"$f":"INDIRECT(\"'\" & B2145 & C2145 & D2145)","v":"---"},null,null,"---","---",false,"CONDITIONAL",false]
["'[Asphalt Mix Design - Template (20260115 1305 BC).xlsm]","Agg Gsb'!","E",41,"Agg 2 - Combined",null,null,null,"Abs, %","%","%",{"$f":"INDIRECT(\"'\" & B2146 & C2146 & D2146)","v":"---"},null,null,"---","---",false,"CONDITIONAL",false]
["'[Asphalt Mix Design - Template (20260115 1305 BC).xlsm]","Agg Gsb'!","E",43,"Agg 2 - FAA",null,null,null,"Percent of Minus No. 4 Fraction, %","%","%",{"$f":"INDIRECT(\"'\" & B2147 & C2147 & D2147)","v":"---"},null,null,"---","---",false,false,false]
["'[Asphalt Mix Design - Template (20260115 1305 BC).xlsm]","Agg Gsb'!","E",44,"Agg 2 - FAA",null,null,null,"Combined Gsb for FAA Calculation",null,null,{"$f":"INDIRECT(\"'\" & B2148 & C2148 & D2148)","v":"---"},null,null,"---","---",false,false,false]
["'[Asphalt Mix Design - Template (20260115 1305 BC).xlsm]","Agg Gsb'!","G",7,"Agg 3",null,null,null,"Aggreagte ID",null,null,{"$f":"INDIRECT(\"'\" & B2149 & C2149 & D2149)","v":"---"},null,null,"---","---",false,"CONDITIONAL",false]
["'[Asphalt Mix Design - Template (20260115 1305 BC).xlsm]","Agg Gsb'!","G",8,"Agg 3",null,null,null,"Percent of Agg Blend, %","%","%",{"$f":"INDIRECT(\"'\" & B2150 & C2150 & D2150)","v":"---"},null,null,"---","---",false,"CONDITIONAL",false]
["'[Asphalt Mix Design - Template (20260115 1305 BC).xlsm]","Agg Gsb'!","G",9,"Agg 3",null,null,null,"Percent Passing No. 4, %","%","%",{"$f":"INDIRECT(\"'\" & B2151 & C2151 & D2151)","v":"---"},null,null,"---","---",false,"CONDITIONAL",false]
["'[Asphalt Mix Design - Template (20260115 1305 BC).xlsm]","Agg Gsb'!","G",10,"Agg 3",null,null,null,"Aggregate Size Class",null,null,{"$f":"INDIRECT(\"'\" & B2152 & C2152 & D2152)","v":"---"},null,null,"---","---",false,"CONDITIONAL",false]
["'[Asphalt Mix Design - Template (20260115 1305 BC).xlsm]","Agg Gsb'!","G",11,"Agg 3",null,null,null,"Governing Standard(s)",null,null,{"$f":"INDIRECT(\"'\" & B2153 & C2153 & D2153)","v":"---"},null,null,"---","---",false,false,false]
["'[Asphalt Mix Design - Template (20260115 1305 BC).xlsm]","Agg Gsb'!","G",13,"Agg 3 - C127 Coarse","Rep 1",null,null,"Wt OD Sample in Air, g (A)","g","g",{"$f":"INDIRECT(\"'\" & B2154 & C2154 & D2154)","v":0},null,null,0,0,false,false,false]
["'[Asphalt Mix Design - Template (20260115 1305 BC).xlsm]","Agg Gsb'!","G",14,"Agg 3 - C127 Coarse","Rep 1",null,null,"Wt SSD Sample in Air, g (B)","g","g",{"$f":"INDIRECT(\"'\" & B2155 & C2155 & D2155)","v":0},null,null,0,0,false,false,false]
["'[Asphalt Mix Design - Template (20260115 1305 BC).xlsm]","Agg Gsb'!","G",15,"Agg 3 - C127 Coarse","Rep 1",null,null,"Wt Sub. Sample in Water, g (C) ","g","g",{"$f":"INDIRECT(\"'\" & B2156 & C2156 & D2156)","v":0},null,null,0,0,false,false,false]
["'[Asphalt Mix Design - Template (20260115 1305 BC).xlsm]","Agg Gsb'!","G",16,"Agg 3 - C127 Coarse","Rep 1",null,null,"Gsa",null,null,{"$f":"INDIRECT(\"'\" & B2157 & C2157 & D2157)","v":"---"},null,null,"---","---",false,"CONDITIONAL",false]
["'[Asphalt Mix Design - Template (20260115 1305 BC).xlsm]","Agg Gsb'!","G",17,"Agg 3 - C127 Coarse","Rep 1",null,null,"Gsb",null,null,{"$f":"INDIRECT(\"'\" & B2158 & C2158 & D2158)","v":"---"},null,null,"---","---",false,"CONDITIONAL",false]
["'[Asphalt Mix Design - Template (20260115 1305 BC).xlsm]","Agg Gsb'!","G",18,"Agg 3 - C127 Coarse","Rep 1",null,null,"Abs, %","%","%",{"$f":"INDIRECT(\"'\" & B2159 & C2159 & D2159)","v":"---"},null,null,"---","---",false,"CONDITIONAL",false]
["'[Asphalt Mix Design - Template (20260115 1305 BC).xlsm]","Agg Gsb'!","H",13,"Agg 3 - C127 Coarse","Rep 2",null,null,"Wt OD Sample in Air, g (A)","g","g",{"$f":"INDIRECT(\"'\" & B2160 & C2160 & D2160)","v":0},null,null,0,0,false,false,false]
["'[Asphalt Mix Design - Template (20260115 1305 BC).xlsm]","Agg Gsb'!","H",14,"Agg 3 - C127 Coarse","Rep 2",null,null,"Wt SSD Sample in Air, g (B)","g","g",{"$f":"INDIRECT(\"'\" & B2161 & C2161 & D2161)","v":0},null,null,0,0,false,false,false]
["'[Asphalt Mix Design - Template (20260115 1305 BC).xlsm]","Agg Gsb'!","H",15,"Agg 3 - C127 Coarse","Rep 2",null,null,"Wt Sub. Sample in Water, g (C) ","g","g",{"$f":"INDIRECT(\"'\" & B2162 & C2162 & D2162)","v":0},null,null,0,0,false,false,false]
["'[Asphalt Mix Design - Template (20260115 1305 BC).xlsm]","Agg Gsb'!","H",16,"Agg 3 - C127 Coarse","Rep 2",null,null,"Gsa",null,null,{"$f":"INDIRECT(\"'\" & B2163 & C2163 & D2163)","v":"---"},null,null,"---","---",false,"CONDITIONAL",false]
["'[Asphalt Mix Design - Template (20260115 1305 BC).xlsm]","Agg Gsb'!","H",17,"Agg 3 - C127 Coarse","Rep 2",null,null,"Gsb",null,null,{"$f":"INDIRECT(\"'\" & B2164 & C2164 & D2164)","v":"---"},null,null,"---","---",false,"CONDITIONAL",false]
["'[Asphalt Mix Design - Template (20260115 1305 BC).xlsm]","Agg Gsb'!","H",18,"Agg 3 - C127 Coarse","Rep 2",null,null,"Abs, %","%","%",{"$f":"INDIRECT(\"'\" & B2165 & C2165 & D2165)","v":"---"},null,null,"---","---",false,"CONDITIONAL",false]
["'[Asphalt Mix Design - Template (20260115 1305 BC).xlsm]","Agg Gsb'!","G",19,"Agg 3 - C127 Coarse","Avg",null,null,"Gsa Difference",null,null,{"$f":"INDIRECT(\"'\" & B2166 & C2166 & D2166)","v":"---"},null,null,"---","---",false,"CONDITIONAL",false]
["'[Asphalt Mix Design - Template (20260115 1305 BC).xlsm]","Agg Gsb'!","G",20,"Agg 3 - C127 Coarse","Avg",null,null,"Gsb Difference",null,null,{"$f":"INDIRECT(\"'\" & B2167 & C2167 & D2167)","v":"---"},null,null,"---","---",false,"CONDITIONAL",false]
["'[Asphalt Mix Design - Template (20260115 1305 BC).xlsm]","Agg Gsb'!","G",21,"Agg 3 - C127 Coarse","Avg",null,null,"Avg Gsa",null,null,{"$f":"INDIRECT(\"'\" & B2168 & C2168 & D2168)","v":"---"},null,null,"---","---",false,"CONDITIONAL",false]
["'[Asphalt Mix Design - Template (20260115 1305 BC).xlsm]","Agg Gsb'!","G",22,"Agg 3 - C127 Coarse","Avg",null,null,"Avg Gsb",null,null,{"$f":"INDIRECT(\"'\" & B2169 & C2169 & D2169)","v":"---"},null,null,"---","---",false,"CONDITIONAL",false]
["'[Asphalt Mix Design - Template (20260115 1305 BC).xlsm]","Agg Gsb'!","G",23,"Agg 3 - C127 Coarse","Avg",null,null,"Avg Abs, %","%","%",{"$f":"INDIRECT(\"'\" & B2170 & C2170 & D2170)","v":"---"},null,null,"---","---",false,"CONDITIONAL",false]
["'[Asphalt Mix Design - Template (20260115 1305 BC).xlsm]","Agg Gsb'!","G",24,"Agg 3 - C128 Fine","Rep 1",null,null,"Wt OD Sample, g (A)","g","g",{"$f":"INDIRECT(\"'\" & B2171 & C2171 & D2171)","v":0},null,null,0,0,false,false,false]
["'[Asphalt Mix Design - Template (20260115 1305 BC).xlsm]","Agg Gsb'!","G",25,"Agg 3 - C128 Fine","Rep 1",null,null,"Wt Pycn. + Water, g (B)","g","g",{"$f":"INDIRECT(\"'\" & B2172 & C2172 & D2172)","v":0},null,null,0,0,false,false,false]
["'[Asphalt Mix Design - Template (20260115 1305 BC).xlsm]","Agg Gsb'!","G",26,"Agg 3 - C128 Fine","Rep 1",null,null,"Wt Pycn. + Sample + Water, g (C) ","g","g",{"$f":"INDIRECT(\"'\" & B2173 & C2173 & D2173)","v":0},null,null,0,0,false,false,false]
["'[Asphalt Mix Design - Template (20260115 1305 BC).xlsm]","Agg Gsb'!","G",27,"Agg 3 - C128 Fine","Rep 1",null,null,"Wt SSD Sample, g (S)","g","g",{"$f":"INDIRECT(\"'\" & B2174 & C2174 & D2174)","v":0},null,null,0,0,false,false,false]
["'[Asphalt Mix Design - Template (20260115 1305 BC).xlsm]","Agg Gsb'!","G",28,"Agg 3 - C128 Fine","Rep 1",null,null,"Wt Le Chatelier SSD Sample, g (S1)","g","g",{"$f":"INDIRECT(\"'\" & B2175 & C2175 & D2175)","v":0},null,null,0,0,false,false,false]
["'[Asphalt Mix Design - Template (20260115 1305 BC).xlsm]","Agg Gsb'!","G",29,"Agg 3 - C128 Fine","Rep 1",null,null,"Water Level Reading, Initial, mL (R1)","mL","mL",{"$f":"INDIRECT(\"'\" & B2176 & C2176 & D2176)","v":0},null,null,0,0,false,false,false]
["'[Asphalt Mix Design - Template (20260115 1305 BC).xlsm]","Agg Gsb'!","G",30,"Agg 3 - C128 Fine","Rep 1",null,null,"Water Level Reading, Final, mL (R2)","mL","mL",{"$f":"INDIRECT(\"'\" & B2177 & C2177 & D2177)","v":0},null,null,0,0,false,false,false]
["'[Asphalt Mix Design - Template (20260115 1305 BC).xlsm]","Agg Gsb'!","G",31,"Agg 3 - C128 Fine","Rep 1",null,null,"Gsa",null,null,{"$f":"INDIRECT(\"'\" & B2178 & C2178 & D2178)","v":"---"},null,null,{"$f":"IF(ISBLANK(N2178),L2178,N2178)","v":"---"},{"$f":"IF(ISBLANK(N2178),IF(OR(ISBLANK(M2178),ISERROR(M2178)),L2178,M2178),N2178)","v":"---"},false,"CONDITIONAL",false]
["'[Asphalt Mix Design - Template (20260115 1305 BC).xlsm]","Agg Gsb'!","G",32,"Agg 3 - C128 Fine","Rep 1",null,null,"Gsb",null,null,{"$f":"INDIRECT(\"'\" & B2179 & C2179 & D2179)","v":"---"},null,null,"---","---",false,"CONDITIONAL",false]
["'[Asphalt Mix Design - Template (20260115 1305 BC).xlsm]","Agg Gsb'!","G",33,"Agg 3 - C128 Fine","Rep 1",null,null,"Abs, %","%","%",{"$f":"INDIRECT(\"'\" & B2180 & C2180 & D2180)","v":"---"},null,null,"---","---",false,"CONDITIONAL",false]
["'[Asphalt Mix Design - Template (20260115 1305 BC).xlsm]","Agg Gsb'!","H",24,"Agg 3 - C128 Fine","Rep 2",null,null,"Wt OD Sample, g (A)","g","g",{"$f":"INDIRECT(\"'\" & B2181 & C2181 & D2181)","v":0},null,null,0,0,false,false,false]
["'[Asphalt Mix Design - Template (20260115 1305 BC).xlsm]","Agg Gsb'!","H",25,"Agg 3 - C128 Fine","Rep 2",null,null,"Wt Pycn. + Water, g (B)","g","g",{"$f":"INDIRECT(\"'\" & B2182 & C2182 & D2182)","v":0},null,null,0,0,false,false,false]
["'[Asphalt Mix Design - Template (20260115 1305 BC).xlsm]","Agg Gsb'!","H",26,"Agg 3 - C128 Fine","Rep 2",null,null,"Wt Pycn. + Sample + Water, g (C) ","g","g",{"$f":"INDIRECT(\"'\" & B2183 & C2183 & D2183)","v":0},null,null,0,0,false,false,false]
["'[Asphalt Mix Design - Template (20260115 1305 BC).xlsm]","Agg Gsb'!","H",27,"Agg 3 - C128 Fine","Rep 2",null,null,"Wt SSD Sample, g (S)","g","g",{"$f":"INDIRECT(\"'\" & B2184 & C2184 & D2184)","v":0},null,null,0,0,false,false,false]
["'[Asphalt Mix Design - Template (20260115 1305 BC).xlsm]","Agg Gsb'!","H",28,"Agg 3 - C128 Fine","Rep 2",null,null,"Wt Le Chatelier SSD Sample, g (S1)","g","g",{"$f":"INDIRECT(\"'\" & B2185 & C2185 & D2185)","v":0},null,null,0,0,false,false,false]
["'[Asphalt Mix Design - Template (20260115 1305 BC).xlsm]","Agg Gsb'!","H",29,"Agg 3 - C128 Fine","Rep 2",null,null,"Water Level Reading, Initial, mL (R1)","mL","mL",{"$f":"INDIRECT(\"'\" & B2186 & C2186 & D2186)","v":0},null,null,0,0,false,false,false]
["'[Asphalt Mix Design - Template (20260115 1305 BC).xlsm]","Agg Gsb'!","H",30,"Agg 3 - C128 Fine","Rep 2",null,null,"Water Level Reading, Final, mL (R2)","mL","mL",{"$f":"INDIRECT(\"'\" & B2187 & C2187 & D2187)","v":0},null,null,0,0,false,false,false]
["'[Asphalt Mix Design - Template (20260115 1305 BC).xlsm]","Agg Gsb'!","H",31,"Agg 3 - C128 Fine","Rep 2",null,null,"Gsa",null,null,{"$f":"INDIRECT(\"'\" & B2188 & C2188 & D2188)","v":"---"},null,null,"---","---",false,"CONDITIONAL",false]
["'[Asphalt Mix Design - Template (20260115 1305 BC).xlsm]","Agg Gsb'!","H",32,"Agg 3 - C128 Fine","Rep 2",null,null,"Gsb",null,null,{"$f":"INDIRECT(\"'\" & B2189 & C2189 & D2189)","v":"---"},null,null,"---","---",false,"CONDITIONAL",false]
["'[Asphalt Mix Design - Template (20260115 1305 BC).xlsm]","Agg Gsb'!","H",33,"Agg 3 - C128 Fine","Rep 2",null,null,"Abs, %","%","%",{"$f":"INDIRECT(\"'\" & B2190 & C2190 & D2190)","v":"---"},null,null,"---","---",false,"CONDITIONAL",false]
["'[Asphalt Mix Design - Template (20260115 1305 BC).xlsm]","Agg Gsb'!","G",34,"Agg 3 - C128 Fine","Avg",null,null,"Gsa Difference",null,null,{"$f":"INDIRECT(\"'\" & B2191 & C2191 & D2191)","v":"---"},null,null,"---","---",false,"CONDITIONAL",false]
["'[Asphalt Mix Design - Template (20260115 1305 BC).xlsm]","Agg Gsb'!","G",35,"Agg 3 - C128 Fine","Avg",null,null,"Gsb Difference",null,null,{"$f":"INDIRECT(\"'\" & B2192 & C2192 & D2192)","v":"---"},null,null,"---","---",false,"CONDITIONAL",false]
["'[Asphalt Mix Design - Template (20260115 1305 BC).xlsm]","Agg Gsb'!","G",36,"Agg 3 - C128 Fine","Avg",null,null,"Avg Gsa",null,null,{"$f":"INDIRECT(\"'\" & B2193 & C2193 & D2193)","v":"---"},null,null,"---","---",false,"CONDITIONAL",false]
["'[Asphalt Mix Design - Template (20260115 1305 BC).xlsm]","Agg Gsb'!","G",37,"Agg 3 - C128 Fine","Avg",null,null,"Avg Gsb",null,null,{"$f":"INDIRECT(\"'\" & B2194 & C2194 & D2194)","v":"---"},null,null,"---","---",false,"CONDITIONAL",false]
["'[Asphalt Mix Design - Template (20260115 1305 BC).xlsm]","Agg Gsb'!","G",38,"Agg 3 - C128 Fine","Avg",null,null,"Avg Abs, %","%","%",{"$f":"INDIRECT(\"'\" & B2195 & C2195 & D2195)","v":"---"},null,null,"---","---",false,"CONDITIONAL",false]
["'[Asphalt Mix Design - Template (20260115 1305 BC).xlsm]","Agg Gsb'!","G",39,"Agg 3 - Combined",null,null,null,"Gsa",null,null,{"$f":"INDIRECT(\"'\" & B2196 & C2196 & D2196)","v":"---"},null,null,"---","---",false,"CONDITIONAL",false]
["'[Asphalt Mix Design - Template (20260115 1305 BC).xlsm]","Agg Gsb'!","G",40,"Agg 3 - Combined",null,null,null,"Gsb",null,null,{"$f":"INDIRECT(\"'\" & B2197 & C2197 & D2197)","v":"---"},null,null,"---","---",false,"CONDITIONAL",false]
["'[Asphalt Mix Design - Template (20260115 1305 BC).xlsm]","Agg Gsb'!","G",41,"Agg 3 - Combined",null,null,null,"Abs, %","%","%",{"$f":"INDIRECT(\"'\" & B2198 & C2198 & D2198)","v":"---"},null,null,"---","---",false,"CONDITIONAL",false]
["'[Asphalt Mix Design - Template (20260115 1305 BC).xlsm]","Agg Gsb'!","G",43,"Agg 3 - FAA",null,null,null,"Percent of Minus No. 4 Fraction, %","%","%",{"$f":"INDIRECT(\"'\" & B2199 & C2199 & D2199)","v":"---"},null,null,"---","---",false,false,false]
["'[Asphalt Mix Design - Template (20260115 1305 BC).xlsm]","Agg Gsb'!","G",44,"Agg 3 - FAA",null,null,null,"Combined Gsb for FAA Calculation",null,null,{"$f":"INDIRECT(\"'\" & B2200 & C2200 & D2200)","v":"---"},null,null,"---","---",false,false,false]
["'[Asphalt Mix Design - Template (20260115 1305 BC).xlsm]","Agg Gsb'!","I",7,"Agg 4",null,null,null,"Aggreagte ID",null,null,{"$f":"INDIRECT(\"'\" & B2201 & C2201 & D2201)","v":"---"},null,null,"---","---",false,"CONDITIONAL",false]
["'[Asphalt Mix Design - Template (20260115 1305 BC).xlsm]","Agg Gsb'!","I",8,"Agg 4",null,null,null,"Percent of Agg Blend, %","%","%",{"$f":"INDIRECT(\"'\" & B2202 & C2202 & D2202)","v":"---"},null,null,"---","---",false,"CONDITIONAL",false]
["'[Asphalt Mix Design - Template (20260115 1305 BC).xlsm]","Agg Gsb'!","I",9,"Agg 4",null,null,null,"Percent Passing No. 4, %","%","%",{"$f":"INDIRECT(\"'\" & B2203 & C2203 & D2203)","v":"---"},null,null,"---","---",false,"CONDITIONAL",false]
["'[Asphalt Mix Design - Template (20260115 1305 BC).xlsm]","Agg Gsb'!","I",10,"Agg 4",null,null,null,"Aggregate Size Class",null,null,{"$f":"INDIRECT(\"'\" & B2204 & C2204 & D2204)","v":"---"},null,null,"---","---",false,"CONDITIONAL",false]
["'[Asphalt Mix Design - Template (20260115 1305 BC).xlsm]","Agg Gsb'!","I",11,"Agg 4",null,null,null,"Governing Standard(s)",null,null,{"$f":"INDIRECT(\"'\" & B2205 & C2205 & D2205)","v":"---"},null,null,"---","---",false,false,false]
["'[Asphalt Mix Design - Template (20260115 1305 BC).xlsm]","Agg Gsb'!","I",13,"Agg 4 - C127 Coarse","Rep 1",null,null,"Wt OD Sample in Air, g (A)","g","g",{"$f":"INDIRECT(\"'\" & B2206 & C2206 & D2206)","v":0},null,null,0,0,false,false,false]
["'[Asphalt Mix Design - Template (20260115 1305 BC).xlsm]","Agg Gsb'!","I",14,"Agg 4 - C127 Coarse","Rep 1",null,null,"Wt SSD Sample in Air, g (B)","g","g",{"$f":"INDIRECT(\"'\" & B2207 & C2207 & D2207)","v":0},null,null,0,0,false,false,false]
["'[Asphalt Mix Design - Template (20260115 1305 BC).xlsm]","Agg Gsb'!","I",15,"Agg 4 - C127 Coarse","Rep 1",null,null,"Wt Sub. Sample in Water, g (C) ","g","g",{"$f":"INDIRECT(\"'\" & B2208 & C2208 & D2208)","v":0},null,null,0,0,false,false,false]
["'[Asphalt Mix Design - Template (20260115 1305 BC).xlsm]","Agg Gsb'!","I",16,"Agg 4 - C127 Coarse","Rep 1",null,null,"Gsa",null,null,{"$f":"INDIRECT(\"'\" & B2209 & C2209 & D2209)","v":"---"},null,null,"---","---",false,"CONDITIONAL",false]
["'[Asphalt Mix Design - Template (20260115 1305 BC).xlsm]","Agg Gsb'!","I",17,"Agg 4 - C127 Coarse","Rep 1",null,null,"Gsb",null,null,{"$f":"INDIRECT(\"'\" & B2210 & C2210 & D2210)","v":"---"},null,null,"---","---",false,"CONDITIONAL",false]
["'[Asphalt Mix Design - Template (20260115 1305 BC).xlsm]","Agg Gsb'!","I",18,"Agg 4 - C127 Coarse","Rep 1",null,null,"Abs, %","%","%",{"$f":"INDIRECT(\"'\" & B2211 & C2211 & D2211)","v":"---"},null,null,"---","---",false,"CONDITIONAL",false]
["'[Asphalt Mix Design - Template (20260115 1305 BC).xlsm]","Agg Gsb'!","J",13,"Agg 4 - C127 Coarse","Rep 2",null,null,"Wt OD Sample in Air, g (A)","g","g",{"$f":"INDIRECT(\"'\" & B2212 & C2212 & D2212)","v":0},null,null,0,0,false,false,false]
["'[Asphalt Mix Design - Template (20260115 1305 BC).xlsm]","Agg Gsb'!","J",14,"Agg 4 - C127 Coarse","Rep 2",null,null,"Wt SSD Sample in Air, g (B)","g","g",{"$f":"INDIRECT(\"'\" & B2213 & C2213 & D2213)","v":0},null,null,0,0,false,false,false]
["'[Asphalt Mix Design - Template (20260115 1305 BC).xlsm]","Agg Gsb'!","J",15,"Agg 4 - C127 Coarse","Rep 2",null,null,"Wt Sub. Sample in Water, g (C) ","g","g",{"$f":"INDIRECT(\"'\" & B2214 & C2214 & D2214)","v":0},null,null,0,0,false,false,false]
["'[Asphalt Mix Design - Template (20260115 1305 BC).xlsm]","Agg Gsb'!","J",16,"Agg 4 - C127 Coarse","Rep 2",null,null,"Gsa",null,null,{"$f":"INDIRECT(\"'\" & B2215 & C2215 & D2215)","v":"---"},null,null,"---","---",false,"CONDITIONAL",false]
["'[Asphalt Mix Design - Template (20260115 1305 BC).xlsm]","Agg Gsb'!","J",17,"Agg 4 - C127 Coarse","Rep 2",null,null,"Gsb",null,null,{"$f":"INDIRECT(\"'\" & B2216 & C2216 & D2216)","v":"---"},null,null,"---","---",false,"CONDITIONAL",false]
["'[Asphalt Mix Design - Template (20260115 1305 BC).xlsm]","Agg Gsb'!","J",18,"Agg 4 - C127 Coarse","Rep 2",null,null,"Abs, %","%","%",{"$f":"INDIRECT(\"'\" & B2217 & C2217 & D2217)","v":"---"},null,null,"---","---",false,"CONDITIONAL",false]
["'[Asphalt Mix Design - Template (20260115 1305 BC).xlsm]","Agg Gsb'!","I",19,"Agg 4 - C127 Coarse","Avg",null,null,"Gsa Difference",null,null,{"$f":"INDIRECT(\"'\" & B2218 & C2218 & D2218)","v":"---"},null,null,"---","---",false,"CONDITIONAL",false]
["'[Asphalt Mix Design - Template (20260115 1305 BC).xlsm]","Agg Gsb'!","I",20,"Agg 4 - C127 Coarse","Avg",null,null,"Gsb Difference",null,null,{"$f":"INDIRECT(\"'\" & B2219 & C2219 & D2219)","v":"---"},null,null,"---","---",false,"CONDITIONAL",false]
["'[Asphalt Mix Design - Template (20260115 1305 BC).xlsm]","Agg Gsb'!","I",21,"Agg 4 - C127 Coarse","Avg",null,null,"Avg Gsa",null,null,{"$f":"INDIRECT(\"'\" & B2220 & C2220 & D2220)","v":"---"},null,null,"---","---",false,"CONDITIONAL",false]
["'[Asphalt Mix Design - Template (20260115 1305 BC).xlsm]","Agg Gsb'!","I",22,"Agg 4 - C127 Coarse","Avg",null,null,"Avg Gsb",null,null,{"$f":"INDIRECT(\"'\" & B2221 & C2221 & D2221)","v":"---"},null,null,"---","---",false,"CONDITIONAL",false]
["'[Asphalt Mix Design - Template (20260115 1305 BC).xlsm]","Agg Gsb'!","I",23,"Agg 4 - C127 Coarse","Avg",null,null,"Avg Abs, %","%","%",{"$f":"INDIRECT(\"'\" & B2222 & C2222 & D2222)","v":"---"},null,null,"---","---",false,"CONDITIONAL",false]
["'[Asphalt Mix Design - Template (20260115 1305 BC).xlsm]","Agg Gsb'!","I",24,"Agg 4 - C128 Fine","Rep 1",null,null,"Wt OD Sample, g (A)","g","g",{"$f":"INDIRECT(\"'\" & B2223 & C2223 & D2223)","v":0},null,null,0,0,false,false,false]
["'[Asphalt Mix Design - Template (20260115 1305 BC).xlsm]","Agg Gsb'!","I",25,"Agg 4 - C128 Fine","Rep 1",null,null,"Wt Pycn. + Water, g (B)","g","g",{"$f":"INDIRECT(\"'\" & B2224 & C2224 & D2224)","v":0},null,null,0,0,false,false,false]
["'[Asphalt Mix Design - Template (20260115 1305 BC).xlsm]","Agg Gsb'!","I",26,"Agg 4 - C128 Fine","Rep 1",null,null,"Wt Pycn. + Sample + Water, g (C) ","g","g",{"$f":"INDIRECT(\"'\" & B2225 & C2225 & D2225)","v":0},null,null,0,0,false,false,false]
["'[Asphalt Mix Design - Template (20260115 1305 BC).xlsm]","Agg Gsb'!","I",27,"Agg 4 - C128 Fine","Rep 1",null,null,"Wt SSD Sample, g (S)","g","g",{"$f":"INDIRECT(\"'\" & B2226 & C2226 & D2226)","v":0},null,null,0,0,false,false,false]
["'[Asphalt Mix Design - Template (20260115 1305 BC).xlsm]","Agg Gsb'!","I",28,"Agg 4 - C128 Fine","Rep 1",null,null,"Wt Le Chatelier SSD Sample, g (S1)","g","g",{"$f":"INDIRECT(\"'\" & B2227 & C2227 & D2227)","v":0},null,null,0,0,false,false,false]
["'[Asphalt Mix Design - Template (20260115 1305 BC).xlsm]","Agg Gsb'!","I",29,"Agg 4 - C128 Fine","Rep 1",null,null,"Water Level Reading, Initial, mL (R1)","mL","mL",{"$f":"INDIRECT(\"'\" & B2228 & C2228 & D2228)","v":0},null,null,0,0,false,false,false]
["'[Asphalt Mix Design - Template (20260115 1305 BC).xlsm]","Agg Gsb'!","I",30,"Agg 4 - C128 Fine","Rep 1",null,null,"Water Level Reading, Final, mL (R2)","mL","mL",{"$f":"INDIRECT(\"'\" & B2229 & C2229 & D2229)","v":0},null,null,0,0,false,false,false]
["'[Asphalt Mix Design - Template (20260115 1305 BC).xlsm]","Agg Gsb'!","I",31,"Agg 4 - C128 Fine","Rep 1",null,null,"Gsa",null,null,{"$f":"INDIRECT(\"'\" & B2230 & C2230 & D2230)","v":"---"},null,null,"---","---",false,"CONDITIONAL",false]
["'[Asphalt Mix Design - Template (20260115 1305 BC).xlsm]","Agg Gsb'!","I",32,"Agg 4 - C128 Fine","Rep 1",null,null,"Gsb",null,null,{"$f":"INDIRECT(\"'\" & B2231 & C2231 & D2231)","v":"---"},null,null,"---","---",false,"CONDITIONAL",false]
["'[Asphalt Mix Design - Template (20260115 1305 BC).xlsm]","Agg Gsb'!","I",33,"Agg 4 - C128 Fine","Rep 1",null,null,"Abs, %","%","%",{"$f":"INDIRECT(\"'\" & B2232 & C2232 & D2232)","v":"---"},null,null,"---","---",false,"CONDITIONAL",false]
["'[Asphalt Mix Design - Template (20260115 1305 BC).xlsm]","Agg Gsb'!","J",24,"Agg 4 - C128 Fine","Rep 2",null,null,"Wt OD Sample, g (A)","g","g",{"$f":"INDIRECT(\"'\" & B2233 & C2233 & D2233)","v":0},null,null,0,0,false,false,false]
["'[Asphalt Mix Design - Template (20260115 1305 BC).xlsm]","Agg Gsb'!","J",25,"Agg 4 - C128 Fine","Rep 2",null,null,"Wt Pycn. + Water, g (B)","g","g",{"$f":"INDIRECT(\"'\" & B2234 & C2234 & D2234)","v":0},null,null,0,0,false,false,false]
["'[Asphalt Mix Design - Template (20260115 1305 BC).xlsm]","Agg Gsb'!","J",26,"Agg 4 - C128 Fine","Rep 2",null,null,"Wt Pycn. + Sample + Water, g (C) ","g","g",{"$f":"INDIRECT(\"'\" & B2235 & C2235 & D2235)","v":0},null,null,0,0,false,false,false]
["'[Asphalt Mix Design - Template (20260115 1305 BC).xlsm]","Agg Gsb'!","J",27,"Agg 4 - C128 Fine","Rep 2",null,null,"Wt SSD Sample, g (S)","g","g",{"$f":"INDIRECT(\"'\" & B2236 & C2236 & D2236)","v":0},null,null,0,0,false,false,false]
["'[Asphalt Mix Design - Template (20260115 1305 BC).xlsm]","Agg Gsb'!","J",28,"Agg 4 - C128 Fine","Rep 2",null,null,"Wt Le Chatelier SSD Sample, g (S1)","g","g",{"$f":"INDIRECT(\"'\" & B2237 & C2237 & D2237)","v":0},null,null,0,0,false,false,false]
["'[Asphalt Mix Design - Template (20260115 1305 BC).xlsm]","Agg Gsb'!","J",29,"Agg 4 - C128 Fine","Rep 2",null,null,"Water Level Reading, Initial, mL (R1)","mL","mL",{"$f":"INDIRECT(\"'\" & B2238 & C2238 & D2238)","v":0},null,null,0,0,false,false,false]
["'[Asphalt Mix Design - Template (20260115 1305 BC).xlsm]","Agg Gsb'!","J",30,"Agg 4 - C128 Fine","Rep 2",null,null,"Water Level Reading, Final, mL (R2)","mL","mL",{"$f":"INDIRECT(\"'\" & B2239 & C2239 & D2239)","v":0},null,null,0,0,false,false,false]
["'[Asphalt Mix Design - Template (20260115 1305 BC).xlsm]","Agg Gsb'!","J",31,"Agg 4 - C128 Fine","Rep 2",null,null,"Gsa",null,null,{"$f":"INDIRECT(\"'\" & B2240 & C2240 & D2240)","v":"---"},null,null,"---","---",false,"CONDITIONAL",false]
["'[Asphalt Mix Design - Template (20260115 1305 BC).xlsm]","Agg Gsb'!","J",32,"Agg 4 - C128 Fine","Rep 2",null,null,"Gsb",null,null,{"$f":"INDIRECT(\"'\" & B2241 & C2241 & D2241)","v":"---"},null,null,"---","---",false,"CONDITIONAL",false]
["'[Asphalt Mix Design - Template (20260115 1305 BC).xlsm]","Agg Gsb'!","J",33,"Agg 4 - C128 Fine","Rep 2",null,null,"Abs, %","%","%",{"$f":"INDIRECT(\"'\" & B2242 & C2242 & D2242)","v":"---"},null,null,{"$f":"IF(ISBLANK(N2242),L2242,N2242)","v":"---"},{"$f":"IF(ISBLANK(N2242),IF(OR(ISBLANK(M2242),ISERROR(M2242)),L2242,M2242),N2242)","v":"---"},false,"CONDITIONAL",false]
["'[Asphalt Mix Design - Template (20260115 1305 BC).xlsm]","Agg Gsb'!","I",34,"Agg 4 - C128 Fine","Avg",null,null,"Gsa Difference",null,null,{"$f":"INDIRECT(\"'\" & B2243 & C2243 & D2243)","v":"---"},null,null,"---","---",false,"CONDITIONAL",false]
["'[Asphalt Mix Design - Template (20260115 1305 BC).xlsm]","Agg Gsb'!","I",35,"Agg 4 - C128 Fine","Avg",null,null,"Gsb Difference",null,null,{"$f":"INDIRECT(\"'\" & B2244 & C2244 & D2244)","v":"---"},null,null,"---","---",false,"CONDITIONAL",false]
["'[Asphalt Mix Design - Template (20260115 1305 BC).xlsm]","Agg Gsb'!","I",36,"Agg 4 - C128 Fine","Avg",null,null,"Avg Gsa",null,null,{"$f":"INDIRECT(\"'\" & B2245 & C2245 & D2245)","v":"---"},null,null,"---","---",false,"CONDITIONAL",false]
["'[Asphalt Mix Design - Template (20260115 1305 BC).xlsm]","Agg Gsb'!","I",37,"Agg 4 - C128 Fine","Avg",null,null,"Avg Gsb",null,null,{"$f":"INDIRECT(\"'\" & B2246 & C2246 & D2246)","v":"---"},null,null,"---","---",false,"CONDITIONAL",false]
["'[Asphalt Mix Design - Template (20260115 1305 BC).xlsm]","Agg Gsb'!","I",38,"Agg 4 - C128 Fine","Avg",null,null,"Avg Abs, %","%","%",{"$f":"INDIRECT(\"'\" & B2247 & C2247 & D2247)","v":"---"},null,null,"---","---",false,"CONDITIONAL",false]
["'[Asphalt Mix Design - Template (20260115 1305 BC).xlsm]","Agg Gsb'!","I",39,"Agg 4 - Combined",null,null,null,"Gsa",null,null,{"$f":"INDIRECT(\"'\" & B2248 & C2248 & D2248)","v":"---"},null,null,"---","---",false,"CONDITIONAL",false]
["'[Asphalt Mix Design - Template (20260115 1305 BC).xlsm]","Agg Gsb'!","I",40,"Agg 4 - Combined",null,null,null,"Gsb",null,null,{"$f":"INDIRECT(\"'\" & B2249 & C2249 & D2249)","v":"---"},null,null,"---","---",false,"CONDITIONAL",false]
["'[Asphalt Mix Design - Template (20260115 1305 BC).xlsm]","Agg Gsb'!","I",41,"Agg 4 - Combined",null,null,null,"Abs, %","%","%",{"$f":"INDIRECT(\"'\" & B2250 & C2250 & D2250)","v":"---"},null,null,"---","---",false,"CONDITIONAL",false]
["'[Asphalt Mix Design - Template (20260115 1305 BC).xlsm]","Agg Gsb'!","I",43,"Agg 4 - FAA",null,null,null,"Percent of Minus No. 4 Fraction, %","%","%",{"$f":"INDIRECT(\"'\" & B2251 & C2251 & D2251)","v":"---"},null,null,"---","---",false,false,false]
["'[Asphalt Mix Design - Template (20260115 1305 BC).xlsm]","Agg Gsb'!","I",44,"Agg 4 - FAA",null,null,null,"Combined Gsb for FAA Calculation",null,null,{"$f":"INDIRECT(\"'\" & B2252 & C2252 & D2252)","v":"---"},null,null,"---","---",false,false,false]
["'[Asphalt Mix Design - Template (20260115 1305 BC).xlsm]","Agg Gsb'!","K",7,"Agg 5",null,null,null,"Aggreagte ID",null,null,{"$f":"INDIRECT(\"'\" & B2253 & C2253 & D2253)","v":"---"},null,null,"---","---",false,"CONDITIONAL",false]
["'[Asphalt Mix Design - Template (20260115 1305 BC).xlsm]","Agg Gsb'!","K",8,"Agg 5",null,null,null,"Percent of Agg Blend, %","%","%",{"$f":"INDIRECT(\"'\" & B2254 & C2254 & D2254)","v":"---"},null,null,"---","---",false,"CONDITIONAL",false]
["'[Asphalt Mix Design - Template (20260115 1305 BC).xlsm]","Agg Gsb'!","K",9,"Agg 5",null,null,null,"Percent Passing No. 4, %","%","%",{"$f":"INDIRECT(\"'\" & B2255 & C2255 & D2255)","v":"---"},null,null,"---","---",false,"CONDITIONAL",false]
["'[Asphalt Mix Design - Template (20260115 1305 BC).xlsm]","Agg Gsb'!","K",10,"Agg 5",null,null,null,"Aggregate Size Class",null,null,{"$f":"INDIRECT(\"'\" & B2256 & C2256 & D2256)","v":"---"},null,null,"---","---",false,"CONDITIONAL",false]
["'[Asphalt Mix Design - Template (20260115 1305 BC).xlsm]","Agg Gsb'!","K",11,"Agg 5",null,null,null,"Governing Standard(s)",null,null,{"$f":"INDIRECT(\"'\" & B2257 & C2257 & D2257)","v":"---"},null,null,"---","---",false,false,false]
["'[Asphalt Mix Design - Template (20260115 1305 BC).xlsm]","Agg Gsb'!","K",13,"Agg 5 - C127 Coarse","Rep 1",null,null,"Wt OD Sample in Air, g (A)","g","g",{"$f":"INDIRECT(\"'\" & B2258 & C2258 & D2258)","v":0},null,null,0,0,false,false,false]
["'[Asphalt Mix Design - Template (20260115 1305 BC).xlsm]","Agg Gsb'!","K",14,"Agg 5 - C127 Coarse","Rep 1",null,null,"Wt SSD Sample in Air, g (B)","g","g",{"$f":"INDIRECT(\"'\" & B2259 & C2259 & D2259)","v":0},null,null,0,0,false,false,false]
["'[Asphalt Mix Design - Template (20260115 1305 BC).xlsm]","Agg Gsb'!","K",15,"Agg 5 - C127 Coarse","Rep 1",null,null,"Wt Sub. Sample in Water, g (C) ","g","g",{"$f":"INDIRECT(\"'\" & B2260 & C2260 & D2260)","v":0},null,null,0,0,false,false,false]
["'[Asphalt Mix Design - Template (20260115 1305 BC).xlsm]","Agg Gsb'!","K",16,"Agg 5 - C127 Coarse","Rep 1",null,null,"Gsa",null,null,{"$f":"INDIRECT(\"'\" & B2261 & C2261 & D2261)","v":"---"},null,null,"---","---",false,"CONDITIONAL",false]
["'[Asphalt Mix Design - Template (20260115 1305 BC).xlsm]","Agg Gsb'!","K",17,"Agg 5 - C127 Coarse","Rep 1",null,null,"Gsb",null,null,{"$f":"INDIRECT(\"'\" & B2262 & C2262 & D2262)","v":"---"},null,null,"---","---",false,"CONDITIONAL",false]
["'[Asphalt Mix Design - Template (20260115 1305 BC).xlsm]","Agg Gsb'!","K",18,"Agg 5 - C127 Coarse","Rep 1",null,null,"Abs, %","%","%",{"$f":"INDIRECT(\"'\" & B2263 & C2263 & D2263)","v":"---"},null,null,"---","---",false,"CONDITIONAL",false]
["'[Asphalt Mix Design - Template (20260115 1305 BC).xlsm]","Agg Gsb'!","L",13,"Agg 5 - C127 Coarse","Rep 2",null,null,"Wt OD Sample in Air, g (A)","g","g",{"$f":"INDIRECT(\"'\" & B2264 & C2264 & D2264)","v":0},null,null,0,0,false,false,false]
["'[Asphalt Mix Design - Template (20260115 1305 BC).xlsm]","Agg Gsb'!","L",14,"Agg 5 - C127 Coarse","Rep 2",null,null,"Wt SSD Sample in Air, g (B)","g","g",{"$f":"INDIRECT(\"'\" & B2265 & C2265 & D2265)","v":0},null,null,0,0,false,false,false]
["'[Asphalt Mix Design - Template (20260115 1305 BC).xlsm]","Agg Gsb'!","L",15,"Agg 5 - C127 Coarse","Rep 2",null,null,"Wt Sub. Sample in Water, g (C) ","g","g",{"$f":"INDIRECT(\"'\" & B2266 & C2266 & D2266)","v":0},null,null,0,0,false,false,false]
["'[Asphalt Mix Design - Template (20260115 1305 BC).xlsm]","Agg Gsb'!","L",16,"Agg 5 - C127 Coarse","Rep 2",null,null,"Gsa",null,null,{"$f":"INDIRECT(\"'\" & B2267 & C2267 & D2267)","v":"---"},null,null,"---","---",false,"CONDITIONAL",false]
["'[Asphalt Mix Design - Template (20260115 1305 BC).xlsm]","Agg Gsb'!","L",17,"Agg 5 - C127 Coarse","Rep 2",null,null,"Gsb",null,null,{"$f":"INDIRECT(\"'\" & B2268 & C2268 & D2268)","v":"---"},null,null,"---","---",false,"CONDITIONAL",false]
["'[Asphalt Mix Design - Template (20260115 1305 BC).xlsm]","Agg Gsb'!","L",18,"Agg 5 - C127 Coarse","Rep 2",null,null,"Abs, %","%","%",{"$f":"INDIRECT(\"'\" & B2269 & C2269 & D2269)","v":"---"},null,null,"---","---",false,"CONDITIONAL",false]
["'[Asphalt Mix Design - Template (20260115 1305 BC).xlsm]","Agg Gsb'!","K",19,"Agg 5 - C127 Coarse","Avg",null,null,"Gsa Difference",null,null,{"$f":"INDIRECT(\"'\" & B2270 & C2270 & D2270)","v":"---"},null,null,"---","---",false,"CONDITIONAL",false]
["'[Asphalt Mix Design - Template (20260115 1305 BC).xlsm]","Agg Gsb'!","K",20,"Agg 5 - C127 Coarse","Avg",null,null,"Gsb Difference",null,null,{"$f":"INDIRECT(\"'\" & B2271 & C2271 & D2271)","v":"---"},null,null,"---","---",false,"CONDITIONAL",false]
["'[Asphalt Mix Design - Template (20260115 1305 BC).xlsm]","Agg Gsb'!","K",21,"Agg 5 - C127 Coarse","Avg",null,null,"Avg Gsa",null,null,{"$f":"INDIRECT(\"'\" & B2272 & C2272 & D2272)","v":"---"},null,null,"---","---",false,"CONDITIONAL",false]
["'[Asphalt Mix Design - Template (20260115 1305 BC).xlsm]","Agg Gsb'!","K",22,"Agg 5 - C127 Coarse","Avg",null,null,"Avg Gsb",null,null,{"$f":"INDIRECT(\"'\" & B2273 & C2273 & D2273)","v":"---"},null,null,"---","---",false,"CONDITIONAL",false]
["'[Asphalt Mix Design - Template (20260115 1305 BC).xlsm]","Agg Gsb'!","K",23,"Agg 5 - C127 Coarse","Avg",null,null,"Avg Abs, %","%","%",{"$f":"INDIRECT(\"'\" & B2274 & C2274 & D2274)","v":"---"},null,null,"---","---",false,"CONDITIONAL",false]
["'[Asphalt Mix Design - Template (20260115 1305 BC).xlsm]","Agg Gsb'!","K",24,"Agg 5 - C128 Fine","Rep 1",null,null,"Wt OD Sample, g (A)","g","g",{"$f":"INDIRECT(\"'\" & B2275 & C2275 & D2275)","v":0},null,null,0,0,false,false,false]
["'[Asphalt Mix Design - Template (20260115 1305 BC).xlsm]","Agg Gsb'!","K",25,"Agg 5 - C128 Fine","Rep 1",null,null,"Wt Pycn. + Water, g (B)","g","g",{"$f":"INDIRECT(\"'\" & B2276 & C2276 & D2276)","v":0},null,null,0,0,false,false,false]
["'[Asphalt Mix Design - Template (20260115 1305 BC).xlsm]","Agg Gsb'!","K",26,"Agg 5 - C128 Fine","Rep 1",null,null,"Wt Pycn. + Sample + Water, g (C) ","g","g",{"$f":"INDIRECT(\"'\" & B2277 & C2277 & D2277)","v":0},null,null,0,0,false,false,false]
["'[Asphalt Mix Design - Template (20260115 1305 BC).xlsm]","Agg Gsb'!","K",27,"Agg 5 - C128 Fine","Rep 1",null,null,"Wt SSD Sample, g (S)","g","g",{"$f":"INDIRECT(\"'\" & B2278 & C2278 & D2278)","v":0},null,null,0,0,false,false,false]
["'[Asphalt Mix Design - Template (20260115 1305 BC).xlsm]","Agg Gsb'!","K",28,"Agg 5 - C128 Fine","Rep 1",null,null,"Wt Le Chatelier SSD Sample, g (S1)","g","g",{"$f":"INDIRECT(\"'\" & B2279 & C2279 & D2279)","v":0},null,null,0,0,false,false,false]
["'[Asphalt Mix Design - Template (20260115 1305 BC).xlsm]","Agg Gsb'!","K",29,"Agg 5 - C128 Fine","Rep 1",null,null,"Water Level Reading, Initial, mL (R1)","mL","mL",{"$f":"INDIRECT(\"'\" & B2280 & C2280 & D2280)","v":0},null,null,0,0,false,false,false]
["'[Asphalt Mix Design - Template (20260115 1305 BC).xlsm]","Agg Gsb'!","K",30,"Agg 5 - C128 Fine","Rep 1",null,null,"Water Level Reading, Final, mL (R2)","mL","mL",{"$f":"INDIRECT(\"'\" & B2281 & C2281 & D2281)","v":0},null,null,0,0,false,false,false]
["'[Asphalt Mix Design - Template (20260115 1305 BC).xlsm]","Agg Gsb'!","K",31,"Agg 5 - C128 Fine","Rep 1",null,null,"Gsa",null,null,{"$f":"INDIRECT(\"'\" & B2282 & C2282 & D2282)","v":"---"},null,null,"---","---",false,"CONDITIONAL",false]
["'[Asphalt Mix Design - Template (20260115 1305 BC).xlsm]","Agg Gsb'!","K",32,"Agg 5 - C128 Fine","Rep 1",null,null,"Gsb",null,null,{"$f":"INDIRECT(\"'\" & B2283 & C2283 & D2283)","v":"---"},null,null,"---","---",false,"CONDITIONAL",false]
["'[Asphalt Mix Design - Template (20260115 1305 BC).xlsm]","Agg Gsb'!","K",33,"Agg 5 - C128 Fine","Rep 1",null,null,"Abs, %","%","%",{"$f":"INDIRECT(\"'\" & B2284 & C2284 & D2284)","v":"---"},null,null,"---","---",false,"CONDITIONAL",false]
["'[Asphalt Mix Design - Template (20260115 1305 BC).xlsm]","Agg Gsb'!","L",24,"Agg 5 - C128 Fine","Rep 2",null,null,"Wt OD Sample, g (A)","g","g",{"$f":"INDIRECT(\"'\" & B2285 & C2285 & D2285)","v":0},null,null,0,0,false,false,false]
["'[Asphalt Mix Design - Template (20260115 1305 BC).xlsm]","Agg Gsb'!","L",25,"Agg 5 - C128 Fine","Rep 2",null,null,"Wt Pycn. + Water, g (B)","g","g",{"$f":"INDIRECT(\"'\" & B2286 & C2286 & D2286)","v":0},null,null,0,0,false,false,false]
["'[Asphalt Mix Design - Template (20260115 1305 BC).xlsm]","Agg Gsb'!","L",26,"Agg 5 - C128 Fine","Rep 2",null,null,"Wt Pycn. + Sample + Water, g (C) ","g","g",{"$f":"INDIRECT(\"'\" & B2287 & C2287 & D2287)","v":0},null,null,0,0,false,false,false]
["'[Asphalt Mix Design - Template (20260115 1305 BC).xlsm]","Agg Gsb'!","L",27,"Agg 5 - C128 Fine","Rep 2",null,null,"Wt SSD Sample, g (S)","g","g",{"$f":"INDIRECT(\"'\" & B2288 & C2288 & D2288)","v":0},null,null,0,0,false,false,false]
["'[Asphalt Mix Design - Template (20260115 1305 BC).xlsm]","Agg Gsb'!","L",28,"Agg 5 - C128 Fine","Rep 2",null,null,"Wt Le Chatelier SSD Sample, g (S1)","g","g",{"$f":"INDIRECT(\"'\" & B2289 & C2289 & D2289)","v":0},null,null,0,0,false,false,false]
["'[Asphalt Mix Design - Template (20260115 1305 BC).xlsm]","Agg Gsb'!","L",29,"Agg 5 - C128 Fine","Rep 2",null,null,"Water Level Reading, Initial, mL (R1)","mL","mL",{"$f":"INDIRECT(\"'\" & B2290 & C2290 & D2290)","v":0},null,null,0,0,false,false,false]
["'[Asphalt Mix Design - Template (20260115 1305 BC).xlsm]","Agg Gsb'!","L",30,"Agg 5 - C128 Fine","Rep 2",null,null,"Water Level Reading, Final, mL (R2)","mL","mL",{"$f":"INDIRECT(\"'\" & B2291 & C2291 & D2291)","v":0},null,null,0,0,false,false,false]
["'[Asphalt Mix Design - Template (20260115 1305 BC).xlsm]","Agg Gsb'!","L",31,"Agg 5 - C128 Fine","Rep 2",null,null,"Gsa",null,null,{"$f":"INDIRECT(\"'\" & B2292 & C2292 & D2292)","v":"---"},null,null,"---","---",false,"CONDITIONAL",false]
["'[Asphalt Mix Design - Template (20260115 1305 BC).xlsm]","Agg Gsb'!","L",32,"Agg 5 - C128 Fine","Rep 2",null,null,"Gsb",null,null,{"$f":"INDIRECT(\"'\" & B2293 & C2293 & D2293)","v":"---"},null,null,"---","---",false,"CONDITIONAL",false]
["'[Asphalt Mix Design - Template (20260115 1305 BC).xlsm]","Agg Gsb'!","L",33,"Agg 5 - C128 Fine","Rep 2",null,null,"Abs, %","%","%",{"$f":"INDIRECT(\"'\" & B2294 & C2294 & D2294)","v":"---"},null,null,"---","---",false,"CONDITIONAL",false]
["'[Asphalt Mix Design - Template (20260115 1305 BC).xlsm]","Agg Gsb'!","K",34,"Agg 5 - C128 Fine","Avg",null,null,"Gsa Difference",null,null,{"$f":"INDIRECT(\"'\" & B2295 & C2295 & D2295)","v":"---"},null,null,"---","---",false,"CONDITIONAL",false]
["'[Asphalt Mix Design - Template (20260115 1305 BC).xlsm]","Agg Gsb'!","K",35,"Agg 5 - C128 Fine","Avg",null,null,"Gsb Difference",null,null,{"$f":"INDIRECT(\"'\" & B2296 & C2296 & D2296)","v":"---"},null,null,"---","---",false,"CONDITIONAL",false]
["'[Asphalt Mix Design - Template (20260115 1305 BC).xlsm]","Agg Gsb'!","K",36,"Agg 5 - C128 Fine","Avg",null,null,"Avg Gsa",null,null,{"$f":"INDIRECT(\"'\" & B2297 & C2297 & D2297)","v":"---"},null,null,"---","---",false,"CONDITIONAL",false]
["'[Asphalt Mix Design - Template (20260115 1305 BC).xlsm]","Agg Gsb'!","K",37,"Agg 5 - C128 Fine","Avg",null,null,"Avg Gsb",null,null,{"$f":"INDIRECT(\"'\" & B2298 & C2298 & D2298)","v":"---"},null,null,"---","---",false,"CONDITIONAL",false]
["'[Asphalt Mix Design - Template (20260115 1305 BC).xlsm]","Agg Gsb'!","K",38,"Agg 5 - C128 Fine","Avg",null,null,"Avg Abs, %","%","%",{"$f":"INDIRECT(\"'\" & B2299 & C2299 & D2299)","v":"---"},null,null,"---","---",false,"CONDITIONAL",false]
["'[Asphalt Mix Design - Template (20260115 1305 BC).xlsm]","Agg Gsb'!","K",39,"Agg 5 - Combined",null,null,null,"Gsa",null,null,{"$f":"INDIRECT(\"'\" & B2300 & C2300 & D2300)","v":"---"},null,null,"---","---",false,"CONDITIONAL",false]
["'[Asphalt Mix Design - Template (20260115 1305 BC).xlsm]","Agg Gsb'!","K",40,"Agg 5 - Combined",null,null,null,"Gsb",null,null,{"$f":"INDIRECT(\"'\" & B2301 & C2301 & D2301)","v":"---"},null,null,"---","---",false,"CONDITIONAL",false]
["'[Asphalt Mix Design - Template (20260115 1305 BC).xlsm]","Agg Gsb'!","K",41,"Agg 5 - Combined",null,null,null,"Abs, %","%","%",{"$f":"INDIRECT(\"'\" & B2302 & C2302 & D2302)","v":"---"},null,null,"---","---",false,"CONDITIONAL",false]
["'[Asphalt Mix Design - Template (20260115 1305 BC).xlsm]","Agg Gsb'!","K",43,"Agg 5 - FAA",null,null,null,"Percent of Minus No. 4 Fraction, %","%","%",{"$f":"INDIRECT(\"'\" & B2303 & C2303 & D2303)","v":"---"},null,null,"---","---",false,false,false]
["'[Asphalt Mix Design - Template (20260115 1305 BC).xlsm]","Agg Gsb'!","K",44,"Agg 5 - FAA",null,null,null,"Combined Gsb for FAA Calculation",null,null,{"$f":"INDIRECT(\"'\" & B2304 & C2304 & D2304)","v":"---"},null,null,"---","---",false,false,false]
["'[Asphalt Mix Design - Template (20260115 1305 BC).xlsm]","Agg Gsb'!","K",7,"Agg 6",null,null,null,"Aggreagte ID",null,null,{"$f":"INDIRECT(\"'\" & B2305 & C2305 & D2305)","v":"---"},null,null,"---","---",false,"CONDITIONAL",false]
["'[Asphalt Mix Design - Template (20260115 1305 BC).xlsm]","Agg Gsb'!","K",8,"Agg 6",null,null,null,"Percent of Agg Blend, %","%","%",{"$f":"INDIRECT(\"'\" & B2306 & C2306 & D2306)","v":"---"},null,null,{"$f":"IF(ISBLANK(N2306),L2306,N2306)","v":"---"},{"$f":"IF(ISBLANK(N2306),IF(OR(ISBLANK(M2306),ISERROR(M2306)),L2306,M2306),N2306)","v":"---"},false,"CONDITIONAL",false]
["'[Asphalt Mix Design - Template (20260115 1305 BC).xlsm]","Agg Gsb'!","K",9,"Agg 6",null,null,null,"Percent Passing No. 4, %","%","%",{"$f":"INDIRECT(\"'\" & B2307 & C2307 & D2307)","v":"---"},null,null,"---","---",false,"CONDITIONAL",false]
["'[Asphalt Mix Design - Template (20260115 1305 BC).xlsm]","Agg Gsb'!","K",10,"Agg 6",null,null,null,"Aggregate Size Class",null,null,{"$f":"INDIRECT(\"'\" & B2308 & C2308 & D2308)","v":"---"},null,null,"---","---",false,"CONDITIONAL",false]
["'[Asphalt Mix Design - Template (20260115 1305 BC).xlsm]","Agg Gsb'!","K",11,"Agg 6",null,null,null,"Governing Standard(s)",null,null,{"$f":"INDIRECT(\"'\" & B2309 & C2309 & D2309)","v":"---"},null,null,"---","---",false,false,false]
["'[Asphalt Mix Design - Template (20260115 1305 BC).xlsm]","Agg Gsb'!","K",13,"Agg 6 - C127 Coarse","Rep 1",null,null,"Wt OD Sample in Air, g (A)","g","g",{"$f":"INDIRECT(\"'\" & B2310 & C2310 & D2310)","v":0},null,null,0,0,false,false,false]
["'[Asphalt Mix Design - Template (20260115 1305 BC).xlsm]","Agg Gsb'!","K",14,"Agg 6 - C127 Coarse","Rep 1",null,null,"Wt SSD Sample in Air, g (B)","g","g",{"$f":"INDIRECT(\"'\" & B2311 & C2311 & D2311)","v":0},null,null,0,0,false,false,false]
["'[Asphalt Mix Design - Template (20260115 1305 BC).xlsm]","Agg Gsb'!","K",15,"Agg 6 - C127 Coarse","Rep 1",null,null,"Wt Sub. Sample in Water, g (C) ","g","g",{"$f":"INDIRECT(\"'\" & B2312 & C2312 & D2312)","v":0},null,null,0,0,false,false,false]
["'[Asphalt Mix Design - Template (20260115 1305 BC).xlsm]","Agg Gsb'!","K",16,"Agg 6 - C127 Coarse","Rep 1",null,null,"Gsa",null,null,{"$f":"INDIRECT(\"'\" & B2313 & C2313 & D2313)","v":"---"},null,null,"---","---",false,"CONDITIONAL",false]
["'[Asphalt Mix Design - Template (20260115 1305 BC).xlsm]","Agg Gsb'!","K",17,"Agg 6 - C127 Coarse","Rep 1",null,null,"Gsb",null,null,{"$f":"INDIRECT(\"'\" & B2314 & C2314 & D2314)","v":"---"},null,null,"---","---",false,"CONDITIONAL",false]
["'[Asphalt Mix Design - Template (20260115 1305 BC).xlsm]","Agg Gsb'!","K",18,"Agg 6 - C127 Coarse","Rep 1",null,null,"Abs, %","%","%",{"$f":"INDIRECT(\"'\" & B2315 & C2315 & D2315)","v":"---"},null,null,"---","---",false,"CONDITIONAL",false]
["'[Asphalt Mix Design - Template (20260115 1305 BC).xlsm]","Agg Gsb'!","L",13,"Agg 6 - C127 Coarse","Rep 2",null,null,"Wt OD Sample in Air, g (A)","g","g",{"$f":"INDIRECT(\"'\" & B2316 & C2316 & D2316)","v":0},null,null,0,0,false,false,false]
["'[Asphalt Mix Design - Template (20260115 1305 BC).xlsm]","Agg Gsb'!","L",14,"Agg 6 - C127 Coarse","Rep 2",null,null,"Wt SSD Sample in Air, g (B)","g","g",{"$f":"INDIRECT(\"'\" & B2317 & C2317 & D2317)","v":0},null,null,0,0,false,false,false]
["'[Asphalt Mix Design - Template (20260115 1305 BC).xlsm]","Agg Gsb'!","L",15,"Agg 6 - C127 Coarse","Rep 2",null,null,"Wt Sub. Sample in Water, g (C) ","g","g",{"$f":"INDIRECT(\"'\" & B2318 & C2318 & D2318)","v":0},null,null,0,0,false,false,false]
["'[Asphalt Mix Design - Template (20260115 1305 BC).xlsm]","Agg Gsb'!","L",16,"Agg 6 - C127 Coarse","Rep 2",null,null,"Gsa",null,null,{"$f":"INDIRECT(\"'\" & B2319 & C2319 & D2319)","v":"---"},null,null,"---","---",false,"CONDITIONAL",false]
["'[Asphalt Mix Design - Template (20260115 1305 BC).xlsm]","Agg Gsb'!","L",17,"Agg 6 - C127 Coarse","Rep 2",null,null,"Gsb",null,null,{"$f":"INDIRECT(\"'\" & B2320 & C2320 & D2320)","v":"---"},null,null,"---","---",false,"CONDITIONAL",false]
["'[Asphalt Mix Design - Template (20260115 1305 BC).xlsm]","Agg Gsb'!","L",18,"Agg 6 - C127 Coarse","Rep 2",null,null,"Abs, %","%","%",{"$f":"INDIRECT(\"'\" & B2321 & C2321 & D2321)","v":"---"},null,null,"---","---",false,"CONDITIONAL",false]
["'[Asphalt Mix Design - Template (20260115 1305 BC).xlsm]","Agg Gsb'!","K",19,"Agg 6 - C127 Coarse","Avg",null,null,"Gsa Difference",null,null,{"$f":"INDIRECT(\"'\" & B2322 & C2322 & D2322)","v":"---"},null,null,"---","---",false,"CONDITIONAL",false]
["'[Asphalt Mix Design - Template (20260115 1305 BC).xlsm]","Agg Gsb'!","K",20,"Agg 6 - C127 Coarse","Avg",null,null,"Gsb Difference",null,null,{"$f":"INDIRECT(\"'\" & B2323 & C2323 & D2323)","v":"---"},null,null,"---","---",false,"CONDITIONAL",false]
["'[Asphalt Mix Design - Template (20260115 1305 BC).xlsm]","Agg Gsb'!","K",21,"Agg 6 - C127 Coarse","Avg",null,null,"Avg Gsa",null,null,{"$f":"INDIRECT(\"'\" & B2324 & C2324 & D2324)","v":"---"},null,null,"---","---",false,"CONDITIONAL",false]
["'[Asphalt Mix Design - Template (20260115 1305 BC).xlsm]","Agg Gsb'!","K",22,"Agg 6 - C127 Coarse","Avg",null,null,"Avg Gsb",null,null,{"$f":"INDIRECT(\"'\" & B2325 & C2325 & D2325)","v":"---"},null,null,"---","---",false,"CONDITIONAL",false]
["'[Asphalt Mix Design - Template (20260115 1305 BC).xlsm]","Agg Gsb'!","K",23,"Agg 6 - C127 Coarse","Avg",null,null,"Avg Abs, %","%","%",{"$f":"INDIRECT(\"'\" & B2326 & C2326 & D2326)","v":"---"},null,null,"---","---",false,"CONDITIONAL",false]
["'[Asphalt Mix Design - Template (20260115 1305 BC).xlsm]","Agg Gsb'!","K",24,"Agg 6 - C128 Fine","Rep 1",null,null,"Wt OD Sample, g (A)","g","g",{"$f":"INDIRECT(\"'\" & B2327 & C2327 & D2327)","v":0},null,null,0,0,false,false,false]
["'[Asphalt Mix Design - Template (20260115 1305 BC).xlsm]","Agg Gsb'!","K",25,"Agg 6 - C128 Fine","Rep 1",null,null,"Wt Pycn. + Water, g (B)","g","g",{"$f":"INDIRECT(\"'\" & B2328 & C2328 & D2328)","v":0},null,null,0,0,false,false,false]
["'[Asphalt Mix Design - Template (20260115 1305 BC).xlsm]","Agg Gsb'!","K",26,"Agg 6 - C128 Fine","Rep 1",null,null,"Wt Pycn. + Sample + Water, g (C) ","g","g",{"$f":"INDIRECT(\"'\" & B2329 & C2329 & D2329)","v":0},null,null,0,0,false,false,false]
["'[Asphalt Mix Design - Template (20260115 1305 BC).xlsm]","Agg Gsb'!","K",27,"Agg 6 - C128 Fine","Rep 1",null,null,"Wt SSD Sample, g (S)","g","g",{"$f":"INDIRECT(\"'\" & B2330 & C2330 & D2330)","v":0},null,null,0,0,false,false,false]
["'[Asphalt Mix Design - Template (20260115 1305 BC).xlsm]","Agg Gsb'!","K",28,"Agg 6 - C128 Fine","Rep 1",null,null,"Wt Le Chatelier SSD Sample, g (S1)","g","g",{"$f":"INDIRECT(\"'\" & B2331 & C2331 & D2331)","v":0},null,null,0,0,false,false,false]
["'[Asphalt Mix Design - Template (20260115 1305 BC).xlsm]","Agg Gsb'!","K",29,"Agg 6 - C128 Fine","Rep 1",null,null,"Water Level Reading, Initial, mL (R1)","mL","mL",{"$f":"INDIRECT(\"'\" & B2332 & C2332 & D2332)","v":0},null,null,0,0,false,false,false]
["'[Asphalt Mix Design - Template (20260115 1305 BC).xlsm]","Agg Gsb'!","K",30,"Agg 6 - C128 Fine","Rep 1",null,null,"Water Level Reading, Final, mL (R2)","mL","mL",{"$f":"INDIRECT(\"'\" & B2333 & C2333 & D2333)","v":0},null,null,0,0,false,false,false]
["'[Asphalt Mix Design - Template (20260115 1305 BC).xlsm]","Agg Gsb'!","K",31,"Agg 6 - C128 Fine","Rep 1",null,null,"Gsa",null,null,{"$f":"INDIRECT(\"'\" & B2334 & C2334 & D2334)","v":"---"},null,null,"---","---",false,"CONDITIONAL",false]
["'[Asphalt Mix Design - Template (20260115 1305 BC).xlsm]","Agg Gsb'!","K",32,"Agg 6 - C128 Fine","Rep 1",null,null,"Gsb",null,null,{"$f":"INDIRECT(\"'\" & B2335 & C2335 & D2335)","v":"---"},null,null,"---","---",false,"CONDITIONAL",false]
["'[Asphalt Mix Design - Template (20260115 1305 BC).xlsm]","Agg Gsb'!","K",33,"Agg 6 - C128 Fine","Rep 1",null,null,"Abs, %","%","%",{"$f":"INDIRECT(\"'\" & B2336 & C2336 & D2336)","v":"---"},null,null,"---","---",false,"CONDITIONAL",false]
["'[Asphalt Mix Design - Template (20260115 1305 BC).xlsm]","Agg Gsb'!","L",24,"Agg 6 - C128 Fine","Rep 2",null,null,"Wt OD Sample, g (A)","g","g",{"$f":"INDIRECT(\"'\" & B2337 & C2337 & D2337)","v":0},null,null,0,0,false,false,false]
["'[Asphalt Mix Design - Template (20260115 1305 BC).xlsm]","Agg Gsb'!","L",25,"Agg 6 - C128 Fine","Rep 2",null,null,"Wt Pycn. + Water, g (B)","g","g",{"$f":"INDIRECT(\"'\" & B2338 & C2338 & D2338)","v":0},null,null,0,0,false,false,false]
["'[Asphalt Mix Design - Template (20260115 1305 BC).xlsm]","Agg Gsb'!","L",26,"Agg 6 - C128 Fine","Rep 2",null,null,"Wt Pycn. + Sample + Water, g (C) ","g","g",{"$f":"INDIRECT(\"'\" & B2339 & C2339 & D2339)","v":0},null,null,0,0,false,false,false]
["'[Asphalt Mix Design - Template (20260115 1305 BC).xlsm]","Agg Gsb'!","L",27,"Agg 6 - C128 Fine","Rep 2",null,null,"Wt SSD Sample, g (S)","g","g",{"$f":"INDIRECT(\"'\" & B2340 & C2340 & D2340)","v":0},null,null,0,0,false,false,false]
["'[Asphalt Mix Design - Template (20260115 1305 BC).xlsm]","Agg Gsb'!","L",28,"Agg 6 - C128 Fine","Rep 2",null,null,"Wt Le Chatelier SSD Sample, g (S1)","g","g",{"$f":"INDIRECT(\"'\" & B2341 & C2341 & D2341)","v":0},null,null,0,0,false,false,false]
["'[Asphalt Mix Design - Template (20260115 1305 BC).xlsm]","Agg Gsb'!","L",29,"Agg 6 - C128 Fine","Rep 2",null,null,"Water Level Reading, Initial, mL (R1)","mL","mL",{"$f":"INDIRECT(\"'\" & B2342 & C2342 & D2342)","v":0},null,null,0,0,false,false,false]
["'[Asphalt Mix Design - Template (20260115 1305 BC).xlsm]","Agg Gsb'!","L",30,"Agg 6 - C128 Fine","Rep 2",null,null,"Water Level Reading, Final, mL (R2)","mL","mL",{"$f":"INDIRECT(\"'\" & B2343 & C2343 & D2343)","v":0},null,null,0,0,false,false,false]
["'[Asphalt Mix Design - Template (20260115 1305 BC).xlsm]","Agg Gsb'!","L",31,"Agg 6 - C128 Fine","Rep 2",null,null,"Gsa",null,null,{"$f":"INDIRECT(\"'\" & B2344 & C2344 & D2344)","v":"---"},null,null,"---","---",false,"CONDITIONAL",false]
["'[Asphalt Mix Design - Template (20260115 1305 BC).xlsm]","Agg Gsb'!","L",32,"Agg 6 - C128 Fine","Rep 2",null,null,"Gsb",null,null,{"$f":"INDIRECT(\"'\" & B2345 & C2345 & D2345)","v":"---"},null,null,"---","---",false,"CONDITIONAL",false]
["'[Asphalt Mix Design - Template (20260115 1305 BC).xlsm]","Agg Gsb'!","L",33,"Agg 6 - C128 Fine","Rep 2",null,null,"Abs, %","%","%",{"$f":"INDIRECT(\"'\" & B2346 & C2346 & D2346)","v":"---"},null,null,"---","---",false,"CONDITIONAL",false]
["'[Asphalt Mix Design - Template (20260115 1305 BC).xlsm]","Agg Gsb'!","K",34,"Agg 6 - C128 Fine","Avg",null,null,"Gsa Difference",null,null,{"$f":"INDIRECT(\"'\" & B2347 & C2347 & D2347)","v":"---"},null,null,"---","---",false,"CONDITIONAL",false]
["'[Asphalt Mix Design - Template (20260115 1305 BC).xlsm]","Agg Gsb'!","K",35,"Agg 6 - C128 Fine","Avg",null,null,"Gsb Difference",null,null,{"$f":"INDIRECT(\"'\" & B2348 & C2348 & D2348)","v":"---"},null,null,"---","---",false,"CONDITIONAL",false]
["'[Asphalt Mix Design - Template (20260115 1305 BC).xlsm]","Agg Gsb'!","K",36,"Agg 6 - C128 Fine","Avg",null,null,"Avg Gsa",null,null,{"$f":"INDIRECT(\"'\" & B2349 & C2349 & D2349)","v":"---"},null,null,"---","---",false,"CONDITIONAL",false]
["'[Asphalt Mix Design - Template (20260115 1305 BC).xlsm]","Agg Gsb'!","K",37,"Agg 6 - C128 Fine","Avg",null,null,"Avg Gsb",null,null,{"$f":"INDIRECT(\"'\" & B2350 & C2350 & D2350)","v":"---"},null,null,"---","---",false,"CONDITIONAL",false]
["'[Asphalt Mix Design - Template (20260115 1305 BC).xlsm]","Agg Gsb'!","K",38,"Agg 6 - C128 Fine","Avg",null,null,"Avg Abs, %","%","%",{"$f":"INDIRECT(\"'\" & B2351 & C2351 & D2351)","v":"---"},null,null,"---","---",false,"CONDITIONAL",false]
["'[Asphalt Mix Design - Template (20260115 1305 BC).xlsm]","Agg Gsb'!","K",39,"Agg 6 - Combined",null,null,null,"Gsa",null,null,{"$f":"INDIRECT(\"'\" & B2352 & C2352 & D2352)","v":"---"},null,null,"---","---",false,"CONDITIONAL",false]
["'[Asphalt Mix Design - Template (20260115 1305 BC).xlsm]","Agg Gsb'!","K",40,"Agg 6 - Combined",null,null,null,"Gsb",null,null,{"$f":"INDIRECT(\"'\" & B2353 & C2353 & D2353)","v":"---"},null,null,"---","---",false,"CONDITIONAL",false]
["'[Asphalt Mix Design - Template (20260115 1305 BC).xlsm]","Agg Gsb'!","K",41,"Agg 6 - Combined",null,null,null,"Abs, %","%","%",{"$f":"INDIRECT(\"'\" & B2354 & C2354 & D2354)","v":"---"},null,null,"---","---",false,"CONDITIONAL",false]
["'[Asphalt Mix Design - Template (20260115 1305 BC).xlsm]","Agg Gsb'!","K",43,"Agg 6 - FAA",null,null,null,"Percent of Minus No. 4 Fraction, %","%","%",{"$f":"INDIRECT(\"'\" & B2355 & C2355 & D2355)","v":"---"},null,null,"---","---",false,false,false]
["'[Asphalt Mix Design - Template (20260115 1305 BC).xlsm]","Agg Gsb'!","K",44,"Agg 6 - FAA",null,null,null,"Combined Gsb for FAA Calculation",null,null,{"$f":"INDIRECT(\"'\" & B2356 & C2356 & D2356)","v":"---"},null,null,"---","---",false,false,false]
["'[Asphalt Mix Design - Template (20260115 1305 BC).xlsm]","Agg Gsb'!","M",7,"Agg 7",null,null,null,"Aggreagte ID",null,null,{"$f":"INDIRECT(\"'\" & B2357 & C2357 & D2357)","v":"---"},null,null,"---","---",false,"CONDITIONAL",false]
["'[Asphalt Mix Design - Template (20260115 1305 BC).xlsm]","Agg Gsb'!","M",8,"Agg 7",null,null,null,"Percent of Agg Blend, %","%","%",{"$f":"INDIRECT(\"'\" & B2358 & C2358 & D2358)","v":"---"},null,null,"---","---",false,"CONDITIONAL",false]
["'[Asphalt Mix Design - Template (20260115 1305 BC).xlsm]","Agg Gsb'!","M",9,"Agg 7",null,null,null,"Percent Passing No. 4, %","%","%",{"$f":"INDIRECT(\"'\" & B2359 & C2359 & D2359)","v":"---"},null,null,"---","---",false,"CONDITIONAL",false]
["'[Asphalt Mix Design - Template (20260115 1305 BC).xlsm]","Agg Gsb'!","M",10,"Agg 7",null,null,null,"Aggregate Size Class",null,null,{"$f":"INDIRECT(\"'\" & B2360 & C2360 & D2360)","v":"---"},null,null,"---","---",false,"CONDITIONAL",false]
["'[Asphalt Mix Design - Template (20260115 1305 BC).xlsm]","Agg Gsb'!","M",11,"Agg 7",null,null,null,"Governing Standard(s)",null,null,{"$f":"INDIRECT(\"'\" & B2361 & C2361 & D2361)","v":"---"},null,null,"---","---",false,false,false]
["'[Asphalt Mix Design - Template (20260115 1305 BC).xlsm]","Agg Gsb'!","M",13,"Agg 7 - C127 Coarse","Rep 1",null,null,"Wt OD Sample in Air, g (A)","g","g",{"$f":"INDIRECT(\"'\" & B2362 & C2362 & D2362)","v":0},null,null,0,0,false,false,false]
["'[Asphalt Mix Design - Template (20260115 1305 BC).xlsm]","Agg Gsb'!","M",14,"Agg 7 - C127 Coarse","Rep 1",null,null,"Wt SSD Sample in Air, g (B)","g","g",{"$f":"INDIRECT(\"'\" & B2363 & C2363 & D2363)","v":0},null,null,0,0,false,false,false]
["'[Asphalt Mix Design - Template (20260115 1305 BC).xlsm]","Agg Gsb'!","M",15,"Agg 7 - C127 Coarse","Rep 1",null,null,"Wt Sub. Sample in Water, g (C) ","g","g",{"$f":"INDIRECT(\"'\" & B2364 & C2364 & D2364)","v":0},null,null,0,0,false,false,false]
["'[Asphalt Mix Design - Template (20260115 1305 BC).xlsm]","Agg Gsb'!","M",16,"Agg 7 - C127 Coarse","Rep 1",null,null,"Gsa",null,null,{"$f":"INDIRECT(\"'\" & B2365 & C2365 & D2365)","v":"---"},null,null,"---","---",false,"CONDITIONAL",false]
["'[Asphalt Mix Design - Template (20260115 1305 BC).xlsm]","Agg Gsb'!","M",17,"Agg 7 - C127 Coarse","Rep 1",null,null,"Gsb",null,null,{"$f":"INDIRECT(\"'\" & B2366 & C2366 & D2366)","v":"---"},null,null,"---","---",false,"CONDITIONAL",false]
["'[Asphalt Mix Design - Template (20260115 1305 BC).xlsm]","Agg Gsb'!","M",18,"Agg 7 - C127 Coarse","Rep 1",null,null,"Abs, %","%","%",{"$f":"INDIRECT(\"'\" & B2367 & C2367 & D2367)","v":"---"},null,null,"---","---",false,"CONDITIONAL",false]
["'[Asphalt Mix Design - Template (20260115 1305 BC).xlsm]","Agg Gsb'!","N",13,"Agg 7 - C127 Coarse","Rep 2",null,null,"Wt OD Sample in Air, g (A)","g","g",{"$f":"INDIRECT(\"'\" & B2368 & C2368 & D2368)","v":0},null,null,0,0,false,false,false]
["'[Asphalt Mix Design - Template (20260115 1305 BC).xlsm]","Agg Gsb'!","N",14,"Agg 7 - C127 Coarse","Rep 2",null,null,"Wt SSD Sample in Air, g (B)","g","g",{"$f":"INDIRECT(\"'\" & B2369 & C2369 & D2369)","v":0},null,null,0,0,false,false,false]
["'[Asphalt Mix Design - Template (20260115 1305 BC).xlsm]","Agg Gsb'!","N",15,"Agg 7 - C127 Coarse","Rep 2",null,null,"Wt Sub. Sample in Water, g (C) ","g","g",{"$f":"INDIRECT(\"'\" & B2370 & C2370 & D2370)","v":0},null,null,{"$f":"IF(ISBLANK(N2370),L2370,N2370)","v":0},{"$f":"IF(ISBLANK(N2370),IF(OR(ISBLANK(M2370),ISERROR(M2370)),L2370,M2370),N2370)","v":0},false,false,false]
["'[Asphalt Mix Design - Template (20260115 1305 BC).xlsm]","Agg Gsb'!","N",16,"Agg 7 - C127 Coarse","Rep 2",null,null,"Gsa",null,null,{"$f":"INDIRECT(\"'\" & B2371 & C2371 & D2371)","v":"---"},null,null,"---","---",false,"CONDITIONAL",false]
["'[Asphalt Mix Design - Template (20260115 1305 BC).xlsm]","Agg Gsb'!","N",17,"Agg 7 - C127 Coarse","Rep 2",null,null,"Gsb",null,null,{"$f":"INDIRECT(\"'\" & B2372 & C2372 & D2372)","v":"---"},null,null,"---","---",false,"CONDITIONAL",false]
["'[Asphalt Mix Design - Template (20260115 1305 BC).xlsm]","Agg Gsb'!","N",18,"Agg 7 - C127 Coarse","Rep 2",null,null,"Abs, %","%","%",{"$f":"INDIRECT(\"'\" & B2373 & C2373 & D2373)","v":"---"},null,null,"---","---",false,"CONDITIONAL",false]
["'[Asphalt Mix Design - Template (20260115 1305 BC).xlsm]","Agg Gsb'!","M",19,"Agg 7 - C127 Coarse","Avg",null,null,"Gsa Difference",null,null,{"$f":"INDIRECT(\"'\" & B2374 & C2374 & D2374)","v":"---"},null,null,"---","---",false,"CONDITIONAL",false]
["'[Asphalt Mix Design - Template (20260115 1305 BC).xlsm]","Agg Gsb'!","M",20,"Agg 7 - C127 Coarse","Avg",null,null,"Gsb Difference",null,null,{"$f":"INDIRECT(\"'\" & B2375 & C2375 & D2375)","v":"---"},null,null,"---","---",false,"CONDITIONAL",false]
["'[Asphalt Mix Design - Template (20260115 1305 BC).xlsm]","Agg Gsb'!","M",21,"Agg 7 - C127 Coarse","Avg",null,null,"Avg Gsa",null,null,{"$f":"INDIRECT(\"'\" & B2376 & C2376 & D2376)","v":"---"},null,null,"---","---",false,"CONDITIONAL",false]
["'[Asphalt Mix Design - Template (20260115 1305 BC).xlsm]","Agg Gsb'!","M",22,"Agg 7 - C127 Coarse","Avg",null,null,"Avg Gsb",null,null,{"$f":"INDIRECT(\"'\" & B2377 & C2377 & D2377)","v":"---"},null,null,"---","---",false,"CONDITIONAL",false]
["'[Asphalt Mix Design - Template (20260115 1305 BC).xlsm]","Agg Gsb'!","M",23,"Agg 7 - C127 Coarse","Avg",null,null,"Avg Abs, %","%","%",{"$f":"INDIRECT(\"'\" & B2378 & C2378 & D2378)","v":"---"},null,null,"---","---",false,"CONDITIONAL",false]
["'[Asphalt Mix Design - Template (20260115 1305 BC).xlsm]","Agg Gsb'!","M",24,"Agg 7 - C128 Fine","Rep 1",null,null,"Wt OD Sample, g (A)","g","g",{"$f":"INDIRECT(\"'\" & B2379 & C2379 & D2379)","v":0},null,null,0,0,false,false,false]
["'[Asphalt Mix Design - Template (20260115 1305 BC).xlsm]","Agg Gsb'!","M",25,"Agg 7 - C128 Fine","Rep 1",null,null,"Wt Pycn. + Water, g (B)","g","g",{"$f":"INDIRECT(\"'\" & B2380 & C2380 & D2380)","v":0},null,null,0,0,false,false,false]
["'[Asphalt Mix Design - Template (20260115 1305 BC).xlsm]","Agg Gsb'!","M",26,"Agg 7 - C128 Fine","Rep 1",null,null,"Wt Pycn. + Sample + Water, g (C) ","g","g",{"$f":"INDIRECT(\"'\" & B2381 & C2381 & D2381)","v":0},null,null,0,0,false,false,false]
["'[Asphalt Mix Design - Template (20260115 1305 BC).xlsm]","Agg Gsb'!","M",27,"Agg 7 - C128 Fine","Rep 1",null,null,"Wt SSD Sample, g (S)","g","g",{"$f":"INDIRECT(\"'\" & B2382 & C2382 & D2382)","v":0},null,null,0,0,false,false,false]
["'[Asphalt Mix Design - Template (20260115 1305 BC).xlsm]","Agg Gsb'!","M",28,"Agg 7 - C128 Fine","Rep 1",null,null,"Wt Le Chatelier SSD Sample, g (S1)","g","g",{"$f":"INDIRECT(\"'\" & B2383 & C2383 & D2383)","v":0},null,null,0,0,false,false,false]
["'[Asphalt Mix Design - Template (20260115 1305 BC).xlsm]","Agg Gsb'!","M",29,"Agg 7 - C128 Fine","Rep 1",null,null,"Water Level Reading, Initial, mL (R1)","mL","mL",{"$f":"INDIRECT(\"'\" & B2384 & C2384 & D2384)","v":0},null,null,0,0,false,false,false]
["'[Asphalt Mix Design - Template (20260115 1305 BC).xlsm]","Agg Gsb'!","M",30,"Agg 7 - C128 Fine","Rep 1",null,null,"Water Level Reading, Final, mL (R2)","mL","mL",{"$f":"INDIRECT(\"'\" & B2385 & C2385 & D2385)","v":0},null,null,0,0,false,false,false]
["'[Asphalt Mix Design - Template (20260115 1305 BC).xlsm]","Agg Gsb'!","M",31,"Agg 7 - C128 Fine","Rep 1",null,null,"Gsa",null,null,{"$f":"INDIRECT(\"'\" & B2386 & C2386 & D2386)","v":"---"},null,null,"---","---",false,"CONDITIONAL",false]
["'[Asphalt Mix Design - Template (20260115 1305 BC).xlsm]","Agg Gsb'!","M",32,"Agg 7 - C128 Fine","Rep 1",null,null,"Gsb",null,null,{"$f":"INDIRECT(\"'\" & B2387 & C2387 & D2387)","v":"---"},null,null,"---","---",false,"CONDITIONAL",false]
["'[Asphalt Mix Design - Template (20260115 1305 BC).xlsm]","Agg Gsb'!","M",33,"Agg 7 - C128 Fine","Rep 1",null,null,"Abs, %","%","%",{"$f":"INDIRECT(\"'\" & B2388 & C2388 & D2388)","v":"---"},null,null,"---","---",false,"CONDITIONAL",false]
["'[Asphalt Mix Design - Template (20260115 1305 BC).xlsm]","Agg Gsb'!","N",24,"Agg 7 - C128 Fine","Rep 2",null,null,"Wt OD Sample, g (A)","g","g",{"$f":"INDIRECT(\"'\" & B2389 & C2389 & D2389)","v":0},null,null,0,0,false,false,false]
["'[Asphalt Mix Design - Template (20260115 1305 BC).xlsm]","Agg Gsb'!","N",25,"Agg 7 - C128 Fine","Rep 2",null,null,"Wt Pycn. + Water, g (B)","g","g",{"$f":"INDIRECT(\"'\" & B2390 & C2390 & D2390)","v":0},null,null,0,0,false,false,false]
["'[Asphalt Mix Design - Template (20260115 1305 BC).xlsm]","Agg Gsb'!","N",26,"Agg 7 - C128 Fine","Rep 2",null,null,"Wt Pycn. + Sample + Water, g (C) ","g","g",{"$f":"INDIRECT(\"'\" & B2391 & C2391 & D2391)","v":0},null,null,0,0,false,false,false]
["'[Asphalt Mix Design - Template (20260115 1305 BC).xlsm]","Agg Gsb'!","N",27,"Agg 7 - C128 Fine","Rep 2",null,null,"Wt SSD Sample, g (S)","g","g",{"$f":"INDIRECT(\"'\" & B2392 & C2392 & D2392)","v":0},null,null,0,0,false,false,false]
["'[Asphalt Mix Design - Template (20260115 1305 BC).xlsm]","Agg Gsb'!","N",28,"Agg 7 - C128 Fine","Rep 2",null,null,"Wt Le Chatelier SSD Sample, g (S1)","g","g",{"$f":"INDIRECT(\"'\" & B2393 & C2393 & D2393)","v":0},null,null,0,0,false,false,false]
["'[Asphalt Mix Design - Template (20260115 1305 BC).xlsm]","Agg Gsb'!","N",29,"Agg 7 - C128 Fine","Rep 2",null,null,"Water Level Reading, Initial, mL (R1)","mL","mL",{"$f":"INDIRECT(\"'\" & B2394 & C2394 & D2394)","v":0},null,null,0,0,false,false,false]
["'[Asphalt Mix Design - Template (20260115 1305 BC).xlsm]","Agg Gsb'!","N",30,"Agg 7 - C128 Fine","Rep 2",null,null,"Water Level Reading, Final, mL (R2)","mL","mL",{"$f":"INDIRECT(\"'\" & B2395 & C2395 & D2395)","v":0},null,null,0,0,false,false,false]
["'[Asphalt Mix Design - Template (20260115 1305 BC).xlsm]","Agg Gsb'!","N",31,"Agg 7 - C128 Fine","Rep 2",null,null,"Gsa",null,null,{"$f":"INDIRECT(\"'\" & B2396 & C2396 & D2396)","v":"---"},null,null,"---","---",false,"CONDITIONAL",false]
["'[Asphalt Mix Design - Template (20260115 1305 BC).xlsm]","Agg Gsb'!","N",32,"Agg 7 - C128 Fine","Rep 2",null,null,"Gsb",null,null,{"$f":"INDIRECT(\"'\" & B2397 & C2397 & D2397)","v":"---"},null,null,"---","---",false,"CONDITIONAL",false]
["'[Asphalt Mix Design - Template (20260115 1305 BC).xlsm]","Agg Gsb'!","N",33,"Agg 7 - C128 Fine","Rep 2",null,null,"Abs, %","%","%",{"$f":"INDIRECT(\"'\" & B2398 & C2398 & D2398)","v":"---"},null,null,"---","---",false,"CONDITIONAL",false]
["'[Asphalt Mix Design - Template (20260115 1305 BC).xlsm]","Agg Gsb'!","M",34,"Agg 7 - C128 Fine","Avg",null,null,"Gsa Difference",null,null,{"$f":"INDIRECT(\"'\" & B2399 & C2399 & D2399)","v":"---"},null,null,"---","---",false,"CONDITIONAL",false]
["'[Asphalt Mix Design - Template (20260115 1305 BC).xlsm]","Agg Gsb'!","M",35,"Agg 7 - C128 Fine","Avg",null,null,"Gsb Difference",null,null,{"$f":"INDIRECT(\"'\" & B2400 & C2400 & D2400)","v":"---"},null,null,"---","---",false,"CONDITIONAL",false]
["'[Asphalt Mix Design - Template (20260115 1305 BC).xlsm]","Agg Gsb'!","M",36,"Agg 7 - C128 Fine","Avg",null,null,"Avg Gsa",null,null,{"$f":"INDIRECT(\"'\" & B2401 & C2401 & D2401)","v":"---"},null,null,"---","---",false,"CONDITIONAL",false]
["'[Asphalt Mix Design - Template (20260115 1305 BC).xlsm]","Agg Gsb'!","M",37,"Agg 7 - C128 Fine","Avg",null,null,"Avg Gsb",null,null,{"$f":"INDIRECT(\"'\" & B2402 & C2402 & D2402)","v":"---"},null,null,"---","---",false,"CONDITIONAL",false]
["'[Asphalt Mix Design - Template (20260115 1305 BC).xlsm]","Agg Gsb'!","M",38,"Agg 7 - C128 Fine","Avg",null,null,"Avg Abs, %","%","%",{"$f":"INDIRECT(\"'\" & B2403 & C2403 & D2403)","v":"---"},null,null,"---","---",false,"CONDITIONAL",false]
["'[Asphalt Mix Design - Template (20260115 1305 BC).xlsm]","Agg Gsb'!","M",39,"Agg 7 - Combined",null,null,null,"Gsa",null,null,{"$f":"INDIRECT(\"'\" & B2404 & C2404 & D2404)","v":"---"},null,null,"---","---",false,"CONDITIONAL",false]
["'[Asphalt Mix Design - Template (20260115 1305 BC).xlsm]","Agg Gsb'!","M",40,"Agg 7 - Combined",null,null,null,"Gsb",null,null,{"$f":"INDIRECT(\"'\" & B2405 & C2405 & D2405)","v":"---"},null,null,"---","---",false,"CONDITIONAL",false]
["'[Asphalt Mix Design - Template (20260115 1305 BC).xlsm]","Agg Gsb'!","M",41,"Agg 7 - Combined",null,null,null,"Abs, %","%","%",{"$f":"INDIRECT(\"'\" & B2406 & C2406 & D2406)","v":"---"},null,null,"---","---",false,"CONDITIONAL",false]
["'[Asphalt Mix Design - Template (20260115 1305 BC).xlsm]","Agg Gsb'!","M",43,"Agg 7 - FAA",null,null,null,"Percent of Minus No. 4 Fraction, %","%","%",{"$f":"INDIRECT(\"'\" & B2407 & C2407 & D2407)","v":"---"},null,null,"---","---",false,false,false]
["'[Asphalt Mix Design - Template (20260115 1305 BC).xlsm]","Agg Gsb'!","M",44,"Agg 7 - FAA",null,null,null,"Combined Gsb for FAA Calculation",null,null,{"$f":"INDIRECT(\"'\" & B2408 & C2408 & D2408)","v":"---"},null,null,"---","---",false,false,false]
["'[Asphalt Mix Design - Template (20260115 1305 BC).xlsm]","Agg Gsb'!","Q",9,"Blend",null,null,null,"Percent Passing No. 4, %","%","%",{"$f":"INDIRECT(\"'\" & B2409 & C2409 & D2409)","v":0},null,null,0,0,false,true,false]
["'[Asphalt Mix Design - Template (20260115 1305 BC).xlsm]","Agg Gsb'!","Q",39,"Blend",null,null,null,"Gsa",null,null,{"$f":"INDIRECT(\"'\" & B2410 & C2410 & D2410)","v":"---"},null,null,"---","---",false,true,false]
["'[Asphalt Mix Design - Template (20260115 1305 BC).xlsm]","Agg Gsb'!","Q",40,"Blend",null,null,null,"Gsb",null,null,{"$f":"INDIRECT(\"'\" & B2411 & C2411 & D2411)","v":"---"},null,null,"---","---",false,true,false]
["'[Asphalt Mix Design - Template (20260115 1305 BC).xlsm]","Agg Gsb'!","Q",41,"Blend",null,null,null,"Abs, %","%","%",{"$f":"INDIRECT(\"'\" & B2412 & C2412 & D2412)","v":0},null,null,0,0,false,true,false]
["'[Asphalt Mix Design - Template (20260115 1305 BC).xlsm]","Agg Gsb'!","Q",43,"Blend",null,null,null,"Percent of Minus No. 4 Fraction, %","%","%",{"$f":"INDIRECT(\"'\" & B2413 & C2413 & D2413)","v":0},null,null,0,0,false,true,false]
["'[Asphalt Mix Design - Template (20260115 1305 BC).xlsm]","Agg Gsb'!","Q",44,"Blend",null,null,null,"Combined Gsb for FAA Calculation",null,null,{"$f":"INDIRECT(\"'\" & B2414 & C2414 & D2414)","v":"---"},null,null,"---","---",false,true,true]
["'[Asphalt Mix Design - Template (20260115 1305 BC).xlsm]","Binder Report'!","AP",3,null,null,null,null,"Grading System",null,null,{"$f":"INDIRECT(\"'\" & B2415 & C2415 & D2415)","v":"ASTM D6373"},null,null,"ASTM D6373","ASTM D6373",false,true,false]
["'[Asphalt Mix Design - Template (20260115 1305 BC).xlsm]","Binder Report'!","AE",4,null,null,null,null,"Binder Grade",null,null,{"$f":"INDIRECT(\"'\" & B2416 & C2416 & D2416)","v":"PG 64-22"},null,null,"PG 64-22","PG 64-22",false,true,false]
["'[Asphalt Mix Design - Template (20260115 1305 BC).xlsm]","Binder Report'!","AE",5,null,null,null,null,"Climatic Grade",null,null,{"$f":"INDIRECT(\"'\" & B2417 & C2417 & D2417)","v":"PG 64-22"},null,null,"PG 64-22","PG 64-22",false,true,false]
["'[Asphalt Mix Design - Template (20260115 1305 BC).xlsm]","Binder Report'!","AE",6,null,null,null,null,"PG+ Test","°F","°C",{"$f":"INDIRECT(\"'\" & B2418 & C2418 & D2418)","v":"None"},null,null,"None","None",false,true,false]
["'[Asphalt Mix Design - Template (20260115 1305 BC).xlsm]","Binder Report'!","BO",7,null,null,null,null,"UTI","°C","°C",{"$f":"INDIRECT(\"'\" & B2419 & C2419 & D2419)","v":86},null,null,86,86,false,true,false]
["'[Asphalt Mix Design - Template (20260115 1305 BC).xlsm]","Binder Report'!","BO",8,null,null,null,null,"UTI Category",null,null,{"$f":"INDIRECT(\"'\" & B2420 & C2420 & D2420)","v":"UTI<92"},null,null,"UTI<92","UTI<92",false,true,false]
["'[Asphalt Mix Design - Template (20260115 1305 BC).xlsm]","Binder Report'!","BU",6,null,null,null,null,"MSCR Grade",null,null,{"$f":"INDIRECT(\"'\" & B2421 & C2421 & D2421)","v":"---"},null,null,"---","---",false,true,false]
["'[Asphalt Mix Design - Template (20260115 1305 BC).xlsm]","Binder Report'!","BU",7,null,null,null,null,"High Polymer",null,null,{"$f":"INDIRECT(\"'\" & B2422 & C2422 & D2422)","v":"64"},null,null,"64","64",false,true,false]
["'[Asphalt Mix Design - Template (20260115 1305 BC).xlsm]","Binder Report'!","F",6,null,null,null,null,"Anti-Strip",null,null,{"$f":"INDIRECT(\"'\" & B2423 & C2423 & D2423)","v":"---"},null,null,"---","---",false,true,false]
["'[Asphalt Mix Design - Template (20260115 1305 BC).xlsm]","Binder Report'!","AE",10,null,null,null,null,"Anti-Strip Included?",null,null,{"$f":"INDIRECT(\"'\" & B2424 & C2424 & D2424)","v":false},null,null,false,false,false,true,false]
["'[Asphalt Mix Design - Template (20260115 1305 BC).xlsm]","Binder Report'!","F",7,null,null,null,null,"WMA",null,null,{"$f":"INDIRECT(\"'\" & B2425 & C2425 & D2425)","v":"---"},null,null,"---","---",false,true,false]
["'[Asphalt Mix Design - Template (20260115 1305 BC).xlsm]","Binder Report'!","AE",11,null,null,null,null,"WMA Included?",null,null,{"$f":"INDIRECT(\"'\" & B2426 & C2426 & D2426)","v":false},null,null,false,false,false,true,false]
["'[Asphalt Mix Design - Template (20260115 1305 BC).xlsm]","Binder Report'!","D",10,null,null,null,null,"Mixing Temp Min. C","°C","°C",{"$f":"INDIRECT(\"'\" & B2427 & C2427 & D2427)","v":0},null,null,0,0,false,"CONDITIONAL",false,"Note: Conditional based on US or Metric units as to which is mandatory and which is optional."]
["'[Asphalt Mix Design - Template (20260115 1305 BC).xlsm]","Binder Report'!","E",10,null,null,null,null,"Mixing Temp Max. C","°C","°C",{"$f":"INDIRECT(\"'\" & B2428 & C2428 & D2428)","v":0},null,null,0,0,false,"CONDITIONAL",false]
["'[Asphalt Mix Design - Template (20260115 1305 BC).xlsm]","Binder Report'!","D",11,null,null,null,null,"Compaction Temp Min. C","°C","°C",{"$f":"INDIRECT(\"'\" & B2429 & C2429 & D2429)","v":0},null,null,0,0,false,"CONDITIONAL",false]
["'[Asphalt Mix Design - Template (20260115 1305 BC).xlsm]","Binder Report'!","E",11,null,null,null,null,"Compaction Temp Max. C","°C","°C",{"$f":"INDIRECT(\"'\" & B2430 & C2430 & D2430)","v":0},null,null,0,0,false,"CONDITIONAL",false]
["'[Asphalt Mix Design - Template (20260115 1305 BC).xlsm]","Binder Report'!","F",10,null,null,null,null,"Mixing Temp Min. F","°F","°F",{"$f":"INDIRECT(\"'\" & B2431 & C2431 & D2431)","v":0},null,null,0,0,false,"CONDITIONAL",false]
["'[Asphalt Mix Design - Template (20260115 1305 BC).xlsm]","Binder Report'!","G",10,null,null,null,null,"Mixing Temp Max. F","°F","°F",{"$f":"INDIRECT(\"'\" & B2432 & C2432 & D2432)","v":0},null,null,0,0,false,"CONDITIONAL",false]
["'[Asphalt Mix Design - Template (20260115 1305 BC).xlsm]","Binder Report'!","F",11,null,null,null,null,"Compaction Temp Min. F","°F","°F",{"$f":"INDIRECT(\"'\" & B2433 & C2433 & D2433)","v":0},null,null,0,0,false,"CONDITIONAL",false]
["'[Asphalt Mix Design - Template (20260115 1305 BC).xlsm]","Binder Report'!","G",11,null,null,null,null,"Compaction Temp Max. F","°F","°F",{"$f":"INDIRECT(\"'\" & B2434 & C2434 & D2434)","v":0},null,null,{"$f":"IF(ISBLANK(N2434),L2434,N2434)","v":0},{"$f":"IF(ISBLANK(N2434),IF(OR(ISBLANK(M2434),ISERROR(M2434)),L2434,M2434),N2434)","v":0},false,"CONDITIONAL",false]
["'[Asphalt Mix Design - Template (20260115 1305 BC).xlsm]","Binder Report'!","D",15,"Original","Specific Gravity",null,null,"Temp.","°C","°C",{"$f":"INDIRECT(\"'\" & B2435 & C2435 & D2435)","v":"15.6°C"},null,null,"15.6°C","15.6°C",false,"CONDITIONAL",false]
["'[Asphalt Mix Design - Template (20260115 1305 BC).xlsm]","Binder Report'!","F",15,"Original",null,null,null,"Specification",null,null,{"$f":"INDIRECT(\"'\" & B2436 & C2436 & D2436)","v":"Report"},null,null,"Report","Report",false,false,false]
["'[Asphalt Mix Design - Template (20260115 1305 BC).xlsm]","Binder Report'!","G",15,"Original",null,null,null,"Result",null,null,{"$f":"INDIRECT(\"'\" & B2437 & C2437 & D2437)","v":0},null,null,0,0,"CONDITIONAL","CONDITIONAL",false,"Note: Conditional based on binder grading system specified. If n/a for specification, then it is irrelevant and therefore optional to report. If specification row has a value, it is mandatory to report test result and compare against specification limits."]
["'[Asphalt Mix Design - Template (20260115 1305 BC).xlsm]","Binder Report'!","F",16,"Original","Flash Point, °C",null,null,"Specification","°C","°C",{"$f":"INDIRECT(\"'\" & B2438 & C2438 & D2438)","v":"230 min"},null,null,"230 min","230 min","CONDITIONAL","CONDITIONAL",false]
["'[Asphalt Mix Design - Template (20260115 1305 BC).xlsm]","Binder Report'!","G",16,"Original",null,null,null,"Result","°C","°C",{"$f":"INDIRECT(\"'\" & B2439 & C2439 & D2439)","v":0},null,null,0,0,"CONDITIONAL","CONDITIONAL",false]
["'[Asphalt Mix Design - Template (20260115 1305 BC).xlsm]","Binder Report'!","D",17,"Original","Penetration, dmm",null,null,"Temp.","°C","°C",{"$f":"INDIRECT(\"'\" & B2440 & C2440 & D2440)","v":"25°C"},null,null,"25°C","25°C","CONDITIONAL","CONDITIONAL",false]
["'[Asphalt Mix Design - Template (20260115 1305 BC).xlsm]","Binder Report'!","F",17,"Original",null,null,null,"Specification","dmm","dmm",{"$f":"INDIRECT(\"'\" & B2441 & C2441 & D2441)","v":"n/a"},null,null,"n/a","n/a","CONDITIONAL","CONDITIONAL",false]
["'[Asphalt Mix Design - Template (20260115 1305 BC).xlsm]","Binder Report'!","G",17,"Original",null,null,null,"Result","dmm","dmm",{"$f":"INDIRECT(\"'\" & B2442 & C2442 & D2442)","v":0},null,null,0,0,"CONDITIONAL","CONDITIONAL",false]
["'[Asphalt Mix Design - Template (20260115 1305 BC).xlsm]","Binder Report'!","D",18,"Original","Ductility (5 cm/min), cm",null,null,"Temp.","°C","°C",{"$f":"INDIRECT(\"'\" & B2443 & C2443 & D2443)","v":"25°C"},null,null,"25°C","25°C","CONDITIONAL","CONDITIONAL",false]
["'[Asphalt Mix Design - Template (20260115 1305 BC).xlsm]","Binder Report'!","F",18,"Original",null,null,null,"Specification","cm","cm",{"$f":"INDIRECT(\"'\" & B2444 & C2444 & D2444)","v":"n/a"},null,null,"n/a","n/a","CONDITIONAL","CONDITIONAL",false]
["'[Asphalt Mix Design - Template (20260115 1305 BC).xlsm]","Binder Report'!","G",18,"Original",null,null,null,"Result","cm","cm",{"$f":"INDIRECT(\"'\" & B2445 & C2445 & D2445)","v":0},null,null,0,0,"CONDITIONAL","CONDITIONAL",false]
["'[Asphalt Mix Design - Template (20260115 1305 BC).xlsm]","Binder Report'!","F",19,"Original","Softening Point, °C",null,null,"Specification","°C","°C",{"$f":"INDIRECT(\"'\" & B2446 & C2446 & D2446)","v":"n/a"},null,null,"n/a","n/a","CONDITIONAL","CONDITIONAL",false]
["'[Asphalt Mix Design - Template (20260115 1305 BC).xlsm]","Binder Report'!","G",19,"Original",null,null,null,"Result","°C","°C",{"$f":"INDIRECT(\"'\" & B2447 & C2447 & D2447)","v":0},null,null,0,0,"CONDITIONAL","CONDITIONAL",false]
["'[Asphalt Mix Design - Template (20260115 1305 BC).xlsm]","Binder Report'!","D",20,"Original","Separation Index",null,null,"Temp.","°C","°C",{"$f":"INDIRECT(\"'\" & B2448 & C2448 & D2448)","v":"25°C"},null,null,"25°C","25°C","CONDITIONAL","CONDITIONAL",false]
["'[Asphalt Mix Design - Template (20260115 1305 BC).xlsm]","Binder Report'!","G",20,"Original","Top 1/3, G*/sinδ, kPa",null,null,"Result","kPa","kPa",{"$f":"INDIRECT(\"'\" & B2449 & C2449 & D2449)","v":0},null,null,0,0,"CONDITIONAL","CONDITIONAL",false]
["'[Asphalt Mix Design - Template (20260115 1305 BC).xlsm]","Binder Report'!","G",21,"Original","Bottom 1/3, G*/sinδ, kPa",null,null,"Result","kPa","kPa",{"$f":"INDIRECT(\"'\" & B2450 & C2450 & D2450)","v":0},null,null,0,0,"CONDITIONAL","CONDITIONAL",false]
["'[Asphalt Mix Design - Template (20260115 1305 BC).xlsm]","Binder Report'!","F",22,"Original","Separation Diff, %",null,null,"Specification","%","%",{"$f":"INDIRECT(\"'\" & B2451 & C2451 & D2451)","v":"n/a"},null,null,"n/a","n/a","CONDITIONAL","CONDITIONAL",false]
["'[Asphalt Mix Design - Template (20260115 1305 BC).xlsm]","Binder Report'!","G",22,"Original",null,null,null,"Result","%","%",{"$f":"INDIRECT(\"'\" & B2452 & C2452 & D2452)","v":0},null,null,0,0,"CONDITIONAL","CONDITIONAL",false]
["'[Asphalt Mix Design - Template (20260115 1305 BC).xlsm]","Binder Report'!","F",23,"Original","Solubility in TCE",null,null,"Specification","%","%",{"$f":"INDIRECT(\"'\" & B2453 & C2453 & D2453)","v":"n/a"},null,null,"n/a","n/a","CONDITIONAL","CONDITIONAL",false]
["'[Asphalt Mix Design - Template (20260115 1305 BC).xlsm]","Binder Report'!","G",23,"Original",null,null,null,"Result","%","%",{"$f":"INDIRECT(\"'\" & B2454 & C2454 & D2454)","v":0},null,null,0,0,"CONDITIONAL","CONDITIONAL",false]
["'[Asphalt Mix Design - Template (20260115 1305 BC).xlsm]","Binder Report'!","D",24,"Original","Viscosity (Vacuum Capillary Viscometer), Pa·s",null,null,"Temp.","°C","°C",{"$f":"INDIRECT(\"'\" & B2455 & C2455 & D2455)","v":"60°C"},null,null,"60°C","60°C","CONDITIONAL","CONDITIONAL",false]
["'[Asphalt Mix Design - Template (20260115 1305 BC).xlsm]","Binder Report'!","F",24,"Original",null,null,null,"Specification","Pa·s","Pa·s",{"$f":"INDIRECT(\"'\" & B2456 & C2456 & D2456)","v":"n/a"},null,null,"n/a","n/a","CONDITIONAL","CONDITIONAL",false]
["'[Asphalt Mix Design - Template (20260115 1305 BC).xlsm]","Binder Report'!","G",24,"Original",null,null,null,"Result","Pa·s","Pa·s",{"$f":"INDIRECT(\"'\" & B2457 & C2457 & D2457)","v":0},null,null,0,0,"CONDITIONAL","CONDITIONAL",false]
["'[Asphalt Mix Design - Template (20260115 1305 BC).xlsm]","Binder Report'!","D",25,"Original","Viscosity (Kinematic Viscometer), mm2/s",null,null,"Temp.","°C","°C",{"$f":"INDIRECT(\"'\" & B2458 & C2458 & D2458)","v":"135°C"},null,null,"135°C","135°C","CONDITIONAL","CONDITIONAL",false]
["'[Asphalt Mix Design - Template (20260115 1305 BC).xlsm]","Binder Report'!","F",25,"Original",null,null,null,"Specification","mm2/s","mm2/s",{"$f":"INDIRECT(\"'\" & B2459 & C2459 & D2459)","v":"n/a"},null,null,"n/a","n/a","CONDITIONAL","CONDITIONAL",false]
["'[Asphalt Mix Design - Template (20260115 1305 BC).xlsm]","Binder Report'!","G",25,"Original",null,null,null,"Result","mm2/s","mm2/s",{"$f":"INDIRECT(\"'\" & B2460 & C2460 & D2460)","v":0},null,null,0,0,"CONDITIONAL","CONDITIONAL",false]
["'[Asphalt Mix Design - Template (20260115 1305 BC).xlsm]","Binder Report'!","D",26,"Original","Viscosity (Rotational Viscometer), Pa·s",null,null,"Temp.","°C","°C",{"$f":"INDIRECT(\"'\" & B2461 & C2461 & D2461)","v":"135°C"},null,null,"135°C","135°C","CONDITIONAL","CONDITIONAL",false]
["'[Asphalt Mix Design - Template (20260115 1305 BC).xlsm]","Binder Report'!","F",26,"Original",null,null,null,"Specification","Pa·s","Pa·s",{"$f":"INDIRECT(\"'\" & B2462 & C2462 & D2462)","v":"3 max"},null,null,"3 max","3 max","CONDITIONAL","CONDITIONAL",false]
["'[Asphalt Mix Design - Template (20260115 1305 BC).xlsm]","Binder Report'!","G",26,"Original",null,null,null,"Result","Pa·s","Pa·s",{"$f":"INDIRECT(\"'\" & B2463 & C2463 & D2463)","v":0},null,null,0,0,"CONDITIONAL","CONDITIONAL",false]
["'[Asphalt Mix Design - Template (20260115 1305 BC).xlsm]","Binder Report'!","D",27,"Original","DSR",null,null,"Temp.","°C","°C",{"$f":"INDIRECT(\"'\" & B2464 & C2464 & D2464)","v":"64°C"},null,null,"64°C","64°C","CONDITIONAL","CONDITIONAL",false]
["'[Asphalt Mix Design - Template (20260115 1305 BC).xlsm]","Binder Report'!","F",27,"Original","Dynamic Shear G*/sinδ (10 rad/sec), kPa",null,null,"Specification","kPa","kPa",{"$f":"INDIRECT(\"'\" & B2465 & C2465 & D2465)","v":"1.00 min"},null,null,"1.00 min","1.00 min","CONDITIONAL","CONDITIONAL",false]
["'[Asphalt Mix Design - Template (20260115 1305 BC).xlsm]","Binder Report'!","G",27,"Original",null,null,null,"Result","kPa","kPa",{"$f":"INDIRECT(\"'\" & B2466 & C2466 & D2466)","v":0},null,null,0,0,"CONDITIONAL","CONDITIONAL",false]
["'[Asphalt Mix Design - Template (20260115 1305 BC).xlsm]","Binder Report'!","F",28,"Original","Phase Angle, °",null,null,"Specification","°","°",{"$f":"INDIRECT(\"'\" & B2467 & C2467 & D2467)","v":"Report"},null,null,"Report","Report","CONDITIONAL","CONDITIONAL",false]
["'[Asphalt Mix Design - Template (20260115 1305 BC).xlsm]","Binder Report'!","G",28,"Original",null,null,null,"Result","°","°",{"$f":"INDIRECT(\"'\" & B2468 & C2468 & D2468)","v":0},null,null,0,0,"CONDITIONAL","CONDITIONAL",false]
["'[Asphalt Mix Design - Template (20260115 1305 BC).xlsm]","Binder Report'!","D",30,"TFO","Retained Penetration, % of Original Penetration",null,null,"Temp.","°C","°C",{"$f":"INDIRECT(\"'\" & B2469 & C2469 & D2469)","v":"25°C"},null,null,"25°C","25°C","CONDITIONAL","CONDITIONAL",false]
["'[Asphalt Mix Design - Template (20260115 1305 BC).xlsm]","Binder Report'!","F",30,"TFO",null,null,null,"Specification","%","%",{"$f":"INDIRECT(\"'\" & B2470 & C2470 & D2470)","v":"n/a"},null,null,"n/a","n/a","CONDITIONAL","CONDITIONAL",false]
["'[Asphalt Mix Design - Template (20260115 1305 BC).xlsm]","Binder Report'!","G",30,"TFO",null,null,null,"Result","%","%",{"$f":"INDIRECT(\"'\" & B2471 & C2471 & D2471)","v":0},null,null,0,0,"CONDITIONAL","CONDITIONAL",false]
["'[Asphalt Mix Design - Template (20260115 1305 BC).xlsm]","Binder Report'!","D",31,"TFO","Ductility (5 cm/min), cm",null,null,"Temp.","°C","°C",{"$f":"INDIRECT(\"'\" & B2472 & C2472 & D2472)","v":"25°C"},null,null,"25°C","25°C","CONDITIONAL","CONDITIONAL",false]
["'[Asphalt Mix Design - Template (20260115 1305 BC).xlsm]","Binder Report'!","F",31,"TFO",null,null,null,"Specification","cm","cm",{"$f":"INDIRECT(\"'\" & B2473 & C2473 & D2473)","v":"n/a"},null,null,"n/a","n/a","CONDITIONAL","CONDITIONAL",false]
["'[Asphalt Mix Design - Template (20260115 1305 BC).xlsm]","Binder Report'!","G",31,"TFO",null,null,null,"Result","cm","cm",{"$f":"INDIRECT(\"'\" & B2474 & C2474 & D2474)","v":0},null,null,0,0,"CONDITIONAL","CONDITIONAL",false]
["'[Asphalt Mix Design - Template (20260115 1305 BC).xlsm]","Binder Report'!","D",32,"TFO","Viscosity (Vacuum Capillary Viscometer), Pa·s",null,null,"Temp.","°C","°C",{"$f":"INDIRECT(\"'\" & B2475 & C2475 & D2475)","v":"60°C"},null,null,"60°C","60°C","CONDITIONAL","CONDITIONAL",false]
["'[Asphalt Mix Design - Template (20260115 1305 BC).xlsm]","Binder Report'!","F",32,"TFO",null,null,null,"Specification","Pa·s","Pa·s",{"$f":"INDIRECT(\"'\" & B2476 & C2476 & D2476)","v":"n/a"},null,null,"n/a","n/a","CONDITIONAL","CONDITIONAL",false]
["'[Asphalt Mix Design - Template (20260115 1305 BC).xlsm]","Binder Report'!","G",32,"TFO",null,null,null,"Result","Pa·s","Pa·s",{"$f":"INDIRECT(\"'\" & B2477 & C2477 & D2477)","v":0},null,null,0,0,"CONDITIONAL","CONDITIONAL",false]
["'[Asphalt Mix Design - Template (20260115 1305 BC).xlsm]","Binder Report'!","F",34,"RTFO","Mass Change, % (mass loss is reported as a negative value)",null,null,"Specification","%","%",{"$f":"INDIRECT(\"'\" & B2478 & C2478 & D2478)","v":"1.00 max"},null,null,"1.00 max","1.00 max","CONDITIONAL","CONDITIONAL",false]
["'[Asphalt Mix Design - Template (20260115 1305 BC).xlsm]","Binder Report'!","G",34,"RTFO",null,null,null,"Result","%","%",{"$f":"INDIRECT(\"'\" & B2479 & C2479 & D2479)","v":0},null,null,0,0,"CONDITIONAL","CONDITIONAL",false]
["'[Asphalt Mix Design - Template (20260115 1305 BC).xlsm]","Binder Report'!","D",35,"RTFO","Viscosity (Vacuum Capillary Viscometer), Pa·s",null,null,"Temp.","°C","°C",{"$f":"INDIRECT(\"'\" & B2480 & C2480 & D2480)","v":"60°C"},null,null,"60°C","60°C","CONDITIONAL","CONDITIONAL",false]
["'[Asphalt Mix Design - Template (20260115 1305 BC).xlsm]","Binder Report'!","F",35,"RTFO",null,null,null,"Specification","Pa·s","Pa·s",{"$f":"INDIRECT(\"'\" & B2481 & C2481 & D2481)","v":"n/a"},null,null,"n/a","n/a","CONDITIONAL","CONDITIONAL",false]
["'[Asphalt Mix Design - Template (20260115 1305 BC).xlsm]","Binder Report'!","G",35,"RTFO",null,null,null,"Result","Pa·s","Pa·s",{"$f":"INDIRECT(\"'\" & B2482 & C2482 & D2482)","v":0},null,null,0,0,"CONDITIONAL","CONDITIONAL",false]
["'[Asphalt Mix Design - Template (20260115 1305 BC).xlsm]","Binder Report'!","D",36,"RTFO","Viscosity (Kinematic Viscometer), mm2/s",null,null,"Temp.","°C","°C",{"$f":"INDIRECT(\"'\" & B2483 & C2483 & D2483)","v":"135°C"},null,null,"135°C","135°C","CONDITIONAL","CONDITIONAL",false]
["'[Asphalt Mix Design - Template (20260115 1305 BC).xlsm]","Binder Report'!","F",36,"RTFO",null,null,null,"Specification","mm2/s","mm2/s",{"$f":"INDIRECT(\"'\" & B2484 & C2484 & D2484)","v":"n/a"},null,null,"n/a","n/a","CONDITIONAL","CONDITIONAL",false]
["'[Asphalt Mix Design - Template (20260115 1305 BC).xlsm]","Binder Report'!","G",36,"RTFO",null,null,null,"Result","mm2/s","mm2/s",{"$f":"INDIRECT(\"'\" & B2485 & C2485 & D2485)","v":0},null,null,0,0,"CONDITIONAL","CONDITIONAL",false]
["'[Asphalt Mix Design - Template (20260115 1305 BC).xlsm]","Binder Report'!","D",37,"RTFO","Penetration, dmm",null,null,"Temp.","°C","°C",{"$f":"INDIRECT(\"'\" & B2486 & C2486 & D2486)","v":"25°C"},null,null,"25°C","25°C","CONDITIONAL","CONDITIONAL",false]
["'[Asphalt Mix Design - Template (20260115 1305 BC).xlsm]","Binder Report'!","F",37,"RTFO",null,null,null,"Specification","dmm","dmm",{"$f":"INDIRECT(\"'\" & B2487 & C2487 & D2487)","v":"n/a"},null,null,"n/a","n/a","CONDITIONAL","CONDITIONAL",false]
["'[Asphalt Mix Design - Template (20260115 1305 BC).xlsm]","Binder Report'!","G",37,"RTFO",null,null,null,"Result","dmm","dmm",{"$f":"INDIRECT(\"'\" & B2488 & C2488 & D2488)","v":0},null,null,0,0,"CONDITIONAL","CONDITIONAL",false]
["'[Asphalt Mix Design - Template (20260115 1305 BC).xlsm]","Binder Report'!","D",38,"RTFO","Retained Penetration, % of Original Penetration",null,null,"Temp.","°C","°C",{"$f":"INDIRECT(\"'\" & B2489 & C2489 & D2489)","v":"25°C"},null,null,"25°C","25°C","CONDITIONAL","CONDITIONAL",false]
["'[Asphalt Mix Design - Template (20260115 1305 BC).xlsm]","Binder Report'!","F",38,"RTFO",null,null,null,"Specification","%","%",{"$f":"INDIRECT(\"'\" & B2490 & C2490 & D2490)","v":"n/a"},null,null,"n/a","n/a","CONDITIONAL","CONDITIONAL",false]
["'[Asphalt Mix Design - Template (20260115 1305 BC).xlsm]","Binder Report'!","G",38,"RTFO",null,null,null,"Result","%","%",{"$f":"INDIRECT(\"'\" & B2491 & C2491 & D2491)","v":0},null,null,0,0,"CONDITIONAL","CONDITIONAL",false]
["'[Asphalt Mix Design - Template (20260115 1305 BC).xlsm]","Binder Report'!","D",39,"RTFO","Ductility (5 cm/min), cm",null,null,"Temp.","°C","°C",{"$f":"INDIRECT(\"'\" & B2492 & C2492 & D2492)","v":"25°C"},null,null,"25°C","25°C","CONDITIONAL","CONDITIONAL",false]
["'[Asphalt Mix Design - Template (20260115 1305 BC).xlsm]","Binder Report'!","F",39,"RTFO",null,null,null,"Specification","cm","cm",{"$f":"INDIRECT(\"'\" & B2493 & C2493 & D2493)","v":"n/a"},null,null,"n/a","n/a","CONDITIONAL","CONDITIONAL",false]
["'[Asphalt Mix Design - Template (20260115 1305 BC).xlsm]","Binder Report'!","G",39,"RTFO",null,null,null,"Result","cm","cm",{"$f":"INDIRECT(\"'\" & B2494 & C2494 & D2494)","v":0},null,null,0,0,"CONDITIONAL","CONDITIONAL",false]
["'[Asphalt Mix Design - Template (20260115 1305 BC).xlsm]","Binder Report'!","D",40,"RTFO","DSR",null,null,"Temp.","°C","°C",{"$f":"INDIRECT(\"'\" & B2495 & C2495 & D2495)","v":"64°C"},null,null,"64°C","64°C","CONDITIONAL","CONDITIONAL",false]
["'[Asphalt Mix Design - Template (20260115 1305 BC).xlsm]","Binder Report'!","F",40,"RTFO","Dynamic Shear G*/sinδ (10 rad/sec), kPa",null,null,"Specification","kPa","kPa",{"$f":"INDIRECT(\"'\" & B2496 & C2496 & D2496)","v":"2.20 min"},null,null,"2.20 min","2.20 min","CONDITIONAL","CONDITIONAL",false]
["'[Asphalt Mix Design - Template (20260115 1305 BC).xlsm]","Binder Report'!","G",40,"RTFO",null,null,null,"Result","kPa","kPa",{"$f":"INDIRECT(\"'\" & B2497 & C2497 & D2497)","v":0},null,null,0,0,"CONDITIONAL","CONDITIONAL",false]
["'[Asphalt Mix Design - Template (20260115 1305 BC).xlsm]","Binder Report'!","F",41,"RTFO","Phase Angle, °",null,null,"Specification","°","°",{"$f":"INDIRECT(\"'\" & B2498 & C2498 & D2498)","v":"Report"},null,null,{"$f":"IF(ISBLANK(N2498),L2498,N2498)","v":"Report"},{"$f":"IF(ISBLANK(N2498),IF(OR(ISBLANK(M2498),ISERROR(M2498)),L2498,M2498),N2498)","v":"Report"},"CONDITIONAL","CONDITIONAL",false]
["'[Asphalt Mix Design - Template (20260115 1305 BC).xlsm]","Binder Report'!","G",41,"RTFO",null,null,null,"Result","°","°",{"$f":"INDIRECT(\"'\" & B2499 & C2499 & D2499)","v":0},null,null,0,0,"CONDITIONAL","CONDITIONAL",false]
["'[Asphalt Mix Design - Template (20260115 1305 BC).xlsm]","Binder Report'!","D",42,"RTFO","Elastic Recovery, %",null,null,"Temp.","°C","°C",{"$f":"INDIRECT(\"'\" & B2500 & C2500 & D2500)","v":"25°C"},null,null,"25°C","25°C","CONDITIONAL","CONDITIONAL",false]
["'[Asphalt Mix Design - Template (20260115 1305 BC).xlsm]","Binder Report'!","F",42,"RTFO",null,null,null,"Specification","%","%",{"$f":"INDIRECT(\"'\" & B2501 & C2501 & D2501)","v":"n/a"},null,null,"n/a","n/a","CONDITIONAL","CONDITIONAL",false]
["'[Asphalt Mix Design - Template (20260115 1305 BC).xlsm]","Binder Report'!","G",42,"RTFO",null,null,null,"Result","%","%",{"$f":"INDIRECT(\"'\" & B2502 & C2502 & D2502)","v":0},null,null,0,0,"CONDITIONAL","CONDITIONAL",false]
["'[Asphalt Mix Design - Template (20260115 1305 BC).xlsm]","Binder Report'!","D",43,"RTFO","MSCR",null,null,"Temp.","°C","°C",{"$f":"INDIRECT(\"'\" & B2503 & C2503 & D2503)","v":"64°C"},null,null,"64°C","64°C","CONDITIONAL","CONDITIONAL",false]
["'[Asphalt Mix Design - Template (20260115 1305 BC).xlsm]","Binder Report'!","F",43,"RTFO","MSCR Jnr (3.2 kPa), 1/kPa",null,null,"Specification","1/kPa","1/kPa",{"$f":"INDIRECT(\"'\" & B2504 & C2504 & D2504)","v":"n/a"},null,null,"n/a","n/a","CONDITIONAL","CONDITIONAL",false]
["'[Asphalt Mix Design - Template (20260115 1305 BC).xlsm]","Binder Report'!","G",43,"RTFO",null,null,null,"Result","1/kPa","1/kPa",{"$f":"INDIRECT(\"'\" & B2505 & C2505 & D2505)","v":0},null,null,0,0,"CONDITIONAL","CONDITIONAL",false]
["'[Asphalt Mix Design - Template (20260115 1305 BC).xlsm]","Binder Report'!","F",44,"RTFO","MSCR Jnr, diff, %",null,null,"Specification","%","%",{"$f":"INDIRECT(\"'\" & B2506 & C2506 & D2506)","v":"n/a"},null,null,"n/a","n/a","CONDITIONAL","CONDITIONAL",false]
["'[Asphalt Mix Design - Template (20260115 1305 BC).xlsm]","Binder Report'!","G",44,"RTFO",null,null,null,"Result","%","%",{"$f":"INDIRECT(\"'\" & B2507 & C2507 & D2507)","v":0},null,null,0,0,"CONDITIONAL","CONDITIONAL",false]
["'[Asphalt Mix Design - Template (20260115 1305 BC).xlsm]","Binder Report'!","F",45,"RTFO","MSCR Percent Recovery (3.2 kPa), %",null,null,"Specification","%","%",{"$f":"INDIRECT(\"'\" & B2508 & C2508 & D2508)","v":"n/a"},null,null,"n/a","n/a","CONDITIONAL","CONDITIONAL",false]
["'[Asphalt Mix Design - Template (20260115 1305 BC).xlsm]","Binder Report'!","G",45,"RTFO",null,null,null,"Result","%","%",{"$f":"INDIRECT(\"'\" & B2509 & C2509 & D2509)","v":0},null,null,0,0,"CONDITIONAL","CONDITIONAL",false]
["'[Asphalt Mix Design - Template (20260115 1305 BC).xlsm]","Binder Report'!","D",47,"PAV","DSR",null,null,"Temp.","°C","°C",{"$f":"INDIRECT(\"'\" & B2510 & C2510 & D2510)","v":"25°C"},null,null,"25°C","25°C","CONDITIONAL","CONDITIONAL",false]
["'[Asphalt Mix Design - Template (20260115 1305 BC).xlsm]","Binder Report'!","F",47,"PAV","Dynamic Shear G*sinδ (10 rad/sec), kPa",null,null,"Specification","kPa","kPa",{"$f":"INDIRECT(\"'\" & B2511 & C2511 & D2511)","v":"6000 max"},null,null,"6000 max","6000 max","CONDITIONAL","CONDITIONAL",false]
["'[Asphalt Mix Design - Template (20260115 1305 BC).xlsm]","Binder Report'!","G",47,"PAV",null,null,null,"Result","kPa","kPa",{"$f":"INDIRECT(\"'\" & B2512 & C2512 & D2512)","v":0},null,null,0,0,"CONDITIONAL","CONDITIONAL",false]
["'[Asphalt Mix Design - Template (20260115 1305 BC).xlsm]","Binder Report'!","F",48,"PAV","Phase Angle, °",null,null,"Specification","°","°",{"$f":"INDIRECT(\"'\" & B2513 & C2513 & D2513)","v":"42 min"},null,null,"42 min","42 min","CONDITIONAL","CONDITIONAL",false]
["'[Asphalt Mix Design - Template (20260115 1305 BC).xlsm]","Binder Report'!","G",48,"PAV",null,null,null,"Result","°","°",{"$f":"INDIRECT(\"'\" & B2514 & C2514 & D2514)","v":0},null,null,0,0,"CONDITIONAL","CONDITIONAL",false]
["'[Asphalt Mix Design - Template (20260115 1305 BC).xlsm]","Binder Report'!","D",49,"PAV","BBR",null,null,"Temp.","°C","°C",{"$f":"INDIRECT(\"'\" & B2515 & C2515 & D2515)","v":"-12°C"},null,null,"-12°C","-12°C","CONDITIONAL","CONDITIONAL",false]
["'[Asphalt Mix Design - Template (20260115 1305 BC).xlsm]","Binder Report'!","F",49,"PAV","Creep Stiffness, 60 sec, MPa ",null,null,"Specification","MPa","MPa",{"$f":"INDIRECT(\"'\" & B2516 & C2516 & D2516)","v":"300 max"},null,null,"300 max","300 max","CONDITIONAL","CONDITIONAL",false]
["'[Asphalt Mix Design - Template (20260115 1305 BC).xlsm]","Binder Report'!","G",49,"PAV",null,null,null,"Result","MPa","MPa",{"$f":"INDIRECT(\"'\" & B2517 & C2517 & D2517)","v":0},null,null,0,0,"CONDITIONAL","CONDITIONAL",false]
["'[Asphalt Mix Design - Template (20260115 1305 BC).xlsm]","Binder Report'!","F",50,"PAV","Creep m-value, 60 sec",null,null,"Specification",null,null,{"$f":"INDIRECT(\"'\" & B2518 & C2518 & D2518)","v":"0.300 min"},null,null,"0.300 min","0.300 min","CONDITIONAL","CONDITIONAL",false]
["'[Asphalt Mix Design - Template (20260115 1305 BC).xlsm]","Binder Report'!","G",50,"PAV",null,null,null,"Result",null,null,{"$f":"INDIRECT(\"'\" & B2519 & C2519 & D2519)","v":0},null,null,0,0,"CONDITIONAL","CONDITIONAL",false]
["'[Asphalt Mix Design - Template (20260115 1305 BC).xlsm]","Binder Report'!","B",52,"General",null,null,null,"Comments",null,null,{"$f":"INDIRECT(\"'\" & B2520 & C2520 & D2520)","v":0},null,null,0,0,false,false,false]

{"sheet":"MDV","index":6,"n_rows":0,"n_cols":0,"rows_kept":0,"cut":false,"hidden":true,"merged":[]}

{"sheet":"JMF Summary","index":7,"n_rows":51,"n_cols":36,"rows_kept":51,"cut":false,"hidden":false,"merged":[[12,31,12,33],[13,32,13,33],[14,32,14,33],[7,32,7,33],[8,32,8,33],[9,32,9,33],[10,32,10,33],[1,31,1,33],[2,32,2,33],[3,32,3,33],[4,32,4,33],[5,32,5,33],[6,32,6,33],[48,9,48,10],[35,7,35,10],[40,3,40,5],[16,31,16,35],[43,9,43,10],[44,9,44,10],[45,9,45,10],[46,9,46,10],[47,9,47,10],[38,9,38,10],[39,9,39,10],[40,9,40,10],[41,9,41,10],[42,9,42,10],[10,9,14,10],[36,9,36,10],[37,9,37,10],[5,31,6,31],[9,0,9,10],[29,9,29,10],[30,9,30,10],[31,9,31,10],[32,9,32,10],[33,9,33,10],[24,9,24,10],[25,9,25,10],[26,9,26,10],[27,9,27,10],[28,9,28,10],[19,9,19,10],[20,9,20,10],[21,9,21,10],[22,9,22,10],[23,9,23,10],[15,9,15,10],[16,9,16,10],[17,9,17,10],[18,9,18,10],[2,9,2,10],[7,1,7,2],[40,0,40,1],[49,3,49,5],[2,1,2,2],[3,1,3,2],[4,1,4,2],[5,1,5,2],[10,8,14,8],[48,0,48,1],[48,3,48,5],[6,1,6,2],[36,2,36,3],[37,2,37,3],[38,2,38,3],[49,0,49,1]]}
["UFGS 32 12 15.13 Asphalt Mix Design & Job Mix Formula (JMF) Summary",null,null,null,null,null,null,null,null,null,null,null,null,"UFGS 32 12 15.13 Power 0.45 Combined Gradation Plot"]
[null,null,null,null,null,null,null,null,null,null,null,null,null,null,null,null,null,null,null,null,null,null,null,null,null,null,null,null,null,null,null,"General Mix Information"]
["Mix ID",null,null,null,"Gradation",{"$f":"IF(AF15=\"Spec. Value\",AG5,AF15)","v":2},null,"Temps","Range","Target",null,null,null,null,null,null,null,null,null,null,null,null,null,null,null,null,null,null,null,null,null,"Specs Type",{"$f":"'Specs Import'!D4","v":"Generic UFGS"}]
["Date Developed",null,null,null,"Compaction",{"$f":"IF(AG15=\"Spec. Value\",AG7,AG15)","v":"75 Gyr"},null,"Mixing",{"$f":"IF($AG$4=\"US\",IF(ISNUMBER('Binder Report'!F10),'Binder Report'!F10,\"X\")&\" - \"&IF(ISNUMBER('Binder Report'!G10),'Binder Report'!G10,\"X\"),IF(ISNUMBER('Binder Report'!D10),'Binder Report'!D10,\"X\")&\" - \"&IF(ISNUMBER('Binder Report'!E10),'Binder Report'!E10,\"X\"))","v":"0 - 0"},null,{"$f":"IF($AG$4=\"US\",\"°F\",\"°C\")","v":"°F"},null,null,null,null,null,null,null,null,null,null,null,null,null,null,null,null,null,null,null,null,"Units",{"$f":"'Specs Import'!D5","v":"US"}]
["Project",null,null,null,"Binder Grade",{"$f":"AG9","v":"PG 64-22"},null,"Compaction",{"$f":"IF($AG$4=\"US\",IF(ISNUMBER('Binder Report'!F11),'Binder Report'!F11,\"X\")&\" - \"&IF(ISNUMBER('Binder Report'!G11),'Binder Report'!G11,\"X\"),IF(ISNUMBER('Binder Report'!D11),'Binder Report'!D11,\"X\")&\" - \"&IF(ISNUMBER('Binder Report'!E11),'Binder Report'!E11,\"X\"))","v":"0 - 0"},null,{"$f":"IF($AG$4=\"US\",\"°F\",\"°C\")","v":"°F"},null,null,null,null,null,null,null,null,null,null,null,null,null,null,null,null,null,null,null,null,"Gradation",{"$f":"'Specs Import'!D7","v":2}]
["Producer",null,null,null,"Source",null,null,"STMC",null,null,{"$f":"IF($AG$4=\"US\",\"°F\",\"°C\")","v":"°F"},null,null,null,null,null,null,null,null,null,null,null,null,null,null,null,null,null,null,null,null,"Compaction & Effort",{"$f":"'Specs Import'!D8","v":"Gyratory"}]
["Mix Designer",null,null,null,null,null,null,null,null,null,null,null,null,null,null,null,null,null,null,null,null,null,null,null,null,null,null,null,null,null,null,null,{"$f":"'Specs Import'!D9","v":"75 Gyr"}]
["Contract No.",null,null,null,null,null,null,null,null,null,null,null,null,null,null,null,null,null,null,null,null,null,null,null,null,null,null,null,null,null,null,"Binder Grading",{"$f":"'Specs Import'!D10","v":"PG"}]
[null,null,null,null,null,null,null,null,null,null,null,null,null,null,null,null,null,null,null,null,null,null,null,null,null,null,null,null,null,null,null,"Binder Grade",{"$f":"'Specs Import'!D11","v":"PG 64-22"}]
["Aggregate Properties",null,null,null,null,null,null,null,null,null,null,null,null,null,null,null,null,null,null,null,null,null,null,null,null,null,null,null,null,null,null,"Climatic Grade",{"$f":"'Specs Import'!D12","v":"PG 64-22"}]
["Aggregate ID",null,null,null,null,null,null,null,"Agg Blend Results","Spec. \nLimits",null,null,null,null,null,null,null,null,null,null,null,null,null,null,null,null,null,null,null,null,null,"PG+ Test",{"$f":"'Specs Import'!D13","v":"None"}]
["Source"]
["Type","---","---","---","---","---","---","---",null,null,null,null,null,null,null,null,null,null,null,null,null,null,null,null,null,null,null,null,null,null,null,"Manual Design Override"]
["Classification",{"$f":"IF(ISNUMBER(B20),IF(B20<25,\"CA\",IF(B20>75,\"FA\",\"IA\")),\"---\")&IF('Agg - Fine (MDV)'!AK8,\" (NS)\",\"\")","v":"---"},{"$f":"IF(ISNUMBER(C20),IF(C20<25,\"CA\",IF(C20>75,\"FA\",\"IA\")),\"---\")&IF('Agg - Fine (MDV)'!AK9,\" (NS)\",\"\")","v":"---"},{"$f":"IF(ISNUMBER(D20),IF(D20<25,\"CA\",IF(D20>75,\"FA\",\"IA\")),\"---\")&IF('Agg - Fine (MDV)'!AK10,\" (NS)\",\"\")","v":"---"},{"$f":"IF(ISNUMBER(E20),IF(E20<25,\"CA\",IF(E20>75,\"FA\",\"IA\")),\"---\")&IF('Agg - Fine'!AK11,\" (NS)\",\"\")","v":"---"},{"$f":"IF(ISNUMBER(F20),IF(F20<25,\"CA\",IF(F20>75,\"FA\",\"IA\")),\"---\")&IF('Agg - Fine'!AK12,\" (NS)\",\"\")","v":"---"},{"$f":"IF(ISNUMBER(G20),IF(G20<25,\"CA\",IF(G20>75,\"FA\",\"IA\")),\"---\")&IF('Agg - Fine'!AK13,\" (NS)\",\"\")","v":"---"},{"$f":"IF(ISNUMBER(H20),IF(H20<25,\"CA\",IF(H20>75,\"FA\",\"IA\")),\"---\")&IF('Agg - Fine'!AQ8,\" (NS)\",\"\")","v":"---"},null,null,null,null,null,null,null,null,null,null,null,null,null,null,null,null,null,null,null,null,null,null,null,"Gradation","Compaction"]
[{"$f":"IF(ISBLANK(B15),\"Agg Blend %\",IF(SUM(B15:H15)=100,\"Agg Blend %\",\"Blend ≠ 100%\"))","v":"Agg Blend %"},null,null,null,null,null,null,null,null,null,null,null,null,null,null,null,null,null,null,null,null,null,null,null,null,null,null,null,null,null,null,"Spec. Value","Spec. Value"]
["1\" / 25.0 mm",null,null,null,null,null,null,null,{"$f":"B$15/100*B16+C$15/100*C16+D$15/100*D16+E$15/100*E16+F$15/100*F16+G$15/100*G16+H$15/100*H16","v":0},{"$f":"IF(AH29<>0,FIXED(AH29,0)&AI29,\"\")&IF(AJ29<>0,AJ29,100)","v":"---"}]
["3/4\" / 19.0 mm",null,null,null,null,null,null,null,0,{"$f":"IF(AH30<>0,FIXED(AH30,0)&AI30,\"\")&IF(AJ30<>0,AJ30,100)","v":"100"},null,null,null,null,null,null,null,null,null,null,null,null,null,null,null,null,null,null,null,null,null,"Specification Limits"]
["1/2\" / 12.5 mm",null,null,null,null,null,null,null,{"$f":"B$15/100*B18+C$15/100*C18+D$15/100*D18+E$15/100*E18+F$15/100*F18+G$15/100*G18+H$15/100*H18","v":0},"90 - 100",null,null,null,null,null,null,null,null,null,null,null,null,null,null,null,null,null,null,null,null,null,"Property","Operator","Limit 1",null,"Limit 2"]
["3/8\" / 9.5 mm",null,null,null,null,null,null,null,0,"69 - 89",null,null,null,null,null,null,null,null,null,null,null,null,null,null,null,null,null,null,null,null,null,"LA Abrasion, %",{"$f":"'Specs Import'!U101","v":"≤"},{"$f":"IF($AG$4=\"US\",'Specs Import'!K101,'Specs Import'!R101)","v":40}," - "]
["#4 / 4.75 mm",null,null,null,null,null,null,null,{"$f":"B$15/100*B20+C$15/100*C20+D$15/100*D20+E$15/100*E20+F$15/100*F20+G$15/100*G20+H$15/100*H20","v":0},"53 - 73",null,null,null,null,null,null,null,null,null,null,null,null,null,null,null,null,null,null,null,null,null,"Sodium Sulfate Soundness, %",{"$f":"'Specs Import'!$U$102","v":"≤"},{"$f":"IF($AG$4=\"US\",'Specs Import'!K102,'Specs Import'!R102)","v":12}," - "]
["#8 / 2.36 mm",null,null,null,null,null,null,null,0,"38 - 60",null,null,null,null,null,null,null,null,null,null,null,null,null,null,null,null,null,null,null,null,null,"Magnesium Sulfate Soundness",{"$f":"'Specs Import'!$U$103","v":"≤"},{"$f":"IF($AG$4=\"US\",'Specs Import'!K103,'Specs Import'!R103)","v":18}," - "]
["#16 / 1.18 mm",null,null,null,null,null,null,null,0,"26 - 48",null,null,null,null,null,null,null,null,null,null,null,null,null,null,null,null,null,null,null,null,null,"Fractured Faces, %",{"$f":"'Specs Import'!$U$104","v":"≥"},{"$f":"IF($AG$4=\"US\",'Specs Import'!H104,'Specs Import'!O104)","v":75}," - "]
["#30 / 0.60 mm",null,null,null,null,null,null,null,0,"18 - 38",null,null,null,null,null,null,null,null,null,null,null,null,null,null,null,null,null,null,null,null,null,"F&E, %",{"$f":"'Specs Import'!$U$105","v":"≤"},{"$f":"IF($AG$4=\"US\",'Specs Import'!K105,'Specs Import'!R105)","v":5}," - "]
["#50 / 0.30 mm",null,null,null,null,null,null,null,0,"11 - 27",null,null,null,null,null,null,null,null,null,null,null,null,null,null,null,null,null,null,null,null,null,"Clay Lumps, %",{"$f":"'Specs Import'!$U$107","v":"≤"},{"$f":"IF($AG$4=\"US\",'Specs Import'!K107,'Specs Import'!R107)","v":0.3}," - "]
["#100 / 0.15 mm",null,null,null,null,null,null,null,0,"6 - 18",null,null,null,null,null,null,null,null,null,null,null,null,null,null,null,null,null,null,null,null,null,"Natural Sand, %",{"$f":"'Specs Import'!U108","v":"≤"},{"$f":"IF($AG$4=\"US\",'Specs Import'!K108,'Specs Import'!R108)","v":15}]
["#200 / 0.075 mm",null,null,null,null,null,null,null,0,"3 - 6",null,null,null,null,null,null,null,null,null,null,null,null,null,null,null,null,null,null,null,null,null,"Sand Equivalency",{"$f":"'Specs Import'!$U$109","v":">"},{"$f":"IF($AG$4=\"US\",'Specs Import'!G109,'Specs Import'!N109)","v":45}," - "]
["Gsa",{"$f":"IFERROR('Agg Gsb'!C39,\"---\")","v":"---"},{"$f":"IFERROR('Agg Gsb'!E39,\"---\")","v":"---"},{"$f":"IFERROR('Agg Gsb'!G39,\"---\")","v":"---"},{"$f":"IFERROR('Agg Gsb'!I39,\"---\")","v":"---"},{"$f":"IFERROR('Agg Gsb'!K39,\"---\")","v":"---"},{"$f":"IFERROR('Agg Gsb'!M39,\"---\")","v":"---"},{"$f":"IFERROR('Agg Gsb'!O39,\"---\")","v":"---"},{"$f":"IFERROR('Agg Gsb'!Q39,\"---\")","v":"---"},"---",null,null,null,null,null,null,null,null,null,null,null,null,null,null,null,null,null,null,null,null,null,"FAA, %",{"$f":"'Specs Import'!$U$110","v":">"},{"$f":"IF($AG$4=\"US\",'Specs Import'!G110,'Specs Import'!N110)","v":45}," - "]
["Gsb",{"$f":"IFERROR('Agg Gsb'!C40,\"---\")","v":"---"},{"$f":"IFERROR('Agg Gsb'!E40,\"---\")","v":"---"},{"$f":"IFERROR('Agg Gsb'!G40,\"---\")","v":"---"},{"$f":"IFERROR('Agg Gsb'!I40,\"---\")","v":"---"},{"$f":"IFERROR('Agg Gsb'!K40,\"---\")","v":"---"},{"$f":"IFERROR('Agg Gsb'!M40,\"---\")","v":"---"},{"$f":"IFERROR('Agg Gsb'!O40,\"---\")","v":"---"},{"$f":"IFERROR('Agg Gsb'!Q40,\"---\")","v":"---"},"---",null,null,null,null,null,null,null,null,null,null,null,null,null,null,null,null,null,null,null,null,null,"Clay Lumps, %",{"$f":"'Specs Import'!$U$111","v":"≤"},{"$f":"IF($AG$4=\"US\",'Specs Import'!K111,'Specs Import'!R111)","v":0.3}," - "]
["Abs, %",{"$f":"IFERROR('Agg Gsb'!C41,\"---\")","v":"---"},{"$f":"IFERROR('Agg Gsb'!E41,\"---\")","v":"---"},{"$f":"IFERROR('Agg Gsb'!G41,\"---\")","v":"---"},{"$f":"IFERROR('Agg Gsb'!I41,\"---\")","v":"---"},{"$f":"IFERROR('Agg Gsb'!K41,\"---\")","v":"---"},{"$f":"IFERROR('Agg Gsb'!M41,\"---\")","v":"---"},{"$f":"IFERROR('Agg Gsb'!O41,\"---\")","v":"---"},{"$f":"IFERROR('Agg Gsb'!Q41,\"---\")","v":0},"---",null,null,null,null,null,null,null,null,null,null,null,null,null,null,null,null,null,null,null,null,null,"1\" / 25.0 mm",null,{"$f":"IFERROR(IF($AG$4=\"US\",IF($F$3=1,'Specs Import'!H114,IF($F$3=2,'Specs Import'!H126,'Specs Import'!H138)),IF($F$3=1,'Specs Import'!O114,IF($F$3=2,'Specs Import'!O126,'Specs Import'!O138))),0)","v":0}," - ",{"$f":"IFERROR(IF($AG$4=\"US\",IF($F$3=1,'Specs Import'!K114,IF($F$3=2,'Specs Import'!K126,'Specs Import'!K138)),IF($F$3=1,'Specs Import'!R114,IF($F$3=2,'Specs Import'!R126,'Specs Import'!R138))),0)","v":"---"}]
["LA Abrasion, %",{"$f":"IFERROR('Agg - Coarse'!D17,\"---\")","v":"---"},{"$f":"IFERROR('Agg - Coarse'!F17,\"---\")","v":"---"},{"$f":"IFERROR('Agg - Coarse'!H17,\"---\")","v":"---"},{"$f":"IFERROR('Agg - Coarse'!J17,\"---\")","v":"---"},{"$f":"IFERROR('Agg - Coarse'!L17,\"---\")","v":"---"},{"$f":"IFERROR('Agg - Coarse'!N17,\"---\")","v":"---"},{"$f":"IFERROR('Agg - Coarse'!P17,\"---\")","v":"---"},"---",{"$f":"IF(AND(ISNUMBER(AH19),AH19<>0),AG19 & \" \" & FIXED(AH19,0),\"---\")","v":"≤ 40"},null,null,null,null,null,null,null,null,null,null,null,null,null,null,null,null,null,null,null,null,null,"3/4\" / 19.0 mm",null,{"$f":"IFERROR(IF($AG$4=\"US\",IF($F$3=1,'Specs Import'!H115,IF($F$3=2,'Specs Import'!H127,'Specs Import'!H139)),IF($F$3=1,'Specs Import'!O115,IF($F$3=2,'Specs Import'!O127,'Specs Import'!O139))),0)","v":0}," - ",{"$f":"IFERROR(IF($AG$4=\"US\",IF($F$3=1,'Specs Import'!K115,IF($F$3=2,'Specs Import'!K127,'Specs Import'!K139)),IF($F$3=1,'Specs Import'!R115,IF($F$3=2,'Specs Import'!R127,'Specs Import'!R139))),0)","v":100}]
["Fractured Faces, %",{"$f":"IFERROR('Agg - Coarse'!D40,\"---\")","v":"---"},{"$f":"IFERROR('Agg - Coarse'!F40,\"---\")","v":"---"},{"$f":"IFERROR('Agg - Coarse'!H40,\"---\")","v":"---"},{"$f":"IFERROR('Agg - Coarse'!J40,\"---\")","v":"---"},{"$f":"IFERROR('Agg - Coarse'!L40,\"---\")","v":"---"},{"$f":"IFERROR('Agg - Coarse'!N40,\"---\")","v":"---"},{"$f":"IFERROR('Agg - Coarse'!P40,\"---\")","v":"---"},"---",{"$f":"IF(AND(ISNUMBER(AH22),AH22<>0),AG22 & \" \" & FIXED(AH22,0),\"---\")","v":"≥ 75"},null,null,null,null,null,null,null,null,null,null,null,null,null,null,null,null,null,null,null,null,null,"1/2\" / 12.5 mm",null,{"$f":"IFERROR(IF($AG$4=\"US\",IF($F$3=1,'Specs Import'!H116,IF($F$3=2,'Specs Import'!H128,'Specs Import'!H140)),IF($F$3=1,'Specs Import'!O116,IF($F$3=2,'Specs Import'!O128,'Specs Import'!O140))),0)","v":90}," - ",{"$f":"IFERROR(IF($AG$4=\"US\",IF($F$3=1,'Specs Import'!K116,IF($F$3=2,'Specs Import'!K128,'Specs Import'!K140)),IF($F$3=1,'Specs Import'!R116,IF($F$3=2,'Specs Import'!R128,'Specs Import'!R140))),0)","v":100}]
["F&E, %",{"$f":"IFERROR('Agg - Coarse'!D66,\"---\")","v":"---"},{"$f":"IFERROR('Agg - Coarse'!F66,\"---\")","v":"---"},{"$f":"IFERROR('Agg - Coarse'!H66,\"---\")","v":"---"},{"$f":"IFERROR('Agg - Coarse'!J66,\"---\")","v":"---"},{"$f":"IFERROR('Agg - Coarse'!L66,\"---\")","v":"---"},{"$f":"IFERROR('Agg - Coarse'!N66,\"---\")","v":"---"},{"$f":"IFERROR('Agg - Coarse'!P66,\"---\")","v":"---"},"---",{"$f":"IF(AND(ISNUMBER(AH23),AH23<>0),AG23 & \" \" & FIXED(AH23,0),\"---\")","v":"≤ 5"},null,null,null,null,null,null,null,null,null,null,null,null,null,null,null,null,null,null,null,null,null,"3/8\" / 9.5 mm",null,{"$f":"IFERROR(IF($AG$4=\"US\",IF($F$3=1,'Specs Import'!H117,IF($F$3=2,'Specs Import'!H129,'Specs Import'!H141)),IF($F$3=1,'Specs Import'!O117,IF($F$3=2,'Specs Import'!O129,'Specs Import'!O141))),0)","v":69}," - ",{"$f":"IFERROR(IF($AG$4=\"US\",IF($F$3=1,'Specs Import'!K117,IF($F$3=2,'Specs Import'!K129,'Specs Import'!K141)),IF($F$3=1,'Specs Import'!R117,IF($F$3=2,'Specs Import'!R129,'Specs Import'!R141))),0)","v":89}]
["Sand Equivalency",{"$f":"IFERROR('Agg - Fine'!C18,\"---\")","v":"---"},{"$f":"IFERROR('Agg - Fine'!E18,\"---\")","v":"---"},{"$f":"IFERROR('Agg - Fine'!G18,\"---\")","v":"---"},{"$f":"IFERROR('Agg - Fine'!I18,\"---\")","v":"---"},{"$f":"IFERROR('Agg - Fine'!K18,\"---\")","v":"---"},{"$f":"IFERROR('Agg - Fine'!M18,\"---\")","v":"---"},{"$f":"IFERROR('Agg - Fine'!O18,\"---\")","v":"---"},"---",{"$f":"IF(AND(ISNUMBER(AH26),AH26<>0),AG26 & \" \" & FIXED(AH26,0),\"---\")","v":"> 45"},null,null,null,null,null,null,null,null,null,null,null,null,null,null,null,null,null,null,null,null,null,"#4 / 4.75 mm",null,{"$f":"IFERROR(IF($AG$4=\"US\",IF($F$3=1,'Specs Import'!H118,IF($F$3=2,'Specs Import'!H130,'Specs Import'!H142)),IF($F$3=1,'Specs Import'!O118,IF($F$3=2,'Specs Import'!O130,'Specs Import'!O142))),0)","v":53}," - ",{"$f":"IFERROR(IF($AG$4=\"US\",IF($F$3=1,'Specs Import'!K118,IF($F$3=2,'Specs Import'!K130,'Specs Import'!K142)),IF($F$3=1,'Specs Import'!R118,IF($F$3=2,'Specs Import'!R130,'Specs Import'!R142))),0)","v":73}]
["FAA, %",{"$f":"IFERROR('Agg - Fine'!C31,\"---\")","v":"---"},{"$f":"IFERROR('Agg - Fine'!E31,\"---\")","v":"---"},{"$f":"IFERROR('Agg - Fine'!G31,\"---\")","v":"---"},{"$f":"IFERROR('Agg - Fine'!I31,\"---\")","v":"---"},{"$f":"IFERROR('Agg - Fine'!K31,\"---\")","v":"---"},{"$f":"IFERROR('Agg - Fine'!M31,\"---\")","v":"---"},{"$f":"IFERROR('Agg - Fine'!O31,\"---\")","v":"---"},{"$f":"IFERROR('Agg - Fine'!Q31,\"---\")","v":"---"},{"$f":"IF(AND(ISNUMBER(AH27),AH27<>0),AG27 & \" \" & FIXED(AH27,1),\"---\")","v":"> 45.0"},null,null,null,null,null,null,null,null,null,null,null,null,null,null,null,null,null,null,null,null,null,"#8 / 2.36 mm",null,{"$f":"IFERROR(IF($AG$4=\"US\",IF($F$3=1,'Specs Import'!H119,IF($F$3=2,'Specs Import'!H131,'Specs Import'!H143)),IF($F$3=1,'Specs Import'!O119,IF($F$3=2,'Specs Import'!O131,'Specs Import'!O143))),0)","v":38}," - ",{"$f":"IFERROR(IF($AG$4=\"US\",IF($F$3=1,'Specs Import'!K119,IF($F$3=2,'Specs Import'!K131,'Specs Import'!K143)),IF($F$3=1,'Specs Import'!R119,IF($F$3=2,'Specs Import'!R131,'Specs Import'!R143))),0)","v":60}]
[null,null,null,null,null,null,null,null,null,null,null,null,null,null,null,null,null,null,null,null,null,null,null,null,null,null,null,null,null,null,null,"#16 / 1.18 mm",null,{"$f":"IFERROR(IF($AG$4=\"US\",IF($F$3=1,'Specs Import'!H120,IF($F$3=2,'Specs Import'!H132,'Specs Import'!H144)),IF($F$3=1,'Specs Import'!O120,IF($F$3=2,'Specs Import'!O132,'Specs Import'!O144))),0)","v":26}," - ",{"$f":"IFERROR(IF($AG$4=\"US\",IF($F$3=1,'Specs Import'!K120,IF($F$3=2,'Specs Import'!K132,'Specs Import'!K144)),IF($F$3=1,'Specs Import'!R120,IF($F$3=2,'Specs Import'!R132,'Specs Import'!R144))),0)","v":48}]
["Additive Dosages & Products",null,null,null,null,null,null,"JMF Properties at Design Pb",null,null,null,null,null,null,null,null,null,null,null,null,null,null,null,null,null,null,null,null,null,null,null,"#30 / 0.60 mm",null,{"$f":"IFERROR(IF($AG$4=\"US\",IF($F$3=1,'Specs Import'!H121,IF($F$3=2,'Specs Import'!H133,'Specs Import'!H145)),IF($F$3=1,'Specs Import'!O121,IF($F$3=2,'Specs Import'!O133,'Specs Import'!O145))),0)","v":18}," - ",{"$f":"IFERROR(IF($AG$4=\"US\",IF($F$3=1,'Specs Import'!K121,IF($F$3=2,'Specs Import'!K133,'Specs Import'!K145)),IF($F$3=1,'Specs Import'!R121,IF($F$3=2,'Specs Import'!R133,'Specs Import'!R145))),0)","v":38}]
["Anti-Strip",0,null,null,null,null,null,"Property","Result","Limit",null,null,null,null,null,null,null,null,null,null,null,null,null,null,null,null,null,null,null,null,null,"#50 / 0.30 mm",null,{"$f":"IFERROR(IF($AG$4=\"US\",IF($F$3=1,'Specs Import'!H122,IF($F$3=2,'Specs Import'!H134,'Specs Import'!H146)),IF($F$3=1,'Specs Import'!O122,IF($F$3=2,'Specs Import'!O134,'Specs Import'!O146))),0)","v":11}," - ",{"$f":"IFERROR(IF($AG$4=\"US\",IF($F$3=1,'Specs Import'!K122,IF($F$3=2,'Specs Import'!K134,'Specs Import'!K146)),IF($F$3=1,'Specs Import'!R122,IF($F$3=2,'Specs Import'!R134,'Specs Import'!R146))),0)","v":27}]
["WMA",0,null,null,null,null,null,"Design Pb",{"$f":"IFERROR(Volumetrics!V11,\"---\")","v":"---"},"---",null,null,null,null,null,null,null,null,null,null,null,null,null,null,null,null,null,null,null,null,null,"#100 / 0.15 mm",null,{"$f":"IFERROR(IF($AG$4=\"US\",IF($F$3=1,'Specs Import'!H123,IF($F$3=2,'Specs Import'!H135,'Specs Import'!H147)),IF($F$3=1,'Specs Import'!O123,IF($F$3=2,'Specs Import'!O135,'Specs Import'!O147))),0)","v":6}," - ",{"$f":"IFERROR(IF($AG$4=\"US\",IF($F$3=1,'Specs Import'!K123,IF($F$3=2,'Specs Import'!K135,'Specs Import'!K147)),IF($F$3=1,'Specs Import'!R123,IF($F$3=2,'Specs Import'!R135,'Specs Import'!R147))),0)","v":18}]
["Other",0,null,null,null,null,null,"Gb",{"$f":"IFERROR(Volumetrics!R3,\"---\")","v":"---"},"---",null,null,null,null,null,null,null,null,null,null,null,null,null,null,null,null,null,null,null,null,null,"#200 / 0.075 mm",null,{"$f":"IFERROR(IF($AG$4=\"US\",IF($F$3=1,'Specs Import'!H124,IF($F$3=2,'Specs Import'!H136,'Specs Import'!H148)),IF($F$3=1,'Specs Import'!O124,IF($F$3=2,'Specs Import'!O136,'Specs Import'!O148))),0)","v":3}," - ",{"$f":"IFERROR(IF($AG$4=\"US\",IF($F$3=1,'Specs Import'!K124,IF($F$3=2,'Specs Import'!K136,'Specs Import'!K148)),IF($F$3=1,'Specs Import'!R124,IF($F$3=2,'Specs Import'!R136,'Specs Import'!R148))),0)","v":6}]
[null,null,null,null,null,null,null,"Gse",{"$f":"IFERROR(Volumetrics!R5,\"---\")","v":"---"},"---",null,null,null,null,null,null,null,null,null,null,null,null,null,null,null,null,null,null,null,null,null,"Elastic Recovery, %",{"$f":"'Specs Import'!U152","v":"≥"},{"$f":"IF(AG11=\"Elastic Recovery\",FIXED(IF($AG$4=\"US\",'Specs Import'!H152,'Specs Import'!O152),0),\"---\")","v":"---"}," - "]
["RAP & Virgin Binder Contents",null,null,"Mix Mechanical Properties",null,null,null,"Gmm",{"$f":"IFERROR(Volumetrics!W11,\"---\")","v":"---"},"---",null,null,null,null,null,null,null,null,null,null,null,null,null,null,null,null,null,null,null,null,null,"Stability",{"$f":"'Specs Import'!$U$154","v":"≥"},{"$f":"IF(OR($F$4=\"75 Gyr\",$F$4=\"50 Gyr\"),\"---\",IF($F$4=\"75 Blow\",IF($AG$4=\"US\",'Specs Import'!$H$154,'Specs Import'!$O$154),IF($AG$4=\"US\",'Specs Import'!$H$161,'Specs Import'!$O$161)))","v":"---"}," - "]
["RAP, %",0,null,"Property","Result","Limit",null,"Gmb",{"$f":"IFERROR(Volumetrics!X11,\"---\")","v":"---"},"---",null,null,null,null,null,null,null,null,null,null,null,null,null,null,null,null,null,null,null,null,null,"Flow",null,{"$f":"IF(AG11=\"None\",IF(OR($F$4=\"75 Gyr\",$F$4=\"50 Gyr\"),\"---\",IF($F$4=\"75 Blow\",IF($AG$4=\"US\",'Specs Import'!$H$155,'Specs Import'!$O$155),IF($AG$4=\"US\",'Specs Import'!$H$162,'Specs Import'!$O$162))),\"---\")","v":"---"}," - ",{"$f":"IF(AG11=\"None\",IF(OR($F$4=\"75 Gyr\",$F$4=\"50 Gyr\"),\"---\",IF($F$4=\"75 Blow\",IF($AG$4=\"US\",'Specs Import'!$K$155,'Specs Import'!$R$155),IF($AG$4=\"US\",'Specs Import'!$K$162,'Specs Import'!$R$162))),\"---\")","v":"---"}]
["RAP Pb, %",0,null,{"$f":"\"Stability, \" & IF($AG$4=\"US\",\"lb\",\"N\")","v":"Stability, lb"},{"$f":"IFERROR(Volumetrics!AG11,\"---\")","v":"---"},{"$f":"IF(ISNUMBER(AH41),AG41 & \" \" & FIXED(AH41,0,FALSE),\"---\")","v":"---"},null,"Va",{"$f":"IFERROR(Volumetrics!Y11,\"---\")","v":"---"},{"$f":"IF(ISNUMBER(AH43),FIXED(AH43,1),\"---\")","v":"4.0"},null,null,null,null,null,null,null,null,null,null,null,null,null,null,null,null,null,null,null,null,null,"Air Voids",null,{"$f":"IF($AG$4=\"US\",IF($F$4=\"75 Blow\",'Specs Import'!I156,IF($F$4=\"50 Blow\",'Specs Import'!I163,IF($F$4=\"75 Gyr\",'Specs Import'!I168,'Specs Import'!I173))),IF($F$4=\"75 Blow\",'Specs Import'!P156,IF($F$4=\"50 Blow\",'Specs Import'!P163,IF($F$4=\"75 Gyr\",'Specs Import'!P168,'Specs Import'!P173))))","v":4}," - "]
["RBA, %",100,null,"Flow",{"$f":"IFERROR(Volumetrics!AH11,\"---\")","v":"---"},{"$f":"IF(ISNUMBER(AH42),FIXED(AH42,0)&AI42&FIXED(AJ42,0),\"---\")","v":"---"},null,"VMA",{"$f":"IFERROR(Volumetrics!Z11,\"---\")","v":"---"},{"$f":"IF(ISNUMBER(AH47),AG47 & \" \" & FIXED(AH47,1),\"---\")","v":"≥ 14.0"},null,null,null,null,null,null,null,null,null,null,null,null,null,null,null,null,null,null,null,null,null,"Dust Proportion",null,{"$f":"IF($AG$4=\"US\",IF($F$4=\"75 Blow\",'Specs Import'!H157,IF($F$4=\"50 Blow\",'Specs Import'!H164,IF($F$4=\"75 Gyr\",'Specs Import'!H169,'Specs Import'!H174))),IF($F$4=\"75 Blow\",'Specs Import'!O157,IF($F$4=\"50 Blow\",'Specs Import'!O164,IF($F$4=\"75 Gyr\",'Specs Import'!O169,'Specs Import'!O174))))","v":0.8}," - ",{"$f":"IF($AG$4=\"US\",IF($F$4=\"75 Blow\",'Specs Import'!K157,IF($F$4=\"50 Blow\",'Specs Import'!K164,IF($F$4=\"75 Gyr\",'Specs Import'!K169,'Specs Import'!K174))),IF($F$4=\"75 Blow\",'Specs Import'!R157,IF($F$4=\"50 Blow\",'Specs Import'!R164,IF($F$4=\"75 Gyr\",'Specs Import'!R169,'Specs Import'!R174))))","v":1.2}]
[{"$f":"\"RBR, % (\" & AH48 & \"% max)\"","v":"RBR, % (20% max)"},{"$f":"IFERROR((B46-B47)/B46*100,\"---\")","v":"---"},null,"TSR",{"$f":"IFERROR(TSR!C48,\"---\")","v":"---"},{"$f":"IF(ISNUMBER(AH45),AG45 & \" \" & FIXED(AH45,0),\"---\")","v":"≥ 75"},null,"VFA",{"$f":"IFERROR(Volumetrics!AA11,\"---\")","v":"---"},"---",null,null,null,null,null,null,null,null,null,null,null,null,null,null,null,null,null,null,null,null,null,"TSR",{"$f":"'Specs Import'!$U$158","v":"≥"},{"$f":"IF($AG$4=\"US\",IF($F$4=\"75 Blow\",'Specs Import'!H158,IF($F$4=\"50 Blow\",'Specs Import'!H165,IF($F$4=\"75 Gyr\",'Specs Import'!H170,'Specs Import'!H175))),IF($F$4=\"75 Blow\",'Specs Import'!O158,IF($F$4=\"50 Blow\",'Specs Import'!O165,IF($F$4=\"75 Gyr\",'Specs Import'!O170,'Specs Import'!O175))))","v":75}," - "]
["Total Pb, %",{"$f":"I38","v":"---"},null,{"$f":"\"St Dry, \" & IF($AG$4=\"US\",\"psi\",\"kPa\")","v":"St Dry, psi"},{"$f":"IFERROR(TSR!F44,\"---\")","v":"---"},"---",null,"VBE",{"$f":"IFERROR(Volumetrics!AB11,\"---\")","v":"---"},"---",null,null,null,null,null,null,null,null,null,null,null,null,null,null,null,null,null,null,null,null,null,"St Wet",{"$f":"'Specs Import'!$U$159","v":"≥"},{"$f":"IF($AG$4=\"US\",IF($F$4=\"75 Blow\",'Specs Import'!H159,IF($F$4=\"50 Blow\",'Specs Import'!H166,IF($F$4=\"75 Gyr\",'Specs Import'!H171,'Specs Import'!H176))),IF($F$4=\"75 Blow\",'Specs Import'!O159,IF($F$4=\"50 Blow\",'Specs Import'!O166,IF($F$4=\"75 Gyr\",'Specs Import'!O171,'Specs Import'!O176))))","v":60}," - "]
["Virgin Pb, %",{"$f":"IFERROR(B46-(B42*B43*(B44/100)/100),\"---\")","v":"---"},null,{"$f":"\"St Wet, \" & IF($AG$4=\"US\",\"psi\",\"kPa\")","v":"St Wet, psi"},{"$f":"IFERROR(TSR!J45,\"---\")","v":"---"},{"$f":"IF(ISNUMBER(AH46),AG46 & \" \" & FIXED(AH46,0),\"---\")","v":"≥ 60"},null,"Pba,mix",{"$f":"IFERROR(Volumetrics!AC11,\"---\")","v":"---"},"---",null,null,null,null,null,null,null,null,null,null,null,null,null,null,null,null,null,null,null,null,null,"VMA",{"$f":"'Specs Import'!$U$178","v":"≥"},{"$f":"IFERROR(IF($AG$4=\"US\",IF($F$3=1,'Specs Import'!H178,IF($F$3=2,'Specs Import'!H179,'Specs Import'!H180)),IF($F$3=1,'Specs Import'!O178,IF($F$3=2,'Specs Import'!O179,'Specs Import'!O180))),0)","v":14}," - "]
[null,null,null,null,null,null,null,"Pbe",{"$f":"IFERROR(Volumetrics!AD11,\"---\")","v":"---"},"---",null,null,null,null,null,null,null,null,null,null,null,null,null,null,null,null,null,null,null,null,null,"ABR",{"$f":"'Specs Import'!$U$181","v":"≤"},{"$f":"IF($AG$4=\"US\",'Specs Import'!K181,'Specs Import'!R181)","v":20}," - "]
[null,null,null,null,null,null,null,"D/Pbe",{"$f":"IFERROR(Volumetrics!AF11,\"---\")","v":"---"},{"$f":"IF(ISNUMBER(AH44),FIXED(AH44,1)&AI44&FIXED(AJ44,1),\"---\")","v":"0.8 - 1.2"}]
["LAB TECHNICIAN (or other title)",null,null,"LAB MANAGER (or other title)"]
[null,null,null,null,null,null,null,null,null,null,null,null,{"$f":"IF(AG3=\"Generic UFGS\",\"This template utilizes UFGS 32 12 15.13 specification limits.\",\"Specification limits in this template have been tailored to a specific project\"&IF(ISBLANK(B8),\".\",\" for Contract \"&B8&\".\"))","v":"This template utilizes UFGS 32 12 15.13 specification limits."}]

{"sheet":"Volumetrics","index":8,"n_rows":44,"n_cols":50,"rows_kept":44,"cut":false,"hidden":false,"merged":[[1,41,1,46],[2,44,3,44],[1,38,1,39],[43,0,43,5],[42,0,42,5],[43,10,43,15],[42,10,42,15],[39,2,40,17],[12,43,12,45],[12,46,12,49],[3,20,3,33],[9,0,9,17],[6,0,6,1],[5,20,9,20],[5,9,5,10],[5,13,5,14],[12,42,13,42],[3,12,3,13],[4,12,4,13],[5,7,5,8],[11,0,14,0],[11,1,14,1],[6,2,6,5],[12,41,13,41],[2,9,2,10],[3,9,3,10],[4,9,4,10],[2,0,2,1],[2,7,2,8],[4,0,4,1],[4,7,4,8],[3,0,3,1],[3,7,3,8],[2,2,2,5],[3,2,3,5],[4,2,4,5],[15,0,18,0],[15,1,18,1],[5,0,5,1],[5,2,5,5],[34,0,37,0],[34,1,37,1],[27,0,30,0],[27,1,30,1],[32,0,32,17],[23,0,26,0],[23,1,26,1],[19,0,22,0],[19,1,22,1]]}
["UFGS 32 12 15.13 Asphalt Mix Design Volumetric Worksheet (Page 1 of 2)",null,null,null,null,null,null,null,null,null,null,null,null,null,null,null,null,null,null,"UFGS 32 12 15.13 Asphalt Mix Design Volumetric Worksheet (Page 2 of 2)"]
[null,null,null,null,null,null,null,null,null,null,null,null,null,null,null,null,null,null,null,null,null,null,null,null,null,null,null,null,null,null,null,null,null,null,null,null,null,null,"Form Data",null,null,"Raw Data Override (admin user only)"]
["Mix ID",null,{"$f":"IF(ISBLANK('JMF Summary'!B3),\"---\",'JMF Summary'!B3)","v":"---"},null,null,null,null,"Gradation",null,{"$f":"'JMF Summary'!F3","v":2},null,null,"Target Temperatures",null,null,null,"Gb",{"$f":"IFERROR(IF(AQ5=\"Raw Data\",IF(ISNUMBER('Binder Report'!G15),'Binder Report'!G15,\"---\"),AR5),\"---\")","v":"---"},null,null,null,null,null,null,null,null,null,null,null,null,null,null,null,null,null,null,null,null,"Design Va",{"$f":"IFERROR(IF(AQ4=\"User Input\",AR4,IF(ISNUMBER('JMF Summary'!AH43),'JMF Summary'!AH43,4)),4)","v":4},null,"Parameter","Input Type","Value","Pb","Gmm","Gmb"]
["Date",null,{"$f":"IF(ISBLANK('JMF Summary'!B4),\"---\",'JMF Summary'!B4)","v":"---"},null,null,null,null,"Compaction",null,{"$f":"'JMF Summary'!F4","v":"75 Gyr"},null,null,"Mixing",null,{"$f":"IF(ISBLANK('JMF Summary'!J4),\"---\",'JMF Summary'!J4 & \" \" & 'JMF Summary'!K4)","v":"---"},null,"Gsb",{"$f":"IFERROR(IF(AQ6=\"Raw Data\",'Agg Gsb'!Q40,AR6),\"---\")","v":"---"},null,null,"Volumetric Summary",null,null,null,null,null,null,null,null,null,null,null,null,null,null,null,null,null,"No. Pb's",{"$f":"COUNT(V6:V10)","v":0},null,"Design Va","Specification",null,null,"Raw Data","Raw Data"]
["Project",null,{"$f":"IF(ISBLANK('JMF Summary'!B5),\"---\",'JMF Summary'!B5)","v":"---"},null,null,null,null,"Binder Grade",null,{"$f":"'JMF Summary'!F5","v":"PG 64-22"},null,null,"Compaction",null,{"$f":"IF(ISBLANK('JMF Summary'!J5),\"---\",'JMF Summary'!J5 & \" \" & 'JMF Summary'!K5)","v":"---"},null,"Gse",{"$f":"IFERROR(IF(AQ7=\"Raw Data\",Gmm!F48,AR7),\"---\")","v":"---"},null,null,"Source","Pb","Gmm","Gmb","Va, %","VMA, %","VFA, %","VBE, %","Pba,mix, %","Pbe, %","Unit Wt","D/Pbe","Stability","Flow",null,null,null,null,"Pb","Va",null,"Gb","Raw Data",null,{"$f":"A12","v":0}]
["Producer",null,{"$f":"IF(ISBLANK('JMF Summary'!B6),\"---\",'JMF Summary'!B6)","v":"---"},null,null,null,null,"Source",null,{"$f":"IF(ISBLANK('JMF Summary'!F6),\"---\",'JMF Summary'!F6)","v":"---"},null,null,"STMC:",{"$f":"IF(OR(ISBLANK('JMF Summary'!I6),ISBLANK('JMF Summary'!J6)),\"---\",FIXED('JMF Summary'!I6,1) & \" hr at \" & 'JMF Summary'!J6 & \" \" & 'JMF Summary'!K6)","v":"---"},null,null,"P200",{"$f":"IFERROR(IF(AQ8=\"Raw Data\",'JMF Summary'!I26,AR8),\"---\")","v":0},null,null,{"$f":"AN4 & \"-Pt Data\"","v":"0-Pt Data"},{"$f":"IF(ISNUMBER(A12),A12,#N/A)","v":{"$error":"#N/A"}},{"$f":"B12","v":"---"},{"$f":"I15","v":"---"},"---","---","---","---","---","---",{"$f":"IFERROR(IF('JMF Summary'!$AG$4=\"US\",ROUND(X6*62.43,1),ROUND(X6*1000,0)),\"---\")","v":"---"},{"$f":"P12","v":"---"},{"$f":"IF(OR($J$4=\"75 Gyr\",$J$4=\"50 Gyr\"),#N/A,Q15)","v":{"$error":"#N/A"}},{"$f":"IF(OR($J$4=\"75 Gyr\",$J$4=\"50 Gyr\"),#N/A,R15)","v":{"$error":"#N/A"}},null,null,null,null,{"$f":"ROUNDDOWN(TREND(OFFSET(V6,0,0,AN4),OFFSET(Y6,0,0,AN4)^{2,1},AN3^{2,1},TRUE),1)-0.2","v":{"$error":"#REF!"}},{"$f":"TREND(OFFSET($Y$6,0,0,$AN$4),OFFSET($V$6,0,0,$AN$4)^{1,2},AM6^{1,2})","v":{"$error":"#REF!"}},null,"Gsb","Raw Data",null,{"$f":"A16","v":0}]
["Mix Designer",null,{"$f":"IF(ISBLANK('JMF Summary'!B7),\"---\",'JMF Summary'!B7)","v":"---"},null,null,null,null,null,null,null,null,null,null,null,null,null,null,null,null,null,null,{"$f":"IF(ISNUMBER(A16),A16,#N/A)","v":{"$error":"#N/A"}},{"$f":"B16","v":"---"},{"$f":"I19","v":"---"},"---","---","---","---","---","---",{"$f":"IFERROR(IF('JMF Summary'!$AG$4=\"US\",ROUND(X7*62.43,1),ROUND(X7*1000,0)),\"---\")","v":"---"},{"$f":"P16","v":"---"},{"$f":"IF(OR($J$4=\"75 Gyr\",$J$4=\"50 Gyr\"),#N/A,Q19)","v":{"$error":"#N/A"}},{"$f":"IF(OR($J$4=\"75 Gyr\",$J$4=\"50 Gyr\"),#N/A,R19)","v":{"$error":"#N/A"}},null,null,null,null,{"$f":"AM6+0.02","v":{"$error":"#REF!"}},{"$f":"TREND(OFFSET($Y$6,0,0,$AN$4),OFFSET($V$6,0,0,$AN$4)^{1,2},AM7^{1,2})","v":{"$error":"#REF!"}},null,"Gse","Raw Data",null,{"$f":"A20","v":0}]
[null,null,null,null,null,null,null,null,null,null,null,null,null,null,null,null,null,null,null,null,null,{"$f":"IF(ISNUMBER(A20),A20,#N/A)","v":{"$error":"#N/A"}},{"$f":"B20","v":"---"},{"$f":"I23","v":"---"},"---","---","---","---","---","---",{"$f":"IFERROR(IF('JMF Summary'!$AG$4=\"US\",ROUND(X8*62.43,1),ROUND(X8*1000,0)),\"---\")","v":"---"},{"$f":"P20","v":"---"},{"$f":"IF(OR($J$4=\"75 Gyr\",$J$4=\"50 Gyr\"),#N/A,Q23)","v":{"$error":"#N/A"}},{"$f":"IF(OR($J$4=\"75 Gyr\",$J$4=\"50 Gyr\"),#N/A,R23)","v":{"$error":"#N/A"}},null,null,null,null,{"$f":"AM7+0.02","v":{"$error":"#REF!"}},{"$f":"TREND(OFFSET($Y$6,0,0,$AN$4),OFFSET($V$6,0,0,$AN$4)^{1,2},AM8^{1,2})","v":{"$error":"#REF!"}},null,"P200","Raw Data",null,{"$f":"A24","v":0}]
[null,null,null,null,null,null,null,null,null,null,null,null,null,null,null,null,null,null,null,null,null,{"$f":"IF(ISNUMBER(A24),A24,#N/A)","v":{"$error":"#N/A"}},{"$f":"B24","v":"---"},{"$f":"I27","v":"---"},"---","---","---","---","---","---",{"$f":"IFERROR(IF('JMF Summary'!$AG$4=\"US\",ROUND(X9*62.43,1),ROUND(X9*1000,0)),\"---\")","v":"---"},{"$f":"P24","v":"---"},{"$f":"IF(OR($J$4=\"75 Gyr\",$J$4=\"50 Gyr\"),#N/A,Q27)","v":{"$error":"#N/A"}},{"$f":"IF(OR($J$4=\"75 Gyr\",$J$4=\"50 Gyr\"),#N/A,R27)","v":{"$error":"#N/A"}},null,null,null,null,{"$error":"#REF!"},{"$f":"TREND(OFFSET($Y$6,0,0,$AN$4),OFFSET($V$6,0,0,$AN$4)^{1,2},AM9^{1,2})","v":{"$error":"#REF!"}},null,null,null,null,{"$f":"A28","v":0}]
["Multi-Point Trial Asphalt Contents",null,null,null,null,null,null,null,null,null,null,null,null,null,null,null,null,null,null,null,null,{"$f":"IF(ISNUMBER(A28),A28,#N/A)","v":{"$error":"#N/A"}},{"$f":"B28","v":"---"},{"$f":"I31","v":"---"},"---","---","---","---","---","---",{"$f":"IFERROR(IF('JMF Summary'!$AG$4=\"US\",ROUND(X10*62.43,1),ROUND(X10*1000,0)),\"---\")","v":"---"},{"$f":"P28","v":"---"},{"$f":"IF(OR($J$4=\"75 Gyr\",$J$4=\"50 Gyr\"),#N/A,Q31)","v":{"$error":"#N/A"}},{"$f":"IF(OR($J$4=\"75 Gyr\",$J$4=\"50 Gyr\"),#N/A,R31)","v":{"$error":"#N/A"}},null,null,null,null,{"$error":"#REF!"},{"$f":"TREND(OFFSET($Y$6,0,0,$AN$4),OFFSET($V$6,0,0,$AN$4)^{1,2},AM10^{1,2})","v":{"$error":"#REF!"}},null,null,null,null,"SPV"]
["Pb","Gmm","Spec.","Ht, \nmm","Dry \nWt, g ","Sub. Wt, g","SSD Wt, g","Abs, %","Gmb","Va, \n%","VMA, %","VFA, \n%","VBE, \n%","Pba,mix, %","Pbe, \n%","D/Pbe","Corr. Stability","Flow",null,null,"Optimum",{"$f":"IFERROR(AQ15,\"---\")","v":"---"},{"$f":"IFERROR(AQ16,\"---\")","v":"---"},{"$f":"IFERROR(AQ17,\"---\")","v":"---"},{"$f":"IFERROR(AQ18,\"---\")","v":"---"},{"$f":"IFERROR(AQ19,\"---\")","v":"---"},{"$f":"IFERROR(AQ20,\"---\")","v":"---"},{"$f":"IFERROR(AQ21,\"---\")","v":"---"},{"$f":"IFERROR(AQ22,\"---\")","v":"---"},{"$f":"IFERROR(AQ23,\"---\")","v":"---"},{"$f":"IFERROR(AQ24,\"---\")","v":"---"},{"$f":"IFERROR(AQ25,\"---\")","v":"---"},{"$f":"IFERROR(AQ26,\"---\")","v":"---"},{"$f":"IFERROR(AQ27,\"---\")","v":"---"},null,null,null,null,{"$error":"#REF!"},{"$f":"TREND(OFFSET($Y$6,0,0,$AN$4),OFFSET($V$6,0,0,$AN$4)^{1,2},AM11^{1,2})","v":{"$error":"#REF!"}}]
[null,{"$f":"IFERROR(IF($AT$4=\"Raw Data\",Gmm!F49,AT5),\"---\")","v":"---"},1,null,null,null,null,{"$f":"IFERROR((G12-E12)/(G12-F12)*100,\"---\")","v":"---"},{"$f":"IFERROR(IF($AU$4=\"Raw Data\",E12/(G12-F12),AU5),\"---\")","v":"---"},{"$f":"IFERROR((1-I12/$B$12)*100,\"---\")","v":"---"},{"$f":"IFERROR(100-I12*(100-$A$12)/$R$4,\"---\")","v":"---"},{"$f":"IFERROR(100*(K12-J12)/K12,\"---\")","v":"---"},{"$f":"IFERROR(K12-J12,\"---\")","v":"---"},{"$f":"IFERROR(IF(ISNUMBER(A12),($R$5-$R$4)/($R$5*$R$4)*$R$3*(1-A12/100)*100,\"---\"),\"---\")","v":"---"},{"$f":"IFERROR(A12-N12,\"---\")","v":"---"},{"$f":"IFERROR($R$6/O12,\"---\")","v":"---"},{"$f":"IF(OR(Volumetrics!$J$4=\"75 Gyr\", Volumetrics!$J$4=\"50 Gyr\"),\"---\",IF(ISNUMBER(Stability!F13),Stability!F13,\"---\"))","v":"---"},{"$f":"IF(OR(Volumetrics!$J$4=\"75 Gyr\", Volumetrics!$J$4=\"50 Gyr\"),\"---\",IF(ISNUMBER(Stability!G13),Stability!G13,\"---\"))","v":"---"},null,null,"SPV",{"$f":"IF(ISNUMBER(A35),A35,#N/A)","v":{"$error":"#N/A"}},{"$f":"B35","v":"---"},{"$f":"I38","v":"---"},"---","---","---","---","---","---",{"$f":"IFERROR(IF('JMF Summary'!$AG$4=\"US\",ROUND(X12*62.43,1),ROUND(X12*1000,0)),\"---\")","v":"---"},{"$f":"P38","v":"---"},{"$f":"IF(OR($J$4=\"75 Gyr\",$J$4=\"50 Gyr\"),#N/A,Q38)","v":{"$error":"#N/A"}},{"$f":"IF(OR($J$4=\"75 Gyr\",$J$4=\"50 Gyr\"),#N/A,R38)","v":{"$error":"#N/A"}},null,null,null,null,{"$error":"#REF!"},{"$f":"TREND(OFFSET($Y$6,0,0,$AN$4),OFFSET($V$6,0,0,$AN$4)^{1,2},AM12^{1,2})","v":{"$error":"#REF!"}},null,"Curve Data"]
[null,null,2,null,null,null,null,{"$f":"IFERROR((G13-E13)/(G13-F13)*100,\"---\")","v":"---"},{"$f":"IFERROR(IF($AU$4=\"Raw Data\",E13/(G13-F13),\"---\"),\"---\")","v":"---"},{"$f":"IFERROR((1-I13/$B$12)*100,\"---\")","v":"---"},{"$f":"IFERROR(100-I13*(100-$A$12)/$R$4,\"---\")","v":"---"},{"$f":"IFERROR(100*(K13-J13)/K13,\"---\")","v":"---"},{"$f":"IFERROR(K13-J13,\"---\")","v":"---"},{"$f":"IFERROR(IF(ISNUMBER(A12),($R$5-$R$4)/($R$5*$R$4)*$R$3*(1-A12/100)*100,\"---\"),\"---\")","v":"---"},{"$f":"IFERROR(A12-N13,\"---\")","v":"---"},{"$f":"IFERROR($R$6/O13,\"---\")","v":"---"},{"$f":"IF(OR(Volumetrics!$J$4=\"75 Gyr\", Volumetrics!$J$4=\"50 Gyr\"),\"---\",IF(ISNUMBER(Stability!F14),Stability!F14,\"---\"))","v":"---"},{"$f":"IF(OR(Volumetrics!$J$4=\"75 Gyr\", Volumetrics!$J$4=\"50 Gyr\"),\"---\",IF(ISNUMBER(Stability!G14),Stability!G14,\"---\"))","v":"---"},null,null,null,{"$f":"IFERROR(IF(AND(MAX(OFFSET(Y6,0,0,AN4))>AN3,MIN(OFFSET(Y6,0,0,AN4))<AN3),\"\",\"Note! Trial asphalt contents do not span the design Va value. Exercise caution with extrapolated results.\"),\"\")","v":""},null,null,null,null,null,null,null,null,null,null,null,null,null,null,null,null,{"$error":"#REF!"},{"$f":"TREND(OFFSET($Y$6,0,0,$AN$4),OFFSET($V$6,0,0,$AN$4)^{1,2},AM13^{1,2})","v":{"$error":"#REF!"}},null,"Curves","Design Value","Plot Data for Arrows by Pb",null,null,"Plot Axis Limits"]
[null,null,3,null,null,null,null,{"$f":"IFERROR((G14-E14)/(G14-F14)*100,\"---\")","v":"---"},{"$f":"IFERROR(IF($AU$4=\"Raw Data\",E14/(G14-F14),\"---\"),\"---\")","v":"---"},{"$f":"IFERROR((1-I14/$B$12)*100,\"---\")","v":"---"},{"$f":"IFERROR(100-I14*(100-$A$12)/$R$4,\"---\")","v":"---"},{"$f":"IFERROR(100*(K14-J14)/K14,\"---\")","v":"---"},{"$f":"IFERROR(K14-J14,\"---\")","v":"---"},{"$f":"IFERROR(IF(ISNUMBER(A12),($R$5-$R$4)/($R$5*$R$4)*$R$3*(1-A12/100)*100,\"---\"),\"---\")","v":"---"},{"$f":"IFERROR(A12-N14,\"---\")","v":"---"},{"$f":"IFERROR($R$6/O14,\"---\")","v":"---"},{"$f":"IF(OR(Volumetrics!$J$4=\"75 Gyr\", Volumetrics!$J$4=\"50 Gyr\"),\"---\",IF(ISNUMBER(Stability!F15),Stability!F15,\"---\"))","v":"---"},{"$f":"IF(OR(Volumetrics!$J$4=\"75 Gyr\", Volumetrics!$J$4=\"50 Gyr\"),\"---\",IF(ISNUMBER(Stability!G15),Stability!G15,\"---\"))","v":"---"},null,null,null,null,null,null,null,null,null,null,null,null,null,null,null,null,null,null,null,null,{"$error":"#REF!"},{"$f":"TREND(OFFSET($Y$6,0,0,$AN$4),OFFSET($V$6,0,0,$AN$4)^{1,2},AM14^{1,2})","v":{"$error":"#REF!"}},null,null,null,{"$f":"AU15","v":{"$error":"#REF!"}},{"$f":"AQ15","v":{"$error":"#N/A"}},{"$f":"AQ15","v":{"$error":"#N/A"}},"Min","Max","Major","Minor"]
[null,null,"Avg",{"$f":"IFERROR(AVERAGE(D12:D14),\"---\")","v":"---"},"---","---","---","---","---","---",{"$f":"IFERROR(AVERAGE(K12:K14),\"---\")","v":"---"},"---","---","---","---",{"$f":"IFERROR(AVERAGE(P12:P14),\"---\")","v":"---"},{"$f":"IFERROR(AVERAGE(Q12:Q14),\"---\")","v":"---"},{"$f":"IFERROR(AVERAGE(R12:R14),\"---\")","v":"---"},null,null,null,null,null,null,null,null,null,null,null,null,null,null,null,null,null,null,null,null,{"$error":"#REF!"},{"$f":"TREND(OFFSET($Y$6,0,0,$AN$4),OFFSET($V$6,0,0,$AN$4)^{1,2},AM15^{1,2})","v":{"$error":"#REF!"}},null,"Pb, des",{"$f":"IF(ABS(INDEX(AN6:AN31,MATCH(AN3,AN6:AN31,-1))-AN3)<ABS(AN3-INDEX(AN6:AN31,MATCH(AN3,AN6:AN31,-1)+1)),INDEX(AM6:AM31,MATCH(AN3,AN6:AN31,-1)),INDEX(AM6:AM31,MATCH(AN3,AN6:AN31,-1)+1))","v":{"$error":"#N/A"}},{"$f":"AQ15","v":{"$error":"#N/A"}},{"$f":"AQ15","v":{"$error":"#N/A"}},0,{"$f":"MROUND(MIN(OFFSET(V6,0,0,AN4),IFERROR(V11,1000),IFERROR(V12,1000)),0.5)-AW15","v":{"$error":"#REF!"}},{"$f":"MROUND(MAX(OFFSET(V6,0,0,AN4),IFERROR(V11,0),IFERROR(V12,0)),0.5)+AW15","v":{"$error":"#REF!"}},0.5,0.1]
[null,{"$f":"IFERROR(IF($AT$4=\"Raw Data\",Gmm!H49,AT6),\"---\")","v":"---"},4,null,null,null,null,{"$f":"IFERROR((G16-E16)/(G16-F16)*100,\"---\")","v":"---"},{"$f":"IFERROR(IF($AU$4=\"Raw Data\",E16/(G16-F16),AU6),\"---\")","v":"---"},{"$f":"IFERROR((1-I16/$B$16)*100,\"---\")","v":"---"},{"$f":"IFERROR(100-I16*(100-$A$16)/$R$4,\"---\")","v":"---"},{"$f":"IFERROR(100*(K16-J16)/K16,\"---\")","v":"---"},{"$f":"IFERROR(K16-J16,\"---\")","v":"---"},{"$f":"IFERROR(IF(ISNUMBER(A16),($R$5-$R$4)/($R$5*$R$4)*$R$3*(1-A16/100)*100,\"---\"),\"---\")","v":"---"},{"$f":"IFERROR(A16-N16,\"---\")","v":"---"},{"$f":"IFERROR($R$6/O16,\"---\")","v":"---"},{"$f":"IF(OR(Volumetrics!$J$4=\"75 Gyr\", Volumetrics!$J$4=\"50 Gyr\"),\"---\",IF(ISNUMBER(Stability!F17),Stability!F17,\"---\"))","v":"---"},{"$f":"IF(OR(Volumetrics!$J$4=\"75 Gyr\", Volumetrics!$J$4=\"50 Gyr\"),\"---\",IF(ISNUMBER(Stability!G17),Stability!G17,\"---\"))","v":"---"},null,null,null,null,null,null,null,null,null,null,null,null,null,null,null,null,null,null,null,null,{"$error":"#REF!"},{"$f":"TREND(OFFSET($Y$6,0,0,$AN$4),OFFSET($V$6,0,0,$AN$4)^{1,2},AM16^{1,2})","v":{"$error":"#REF!"}},null,"Gmm",{"$f":"TREND(OFFSET(W6,0,0,$AN$4),OFFSET(V6,0,0,$AN$4)^{1,2},AQ15^{1,2})","v":{"$error":"#REF!"}},{"$f":"AQ16","v":{"$error":"#REF!"}},{"$f":"AQ16","v":{"$error":"#REF!"}},0,{"$f":"MROUND(MIN(OFFSET(W6,0,0,AN4)),0.05)-0.05","v":{"$error":"#REF!"}},{"$f":"MROUND(ROUNDUP(R5,2),0.05)+0.05","v":{"$error":"#VALUE!"}},0.05,0.01]
[null,null,5,null,null,null,null,{"$f":"IFERROR((G17-E17)/(G17-F17)*100,\"---\")","v":"---"},{"$f":"IFERROR(IF($AU$4=\"Raw Data\",E17/(G17-F17),\"---\"),\"---\")","v":"---"},{"$f":"IFERROR((1-I17/$B$16)*100,\"---\")","v":"---"},{"$f":"IFERROR(100-I17*(100-$A$16)/$R$4,\"---\")","v":"---"},{"$f":"IFERROR(100*(K17-J17)/K17,\"---\")","v":"---"},{"$f":"IFERROR(K17-J17,\"---\")","v":"---"},{"$f":"IFERROR(IF(ISNUMBER(A16),($R$5-$R$4)/($R$5*$R$4)*$R$3*(1-A16/100)*100,\"---\"),\"---\")","v":"---"},{"$f":"IFERROR(A16-N17,\"---\")","v":"---"},{"$f":"IFERROR($R$6/O17,\"---\")","v":"---"},{"$f":"IF(OR(Volumetrics!$J$4=\"75 Gyr\", Volumetrics!$J$4=\"50 Gyr\"),\"---\",IF(ISNUMBER(Stability!F18),Stability!F18,\"---\"))","v":"---"},{"$f":"IF(OR(Volumetrics!$J$4=\"75 Gyr\", Volumetrics!$J$4=\"50 Gyr\"),\"---\",IF(ISNUMBER(Stability!G18),Stability!G18,\"---\"))","v":"---"},null,null,null,null,null,null,null,null,null,null,null,null,null,null,null,null,null,null,null,null,{"$error":"#REF!"},{"$f":"TREND(OFFSET($Y$6,0,0,$AN$4),OFFSET($V$6,0,0,$AN$4)^{1,2},AM17^{1,2})","v":{"$error":"#REF!"}},null,"Gmb",{"$f":"TREND(OFFSET(X6,0,0,$AN$4),OFFSET(V6,0,0,$AN$4)^{1,2},AQ15^{1,2})","v":{"$error":"#REF!"}},{"$f":"AQ17","v":{"$error":"#REF!"}},{"$f":"AQ17","v":{"$error":"#REF!"}},0,"---","---","---","---"]
[null,null,6,null,null,null,null,{"$f":"IFERROR((G18-E18)/(G18-F18)*100,\"---\")","v":"---"},{"$f":"IFERROR(IF($AU$4=\"Raw Data\",E18/(G18-F18),\"---\"),\"---\")","v":"---"},{"$f":"IFERROR((1-I18/$B$16)*100,\"---\")","v":"---"},{"$f":"IFERROR(100-I18*(100-$A$16)/$R$4,\"---\")","v":"---"},{"$f":"IFERROR(100*(K18-J18)/K18,\"---\")","v":"---"},{"$f":"IFERROR(K18-J18,\"---\")","v":"---"},{"$f":"IFERROR(IF(ISNUMBER(A16),($R$5-$R$4)/($R$5*$R$4)*$R$3*(1-A16/100)*100,\"---\"),\"---\")","v":"---"},{"$f":"IFERROR(A16-N18,\"---\")","v":"---"},{"$f":"IFERROR($R$6/O18,\"---\")","v":"---"},{"$f":"IF(OR(Volumetrics!$J$4=\"75 Gyr\", Volumetrics!$J$4=\"50 Gyr\"),\"---\",IF(ISNUMBER(Stability!F19),Stability!F19,\"---\"))","v":"---"},{"$f":"IF(OR(Volumetrics!$J$4=\"75 Gyr\", Volumetrics!$J$4=\"50 Gyr\"),\"---\",IF(ISNUMBER(Stability!G19),Stability!G19,\"---\"))","v":"---"},null,null,null,null,null,null,null,null,null,null,null,null,null,null,null,null,null,null,null,null,{"$error":"#REF!"},{"$f":"TREND(OFFSET($Y$6,0,0,$AN$4),OFFSET($V$6,0,0,$AN$4)^{1,2},AM18^{1,2})","v":{"$error":"#REF!"}},null,"Va",{"$f":"TREND(OFFSET(Y6,0,0,$AN$4),OFFSET(V6,0,0,$AN$4)^{1,2},AQ15^{1,2})","v":{"$error":"#REF!"}},{"$f":"AN3","v":4},{"$f":"AN3","v":4},0,0,{"$f":"ROUND(MAX(OFFSET(Y6,0,0,AN4),IF(ISNUMBER(Y11),Y11,0),IF(ISNUMBER(Y12),Y12,0)),0)+1","v":{"$error":"#REF!"}},1,0.5]
[null,null,"Avg",{"$f":"IFERROR(AVERAGE(D16:D18),\"---\")","v":"---"},"---","---","---","---","---","---","---","---",{"$f":"IFERROR(AVERAGE(M16:M18),\"---\")","v":"---"},"---","---","---","---","---",null,null,null,null,null,null,null,null,null,null,null,null,null,null,null,null,null,null,null,null,{"$error":"#REF!"},{"$f":"TREND(OFFSET($Y$6,0,0,$AN$4),OFFSET($V$6,0,0,$AN$4)^{1,2},AM19^{1,2})","v":{"$error":"#REF!"}},null,"VMA",{"$f":"TREND(OFFSET(Z6,0,0,$AN$4),OFFSET(V6,0,0,$AN$4)^{1,2},AQ15^{1,2})","v":{"$error":"#REF!"}},{"$f":"AQ19","v":{"$error":"#REF!"}},{"$f":"AQ19","v":{"$error":"#REF!"}},0,{"$f":"MROUND(MIN(OFFSET(Z6,0,0,AN4),IF(ISNUMBER(Z11),Z11,1000),IF(ISNUMBER(Z12),Z12,1000)),0.5)-0.5","v":{"$error":"#REF!"}},{"$f":"MROUND(MAX(OFFSET(Z6,0,0,AN4),IF(ISNUMBER(Z11),Z11,0),IF(ISNUMBER(Z12),Z12,0)),0.5)+0.5","v":{"$error":"#REF!"}},0.5,0.25]
[null,{"$f":"IFERROR(IF($AT$4=\"Raw Data\",Gmm!K49,AT7),\"---\")","v":"---"},7,null,null,null,null,{"$f":"IFERROR((G20-E20)/(G20-F20)*100,\"---\")","v":"---"},{"$f":"IFERROR(IF($AU$4=\"Raw Data\",E20/(G20-F20),AU7),\"---\")","v":"---"},{"$f":"IFERROR((1-I20/$B$20)*100,\"---\")","v":"---"},{"$f":"IFERROR(100-I20*(100-$A$20)/$R$4,\"---\")","v":"---"},{"$f":"IFERROR(100*(K20-J20)/K20,\"---\")","v":"---"},{"$f":"IFERROR(K20-J20,\"---\")","v":"---"},{"$f":"IFERROR(IF(ISNUMBER(A20),($R$5-$R$4)/($R$5*$R$4)*$R$3*(1-A20/100)*100,\"---\"),\"---\")","v":"---"},{"$f":"IFERROR(A20-N20,\"---\")","v":"---"},{"$f":"IFERROR($R$6/O20,\"---\")","v":"---"},{"$f":"IF(OR(Volumetrics!$J$4=\"75 Gyr\", Volumetrics!$J$4=\"50 Gyr\"),\"---\",IF(ISNUMBER(Stability!F21),Stability!F21,\"---\"))","v":"---"},{"$f":"IF(OR(Volumetrics!$J$4=\"75 Gyr\", Volumetrics!$J$4=\"50 Gyr\"),\"---\",IF(ISNUMBER(Stability!G21),Stability!G21,\"---\"))","v":"---"},null,null,null,null,null,null,null,null,null,null,null,null,null,null,null,null,null,null,null,null,{"$error":"#REF!"},{"$f":"TREND(OFFSET($Y$6,0,0,$AN$4),OFFSET($V$6,0,0,$AN$4)^{1,2},AM20^{1,2})","v":{"$error":"#REF!"}},null,"VFA",{"$f":"TREND(OFFSET(AA6,0,0,$AN$4),OFFSET(V6,0,0,$AN$4)^{1,2},AQ15^{1,2})","v":{"$error":"#REF!"}},{"$error":"#REF!"},{"$error":"#REF!"},0,{"$f":"MROUND(MIN(OFFSET(AA6,0,0,AN4),IF(ISNUMBER(AA11),AA11,1000),IF(ISNUMBER(AA12),AA12,1000)),10)-10","v":{"$error":"#REF!"}},{"$f":"MROUND(MAX(OFFSET(AA6,0,0,AN4),IF(ISNUMBER(AA11),AA11,0),IF(ISNUMBER(AA12),AA12,0)),10)+10","v":{"$error":"#REF!"}},10,5]
[null,null,8,null,null,null,null,{"$f":"IFERROR((G21-E21)/(G21-F21)*100,\"---\")","v":"---"},{"$f":"IFERROR(IF($AU$4=\"Raw Data\",E21/(G21-F21),\"---\"),\"---\")","v":"---"},{"$f":"IFERROR((1-I21/$B$20)*100,\"---\")","v":"---"},{"$f":"IFERROR(100-I21*(100-$A$20)/$R$4,\"---\")","v":"---"},{"$f":"IFERROR(100*(K21-J21)/K21,\"---\")","v":"---"},{"$f":"IFERROR(K21-J21,\"---\")","v":"---"},{"$f":"IFERROR(IF(ISNUMBER(A20),($R$5-$R$4)/($R$5*$R$4)*$R$3*(1-A20/100)*100,\"---\"),\"---\")","v":"---"},{"$f":"IFERROR(A20-N21,\"---\")","v":"---"},{"$f":"IFERROR($R$6/O21,\"---\")","v":"---"},{"$f":"IF(OR(Volumetrics!$J$4=\"75 Gyr\", Volumetrics!$J$4=\"50 Gyr\"),\"---\",IF(ISNUMBER(Stability!F22),Stability!F22,\"---\"))","v":"---"},{"$f":"IF(OR(Volumetrics!$J$4=\"75 Gyr\", Volumetrics!$J$4=\"50 Gyr\"),\"---\",IF(ISNUMBER(Stability!G22),Stability!G22,\"---\"))","v":"---"},null,null,null,null,null,null,null,null,null,null,null,null,null,null,null,null,null,null,null,null,{"$error":"#REF!"},{"$f":"TREND(OFFSET($Y$6,0,0,$AN$4),OFFSET($V$6,0,0,$AN$4)^{1,2},AM21^{1,2})","v":{"$error":"#REF!"}},null,"VBE",{"$f":"TREND(OFFSET(AB6,0,0,$AN$4),OFFSET(V6,0,0,$AN$4)^{1,2},AQ15^{1,2})","v":{"$error":"#REF!"}},{"$error":"#REF!"},{"$error":"#REF!"},0,"---","---","---","---"]
[null,null,9,null,null,null,null,{"$f":"IFERROR((G22-E22)/(G22-F22)*100,\"---\")","v":"---"},{"$f":"IFERROR(IF($AU$4=\"Raw Data\",E22/(G22-F22),\"---\"),\"---\")","v":"---"},{"$f":"IFERROR((1-I22/$B$20)*100,\"---\")","v":"---"},{"$f":"IFERROR(100-I22*(100-$A$20)/$R$4,\"---\")","v":"---"},{"$f":"IFERROR(100*(K22-J22)/K22,\"---\")","v":"---"},{"$f":"IFERROR(K22-J22,\"---\")","v":"---"},{"$f":"IFERROR(IF(ISNUMBER(A20),($R$5-$R$4)/($R$5*$R$4)*$R$3*(1-A20/100)*100,\"---\"),\"---\")","v":"---"},{"$f":"IFERROR(A20-N22,\"---\")","v":"---"},{"$f":"IFERROR($R$6/O22,\"---\")","v":"---"},{"$f":"IF(OR(Volumetrics!$J$4=\"75 Gyr\", Volumetrics!$J$4=\"50 Gyr\"),\"---\",IF(ISNUMBER(Stability!F23),Stability!F23,\"---\"))","v":"---"},{"$f":"IF(OR(Volumetrics!$J$4=\"75 Gyr\", Volumetrics!$J$4=\"50 Gyr\"),\"---\",IF(ISNUMBER(Stability!G23),Stability!G23,\"---\"))","v":"---"},null,null,null,null,null,null,null,null,null,null,null,null,null,null,null,null,null,null,null,null,{"$error":"#REF!"},{"$f":"TREND(OFFSET($Y$6,0,0,$AN$4),OFFSET($V$6,0,0,$AN$4)^{1,2},AM22^{1,2})","v":{"$error":"#REF!"}},null,"Pba,mix",{"$f":"TREND(OFFSET(AC6,0,0,$AN$4),OFFSET(V6,0,0,$AN$4)^{1,2},AQ15^{1,2})","v":{"$error":"#REF!"}},{"$error":"#REF!"},{"$error":"#REF!"},0,"---","---","---","---"]
[null,null,"Avg",{"$f":"IFERROR(AVERAGE(D20:D22),\"---\")","v":"---"},"---","---","---","---","---","---","---","---",{"$f":"IFERROR(AVERAGE(M20:M22),\"---\")","v":"---"},"---","---","---","---","---",null,null,null,null,null,null,null,null,null,null,null,null,null,null,null,null,null,null,null,null,{"$error":"#REF!"},{"$f":"TREND(OFFSET($Y$6,0,0,$AN$4),OFFSET($V$6,0,0,$AN$4)^{1,2},AM23^{1,2})","v":{"$error":"#REF!"}},null,"Pbe",{"$f":"TREND(OFFSET(AD6,0,0,$AN$4),OFFSET(V6,0,0,$AN$4)^{1,2},AQ15^{1,2})","v":{"$error":"#REF!"}},{"$error":"#REF!"},{"$error":"#REF!"},0,"---","---","---","---"]
[null,{"$f":"IFERROR(IF($AT$4=\"Raw Data\",Gmm!N49,AT8),\"---\")","v":"---"},10,null,null,null,null,{"$f":"IFERROR((G24-E24)/(G24-F24)*100,\"---\")","v":"---"},{"$f":"IFERROR(IF($AU$4=\"Raw Data\",E24/(G24-F24),AU8),\"---\")","v":"---"},{"$f":"IFERROR((1-I24/$B$24)*100,\"---\")","v":"---"},{"$f":"IFERROR(100-I24*(100-$A$24)/$R$4,\"---\")","v":"---"},{"$f":"IFERROR(100*(K24-J24)/K24,\"---\")","v":"---"},{"$f":"IFERROR(K24-J24,\"---\")","v":"---"},{"$f":"IFERROR(IF(ISNUMBER(A24),($R$5-$R$4)/($R$5*$R$4)*$R$3*(1-A24/100)*100,\"---\"),\"---\")","v":"---"},{"$f":"IFERROR(A24-N24,\"---\")","v":"---"},{"$f":"IFERROR($R$6/O24,\"---\")","v":"---"},{"$f":"IF(OR(Volumetrics!$J$4=\"75 Gyr\", Volumetrics!$J$4=\"50 Gyr\"),\"---\",IF(ISNUMBER(Stability!F25),Stability!F25,\"---\"))","v":"---"},{"$f":"IF(OR(Volumetrics!$J$4=\"75 Gyr\", Volumetrics!$J$4=\"50 Gyr\"),\"---\",IF(ISNUMBER(Stability!G25),Stability!G25,\"---\"))","v":"---"},null,null,null,null,null,null,null,null,null,null,null,null,null,null,null,null,null,null,null,null,{"$error":"#REF!"},{"$f":"TREND(OFFSET($Y$6,0,0,$AN$4),OFFSET($V$6,0,0,$AN$4)^{1,2},AM24^{1,2})","v":{"$error":"#REF!"}},null,"Unit Wt",{"$f":"TREND(OFFSET(AE6,0,0,$AN$4),OFFSET(V6,0,0,$AN$4)^{1,2},AQ15^{1,2})","v":{"$error":"#REF!"}},{"$error":"#REF!"},{"$error":"#REF!"},0,{"$f":"ROUNDDOWN(MIN(OFFSET(AE6,0,0,AN4),IF(ISNUMBER(AE11),AE11,1000),IF(ISNUMBER(AE12),AE12,1000)),0)-AW24","v":{"$error":"#REF!"}},{"$f":"ROUNDUP(MAX(OFFSET(AE6,0,0,AN4),IF(ISNUMBER(AE11),AE11,0),IF(ISNUMBER(AE12),AE12,0)),0)+AW24","v":{"$error":"#REF!"}},{"$f":"MAX(MROUND((MROUND(MAX(OFFSET(AE6,0,0,AN4)),0.5)-MROUND(MIN(OFFSET(AE6,0,0,AN4)),0.5))/4,1),1)","v":{"$error":"#REF!"}},{"$f":"AW24/2","v":{"$error":"#REF!"}}]
[null,null,11,null,null,null,null,{"$f":"IFERROR((G25-E25)/(G25-F25)*100,\"---\")","v":"---"},{"$f":"IFERROR(IF($AU$4=\"Raw Data\",E25/(G25-F25),\"---\"),\"---\")","v":"---"},{"$f":"IFERROR((1-I25/$B$24)*100,\"---\")","v":"---"},{"$f":"IFERROR(100-I25*(100-$A$24)/$R$4,\"---\")","v":"---"},{"$f":"IFERROR(100*(K25-J25)/K25,\"---\")","v":"---"},{"$f":"IFERROR(K25-J25,\"---\")","v":"---"},{"$f":"IFERROR(IF(ISNUMBER(A24),($R$5-$R$4)/($R$5*$R$4)*$R$3*(1-A24/100)*100,\"---\"),\"---\")","v":"---"},{"$f":"IFERROR(A24-N25,\"---\")","v":"---"},{"$f":"IFERROR($R$6/O25,\"---\")","v":"---"},{"$f":"IF(OR(Volumetrics!$J$4=\"75 Gyr\", Volumetrics!$J$4=\"50 Gyr\"),\"---\",IF(ISNUMBER(Stability!F26),Stability!F26,\"---\"))","v":"---"},{"$f":"IF(OR(Volumetrics!$J$4=\"75 Gyr\", Volumetrics!$J$4=\"50 Gyr\"),\"---\",IF(ISNUMBER(Stability!G26),Stability!G26,\"---\"))","v":"---"},null,null,null,null,null,null,null,null,null,null,null,null,null,null,null,null,null,null,null,null,{"$error":"#REF!"},{"$f":"TREND(OFFSET($Y$6,0,0,$AN$4),OFFSET($V$6,0,0,$AN$4)^{1,2},AM25^{1,2})","v":{"$error":"#REF!"}},null,"D/Pbe",{"$f":"TREND(OFFSET(AF6,0,0,$AN$4),OFFSET(V6,0,0,$AN$4)^{1,2},AQ15^{1,2})","v":{"$error":"#REF!"}},{"$error":"#REF!"},{"$error":"#REF!"},0,{"$f":"ROUNDDOWN(MIN(OFFSET(AF6,0,0,AN4),IF(ISNUMBER(AF11),AF11,1000),IF(ISNUMBER(AF12),AF12,1000)),1)-AW25","v":{"$error":"#REF!"}},{"$f":"ROUNDUP(MAX(OFFSET(AF6,0,0,AN4),IF(ISNUMBER(AF11),AF11,0),IF(ISNUMBER(AF12),AF12,0)),1)+AW25","v":{"$error":"#REF!"}},{"$f":"MROUND((MROUND(MAX(OFFSET(AF6,0,0,AN4)),0.1)-MROUND(MIN(OFFSET(AF6,0,0,AN4)),0.1))/4,0.1)","v":{"$error":"#REF!"}},{"$f":"AW25/2","v":{"$error":"#REF!"}}]
[null,null,12,null,null,null,null,{"$f":"IFERROR((G26-E26)/(G26-F26)*100,\"---\")","v":"---"},{"$f":"IFERROR(IF($AU$4=\"Raw Data\",E26/(G26-F26),\"---\"),\"---\")","v":"---"},{"$f":"IFERROR((1-I26/$B$24)*100,\"---\")","v":"---"},{"$f":"IFERROR(100-I26*(100-$A$24)/$R$4,\"---\")","v":"---"},{"$f":"IFERROR(100*(K26-J26)/K26,\"---\")","v":"---"},{"$f":"IFERROR(K26-J26,\"---\")","v":"---"},{"$f":"IFERROR(IF(ISNUMBER(A24),($R$5-$R$4)/($R$5*$R$4)*$R$3*(1-A24/100)*100,\"---\"),\"---\")","v":"---"},{"$f":"IFERROR(A24-N26,\"---\")","v":"---"},{"$f":"IFERROR($R$6/O26,\"---\")","v":"---"},{"$f":"IF(OR(Volumetrics!$J$4=\"75 Gyr\", Volumetrics!$J$4=\"50 Gyr\"),\"---\",IF(ISNUMBER(Stability!F27),Stability!F27,\"---\"))","v":"---"},{"$f":"IF(OR(Volumetrics!$J$4=\"75 Gyr\", Volumetrics!$J$4=\"50 Gyr\"),\"---\",IF(ISNUMBER(Stability!G27),Stability!G27,\"---\"))","v":"---"},null,null,null,null,null,null,null,null,null,null,null,null,null,null,null,null,null,null,null,null,{"$error":"#REF!"},{"$f":"TREND(OFFSET($Y$6,0,0,$AN$4),OFFSET($V$6,0,0,$AN$4)^{1,2},AM26^{1,2})","v":{"$error":"#REF!"}},null,"Stability",{"$f":"TREND(OFFSET(AG6,0,0,$AN$4),OFFSET(V6,0,0,$AN$4)^{1,2},AQ15^{1,2})","v":{"$error":"#REF!"}},{"$error":"#REF!"},{"$error":"#REF!"},0,{"$f":"MROUND(ROUNDDOWN(MIN(OFFSET(AG6,0,0,AN4),IF(ISNUMBER(AG11),AG11,100000),IF(ISNUMBER(AG12),AG12,100000)),0)-AW26,100)","v":{"$error":"#REF!"}},{"$f":"MROUND(ROUNDUP(MAX(OFFSET(AG6,0,0,AN4),IF(ISNUMBER(AG11),AG11,0),IF(ISNUMBER(AG12),AG12,0)),0)+AW26,100)","v":{"$error":"#REF!"}},{"$f":"MROUND((MROUND(MAX(OFFSET(AG6,0,0,AN4)),100)-MROUND(MIN(OFFSET(AG6,0,0,AN4)),100))/4,100)","v":{"$error":"#REF!"}},{"$f":"AW26/2","v":{"$error":"#REF!"}}]
[null,null,"Avg",{"$f":"IFERROR(AVERAGE(D24:D26),\"---\")","v":"---"},"---","---","---","---","---","---","---","---",{"$f":"IFERROR(AVERAGE(M24:M26),\"---\")","v":"---"},"---","---","---","---","---",null,null,null,null,null,null,null,null,null,null,null,null,null,null,null,null,null,null,null,null,{"$error":"#REF!"},{"$f":"TREND(OFFSET($Y$6,0,0,$AN$4),OFFSET($V$6,0,0,$AN$4)^{1,2},AM27^{1,2})","v":{"$error":"#REF!"}},null,"Flow",{"$f":"TREND(OFFSET(AH6,0,0,$AN$4),OFFSET(V6,0,0,$AN$4)^{1,2},AQ15^{1,2})","v":{"$error":"#REF!"}},{"$error":"#REF!"},{"$error":"#REF!"},0,{"$f":"ROUNDDOWN(MIN(OFFSET(AH6,0,0,AN4),IF(ISNUMBER(AH11),AH11,1000),IF(ISNUMBER(AH12),AH12,1000)),0)-AW27","v":{"$error":"#REF!"}},{"$f":"ROUNDUP(MAX(OFFSET(AH6,0,0,AN4),IF(ISNUMBER(AH11),AH11,0),IF(ISNUMBER(AH12),AH12,0)),0)+AW27","v":{"$error":"#REF!"}},{"$f":"MROUND(ROUNDUP((MROUND(MAX(OFFSET(AH6,0,0,AN4)),1)-MROUND(MIN(OFFSET(AH6,0,0,AN4)),1))/4,0),1)","v":{"$error":"#REF!"}},{"$f":"AW27/2","v":{"$error":"#REF!"}}]
[null,{"$f":"IFERROR(IF($AT$4=\"Raw Data\",Gmm!P49,AT9),\"---\")","v":"---"},13,null,null,null,null,{"$f":"IFERROR((G28-E28)/(G28-F28)*100,\"---\")","v":"---"},{"$f":"IFERROR(IF($AU$4=\"Raw Data\",E28/(G28-F28),AU9),\"---\")","v":"---"},{"$f":"IFERROR((1-I28/$B$28)*100,\"---\")","v":"---"},{"$f":"IF(ISNUMBER($A$28),IFERROR(100-I28*(100-$A$28)/$R$4,\"---\"),\"---\")","v":"---"},{"$f":"IFERROR(100*(K28-J28)/K28,\"---\")","v":"---"},{"$f":"IFERROR(K28-J28,\"---\")","v":"---"},{"$f":"IFERROR(IF(ISNUMBER(A28),($R$5-$R$4)/($R$5*$R$4)*$R$3*(1-A28/100)*100,\"---\"),\"---\")","v":"---"},{"$f":"IFERROR(A28-N28,\"---\")","v":"---"},{"$f":"IFERROR($R$6/O28,\"---\")","v":"---"},{"$f":"IF(OR(Volumetrics!$J$4=\"75 Gyr\", Volumetrics!$J$4=\"50 Gyr\"),\"---\",IF(ISNUMBER(Stability!F29),Stability!F29,\"---\"))","v":"---"},{"$f":"IF(OR(Volumetrics!$J$4=\"75 Gyr\", Volumetrics!$J$4=\"50 Gyr\"),\"---\",IF(ISNUMBER(Stability!G29),Stability!G29,\"---\"))","v":"---"},null,null,null,null,null,null,null,null,null,null,null,null,null,null,null,null,null,null,null,null,{"$error":"#REF!"},{"$f":"TREND(OFFSET($Y$6,0,0,$AN$4),OFFSET($V$6,0,0,$AN$4)^{1,2},AM28^{1,2})","v":{"$error":"#REF!"}}]
[null,null,14,null,null,null,null,{"$f":"IFERROR((G29-E29)/(G29-F29)*100,\"---\")","v":"---"},{"$f":"IFERROR(IF($AU$4=\"Raw Data\",E29/(G29-F29),\"---\"),\"---\")","v":"---"},{"$f":"IFERROR((1-I29/$B$28)*100,\"---\")","v":"---"},{"$f":"IF(ISNUMBER($A$28),IFERROR(100-I29*(100-$A$28)/$R$4,\"---\"),\"---\")","v":"---"},{"$f":"IFERROR(100*(K29-J29)/K29,\"---\")","v":"---"},{"$f":"IFERROR(K29-J29,\"---\")","v":"---"},{"$f":"IFERROR(IF(ISNUMBER(A28),($R$5-$R$4)/($R$5*$R$4)*$R$3*(1-A28/100)*100,\"---\"),\"---\")","v":"---"},{"$f":"IFERROR(A28-N29,\"---\")","v":"---"},{"$f":"IFERROR($R$6/O29,\"---\")","v":"---"},{"$f":"IF(OR(Volumetrics!$J$4=\"75 Gyr\", Volumetrics!$J$4=\"50 Gyr\"),\"---\",IF(ISNUMBER(Stability!F30),Stability!F30,\"---\"))","v":"---"},{"$f":"IF(OR(Volumetrics!$J$4=\"75 Gyr\", Volumetrics!$J$4=\"50 Gyr\"),\"---\",IF(ISNUMBER(Stability!G30),Stability!G30,\"---\"))","v":"---"},null,null,null,null,null,null,null,null,null,null,null,null,null,null,null,null,null,null,null,null,{"$error":"#REF!"},{"$f":"TREND(OFFSET($Y$6,0,0,$AN$4),OFFSET($V$6,0,0,$AN$4)^{1,2},AM29^{1,2})","v":{"$error":"#REF!"}}]
[null,null,15,null,null,null,null,{"$f":"IFERROR((G30-E30)/(G30-F30)*100,\"---\")","v":"---"},{"$f":"IFERROR(IF($AU$4=\"Raw Data\",E30/(G30-F30),\"---\"),\"---\")","v":"---"},{"$f":"IFERROR((1-I30/$B$28)*100,\"---\")","v":"---"},{"$f":"IF(ISNUMBER($A$28),IFERROR(100-I30*(100-$A$28)/$R$4,\"---\"),\"---\")","v":"---"},{"$f":"IFERROR(100*(K30-J30)/K30,\"---\")","v":"---"},{"$f":"IFERROR(K30-J30,\"---\")","v":"---"},{"$f":"IFERROR(IF(ISNUMBER(A28),($R$5-$R$4)/($R$5*$R$4)*$R$3*(1-A28/100)*100,\"---\"),\"---\")","v":"---"},{"$f":"IFERROR(A28-N30,\"---\")","v":"---"},{"$f":"IFERROR($R$6/O30,\"---\")","v":"---"},{"$f":"IF(OR(Volumetrics!$J$4=\"75 Gyr\", Volumetrics!$J$4=\"50 Gyr\"),\"---\",IF(ISNUMBER(Stability!F31),Stability!F31,\"---\"))","v":"---"},{"$f":"IF(OR(Volumetrics!$J$4=\"75 Gyr\", Volumetrics!$J$4=\"50 Gyr\"),\"---\",IF(ISNUMBER(Stability!G31),Stability!G31,\"---\"))","v":"---"},null,null,null,null,null,null,null,null,null,null,null,null,null,null,null,null,null,null,null,null,{"$error":"#REF!"},{"$f":"TREND(OFFSET($Y$6,0,0,$AN$4),OFFSET($V$6,0,0,$AN$4)^{1,2},AM30^{1,2})","v":{"$error":"#REF!"}}]
[null,null,"Avg",{"$f":"IFERROR(AVERAGE(D28:D30),\"---\")","v":"---"},"---","---","---","---","---","---","---",{"$f":"IFERROR(100*(K31-J31)/K31,\"---\")","v":"---"},{"$f":"IFERROR(AVERAGE(M28:M30),\"---\")","v":"---"},"---","---","---","---","---",null,null,null,null,null,null,null,null,null,null,null,null,null,null,null,null,null,null,null,null,{"$error":"#REF!"},{"$f":"TREND(OFFSET($Y$6,0,0,$AN$4),OFFSET($V$6,0,0,$AN$4)^{1,2},AM31^{1,2})","v":{"$error":"#REF!"}}]
[]
["Single-Point Verification (SPV)"]
["Pb","Gmm","Spec.","Ht, \nmm","Dry \nWt, g ","Sub. Wt, g","SSD Wt, g","Abs, %","Gmb","Va, \n%","VMA, %","VFA, \n%","VBE, \n%","Pba,mix, %","Pbe, \n%","D/Pbe","Corr. Stability","Flow"]
[null,{"$f":"IFERROR(IF(ISNUMBER(A35),IF($AT$4=\"Raw Data\",1/((1-A35/100)/AVERAGE($R$5)+A35/100/$R$3),AT10),\"---\"),\"---\")","v":"---"},1,null,null,null,null,{"$f":"IFERROR((G35-E35)/(G35-F35)*100,\"---\")","v":"---"},{"$f":"IFERROR(IF($AU$4=\"Raw Data\",E35/(G35-F35),AU10),\"---\")","v":"---"},{"$f":"IFERROR((1-I35/$B$35)*100,\"---\")","v":"---"},{"$f":"IFERROR(100-I35*(100-$A$35)/$R$4,\"---\")","v":"---"},{"$f":"IFERROR(100*(K35-J35)/K35,\"---\")","v":"---"},{"$f":"IFERROR(K35-J35,\"---\")","v":"---"},{"$f":"IFERROR(IF(ISNUMBER(A35),($R$5-$R$4)/($R$5*$R$4)*$R$3*(1-A35/100)*100,\"---\"),\"---\")","v":"---"},{"$f":"IFERROR(A35-N35,\"---\")","v":"---"},{"$f":"IFERROR($R$6/O35,\"---\")","v":"---"},{"$f":"IF(OR(Volumetrics!$J$4=\"75 Gyr\", Volumetrics!$J$4=\"50 Gyr\"),\"---\",IF(ISNUMBER(Stability!F37),Stability!F37,\"---\"))","v":"---"},{"$f":"IF(OR(Volumetrics!$J$4=\"75 Gyr\", Volumetrics!$J$4=\"50 Gyr\"),\"---\",IF(ISNUMBER(Stability!G37),Stability!G37,\"---\"))","v":"---"}]
[null,null,2,null,null,null,null,{"$f":"IFERROR((G36-E36)/(G36-F36)*100,\"---\")","v":"---"},{"$f":"IFERROR(IF($AU$4=\"Raw Data\",E36/(G36-F36),\"---\"),\"---\")","v":"---"},{"$f":"IFERROR((1-I36/$B$35)*100,\"---\")","v":"---"},{"$f":"IFERROR(100-I36*(100-$A$35)/$R$4,\"---\")","v":"---"},{"$f":"IFERROR(100*(K36-J36)/K36,\"---\")","v":"---"},{"$f":"IFERROR(K36-J36,\"---\")","v":"---"},{"$f":"IFERROR(IF(ISNUMBER(A35),($R$5-$R$4)/($R$5*$R$4)*$R$3*(1-A35/100)*100,\"---\"),\"---\")","v":"---"},{"$f":"IFERROR(A35-N36,\"---\")","v":"---"},{"$f":"IFERROR($R$6/O36,\"---\")","v":"---"},{"$f":"IF(OR(Volumetrics!$J$4=\"75 Gyr\", Volumetrics!$J$4=\"50 Gyr\"),\"---\",IF(ISNUMBER(Stability!F38),Stability!F38,\"---\"))","v":"---"},{"$f":"IF(OR(Volumetrics!$J$4=\"75 Gyr\", Volumetrics!$J$4=\"50 Gyr\"),\"---\",IF(ISNUMBER(Stability!G38),Stability!G38,\"---\"))","v":"---"}]
[null,null,3,null,null,null,null,{"$f":"IFERROR((G37-E37)/(G37-F37)*100,\"---\")","v":"---"},{"$f":"IFERROR(IF($AU$4=\"Raw Data\",E37/(G37-F37),\"---\"),\"---\")","v":"---"},{"$f":"IFERROR((1-I37/$B$35)*100,\"---\")","v":"---"},{"$f":"IFERROR(100-I37*(100-$A$35)/$R$4,\"---\")","v":"---"},{"$f":"IFERROR(100*(K37-J37)/K37,\"---\")","v":"---"},{"$f":"IFERROR(K37-J37,\"---\")","v":"---"},{"$f":"IFERROR(IF(ISNUMBER(A35),($R$5-$R$4)/($R$5*$R$4)*$R$3*(1-A35/100)*100,\"---\"),\"---\")","v":"---"},{"$f":"IFERROR(A35-N37,\"---\")","v":"---"},{"$f":"IFERROR($R$6/O37,\"---\")","v":"---"},{"$f":"IF(OR(Volumetrics!$J$4=\"75 Gyr\", Volumetrics!$J$4=\"50 Gyr\"),\"---\",IF(ISNUMBER(Stability!F39),Stability!F39,\"---\"))","v":"---"},{"$f":"IF(OR(Volumetrics!$J$4=\"75 Gyr\", Volumetrics!$J$4=\"50 Gyr\"),\"---\",IF(ISNUMBER(Stability!G39),Stability!G39,\"---\"))","v":"---"}]
[null,null,"Avg",{"$f":"IFERROR(AVERAGE(D35:D37),\"---\")","v":"---"},"---","---","---","---","---","---","---","---",{"$f":"IFERROR(AVERAGE(M35:M37),\"---\")","v":"---"},"---","---","---","---","---"]
[]
[null,"Comments:"]
[]
[null,null,null,null,null,null,null,null,null,null,null,null,null,null,null,null,null,null,null,null,null,null,null,{"$f":"IFERROR(IF(OR(ERROR.TYPE(AQ16)=3,ERROR.TYPE(AQ22)=3,ERROR.TYPE(AQ23)=3,ERROR.TYPE(AQ25)=3,ERROR.TYPE(AQ27)=3),\"If all data is entered but does not plot, press Ctrl + Alt + F9 to refresh formulas, or press Auto-Scale Charts.\",\"\"),\"\")","v":""}]
[]
["LAB TECHNICIAN (or other title)",null,null,null,null,null,null,null,null,null,"LAB MANAGER (or other title)"]

{"sheet":"Gmm","index":9,"n_rows":57,"n_cols":43,"rows_kept":57,"cut":false,"hidden":false,"merged":[[56,0,56,4],[55,7,55,15],[56,7,56,15],[55,0,55,4],[15,0,18,0],[19,0,38,0],[25,3,25,4],[26,3,26,4],[11,0,14,0],[19,3,19,4],[20,3,20,4],[21,3,21,4],[11,1,11,4],[12,1,12,4],[41,15,41,16],[44,5,44,6],[44,7,44,9],[44,10,44,12],[44,13,44,14],[44,15,44,16],[43,10,43,11],[40,13,40,14],[41,13,41,14],[40,5,40,6],[41,5,41,6],[40,7,40,9],[41,7,41,9],[40,10,40,12],[41,10,41,12],[48,13,48,14],[48,15,48,16],[47,5,47,16],[9,5,9,6],[9,7,9,9],[9,10,9,12],[9,13,9,14],[9,15,9,16],[46,5,46,6],[46,7,46,9],[46,10,46,12],[46,13,46,14],[46,15,46,16],[45,5,45,6],[45,7,45,9],[45,10,45,12],[45,13,45,14],[45,15,45,16],[42,10,42,12],[42,5,42,6],[42,7,42,9],[42,13,42,14],[42,15,42,16],[40,15,40,16],[39,0,42,0],[43,0,46,0],[47,0,48,0],[19,1,35,2],[36,1,36,4],[37,1,37,4],[48,5,48,6],[48,7,48,9],[48,10,48,12],[22,3,22,4],[23,3,23,4],[24,3,24,4],[27,3,27,4],[28,3,28,4],[29,3,29,4],[44,1,44,4],[45,1,45,4],[46,1,46,4],[47,1,47,4],[2,0,2,1],[2,2,2,3],[3,2,3,3],[4,2,4,3],[5,2,5,3],[6,2,6,3],[9,0,9,4],[5,0,5,1],[6,0,6,1],[3,0,3,1],[4,0,4,1],[48,1,48,4],[10,1,10,4],[38,1,38,4],[39,1,39,4],[40,1,40,4],[41,1,41,4],[42,1,42,4],[43,1,43,4],[13,1,13,4],[14,1,14,4],[15,1,15,4],[16,1,16,4],[17,1,17,4],[18,1,18,4],[30,3,30,4],[31,3,31,4],[32,3,32,4],[33,3,33,4],[34,3,34,4],[35,3,35,4],[14,7,14,8],[15,7,15,8],[16,7,16,8],[2,5,2,7],[3,5,3,7],[4,5,4,7],[5,5,5,7],[6,5,6,7],[10,7,10,8],[2,8,2,10],[3,8,3,10],[4,8,4,10],[5,8,5,10],[10,10,10,11],[11,10,11,11],[12,10,12,11],[13,10,13,11],[14,10,14,11],[15,10,15,11],[11,7,11,8],[12,7,12,8],[13,7,13,8],[38,7,38,8],[39,7,39,8],[43,7,43,8],[29,7,29,8],[30,7,30,8],[31,7,31,8],[32,7,32,8],[33,7,33,8],[34,7,34,8],[35,7,35,8],[36,7,36,8],[37,7,37,8],[23,7,23,8],[24,7,24,8],[25,7,25,8],[26,7,26,8],[27,7,27,8],[28,7,28,8],[17,7,17,8],[18,7,18,8],[19,7,19,8],[20,7,20,8],[21,7,21,8],[22,7,22,8],[22,10,22,11],[23,10,23,11],[24,10,24,11],[25,10,25,11],[26,10,26,11],[27,10,27,11],[16,10,16,11],[17,10,17,11],[18,10,18,11],[19,10,19,11],[20,10,20,11],[21,10,21,11],[6,40,7,40],[6,41,7,41],[6,42,7,42],[6,39,7,39],[2,39,2,43],[51,0,52,16],[6,8,6,10],[2,12,2,16],[3,12,3,16],[4,12,4,16],[5,12,5,16],[6,12,6,16],[34,10,34,11],[35,10,35,11],[36,10,36,11],[37,10,37,11],[38,10,38,11],[39,10,39,11],[28,10,28,11],[29,10,29,11],[30,10,30,11],[31,10,31,11],[32,10,32,11],[33,10,33,11]]}
["ASTM D2041 Theoretical Maximum Specific Gravity"]
[]
["Mix ID",null,{"$f":"IF(ISBLANK('JMF Summary'!B3),\"---\",'JMF Summary'!B3)","v":"---"},null,null,"Gradation",null,null,{"$f":"'JMF Summary'!F3","v":2},null,null,null,"Container & Procedure",null,null,null,null,null,null,null,null,null,null,null,null,null,null,null,null,null,null,null,null,null,null,null,null,null,null,"Form Data"]
["Date",null,{"$f":"IF(ISBLANK('JMF Summary'!B4),\"---\",'JMF Summary'!B4)","v":"---"},null,null,"Compaction",null,null,{"$f":"'JMF Summary'!F4","v":"75 Gyr"},null,null,null,null,null,null,null,null,null,null,null,null,null,null,null,null,null,null,null,null,null,null,null,null,null,null,null,null,null,null,"Procedure",1,"(1 = Bowl in Water, 2 = Bowl in Air, 3 = Flask in Air)"]
["Project",null,{"$f":"IF(ISBLANK('JMF Summary'!B5),\"---\",'JMF Summary'!B5)","v":"---"},null,null,"Binder Grade",null,null,{"$f":"'JMF Summary'!F5","v":"PG 64-22"},null,null,null,null,null,null,null,null,null,null,null,null,null,null,null,null,null,null,null,null,null,null,null,null,null,null,null,null,null,null,"Dry Back",false,"(TRUE = Dry Back, FALSE = Standard)"]
["Producer",null,{"$f":"IF(ISBLANK('JMF Summary'!B6),\"---\",'JMF Summary'!B6)","v":"---"},null,null,"Binder Source",null,null,{"$f":"IF(ISBLANK('JMF Summary'!F6),\"---\",'JMF Summary'!F6)","v":"---"}]
["Mix Designer",null,{"$f":"IF(ISBLANK('JMF Summary'!B7),\"---\",'JMF Summary'!B7)","v":"---"},null,null,"Gb",null,null,{"$f":"IF(ISNUMBER('Binder Report'!G15),'Binder Report'!G15,\"---\")","v":"---"},null,null,null,null,null,null,null,null,null,null,null,null,null,null,null,null,null,null,null,null,null,null,null,null,null,null,null,null,null,null,"Pb","Gmm (Meas.)","Gse (Meas.)","Gmm (Backcalc.)"]
[]
[null,null,null,null,null,null,null,null,null,null,null,null,null,null,null,null,null,null,null,null,null,null,null,null,null,null,null,null,null,null,null,null,null,null,null,null,null,null,null,{"$f":"IF(ISNUMBER(F10),F10,#N/A)","v":{"$error":"#N/A"}},{"$f":"IF($AO$5,IF(ISNUMBER(F46),F46,#N/A),IF(ISNUMBER(F42),F42,#N/A))","v":{"$error":"#N/A"}},{"$f":"IF($AO$5,IF(ISNUMBER(F47),F47,#N/A),IF(ISNUMBER(F43),F43,#N/A))","v":{"$error":"#N/A"}},{"$f":"IF(ISNUMBER(F49),F49,#N/A)","v":{"$error":"#N/A"}}]
["Trial Asphalt Content, Pb, %",null,null,null,null,{"$f":"IF(ISNUMBER(Volumetrics!A12),Volumetrics!A12,\"---\")","v":"---"},null,{"$f":"IF(ISNUMBER(Volumetrics!A16),Volumetrics!A16,\"---\")","v":"---"},null,null,{"$f":"IF(ISNUMBER(Volumetrics!A20),Volumetrics!A20,\"---\")","v":"---"},null,null,{"$f":"IF(ISNUMBER(Volumetrics!A24),Volumetrics!A24,\"---\")","v":"---"},null,{"$f":"IF(ISNUMBER(Volumetrics!A28),Volumetrics!A28,\"---\")","v":"---"},null,null,null,null,null,null,null,null,null,null,null,null,null,null,null,null,null,null,null,null,null,null,null,{"$f":"IF(ISNUMBER(H10),H10,#N/A)","v":{"$error":"#N/A"}},{"$f":"IF($AO$5,IF(ISNUMBER(H46),H46,#N/A),IF(ISNUMBER(H42),H42,#N/A))","v":{"$error":"#N/A"}},{"$f":"IF($AO$5,IF(ISNUMBER(H47),H47,#N/A),IF(ISNUMBER(H43),H43,#N/A))","v":{"$error":"#N/A"}},{"$f":"IF(ISNUMBER(H49),H49,#N/A)","v":{"$error":"#N/A"}}]
["Procedure","Replicate",null,null,null,1,2,1,null,2,1,null,2,1,2,1,2,null,null,null,null,null,null,null,null,null,null,null,null,null,null,null,null,null,null,null,null,null,null,{"$f":"IF(ISNUMBER(K10),K10,#N/A)","v":{"$error":"#N/A"}},{"$f":"IF($AO$5,IF(ISNUMBER(K46),K46,#N/A),IF(ISNUMBER(K42),K42,#N/A))","v":{"$error":"#N/A"}},{"$f":"IF($AO$5,IF(ISNUMBER(K47),K47,#N/A),IF(ISNUMBER(K43),K43,#N/A))","v":{"$error":"#N/A"}},{"$f":"IF(ISNUMBER(K49),K49,#N/A)","v":{"$error":"#N/A"}}]
["Bowl (Weighing In Water)","Pycnometer No.",null,null,null,1,2,1,null,2,1,null,2,1,2,1,2,null,null,null,null,null,null,null,null,null,null,null,null,null,null,null,null,null,null,null,null,null,null,{"$f":"IF(ISNUMBER(N10),N10,#N/A)","v":{"$error":"#N/A"}},{"$f":"IF($AO$5,IF(ISNUMBER(N46),N46,#N/A),IF(ISNUMBER(N42),N42,#N/A))","v":{"$error":"#N/A"}},{"$f":"IF($AO$5,IF(ISNUMBER(N47),N47,#N/A),IF(ISNUMBER(N43),N43,#N/A))","v":{"$error":"#N/A"}},{"$f":"IF(ISNUMBER(N49),N49,#N/A)","v":{"$error":"#N/A"}}]
[null,"Wt. Dry Sample in Air, g (A)",null,null,null,null,null,null,null,null,null,null,null,null,null,null,null,null,null,null,null,null,null,null,null,null,null,null,null,null,null,null,null,null,null,null,null,null,null,{"$f":"IF(ISNUMBER(P10),P10,#N/A)","v":{"$error":"#N/A"}},{"$f":"IF($AO$5,IF(ISNUMBER(P46),P46,#N/A),IF(ISNUMBER(P42),P42,#N/A))","v":{"$error":"#N/A"}},{"$f":"IF($AO$5,IF(ISNUMBER(P47),P47,#N/A),IF(ISNUMBER(P43),P43,#N/A))","v":{"$error":"#N/A"}},{"$f":"IF(ISNUMBER(P49),P49,#N/A)","v":{"$error":"#N/A"}}]
[null,"Wt. Bowl in Water, g (B)",null,null,null,null,null,null,null,null,null,null,null,null,null,null,null,null,null,null,null,null,null,null,null,null,null,null,null,null,null,null,null,null,null,null,null,null,null,"Avg","---",{"$f":"IF(ISNUMBER(F48),F48,#N/A)","v":{"$error":"#N/A"}},"---"]
[null,"Wt. Sample+Bowl in Water, g (C)"]
[{"$f":"IF(AO4=1,\"Bowl or Flask (Weighing in Air)\", IF(AO4=2,\"Bowl (Weighing in Air)\", \"Flask (Weighing in Air)\"))","v":"Bowl or Flask (Weighing in Air)"},"Pycnometer No."]
[null,"Wt. Dry Sample in Air, g (A)"]
[null,{"$f":"IF($AO$4=3,\"Wt. Flask+Plate w/ Water, g (D)\",\"Wt. Bowl+Lid w/ Water, g (D)\")","v":"Wt. Bowl+Lid w/ Water, g (D)"}]
[null,{"$f":"IF($AO$4=3,\"Wt. Sample+Flask+Plate w/ Water, g (E)\", \"Wt. Sample+Bowl+Lid w/ Water, g (E)\")","v":"Wt. Sample+Bowl+Lid w/ Water, g (E)"}]
["Supplemental Dry Back","Wt. Sample, g, at 15-Minute Intervals",null,"00:00:00"]
[null,null,null,"00:15:00"]
[null,null,null,"00:30:00"]
[null,null,null,"00:45:00"]
[null,null,null,"01:00:00"]
[null,null,null,"01:15:00"]
[null,null,null,"01:30:00"]
[null,null,null,"01:45:00"]
[null,null,null,"02:00:00"]
[null,null,null,"02:15:00"]
[null,null,null,"02:30:00"]
[null,null,null,"02:45:00"]
[null,null,null,"03:00:00"]
[null,null,null,"03:15:00"]
[null,null,null,"03:30:00"]
[null,null,null,"03:45:00"]
[null,null,null,"04:00:00"]
[null,"Running mass loss, %",null,null,null,{"$f":"IF(COUNT(F20:F36)>1,(INDEX(F20:F36,COUNT(F20:F36)-1)-INDEX(F20:F36,COUNT(F20:F36)))/INDEX(F20:F36,COUNT(F20:F36))*100,\"---\")","v":"---"},{"$f":"IF(COUNT(G20:G36)>1,(INDEX(G20:G36,COUNT(G20:G36)-1)-INDEX(G20:G36,COUNT(G20:G36)))/INDEX(G20:G36,COUNT(G20:G36))*100,\"---\")","v":"---"},{"$f":"IF(COUNT(H20:H36)>1,(INDEX(H20:H36,COUNT(H20:H36)-1)-INDEX(H20:H36,COUNT(H20:H36)))/INDEX(H20:H36,COUNT(H20:H36))*100,\"---\")","v":"---"},null,{"$f":"IF(COUNT(J20:J36)>1,(INDEX(J20:J36,COUNT(J20:J36)-1)-INDEX(J20:J36,COUNT(J20:J36)))/INDEX(J20:J36,COUNT(J20:J36))*100,\"---\")","v":"---"},{"$f":"IF(COUNT(K20:K36)>1,(INDEX(K20:K36,COUNT(K20:K36)-1)-INDEX(K20:K36,COUNT(K20:K36)))/INDEX(K20:K36,COUNT(K20:K36))*100,\"---\")","v":"---"},null,{"$f":"IF(COUNT(M20:M36)>1,(INDEX(M20:M36,COUNT(M20:M36)-1)-INDEX(M20:M36,COUNT(M20:M36)))/INDEX(M20:M36,COUNT(M20:M36))*100,\"---\")","v":"---"},{"$f":"IF(COUNT(N20:N36)>1,(INDEX(N20:N36,COUNT(N20:N36)-1)-INDEX(N20:N36,COUNT(N20:N36)))/INDEX(N20:N36,COUNT(N20:N36))*100,\"---\")","v":"---"},{"$f":"IF(COUNT(O20:O36)>1,(INDEX(O20:O36,COUNT(O20:O36)-1)-INDEX(O20:O36,COUNT(O20:O36)))/INDEX(O20:O36,COUNT(O20:O36))*100,\"---\")","v":"---"},{"$f":"IF(COUNT(P20:P36)>1,(INDEX(P20:P36,COUNT(P20:P36)-1)-INDEX(P20:P36,COUNT(P20:P36)))/INDEX(P20:P36,COUNT(P20:P36))*100,\"---\")","v":"---"},{"$f":"IF(COUNT(Q20:Q36)>1,(INDEX(Q20:Q36,COUNT(Q20:Q36)-1)-INDEX(Q20:Q36,COUNT(Q20:Q36)))/INDEX(Q20:Q36,COUNT(Q20:Q36))*100,\"---\")","v":"---"}]
[null,"Surface Dry (<0.05% mass loss)?",null,null,null,{"$f":"IF(ISNUMBER(F37),IF(F37<0.05,\"Dry\",\"No\"),\"---\")","v":"---"},{"$f":"IF(ISNUMBER(G37),IF(G37<0.05,\"Dry\",\"No\"),\"---\")","v":"---"},{"$f":"IF(ISNUMBER(H37),IF(H37<0.05,\"Dry\",\"No\"),\"---\")","v":"---"},null,{"$f":"IF(ISNUMBER(J37),IF(J37<0.05,\"Dry\",\"No\"),\"---\")","v":"---"},{"$f":"IF(ISNUMBER(K37),IF(K37<0.05,\"Dry\",\"No\"),\"---\")","v":"---"},null,{"$f":"IF(ISNUMBER(M37),IF(M37<0.05,\"Dry\",\"No\"),\"---\")","v":"---"},{"$f":"IF(ISNUMBER(N37),IF(N37<0.05,\"Dry\",\"No\"),\"---\")","v":"---"},{"$f":"IF(ISNUMBER(O37),IF(O37<0.05,\"Dry\",\"No\"),\"---\")","v":"---"},{"$f":"IF(ISNUMBER(P37),IF(P37<0.05,\"Dry\",\"No\"),\"---\")","v":"---"},{"$f":"IF(ISNUMBER(Q37),IF(Q37<0.05,\"Dry\",\"No\"),\"---\")","v":"---"}]
[null,"Wt. Surface Dry Sample in Air, g (A')",null,null,null,{"$f":"IF(F38=\"Dry\",INDEX(F20:F36,COUNT(F20:F36)),\"---\")","v":"---"},{"$f":"IF(G38=\"Dry\",INDEX(G20:G36,COUNT(G20:G36)),\"---\")","v":"---"},{"$f":"IF(H38=\"Dry\",INDEX(H20:H36,COUNT(H20:H36)),\"---\")","v":"---"},null,{"$f":"IF(J38=\"Dry\",INDEX(J20:J36,COUNT(J20:J36)),\"---\")","v":"---"},{"$f":"IF(K38=\"Dry\",INDEX(K20:K36,COUNT(K20:K36)),\"---\")","v":"---"},null,{"$f":"IF(M38=\"Dry\",INDEX(M20:M36,COUNT(M20:M36)),\"---\")","v":"---"},{"$f":"IF(N38=\"Dry\",INDEX(N20:N36,COUNT(N20:N36)),\"---\")","v":"---"},{"$f":"IF(O38=\"Dry\",INDEX(O20:O36,COUNT(O20:O36)),\"---\")","v":"---"},{"$f":"IF(P38=\"Dry\",INDEX(P20:P36,COUNT(P20:P36)),\"---\")","v":"---"},{"$f":"IF(Q38=\"Dry\",INDEX(Q20:Q36,COUNT(Q20:Q36)),\"---\")","v":"---"}]
["Standard Calculations","Rep Gmm",null,null,null,{"$f":"IFERROR(IF($AO$4=1,F13/(F13-(F15-F14)),F17/(F17-(F19-F18))),\"---\")","v":"---"},{"$f":"IFERROR(IF($AO$4=1,G13/(G13-(G15-G14)),G17/(G17-(G19-G18))),\"---\")","v":"---"},{"$f":"IFERROR(IF($AO$4=1,H13/(H13-(H15-H14)),H17/(H17-(H19-H18))),\"---\")","v":"---"},null,{"$f":"IFERROR(IF($AO$4=1,J13/(J13-(J15-J14)),J17/(J17-(J19-J18))),\"---\")","v":"---"},{"$f":"IFERROR(IF($AO$4=1,K13/(K13-(K15-K14)),K17/(K17-(K19-K18))),\"---\")","v":"---"},null,{"$f":"IFERROR(IF($AO$4=1,M13/(M13-(M15-M14)),M17/(M17-(M19-M18))),\"---\")","v":"---"},{"$f":"IFERROR(IF($AO$4=1,N13/(N13-(N15-N14)),N17/(N17-(N19-N18))),\"---\")","v":"---"},{"$f":"IFERROR(IF($AO$4=1,O13/(O13-(O15-O14)),O17/(O17-(O19-O18))),\"---\")","v":"---"},{"$f":"IFERROR(IF($AO$4=1,P13/(P13-(P15-P14)),P17/(P17-(P19-P18))),\"---\")","v":"---"},{"$f":"IFERROR(IF($AO$4=1,Q13/(Q13-(Q15-Q14)),Q17/(Q17-(Q19-Q18))),\"---\")","v":"---"}]
[null,"Difference",null,null,null,{"$f":"IFERROR(ABS(F40-G40),\"---\")","v":"---"},null,{"$f":"IFERROR(ABS(H40-J40),\"---\")","v":"---"},null,null,{"$f":"IFERROR(ABS(K40-M40),\"---\")","v":"---"},null,null,{"$f":"IFERROR(ABS(N40-O40),\"---\")","v":"---"},null,{"$f":"IFERROR(ABS(P40-Q40),\"---\")","v":"---"}]
[null,"Avg Gmm",null,null,null,{"$f":"IFERROR(ROUND(AVERAGE(F40:G40),3),\"---\")","v":"---"},null,{"$f":"IFERROR(ROUND(AVERAGE(H40:J40),3),\"---\")","v":"---"},null,null,{"$f":"IFERROR(ROUND(AVERAGE(K40:M40),3),\"---\")","v":"---"},null,null,{"$f":"IFERROR(ROUND(AVERAGE(N40:O40),3),\"---\")","v":"---"},null,{"$f":"IFERROR(ROUND(AVERAGE(P40:Q40),3),\"---\")","v":"---"}]
[null,"Calc. Gse",null,null,null,{"$f":"IFERROR(IF(ISNUMBER(F10),(100-F10)/((100/F42)-(F10/$I$7)),\"---\"),\"---\")","v":"---"},null,{"$f":"IFERROR(IF(ISNUMBER(H10),(100-H10)/((100/H42)-(H10/$I$7)),\"---\"),\"---\")","v":"---"},null,null,{"$f":"IFERROR(IF(ISNUMBER(K10),(100-K10)/((100/K42)-(K10/$I$7)),\"---\"),\"---\")","v":"---"},null,null,{"$f":"IFERROR(IF(ISNUMBER(N10),(100-N10)/((100/N42)-(N10/$I$7)),\"---\"),\"---\")","v":"---"},null,{"$f":"IFERROR(IF(ISNUMBER(P10),(100-P10)/((100/P42)-(P10/$I$7)),\"---\"),\"---\")","v":"---"}]
["Dry Back Calculations","Rep Gmm, Dry Back",null,null,null,{"$f":"IF(ISNUMBER(F39),IF($AO$4=1,F13/(F39-(F15-F14)),F17/(F39-(F19-F18))),\"---\")","v":"---"},{"$f":"IF(ISNUMBER(G39),IF($AO$4=1,G13/(G39-(G15-G14)),G17/(G39-(G19-G18))),\"---\")","v":"---"},{"$f":"IF(ISNUMBER(H39),IF($AO$4=1,H13/(H39-(H15-H14)),H17/(H39-(H19-H18))),\"---\")","v":"---"},null,{"$f":"IF(ISNUMBER(J39),IF($AO$4=1,J13/(J39-(J15-J14)),J17/(J39-(J19-J18))),\"---\")","v":"---"},{"$f":"IF(ISNUMBER(K39),IF($AO$4=1,K13/(K39-(K15-K14)),K17/(K39-(K19-K18))),\"---\")","v":"---"},null,{"$f":"IF(ISNUMBER(M39),IF($AO$4=1,M13/(M39-(M15-M14)),M17/(M39-(M19-M18))),\"---\")","v":"---"},{"$f":"IF(ISNUMBER(N39),IF($AO$4=1,N13/(N39-(N15-N14)),N17/(N39-(N19-N18))),\"---\")","v":"---"},{"$f":"IF(ISNUMBER(O39),IF($AO$4=1,O13/(O39-(O15-O14)),O17/(O39-(O19-O18))),\"---\")","v":"---"},{"$f":"IF(ISNUMBER(P39),IF($AO$4=1,P13/(P39-(P15-P14)),P17/(P39-(P19-P18))),\"---\")","v":"---"},{"$f":"IF(ISNUMBER(Q39),IF($AO$4=1,Q13/(Q39-(Q15-Q14)),Q17/(Q39-(Q19-Q18))),\"---\")","v":"---"}]
[null,"Difference",null,null,null,{"$f":"IFERROR(ABS(F44-G44),\"---\")","v":"---"},null,{"$f":"IFERROR(ABS(H44-J44),\"---\")","v":"---"},null,null,{"$f":"IFERROR(ABS(K44-M44),\"---\")","v":"---"},null,null,{"$f":"IFERROR(ABS(N44-O44),\"---\")","v":"---"},null,{"$f":"IFERROR(ABS(P44-Q44),\"---\")","v":"---"}]
[null,"Avg Gmm, Dry Back",null,null,null,{"$f":"IFERROR(ROUND(AVERAGE(F44:G44),3),\"---\")","v":"---"},null,{"$f":"IFERROR(ROUND(AVERAGE(H44:J44),3),\"---\")","v":"---"},null,null,{"$f":"IFERROR(ROUND(AVERAGE(K44:M44),3),\"---\")","v":"---"},null,null,{"$f":"IFERROR(ROUND(AVERAGE(N44:O44),3),\"---\")","v":"---"},null,{"$f":"IFERROR(ROUND(AVERAGE(P44:Q44),3),\"---\")","v":"---"}]
[null,"Calc. Gse, Dry Back",null,null,null,{"$f":"IFERROR(IF(ISNUMBER(F10),(100-F10)/((100/F46)-(F10/$I$7)),\"---\"),\"---\")","v":"---"},null,{"$f":"IFERROR(IF(ISNUMBER(H10),(100-H10)/((100/H46)-(H10/$I$7)),\"---\"),\"---\")","v":"---"},null,null,{"$f":"IFERROR(IF(ISNUMBER(K10),(100-K10)/((100/K46)-(K10/$I$7)),\"---\"),\"---\")","v":"---"},null,null,{"$f":"IFERROR(IF(ISNUMBER(N10),(100-N10)/((100/N46)-(N10/$I$7)),\"---\"),\"---\")","v":"---"},null,{"$f":"IFERROR(IF(ISNUMBER(P10),(100-P10)/((100/P46)-(P10/$I$7)),\"---\"),\"---\")","v":"---"}]
["Results",{"$f":"IFERROR(IF($AO$5=TRUE,\"Avg Gse (Dry Back Calculation)\",\"Avg Gse (Standard Calculation)\"),\"---\")","v":"Avg Gse (Standard Calculation)"},null,null,null,{"$f":"IFERROR(IF($AO$5=TRUE,AVERAGE(F47:Q47),AVERAGE(F43:Q43)),\"---\")","v":"---"}]
[null,"Gmm (Calc. via Avg Gse)",null,null,null,{"$f":"IFERROR(1/((1-F10/100)/AVERAGE($F$48)+F10/100/$I$7),\"---\")","v":"---"},null,{"$f":"IFERROR(1/((1-H10/100)/AVERAGE($F$48)+H10/100/$I$7),\"---\")","v":"---"},null,null,{"$f":"IFERROR(1/((1-K10/100)/AVERAGE($F$48)+K10/100/$I$7),\"---\")","v":"---"},null,null,{"$f":"IFERROR(1/((1-N10/100)/AVERAGE($F$48)+N10/100/$I$7),\"---\")","v":"---"},null,{"$f":"IFERROR(1/((1-P10/100)/AVERAGE($F$48)+P10/100/$I$7),\"---\")","v":"---"}]
[]
["Comments:"]
[]
[]
[]
[]
[]
["LAB TECHNICIAN (or other title)",null,null,null,null,null,null,"LAB MANAGER (or other title)"]

{"sheet":"Stability","index":10,"n_rows":53,"n_cols":43,"rows_kept":53,"cut":false,"hidden":false,"merged":[[36,0,39,0],[10,0,11,0],[6,0,6,1],[6,2,6,3],[12,0,15,0],[16,0,19,0],[10,1,11,1],[10,2,11,2],[9,0,9,8],[10,6,11,6],[10,7,10,8],[34,0,35,0],[34,1,35,1],[34,2,35,2],[34,3,35,3],[34,4,35,4],[52,0,52,3],[51,0,51,3],[51,5,51,8],[52,5,52,8],[43,0,44,8],[4,0,4,1],[4,2,4,3],[5,0,5,1],[5,2,5,3],[1,32,1,33],[5,5,5,6],[2,0,2,1],[3,0,3,1],[2,2,2,3],[3,2,3,3],[10,4,11,4],[10,3,11,3],[34,7,34,8],[33,0,33,8],[10,5,11,5],[34,5,35,5],[34,6,35,6],[20,0,23,0],[24,0,27,0],[28,0,31,0],[6,5,6,6],[6,7,6,8],[2,7,2,8],[3,7,3,8],[4,7,4,8],[5,7,5,8],[2,5,2,6],[3,5,3,6],[4,5,4,6],[9,32,9,42],[10,32,10,33],[10,39,10,40],[10,35,10,36],[10,37,10,38],[10,41,11,42],[10,34,11,34]]}
["ASTM D6927 Marshall Stability and Flow"]
[null,null,null,null,null,null,null,null,null,null,null,null,null,null,null,null,null,null,null,null,null,null,null,null,null,null,null,null,null,null,null,null,"General Mix Info"]
["Mix ID",null,{"$f":"IF(ISBLANK('JMF Summary'!B3),\"---\",'JMF Summary'!B3)","v":"---"},null,null,"Gradation",null,{"$f":"'JMF Summary'!F3","v":2},null,null,null,null,null,null,null,null,null,null,null,null,null,null,null,null,null,null,null,null,null,null,null,null,"Units",{"$f":"'JMF Summary'!AG4","v":"US"}]
["Date",null,{"$f":"IF(ISBLANK('JMF Summary'!B4),\"---\",'JMF Summary'!B4)","v":"---"},null,null,"Compaction",null,{"$f":"'JMF Summary'!F4","v":"75 Gyr"}]
["Project",null,{"$f":"IF(ISBLANK('JMF Summary'!B5),\"---\",'JMF Summary'!B5)","v":"---"},null,null,"Binder Grade",null,{"$f":"'JMF Summary'!F5","v":"PG 64-22"}]
["Producer",null,{"$f":"IF(ISBLANK('JMF Summary'!B6),\"---\",'JMF Summary'!B6)","v":"---"},null,null,"Binder Source",null,{"$f":"IF(ISBLANK('JMF Summary'!F6),\"---\",'JMF Summary'!F6)","v":"---"}]
["Mix Designer",null,{"$f":"IF(ISBLANK('JMF Summary'!B7),\"---\",'JMF Summary'!B7)","v":"---"},null,null,"Date Tested"]
[]
[]
["Multi-Point Trial Asphalt Contents",null,null,null,null,null,null,null,null,null,null,null,null,null,null,null,null,null,null,null,null,null,null,null,null,null,null,null,null,null,null,null,"Form Data"]
["Pb","Spec.","Ht, mm",{"$f":"\"Meas. Stability, \" & IF(AH3=\"US\",\"lb\",\"N\")","v":"Meas. Stability, lb"},"Correlation Ratio",{"$f":"\"Corr. Stability, \" & IF(AH3=\"US\",\"lb\",\"N\")","v":"Corr. Stability, lb"},"Flow","Flow Calc Method",null,null,null,null,null,null,null,null,null,null,null,null,null,null,null,null,null,null,null,null,null,null,null,null,"D6927 Table 1 Values",null,"Specimen","Thickness",null,"CR",null,"Interpolated Values",null,"Flow Calc Method"]
[null,null,null,null,null,null,null,"Peak","Tangent Offset",null,null,null,null,null,null,null,null,null,null,null,null,null,null,null,null,null,null,null,null,null,null,null,"Thickness (mm)","Correlation Ratio",null,"Below","Above","Below","Above","Actual Thickness","Interp. CR"]
[{"$f":"IF(ISNUMBER(Volumetrics!A12),Volumetrics!A12,\"---\")","v":"---"},1,{"$f":"IFERROR(IF(ISNUMBER(Volumetrics!D12),Volumetrics!D12,\"---\"),\"---\")","v":"---"},null,{"$f":"IFERROR(AO13,\"---\")","v":"---"},{"$f":"IFERROR(IF(D13*E13<>0,D13*E13,\"---\"),\"---\")","v":"---"},null,null,null,null,null,null,null,null,null,null,null,null,null,null,null,null,null,null,null,null,null,null,null,null,null,null,25.4,5.56,1,{"$f":"INDEX($AG$13:$AG$45,MATCH(AN13,$AG$13:$AG$45,1),1)","v":{"$error":"#N/A"}},{"$f":"INDEX($AG$13:$AG$45,MATCH(AN13,$AG$13:$AG$45,1)+1,1)","v":{"$error":"#N/A"}},{"$f":"VLOOKUP(AJ13,$AG$13:$AH$45,2,FALSE)","v":{"$error":"#N/A"}},{"$f":"VLOOKUP(AK13,$AG$13:$AH$45,2,FALSE)","v":{"$error":"#N/A"}},{"$f":"C13","v":"---"},{"$f":"ROUND(TREND(AL13:AM13,AJ13:AK13,AN13),2)","v":{"$error":"#VALUE!"}},true,{"$f":"IF(OR($H$4=\"75 Gyr\",$H$4=\"50 Gyr\"),\"---\",IF(AP13=TRUE,\"Peak\",\"Tangent Offset\"))","v":"---"}]
[null,2,{"$f":"IFERROR(IF(ISNUMBER(Volumetrics!D13),Volumetrics!D13,\"---\"),\"---\")","v":"---"},null,{"$f":"IFERROR(AO14,\"---\")","v":"---"},{"$f":"IFERROR(IF(D14*E14<>0,D14*E14,\"---\"),\"---\")","v":"---"},null,null,null,null,null,null,null,null,null,null,null,null,null,null,null,null,null,null,null,null,null,null,null,null,null,null,27,5,2,{"$f":"INDEX($AG$13:$AG$45,MATCH(AN14,$AG$13:$AG$45,1),1)","v":{"$error":"#N/A"}},{"$f":"INDEX($AG$13:$AG$45,MATCH(AN14,$AG$13:$AG$45,1)+1,1)","v":{"$error":"#N/A"}},{"$f":"VLOOKUP(AJ14,$AG$13:$AH$45,2,FALSE)","v":{"$error":"#N/A"}},{"$f":"VLOOKUP(AK14,$AG$13:$AH$45,2,FALSE)","v":{"$error":"#N/A"}},{"$f":"C14","v":"---"},{"$f":"ROUND(TREND(AL14:AM14,AJ14:AK14,AN14),2)","v":{"$error":"#VALUE!"}},true,{"$f":"IF(OR($H$4=\"75 Gyr\",$H$4=\"50 Gyr\"),\"---\",IF(AP14=TRUE,\"Peak\",\"Tangent Offset\"))","v":"---"}]
[null,3,{"$f":"IFERROR(IF(ISNUMBER(Volumetrics!D14),Volumetrics!D14,\"---\"),\"---\")","v":"---"},null,{"$f":"IFERROR(AO15,\"---\")","v":"---"},{"$f":"IFERROR(IF(D15*E15<>0,D15*E15,\"---\"),\"---\")","v":"---"},null,null,null,null,null,null,null,null,null,null,null,null,null,null,null,null,null,null,null,null,null,null,null,null,null,null,28.6,4.55,3,{"$error":"#N/A"},{"$error":"#N/A"},{"$error":"#N/A"},{"$error":"#N/A"},{"$f":"C15","v":"---"},{"$error":"#VALUE!"},true,"---"]
[null,"Avg",{"$f":"IFERROR(AVERAGE(C13:C15),\"---\")","v":"---"},{"$f":"IFERROR(AVERAGE(D13:D15),\"---\")","v":"---"},{"$f":"IFERROR(AVERAGE(E13:E15),\"---\")","v":"---"},{"$f":"IFERROR(AVERAGE(F13:F15),\"---\")","v":"---"},{"$f":"IFERROR(AVERAGE(G13:G15),\"---\")","v":"---"},"---","---",null,null,null,null,null,null,null,null,null,null,null,null,null,null,null,null,null,null,null,null,null,null,null,30.2,4.17,"---","---","---","---","---","---","---","---","---"]
[{"$f":"IF(ISNUMBER(Volumetrics!A16),Volumetrics!A16,\"---\")","v":"---"},4,{"$f":"IFERROR(IF(ISNUMBER(Volumetrics!D16),Volumetrics!D16,\"---\"),\"---\")","v":"---"},null,{"$f":"IFERROR(AO17,\"---\")","v":"---"},{"$f":"IFERROR(IF(D17*E17<>0,D17*E17,\"---\"),\"---\")","v":"---"},null,null,null,null,null,null,null,null,null,null,null,null,null,null,null,null,null,null,null,null,null,null,null,null,null,null,31.8,3.85,4,{"$error":"#N/A"},{"$error":"#N/A"},{"$error":"#N/A"},{"$error":"#N/A"},{"$f":"C17","v":"---"},{"$error":"#VALUE!"},true,"---"]
[null,5,{"$f":"IFERROR(IF(ISNUMBER(Volumetrics!D17),Volumetrics!D17,\"---\"),\"---\")","v":"---"},null,{"$f":"IFERROR(AO18,\"---\")","v":"---"},{"$f":"IFERROR(IF(D18*E18<>0,D18*E18,\"---\"),\"---\")","v":"---"},null,null,null,null,null,null,null,null,null,null,null,null,null,null,null,null,null,null,null,null,null,null,null,null,null,null,33.299999999999997,3.57,5,{"$error":"#N/A"},{"$error":"#N/A"},{"$error":"#N/A"},{"$error":"#N/A"},{"$f":"C18","v":"---"},{"$error":"#VALUE!"},true,"---"]
[null,6,{"$f":"IFERROR(IF(ISNUMBER(Volumetrics!D18),Volumetrics!D18,\"---\"),\"---\")","v":"---"},null,{"$f":"IFERROR(AO19,\"---\")","v":"---"},{"$f":"IFERROR(IF(D19*E19<>0,D19*E19,\"---\"),\"---\")","v":"---"},null,null,null,null,null,null,null,null,null,null,null,null,null,null,null,null,null,null,null,null,null,null,null,null,null,null,34.9,3.33,6,{"$error":"#N/A"},{"$error":"#N/A"},{"$error":"#N/A"},{"$error":"#N/A"},{"$f":"C19","v":"---"},{"$error":"#VALUE!"},true,"---"]
[null,"Avg",{"$f":"IFERROR(AVERAGE(C17:C19),\"---\")","v":"---"},{"$f":"IFERROR(AVERAGE(D17:D19),\"---\")","v":"---"},{"$f":"IFERROR(AVERAGE(E17:E19),\"---\")","v":"---"},{"$f":"IFERROR(AVERAGE(F17:F19),\"---\")","v":"---"},{"$f":"IFERROR(AVERAGE(G17:G19),\"---\")","v":"---"},"---","---",null,null,null,null,null,null,null,null,null,null,null,null,null,null,null,null,null,null,null,null,null,null,null,36.5,3.03,"---","---","---","---","---","---","---","---","---"]
[{"$f":"IF(ISNUMBER(Volumetrics!A20),Volumetrics!A20,\"---\")","v":"---"},7,{"$f":"IFERROR(IF(ISNUMBER(Volumetrics!D20),Volumetrics!D20,\"---\"),\"---\")","v":"---"},null,{"$f":"IFERROR(AO21,\"---\")","v":"---"},{"$f":"IFERROR(IF(D21*E21<>0,D21*E21,\"---\"),\"---\")","v":"---"},null,null,null,null,null,null,null,null,null,null,null,null,null,null,null,null,null,null,null,null,null,null,null,null,null,null,38.1,2.78,7,{"$error":"#N/A"},{"$error":"#N/A"},{"$error":"#N/A"},{"$error":"#N/A"},{"$f":"C21","v":"---"},{"$error":"#VALUE!"},true,"---"]
[null,8,{"$f":"IFERROR(IF(ISNUMBER(Volumetrics!D21),Volumetrics!D21,\"---\"),\"---\")","v":"---"},null,{"$f":"IFERROR(AO22,\"---\")","v":"---"},{"$f":"IFERROR(IF(D22*E22<>0,D22*E22,\"---\"),\"---\")","v":"---"},null,null,null,null,null,null,null,null,null,null,null,null,null,null,null,null,null,null,null,null,null,null,null,null,null,null,39.700000000000003,2.5,8,{"$error":"#N/A"},{"$error":"#N/A"},{"$error":"#N/A"},{"$error":"#N/A"},{"$f":"C22","v":"---"},{"$error":"#VALUE!"},true,"---"]
[null,9,{"$f":"IFERROR(IF(ISNUMBER(Volumetrics!D22),Volumetrics!D22,\"---\"),\"---\")","v":"---"},null,{"$f":"IFERROR(AO23,\"---\")","v":"---"},{"$f":"IFERROR(IF(D23*E23<>0,D23*E23,\"---\"),\"---\")","v":"---"},null,null,null,null,null,null,null,null,null,null,null,null,null,null,null,null,null,null,null,null,null,null,null,null,null,null,41.3,2.27,9,{"$error":"#N/A"},{"$error":"#N/A"},{"$error":"#N/A"},{"$error":"#N/A"},{"$f":"C23","v":"---"},{"$error":"#VALUE!"},true,"---"]
[null,"Avg",{"$f":"IFERROR(AVERAGE(C21:C23),\"---\")","v":"---"},{"$f":"IFERROR(AVERAGE(D21:D23),\"---\")","v":"---"},{"$f":"IFERROR(AVERAGE(E21:E23),\"---\")","v":"---"},{"$f":"IFERROR(AVERAGE(F21:F23),\"---\")","v":"---"},{"$f":"IFERROR(AVERAGE(G21:G23),\"---\")","v":"---"},"---","---",null,null,null,null,null,null,null,null,null,null,null,null,null,null,null,null,null,null,null,null,null,null,null,42.9,2.08,"---","---","---","---","---","---","---","---","---"]
[{"$f":"IF(ISNUMBER(Volumetrics!A24),Volumetrics!A24,\"---\")","v":"---"},10,{"$f":"IFERROR(IF(ISNUMBER(Volumetrics!D24),Volumetrics!D24,\"---\"),\"---\")","v":"---"},null,{"$f":"IFERROR(AO25,\"---\")","v":"---"},{"$f":"IFERROR(IF(D25*E25<>0,D25*E25,\"---\"),\"---\")","v":"---"},null,null,null,null,null,null,null,null,null,null,null,null,null,null,null,null,null,null,null,null,null,null,null,null,null,null,44.4,1.92,10,{"$error":"#N/A"},{"$error":"#N/A"},{"$error":"#N/A"},{"$error":"#N/A"},{"$f":"C25","v":"---"},{"$error":"#VALUE!"},true,"---"]
[null,11,{"$f":"IFERROR(IF(ISNUMBER(Volumetrics!D25),Volumetrics!D25,\"---\"),\"---\")","v":"---"},null,{"$f":"IFERROR(AO26,\"---\")","v":"---"},{"$f":"IFERROR(IF(D26*E26<>0,D26*E26,\"---\"),\"---\")","v":"---"},null,null,null,null,null,null,null,null,null,null,null,null,null,null,null,null,null,null,null,null,null,null,null,null,null,null,46,1.79,11,{"$error":"#N/A"},{"$error":"#N/A"},{"$error":"#N/A"},{"$error":"#N/A"},{"$f":"C26","v":"---"},{"$error":"#VALUE!"},true,"---"]
[null,12,{"$f":"IFERROR(IF(ISNUMBER(Volumetrics!D26),Volumetrics!D26,\"---\"),\"---\")","v":"---"},null,{"$f":"IFERROR(AO27,\"---\")","v":"---"},{"$f":"IFERROR(IF(D27*E27<>0,D27*E27,\"---\"),\"---\")","v":"---"},null,null,null,null,null,null,null,null,null,null,null,null,null,null,null,null,null,null,null,null,null,null,null,null,null,null,47.6,1.67,12,{"$error":"#N/A"},{"$error":"#N/A"},{"$error":"#N/A"},{"$error":"#N/A"},{"$f":"C27","v":"---"},{"$error":"#VALUE!"},true,"---"]
[null,"Avg",{"$f":"IFERROR(AVERAGE(C25:C27),\"---\")","v":"---"},{"$f":"IFERROR(AVERAGE(D25:D27),\"---\")","v":"---"},{"$f":"IFERROR(AVERAGE(E25:E27),\"---\")","v":"---"},{"$f":"IFERROR(AVERAGE(F25:F27),\"---\")","v":"---"},{"$f":"IFERROR(AVERAGE(G25:G27),\"---\")","v":"---"},"---","---",null,null,null,null,null,null,null,null,null,null,null,null,null,null,null,null,null,null,null,null,null,null,null,49.2,1.56,"---","---","---","---","---","---","---","---","---"]
[{"$f":"IF(ISNUMBER(Volumetrics!A28),Volumetrics!A28,\"---\")","v":"---"},13,{"$f":"IFERROR(IF(ISNUMBER(Volumetrics!D28),Volumetrics!D28,\"---\"),\"---\")","v":"---"},null,{"$f":"IFERROR(AO29,\"---\")","v":"---"},{"$f":"IFERROR(IF(D29*E29<>0,D29*E29,\"---\"),\"---\")","v":"---"},null,null,null,null,null,null,null,null,null,null,null,null,null,null,null,null,null,null,null,null,null,null,null,null,null,null,50.8,1.47,13,{"$error":"#N/A"},{"$error":"#N/A"},{"$error":"#N/A"},{"$error":"#N/A"},{"$f":"C29","v":"---"},{"$error":"#VALUE!"},true,"---"]
[null,14,{"$f":"IFERROR(IF(ISNUMBER(Volumetrics!D29),Volumetrics!D29,\"---\"),\"---\")","v":"---"},null,{"$f":"IFERROR(AO30,\"---\")","v":"---"},{"$f":"IFERROR(IF(D30*E30<>0,D30*E30,\"---\"),\"---\")","v":"---"},null,null,null,null,null,null,null,null,null,null,null,null,null,null,null,null,null,null,null,null,null,null,null,null,null,null,52.4,1.39,14,{"$error":"#N/A"},{"$error":"#N/A"},{"$error":"#N/A"},{"$error":"#N/A"},{"$f":"C30","v":"---"},{"$error":"#VALUE!"},true,"---"]
[null,15,{"$f":"IFERROR(IF(ISNUMBER(Volumetrics!D30),Volumetrics!D30,\"---\"),\"---\")","v":"---"},null,{"$f":"IFERROR(AO31,\"---\")","v":"---"},{"$f":"IFERROR(IF(D31*E31<>0,D31*E31,\"---\"),\"---\")","v":"---"},null,null,null,null,null,null,null,null,null,null,null,null,null,null,null,null,null,null,null,null,null,null,null,null,null,null,54,1.32,15,{"$error":"#N/A"},{"$error":"#N/A"},{"$error":"#N/A"},{"$error":"#N/A"},{"$f":"C31","v":"---"},{"$error":"#VALUE!"},true,"---"]
[null,"Avg",{"$f":"IFERROR(AVERAGE(C29:C31),\"---\")","v":"---"},{"$f":"IFERROR(AVERAGE(D29:D31),\"---\")","v":"---"},{"$f":"IFERROR(AVERAGE(E29:E31),\"---\")","v":"---"},{"$f":"IFERROR(AVERAGE(F29:F31),\"---\")","v":"---"},{"$f":"IFERROR(AVERAGE(G29:G31),\"---\")","v":"---"},"---","---",null,null,null,null,null,null,null,null,null,null,null,null,null,null,null,null,null,null,null,null,null,null,null,55.6,1.25,"---","---","---","---","---","---","---","---","---"]
[null,null,null,null,null,null,null,null,null,null,null,null,null,null,null,null,null,null,null,null,null,null,null,null,null,null,null,null,null,null,null,null,57.2,1.19,16,{"$error":"#N/A"},{"$error":"#N/A"},{"$error":"#N/A"},{"$error":"#N/A"},{"$f":"C37","v":"---"},{"$error":"#VALUE!"},true,"---"]
["Single-Point Verification",null,null,null,null,null,null,null,null,null,null,null,null,null,null,null,null,null,null,null,null,null,null,null,null,null,null,null,null,null,null,null,58.7,1.1399999999999999,17,{"$error":"#N/A"},{"$error":"#N/A"},{"$error":"#N/A"},{"$error":"#N/A"},{"$f":"C38","v":"---"},{"$error":"#VALUE!"},true,"---"]
["Pb","Spec.","Ht, mm","Meas. Stability, lb","Correlation Ratio",{"$f":"\"Corr. Stability, \" & IF(AH3=\"US\",\"lb\",\"N\")","v":"Corr. Stability, lb"},"Flow","Flow Calc Method",null,null,null,null,null,null,null,null,null,null,null,null,null,null,null,null,null,null,null,null,null,null,null,null,60.3,1.0900000000000001,18,{"$error":"#N/A"},{"$error":"#N/A"},{"$error":"#N/A"},{"$error":"#N/A"},{"$f":"C39","v":"---"},{"$error":"#VALUE!"},true,"---"]
[null,null,null,null,null,null,null,"Peak","Tangent Offset",null,null,null,null,null,null,null,null,null,null,null,null,null,null,null,null,null,null,null,null,null,null,null,61.9,1.04]
[{"$f":"IF(ISNUMBER(Volumetrics!A35),Volumetrics!A35,\"---\")","v":"---"},1,{"$f":"IFERROR(IF(ISNUMBER(Volumetrics!D35),Volumetrics!D35,\"---\"),\"---\")","v":"---"},null,{"$f":"IFERROR(AO33,\"---\")","v":"---"},{"$f":"IFERROR(IF(D37*E37<>0,D37*E37,\"---\"),\"---\")","v":"---"},null,null,null,null,null,null,null,null,null,null,null,null,null,null,null,null,null,null,null,null,null,null,null,null,null,null,63.5,1]
[null,2,{"$f":"IFERROR(IF(ISNUMBER(Volumetrics!D36),Volumetrics!D36,\"---\"),\"---\")","v":"---"},null,{"$f":"IFERROR(AO34,\"---\")","v":"---"},{"$f":"IFERROR(IF(D38*E38<>0,D38*E38,\"---\"),\"---\")","v":"---"},null,null,null,null,null,null,null,null,null,null,null,null,null,null,null,null,null,null,null,null,null,null,null,null,null,null,65.099999999999994,0.96]
[null,3,{"$f":"IFERROR(IF(ISNUMBER(Volumetrics!D37),Volumetrics!D37,\"---\"),\"---\")","v":"---"},null,{"$f":"IFERROR(AO35,\"---\")","v":"---"},{"$f":"IFERROR(IF(D39*E39<>0,D39*E39,\"---\"),\"---\")","v":"---"},null,null,null,null,null,null,null,null,null,null,null,null,null,null,null,null,null,null,null,null,null,null,null,null,null,null,66.7,0.93]
[null,"Avg",{"$f":"IFERROR(AVERAGE(C37:C39),\"---\")","v":"---"},{"$f":"IFERROR(AVERAGE(D37:D39),\"---\")","v":"---"},{"$f":"IFERROR(AVERAGE(E37:E39),\"---\")","v":"---"},{"$f":"IFERROR(AVERAGE(F37:F39),\"---\")","v":"---"},{"$f":"IFERROR(AVERAGE(G37:G39),\"---\")","v":"---"},"---","---",null,null,null,null,null,null,null,null,null,null,null,null,null,null,null,null,null,null,null,null,null,null,null,68.3,0.89]
[null,null,null,null,null,null,null,null,null,null,null,null,null,null,null,null,null,null,null,null,null,null,null,null,null,null,null,null,null,null,null,null,69.8,0.86]
[null,null,null,null,null,null,null,null,null,null,null,null,null,null,null,null,null,null,null,null,null,null,null,null,null,null,null,null,null,null,null,null,71.400000000000006,0.83]
["Comments:",null,null,null,null,null,null,null,null,null,null,null,null,null,null,null,null,null,null,null,null,null,null,null,null,null,null,null,null,null,null,null,73,0.81]
[null,null,null,null,null,null,null,null,null,null,null,null,null,null,null,null,null,null,null,null,null,null,null,null,null,null,null,null,null,null,null,null,74.599999999999994,0.78]
[null,null,null,null,null,null,null,null,null,null,null,null,null,null,null,null,null,null,null,null,null,null,null,null,null,null,null,null,null,null,null,null,76.2,0.76]
[]
[]
[]
[]
[]
[]
[]
["LAB TECHNICIAN (or other title)",null,null,null,null,"LAB MANAGER (or other title)"]

{"sheet":"TSR","index":11,"n_rows":56,"n_cols":36,"rows_kept":56,"cut":false,"hidden":false,"merged":[[12,31,12,35],[21,33,21,35],[17,31,17,32],[18,31,18,32],[19,31,19,32],[20,31,20,32],[21,31,21,32],[14,33,14,34],[15,33,15,34],[16,33,16,34],[17,33,17,34],[18,33,18,34],[19,33,19,34],[20,33,20,34],[14,31,14,32],[15,31,15,32],[16,31,16,32],[1,31,1,32],[4,31,4,38],[5,33,5,38],[2,1,2,3],[3,1,3,3],[4,1,4,3],[5,1,5,3],[2,7,2,9],[3,7,3,9],[4,7,4,9],[5,7,5,9],[2,5,2,6],[3,5,3,6],[4,5,4,6],[5,5,5,6],[33,0,33,9],[55,4,55,8],[54,4,54,8],[54,0,54,1],[55,0,55,1],[50,0,51,9],[41,0,41,9],[47,2,47,9],[10,2,10,5],[10,6,10,9],[6,5,6,6],[22,0,22,9],[8,5,8,9],[6,1,6,3],[8,1,8,3],[6,7,6,9],[10,0,10,1]]}
["ASTM D4867 Tensile Strength Ratio"]
[null,null,null,null,null,null,null,null,null,null,null,null,null,null,null,null,null,null,null,null,null,null,null,null,null,null,null,null,null,null,null,"General Mix Info"]
["Mix ID",{"$f":"IF(ISBLANK('JMF Summary'!B3),\"---\",'JMF Summary'!B3)","v":"---"},null,null,null,"Gradation",null,{"$f":"'JMF Summary'!F3","v":2},null,null,null,null,null,null,null,null,null,null,null,null,null,null,null,null,null,null,null,null,null,null,null,"Units",{"$f":"'JMF Summary'!AG4","v":"US"}]
["Date",{"$f":"IF(ISBLANK('JMF Summary'!B4),\"---\",'JMF Summary'!B4)","v":"---"},null,null,null,"Compaction",null,{"$f":"'JMF Summary'!F4","v":"75 Gyr"}]
["Project",{"$f":"IF(ISBLANK('JMF Summary'!B5),\"---\",'JMF Summary'!B5)","v":"---"},null,null,null,"Binder Grade",null,{"$f":"'JMF Summary'!F5","v":"PG 64-22"},null,null,null,null,null,null,null,null,null,null,null,null,null,null,null,null,null,null,null,null,null,null,null,"Form Data"]
["Producer",{"$f":"IF(ISBLANK('JMF Summary'!B6),\"---\",'JMF Summary'!B6)","v":"---"},null,null,null,"Anti-Strip",null,{"$f":"IF(ISBLANK('JMF Summary'!C37),\"---\",FIXED('JMF Summary'!B37*100,2) & \"% \" & 'JMF Summary'!C37)","v":"---"},null,null,null,null,null,null,null,null,null,null,null,null,null,null,null,null,null,null,null,null,null,null,null,"F-T",false,"(TRUE = Freeze-Thaw + Moisture, FALSE = Moisture Only)"]
["Mix Designer",{"$f":"IF(ISBLANK('JMF Summary'!B7),\"---\",'JMF Summary'!B7)","v":"---"},null,null,null,"WMA",null,{"$f":"IF(ISBLANK('JMF Summary'!C38),\"---\",FIXED('JMF Summary'!B38*100,2) & \"% \" & 'JMF Summary'!C38)","v":"---"}]
[null,null,null,null,null,null,null,null,null,null,null,null,null,null,null,null,null,null,null,null,null,null,null,null,null,null,null,null,null,null,null,"Specification Limits"]
["Date Tested",null,null,null,null,"        Freeze-Thaw Conditioning",null,null,null,null,null,null,null,null,null,null,null,null,null,null,null,null,null,null,null,null,null,null,null,null,null,"Property","Operator","Limit 1",null,"Limit 2"]
[null,null,null,null,null,null,null,null,null,null,null,null,null,null,null,null,null,null,null,null,null,null,null,null,null,null,null,null,null,null,null,"TSR",{"$f":"'JMF Summary'!AG45","v":"≥"},{"$f":"IF('JMF Summary'!AH45<>0,'JMF Summary'!AH45,\"---\")","v":75}," - "]
["Test Parameter",null,"Unconditioned",null,null,null,"Conditioned",null,null,null,null,null,null,null,null,null,null,null,null,null,null,null,null,null,null,null,null,null,null,null,null,"St Wet",{"$f":"'JMF Summary'!AG46","v":"≥"},{"$f":"IF('JMF Summary'!AH46<>0,'JMF Summary'!AH46,\"---\")","v":60}," - "]
["Specimen ID","Limits",1,2,3,"Avg",4,5,6,"Avg"]
["(D) Diameter, mm","---",null,null,null,"---",null,null,null,"---",null,null,null,null,null,null,null,null,null,null,null,null,null,null,null,null,null,null,null,null,null,"Raw Data Override (admin user only)"]
["(t) Thickness, mm  ","---",null,null,null,"---",null,null,null,"---",null,null,null,null,null,null,null,null,null,null,null,null,null,null,null,null,null,null,null,null,null,"Input Type","Raw Data"]
["(A) Dry mass in air, g ","---",null,null,null,"---",null,null,null,"---",null,null,null,null,null,null,null,null,null,null,null,null,null,null,null,null,null,null,null,null,null,"Parameter",null,"Unconditioned",null,"Conditioned"]
["(B) SSD mass, g","---",null,null,null,"---",null,null,null,"---",null,null,null,null,null,null,null,null,null,null,null,null,null,null,null,null,null,null,null,null,null,"Avg Va, %"]
["(C) Mass in water, g","---",null,null,null,"---",null,null,null,"---",null,null,null,null,null,null,null,null,null,null,null,null,null,null,null,null,null,null,null,null,null,"Avg Pre-Conditioning Saturation"]
["(E) Volume, cm3","---",{"$f":"IFERROR(IF(ISBLANK(C16),\"---\",C16-C17),\"---\")","v":"---"},{"$f":"IFERROR(IF(ISBLANK(D16),\"---\",D16-D17),\"---\")","v":"---"},"---","---",{"$f":"IFERROR(IF(ISBLANK(G16),\"---\",G16-G17),\"---\")","v":"---"},"---","---","---",null,null,null,null,null,null,null,null,null,null,null,null,null,null,null,null,null,null,null,null,null,"Avg Pre-Conditioning Swell"]
["(F) Bulk Specific Gravity, Gmb","---",{"$f":"IFERROR(C15/C18,\"---\")","v":"---"},{"$f":"IFERROR(D15/D18,\"---\")","v":"---"},"---","---","---","---","---","---",null,null,null,null,null,null,null,null,null,null,null,null,null,null,null,null,null,null,null,null,null,"Avg Post-Conditioning Saturation"]
["(G) Maximum Specific Gravity, Gmm","---",{"$f":"IFERROR(Volumetrics!W11,\"---\")","v":"---"},{"$f":"IFERROR(Volumetrics!W11,\"---\")","v":"---"},{"$f":"IFERROR(Volumetrics!W11,\"---\")","v":"---"},"---",{"$f":"IFERROR(Volumetrics!W11,\"---\")","v":"---"},{"$f":"IFERROR(Volumetrics!W11,\"---\")","v":"---"},{"$f":"IFERROR(Volumetrics!W11,\"---\")","v":"---"},"---",null,null,null,null,null,null,null,null,null,null,null,null,null,null,null,null,null,null,null,null,null,"Avg Post-Conditioning Swell"]
["(H) Air Voids, %","7.0 ± 0.5",{"$f":"IFERROR(100*(C20-C19)/C20,\"---\")","v":"---"},{"$f":"IFERROR(100*(D20-D19)/D20,\"---\")","v":"---"},{"$f":"IFERROR(100*(E20-E19)/E20,\"---\")","v":"---"},{"$f":"IFERROR(IF($AG$14=\"Raw Data\",AVERAGE(C21:E21),AH16),\"---\")","v":"---"},{"$f":"IFERROR(100*(G20-G19)/G20,\"---\")","v":"---"},{"$f":"IFERROR(100*(H20-H19)/H20,\"---\")","v":"---"},{"$f":"IFERROR(100*(I20-I19)/I20,\"---\")","v":"---"},{"$f":"IFERROR(IF($AG$14=\"Raw Data\",AVERAGE(G21:I21),AJ16),\"---\")","v":"---"},null,null,null,null,null,null,null,null,null,null,null,null,null,null,null,null,null,null,null,null,null,"Avg Strength, St"]
["(I) Volume of air voids, cm3","---","---","---","---","---",{"$f":"IFERROR(G21*G18/100,\"---\")","v":"---"},{"$f":"IFERROR(H21*H18/100,\"---\")","v":"---"},{"$f":"IFERROR(I21*I18/100,\"---\")","v":"---"},"---",null,null,null,null,null,null,null,null,null,null,null,null,null,null,null,null,null,null,null,null,null,"TSR"]
["Partial vacuum saturation to 70% to 80% saturation"]
["Saturation Time, min","---","---","---","---","---",null,null,null,"---"]
["Absolute Vacuum, mm Hg","---","---","---","---","---",null,null,null,"---"]
["SSD mass at 70% saturation, g","---","---","---","---","---",{"$f":"IFERROR(G15+0.7*G21*G18/100,\"---\")","v":"---"},{"$f":"IFERROR(H15+0.7*H21*H18/100,\"---\")","v":"---"},{"$f":"IFERROR(I15+0.7*I21*I18/100,\"---\")","v":"---"},"---"]
["SSD mass at 80% saturation, g","---","---","---","---","---",{"$f":"IFERROR(G15+0.8*G21*G18/100,\"---\")","v":"---"},{"$f":"IFERROR(H15+0.8*H21*H18/100,\"---\")","v":"---"},{"$f":"IFERROR(I15+0.8*I21*I18/100,\"---\")","v":"---"},"---"]
["(B') SSD mass, g","---","---","---","---","---",null,null,null,"---"]
["(C') Mass in water, g","---","---","---","---","---",null,null,null,"---"]
["(E') Volume, cm3","---","---","---","---","---",{"$f":"IFERROR(IF(ISBLANK(G28),\"---\",G28-G29),\"---\")","v":"---"},{"$f":"IFERROR(IF(ISBLANK(H28),\"---\",H28-H29),\"---\")","v":"---"},{"$f":"IFERROR(IF(ISBLANK(I28),\"---\",I28-I29),\"---\")","v":"---"},"---"]
["(J') Vol abs. water, cm3","---","---","---","---","---",{"$f":"IFERROR(IF(ISBLANK(G28),\"---\",G28-G15),\"---\")","v":"---"},{"$f":"IFERROR(IF(ISBLANK(H28),\"---\",H28-H15),\"---\")","v":"---"},{"$f":"IFERROR(IF(ISBLANK(I28),\"---\",I28-I15),\"---\")","v":"---"},"---"]
["Pre-Conditioning Saturation, %","70 to 80","---","---","---","---",{"$f":"IFERROR(100*G31/G22,\"---\")","v":"---"},{"$f":"IFERROR(100*H31/H22,\"---\")","v":"---"},{"$f":"IFERROR(100*I31/I22,\"---\")","v":"---"},{"$f":"IFERROR(IF($AG$14=\"Raw Data\",AVERAGE(G32:I32),AJ17),\"---\")","v":"---"}]
["Swell, %","---","---","---","---","---",{"$f":"IFERROR((G30-G18)/G18*100,\"---\")","v":"---"},{"$f":"IFERROR((H30-H18)/H18*100,\"---\")","v":"---"},{"$f":"IFERROR((I30-I18)/I18*100,\"---\")","v":"---"},{"$f":"IFERROR(IF($AG$14=\"Raw Data\",AVERAGE(G33:I33),AJ18),\"---\")","v":"---"}]
[{"$f":"IF(AG6,\"Min. 15-hour freeze-thaw cycle followed by moisture conditioning at 140ºF [60ºC] for 24 hours\",\"Moisture conditioning at 140ºF [60ºC] for 24 hours\")","v":"Moisture conditioning at 140ºF [60ºC] for 24 hours"}]
["(t'') Thickness, mm  ","---","---","---","---","---",null,null,null,"---"]
["(B'') SSD mass, g","---","---","---","---","---",null,null,null,"---"]
["(C'') Mass in water, g","---","---","---","---","---",null,null,null,"---"]
["(E'') Volume, cm3","---","---","---","---","---",{"$f":"IFERROR(IF(ISBLANK(G36),\"---\",G36-G37),\"---\")","v":"---"},{"$f":"IFERROR(IF(ISBLANK(H36),\"---\",H36-H37),\"---\")","v":"---"},{"$f":"IFERROR(IF(ISBLANK(I36),\"---\",I36-I37),\"---\")","v":"---"},"---"]
["(J'') Vol abs. water, cm3","---","---","---","---","---",{"$f":"IFERROR(IF(ISBLANK(G36),\"---\",G36-G15),\"---\")","v":"---"},{"$f":"IFERROR(IF(ISBLANK(H36),\"---\",H36-H15),\"---\")","v":"---"},{"$f":"IFERROR(IF(ISBLANK(I36),\"---\",I36-I15),\"---\")","v":"---"},"---"]
["Post-Conditioning Saturation, %","---","---","---","---","---",{"$f":"IFERROR(100*G39/G22,\"---\")","v":"---"},{"$f":"IFERROR(100*H39/H22,\"---\")","v":"---"},{"$f":"IFERROR(100*I39/I22,\"---\")","v":"---"},{"$f":"IFERROR(IF($AG$14=\"Raw Data\",AVERAGE(G40:I40),AJ19),\"---\")","v":"---"}]
["Swell, %","---","---","---","---","---",{"$f":"IFERROR((G38-G18)/G18*100,\"---\")","v":"---"},{"$f":"IFERROR((H38-H18)/H18*100,\"---\")","v":"---"},{"$f":"IFERROR((I38-I18)/I18*100,\"---\")","v":"---"},{"$f":"IFERROR(IF($AG$14=\"Raw Data\",AVERAGE(G41:I41),AJ20),\"---\")","v":"---"}]
["Indirect Tensile Strength Testing"]
[{"$f":"\"(P) Load, \" & IF(AG3=\"US\",\"lbf\",\"N\")","v":"(P) Load, lbf"},"---",null,null,null,"---",null,null,null,"---"]
[{"$f":"\"Dry strength, St, \" & IF(AG3=\"US\",\"psi\",\"kPa\")","v":"Dry strength, St, psi"},"---",{"$f":"IF($AG$3=\"US\",2*C43/(3.1415*C14/25.4*C13/25.4),2000*C43/(3.1415*C14*C13))","v":{"$error":"#DIV/0!"}},{"$f":"IF($AG$3=\"US\",2*D43/(3.1415*D14/25.4*D13/25.4),2000*D43/(3.1415*D14*D13))","v":{"$error":"#DIV/0!"}},{"$f":"IF($AG$3=\"US\",2*E43/(3.1415*E14/25.4*E13/25.4),2000*E43/(3.1415*E14*E13))","v":{"$error":"#DIV/0!"}},{"$f":"IFERROR(IF($AG$14=\"Raw Data\",AVERAGE(C44:E44),AH21),\"---\")","v":"---"},"---","---","---","---"]
[{"$f":"\"Wet strength, St, \" & IF(AG3=\"US\",\"psi\",\"kPa\")","v":"Wet strength, St, psi"},{"$f":"IF(ISNUMBER(AH11),AG11 & \" \" & FIXED(AH11,0),\"---\")","v":"≥ 60"},"---","---","---","---",{"$f":"IF($AG$3=\"US\",2*G43/(3.1415*G14/25.4*G13/25.4),2000*G43/(3.1415*G14*G13))","v":{"$error":"#DIV/0!"}},{"$f":"IF($AG$3=\"US\",2*H43/(3.1415*H14/25.4*H13/25.4),2000*H43/(3.1415*H14*H13))","v":{"$error":"#DIV/0!"}},{"$f":"IF($AG$3=\"US\",2*I43/(3.1415*I14/25.4*I13/25.4),2000*I43/(3.1415*I14*I13))","v":{"$error":"#DIV/0!"}},{"$f":"IFERROR(IF($AG$14=\"Raw Data\",AVERAGE(G45:I45),AJ21),\"---\")","v":"---"}]
["Visual Moisture Damage (0 to 5 rating)","---","---","---","---","---",null,null,null,"---"]
["Broken Aggregate (0 to 5 rating)","---","---","---","---","---",null,null,null,"---"]
["Tensile strength ratio, TSR, %",{"$f":"IF(ISNUMBER(AH10),AG10 & \" \" & FIXED(AH10,0),\"---\")","v":"≥ 75"},{"$f":"IFERROR(IF(AND($AG$14=\"Results\",ISNUMBER(AH22)),AH22,J45/F44*100),\"---\")","v":"---"}]
[]
["Comments:"]
[]
[]
[]
[]
[]
["LAB TECHNICIAN (or other title)",null,null,null,"LAB MANAGER (or other title)"]

{"sheet":"Gradation","index":12,"n_rows":59,"n_cols":37,"rows_kept":59,"cut":false,"hidden":false,"merged":[[35,21,36,21],[34,12,34,21],[18,12,18,22],[33,12,33,21],[35,12,36,12],[35,13,36,13],[1,26,1,36],[2,12,2,22],[5,26,5,27],[6,26,6,27],[5,28,5,29],[6,28,6,29],[4,26,4,27],[4,28,4,29],[49,0,50,10],[3,0,4,0],[3,12,4,12],[2,0,2,10],[3,13,3,19]]}
["Aggregate Blending Worksheet"]
[null,null,null,null,null,null,null,null,null,null,null,null,null,null,null,null,null,null,null,null,null,null,null,null,null,null,"Form Data"]
["Trial Blends",null,null,null,null,null,null,null,null,null,null,null,"Individual Stockpile Gradations",null,null,null,null,null,null,null,null,null,null,null,null,null,"Blend","Blend 1","Blend 2","Blend 3","Blend 4","Blend 5","Blend 6","Blend 7","Blend 8","Blend 9","Blend 10"]
["Stockpile \nName","Blend 1","Blend 2","Blend 3","Blend 4","Blend 5","Blend 6","Blend 7","Blend 8","Blend 9","Blend 10",null,"Sieve    Size","Populated from JMF Summary Sheet",null,null,null,null,null,null,"Manual Entries, if needed",null,null,null,null,null,"Plot? (Y?)",false,false,false,false,false,false,false,false,false,false]
[null,null,null,null,null,null,null,null,null,null,null,null,null,{"$f":"'JMF Summary'!B11","v":0},{"$f":"'JMF Summary'!C11","v":0},{"$f":"'JMF Summary'!D11","v":0},{"$f":"'JMF Summary'!E11","v":0},{"$f":"'JMF Summary'!F11","v":0},{"$f":"'JMF Summary'!G11","v":0},{"$f":"'JMF Summary'!H11","v":0},null,null,null,null,null,null,"Gradation",null,{"$f":"'JMF Summary'!F3","v":2}]
[{"$f":"N5","v":0},null,null,null,null,null,null,null,null,null,null,null,25,{"$f":"'JMF Summary'!B16","v":0},{"$f":"'JMF Summary'!C16","v":0},{"$f":"'JMF Summary'!D16","v":0},{"$f":"'JMF Summary'!E16","v":0},{"$f":"'JMF Summary'!F16","v":0},{"$f":"'JMF Summary'!G16","v":0},{"$f":"'JMF Summary'!H16","v":0},null,null,null,null,null,null,"Label",null,{"$f":"AA5 & \" \" & AC5","v":"Gradation 2"}]
[{"$f":"O5","v":0},null,null,null,null,null,null,null,null,null,null,null,19,{"$f":"'JMF Summary'!B17","v":0},{"$f":"'JMF Summary'!C17","v":0},{"$f":"'JMF Summary'!D17","v":0},{"$f":"'JMF Summary'!E17","v":0},{"$f":"'JMF Summary'!F17","v":0},{"$f":"'JMF Summary'!G17","v":0},{"$f":"'JMF Summary'!H17","v":0},null,null,null,null,null,null,"Label x value",null,{"$f":"IF($AC$5=1,4.257/2,IF($AC$5=2,3.762/2,IF($AC$5=3,3.116/2,\"---\")))","v":1.881}]
[{"$f":"P5","v":0},null,null,null,null,null,null,null,null,null,null,null,12.5,{"$f":"'JMF Summary'!B18","v":0},{"$f":"'JMF Summary'!C18","v":0},{"$f":"'JMF Summary'!D18","v":0},{"$f":"'JMF Summary'!E18","v":0},{"$f":"'JMF Summary'!F18","v":0},{"$f":"'JMF Summary'!G18","v":0},{"$f":"'JMF Summary'!H18","v":0},null,null,null,null,null,null,"Selected",10]
[{"$f":"Q5","v":0},null,null,null,null,null,null,null,null,null,null,null,9.5,{"$f":"'JMF Summary'!B19","v":0},{"$f":"'JMF Summary'!C19","v":0},{"$f":"'JMF Summary'!D19","v":0},{"$f":"'JMF Summary'!E19","v":0},{"$f":"'JMF Summary'!F19","v":0},{"$f":"'JMF Summary'!G19","v":0},{"$f":"'JMF Summary'!H19","v":0}]
[{"$f":"R5","v":0},null,null,null,null,null,null,null,null,null,null,null,4.75,{"$f":"'JMF Summary'!B20","v":0},{"$f":"'JMF Summary'!C20","v":0},{"$f":"'JMF Summary'!D20","v":0},{"$f":"'JMF Summary'!E20","v":0},{"$f":"'JMF Summary'!F20","v":0},{"$f":"'JMF Summary'!G20","v":0},{"$f":"'JMF Summary'!H20","v":0},null,null,null,null,null,null,"Gradation 1 - 25 mm Max Size, 19 mm Nominal Max Size"]
[{"$f":"S5","v":0},null,null,null,null,null,null,null,null,null,null,null,2.36,{"$f":"'JMF Summary'!B21","v":0},{"$f":"'JMF Summary'!C21","v":0},{"$f":"'JMF Summary'!D21","v":0},{"$f":"'JMF Summary'!E21","v":0},{"$f":"'JMF Summary'!F21","v":0},{"$f":"'JMF Summary'!G21","v":0},{"$f":"'JMF Summary'!H21","v":0},null,null,null,null,null,null,null,null,null,null,"Restricted Zone"]
[{"$f":"T5","v":0},null,null,null,null,null,null,null,null,null,null,null,1.18,{"$f":"'JMF Summary'!B22","v":0},{"$f":"'JMF Summary'!C22","v":0},{"$f":"'JMF Summary'!D22","v":0},{"$f":"'JMF Summary'!E22","v":0},{"$f":"'JMF Summary'!F22","v":0},{"$f":"'JMF Summary'!G22","v":0},{"$f":"'JMF Summary'!H22","v":0},null,null,null,null,null,null,null,null,"Control Points",null,"Minimum","Maximum","Maximum","Optional","Optional"]
[{"$f":"U5","v":0},null,null,null,null,null,null,null,null,null,null,null,0.6,{"$f":"'JMF Summary'!B23","v":0},{"$f":"'JMF Summary'!C23","v":0},{"$f":"'JMF Summary'!D23","v":0},{"$f":"'JMF Summary'!E23","v":0},{"$f":"'JMF Summary'!F23","v":0},{"$f":"'JMF Summary'!G23","v":0},{"$f":"'JMF Summary'!H23","v":0},null,null,null,null,null,null,"Size",".45 Power","Minimum","Maximum","Boundary","Boundary","Density Line","Limit #1","Limit #2"]
[{"$f":"V5","v":0},null,null,null,null,null,null,null,null,null,null,null,0.3,{"$f":"'JMF Summary'!B24","v":0},{"$f":"'JMF Summary'!C24","v":0},{"$f":"'JMF Summary'!D24","v":0},{"$f":"'JMF Summary'!E24","v":0},{"$f":"'JMF Summary'!F24","v":0},{"$f":"'JMF Summary'!G24","v":0},{"$f":"'JMF Summary'!H24","v":0},null,null,null,null,null,null,25,{"$f":"POWER(AA14,0.45)","v":4.2566996126039234},{"$error":"#N/A"},100,null,null,100]
[{"$f":"W5","v":0},null,null,null,null,null,null,null,null,null,null,null,0.15,{"$f":"'JMF Summary'!B25","v":0},{"$f":"'JMF Summary'!C25","v":0},{"$f":"'JMF Summary'!D25","v":0},{"$f":"'JMF Summary'!E25","v":0},{"$f":"'JMF Summary'!F25","v":0},{"$f":"'JMF Summary'!G25","v":0},{"$f":"'JMF Summary'!H25","v":0},null,null,null,null,null,null,19,{"$f":"POWER(AA15,0.45)","v":3.7621761023862978},90,100]
["Total",{"$f":"SUM(B6:B15)","v":0},0,0,0,0,0,0,0,0,0,null,7.4999999999999997E-2,{"$f":"'JMF Summary'!B26","v":0},{"$f":"'JMF Summary'!C26","v":0},{"$f":"'JMF Summary'!D26","v":0},{"$f":"'JMF Summary'!E26","v":0},{"$f":"'JMF Summary'!F26","v":0},{"$f":"'JMF Summary'!G26","v":0},{"$f":"'JMF Summary'!H26","v":0},null,null,null,null,null,null,12.5,3.116086507375345,68,88,null,null,null,0,0]
["Plot?",null,null,null,null,null,null,null,null,null,null,null,null,null,null,null,null,null,null,null,null,null,null,null,null,null,9.5,2.754074108566122,60,82]
["Selected",null,null,null,null,null,null,null,null,null,null,null,null,null,null,null,null,null,null,null,null,null,null,null,null,null,4.75,2.0161002539629291,45,67]
[null,null,null,null,null,null,null,null,null,null,null,null,"Trial Blend Gradations",null,null,null,null,null,null,null,null,null,null,null,null,null,2.36,1.4716698795820382,32,54,47.2,47.2]
[null,null,null,null,null,null,null,null,null,null,null,null,"Sieve Size",{"$f":"IF(AB$4=TRUE,B4 & \" - On\",\"Off\")","v":"Off"},"Off","Off","Off","Off","Off","Off","Off","Off","Off",null,null,null,1.18,1.0773254099250416,22,44,31.6,37.6]
[null,null,null,null,null,null,null,null,null,null,null,null,25,{"$f":"IF(AND(B$16>0,AB$4=TRUE),(B$6*$N6+B$7*$O6+B$8*$P6+B$9*$Q6+B$10*$R6+B$11*$S6+B$12*$T6+B$13*$U6+B$14*$V6+B$15*$W6)/100,NA())","v":{"$error":"#N/A"}},{"$f":"IF(AND(C$16>0,AC$4=TRUE),(C$6*$N6+C$7*$O6+C$8*$P6+C$9*$Q6+C$10*$R6+C$11*$S6+C$12*$T6+C$13*$U6+C$14*$V6+C$15*$W6)/100,NA())","v":{"$error":"#N/A"}},{"$f":"IF(AND(D$16>0,AD$4=TRUE),(D$6*$N6+D$7*$O6+D$8*$P6+D$9*$Q6+D$10*$R6+D$11*$S6+D$12*$T6+D$13*$U6+D$14*$V6+D$15*$W6)/100,NA())","v":{"$error":"#N/A"}},{"$f":"IF(AND(E$16>0,AE$4=TRUE),(E$6*$N6+E$7*$O6+E$8*$P6+E$9*$Q6+E$10*$R6+E$11*$S6+E$12*$T6+E$13*$U6+E$14*$V6+E$15*$W6)/100,NA())","v":{"$error":"#N/A"}},{"$f":"IF(AND(F$16>0,AF$4=TRUE),(F$6*$N6+F$7*$O6+F$8*$P6+F$9*$Q6+F$10*$R6+F$11*$S6+F$12*$T6+F$13*$U6+F$14*$V6+F$15*$W6)/100,NA())","v":{"$error":"#N/A"}},{"$f":"IF(AND(G$16>0,AG$4=TRUE),(G$6*$N6+G$7*$O6+G$8*$P6+G$9*$Q6+G$10*$R6+G$11*$S6+G$12*$T6+G$13*$U6+G$14*$V6+G$15*$W6)/100,NA())","v":{"$error":"#N/A"}},{"$f":"IF(AND(H$16>0,AH$4=TRUE),(H$6*$N6+H$7*$O6+H$8*$P6+H$9*$Q6+H$10*$R6+H$11*$S6+H$12*$T6+H$13*$U6+H$14*$V6+H$15*$W6)/100,NA())","v":{"$error":"#N/A"}},{"$f":"IF(AND(I$16>0,AI$4=TRUE),(I$6*$N6+I$7*$O6+I$8*$P6+I$9*$Q6+I$10*$R6+I$11*$S6+I$12*$T6+I$13*$U6+I$14*$V6+I$15*$W6)/100,NA())","v":{"$error":"#N/A"}},{"$f":"IF(AND(J$16>0,AJ$4=TRUE),(J$6*$N6+J$7*$O6+J$8*$P6+J$9*$Q6+J$10*$R6+J$11*$S6+J$12*$T6+J$13*$U6+J$14*$V6+J$15*$W6)/100,NA())","v":{"$error":"#N/A"}},{"$f":"IF(AND(K$16>0,AK$4=TRUE),(K$6*$N6+K$7*$O6+K$8*$P6+K$9*$Q6+K$10*$R6+K$11*$S6+K$12*$T6+K$13*$U6+K$14*$V6+K$15*$W6)/100,NA())","v":{"$error":"#N/A"}},null,null,null,0.6,0.79463568224020453,15,35,23.5,27.5]
[null,null,null,null,null,null,null,null,null,null,null,null,19,{"$error":"#N/A"},{"$error":"#N/A"},{"$error":"#N/A"},{"$error":"#N/A"},{"$error":"#N/A"},{"$error":"#N/A"},{"$error":"#N/A"},{"$error":"#N/A"},{"$error":"#N/A"},{"$error":"#N/A"},null,null,null,0.3,0.58170736792793831,9,25,18.7,18.7]
[null,null,null,null,null,null,null,null,null,null,null,null,12.5,{"$error":"#N/A"},{"$error":"#N/A"},{"$error":"#N/A"},{"$error":"#N/A"},{"$error":"#N/A"},{"$error":"#N/A"},{"$error":"#N/A"},{"$error":"#N/A"},{"$error":"#N/A"},{"$error":"#N/A"},null,null,null,0.15,0.42583471830473674,6,18]
[null,null,null,null,null,null,null,null,null,null,null,null,9.5,{"$error":"#N/A"},{"$error":"#N/A"},{"$error":"#N/A"},{"$error":"#N/A"},{"$error":"#N/A"},{"$error":"#N/A"},{"$error":"#N/A"},{"$error":"#N/A"},{"$error":"#N/A"},{"$error":"#N/A"},null,null,null,7.4999999999999997E-2,0.31172925995349998,3,6,null,null,null,0,0]
[null,null,null,null,null,null,null,null,null,null,null,null,4.75,{"$error":"#N/A"},{"$error":"#N/A"},{"$error":"#N/A"},{"$error":"#N/A"},{"$error":"#N/A"},{"$error":"#N/A"},{"$error":"#N/A"},{"$error":"#N/A"},{"$error":"#N/A"},{"$error":"#N/A"},null,null,null,0,0,null,null,null,null,0]
[null,null,null,null,null,null,null,null,null,null,null,null,2.36,{"$error":"#N/A"},{"$error":"#N/A"},{"$error":"#N/A"},{"$error":"#N/A"},{"$error":"#N/A"},{"$error":"#N/A"},{"$error":"#N/A"},{"$error":"#N/A"},{"$error":"#N/A"},{"$error":"#N/A"}]
[null,null,null,null,null,null,null,null,null,null,null,null,1.18,{"$error":"#N/A"},{"$error":"#N/A"},{"$error":"#N/A"},{"$error":"#N/A"},{"$error":"#N/A"},{"$error":"#N/A"},{"$error":"#N/A"},{"$error":"#N/A"},{"$error":"#N/A"},{"$error":"#N/A"},null,null,null,"Gradation 2 - 19 mm Max Size, 12.5 mm Nominal Max Size"]
[null,null,null,null,null,null,null,null,null,null,null,null,0.6,{"$error":"#N/A"},{"$error":"#N/A"},{"$error":"#N/A"},{"$error":"#N/A"},{"$error":"#N/A"},{"$error":"#N/A"},{"$error":"#N/A"},{"$error":"#N/A"},{"$error":"#N/A"},{"$error":"#N/A"},null,null,null,null,null,null,null,"Restricted Zone"]
[null,null,null,null,null,null,null,null,null,null,null,null,0.3,{"$error":"#N/A"},{"$error":"#N/A"},{"$error":"#N/A"},{"$error":"#N/A"},{"$error":"#N/A"},{"$error":"#N/A"},{"$error":"#N/A"},{"$error":"#N/A"},{"$error":"#N/A"},{"$error":"#N/A"},null,null,null,null,null,"Control Points",null,"Minimum","Maximum","Maximum","Optional","Optional"]
[null,null,null,null,null,null,null,null,null,null,null,null,0.15,{"$error":"#N/A"},{"$error":"#N/A"},{"$error":"#N/A"},{"$error":"#N/A"},{"$error":"#N/A"},{"$error":"#N/A"},{"$error":"#N/A"},{"$error":"#N/A"},{"$error":"#N/A"},{"$error":"#N/A"},null,null,null,"Size",".45 Power","Minimum","Maximum","Boundary","Boundary","Density Line","Limit #1","Limit #2"]
[null,null,null,null,null,null,null,null,null,null,null,null,7.4999999999999997E-2,{"$error":"#N/A"},{"$error":"#N/A"},{"$error":"#N/A"},{"$error":"#N/A"},{"$error":"#N/A"},{"$error":"#N/A"},{"$error":"#N/A"},{"$error":"#N/A"},{"$error":"#N/A"},{"$error":"#N/A"},null,null,null,25,{"$f":"POWER(AA31,0.45)","v":4.2566996126039234},{"$error":"#N/A"},{"$error":"#N/A"}]
[null,null,null,null,null,null,null,null,null,null,null,null,null,null,null,null,null,null,null,null,null,null,null,null,null,null,19,{"$f":"POWER(AA32,0.45)","v":3.7621761023862978},{"$error":"#N/A"},100,null,null,100]
[null,null,null,null,null,null,null,null,null,null,null,null,null,null,null,null,null,null,null,null,null,null,null,null,null,null,12.5,3.116086507375345,90,100,null,null,null,0,0]
[null,null,null,null,null,null,null,null,null,null,null,null,"Power 0.45 Plot Data",null,null,null,null,null,null,null,null,null,null,null,null,null,9.5,2.754074108566122,69,89]
[null,null,null,null,null,null,null,null,null,null,null,null,{"$f":"IF($AC$5=1,AA10,IF($AC$5=2,AA27,IF($AC$5=3,AA44,\"---\")))","v":"Gradation 2 - 19 mm Max Size, 12.5 mm Nominal Max Size"},null,null,null,null,null,null,null,null,null,null,null,null,null,4.75,2.0161002539629291,53,73]
[null,null,null,null,null,null,null,null,null,null,null,null,"Size, \nmm","0.45 Power","Control Points",null,"Restricted Zone",null,"Maximum","Optional","Optional","Selected Gradation",null,null,null,null,2.36,1.4716698795820382,38,60,47.2,47.2]
[null,null,null,null,null,null,null,null,null,null,null,null,null,null,"Minimum","Maximum","Minimum","Maximum","Density Line","Limit #1","Limit #2",null,null,null,null,null,1.18,1.0773254099250416,26,48,31.6,37.6]
[null,null,null,null,null,null,null,null,null,null,null,null,25,{"$f":"IF(OR($AC$5=2,$AC$5=3),#N/A,POWER(M38,0.45))","v":{"$error":"#N/A"}},{"$f":"IF($AC$5=1,IF(ISBLANK(AC14),\"\",AC14),IF($AC$5=2,IF(ISBLANK(AC31),\"\",AC31),IF($AC$5=3,IF(ISBLANK(AC48),\"\",AC48),\"---\")))","v":{"$error":"#N/A"}},{"$error":"#N/A"},"","",{"$f":"IF($AC$5=1,IF(ISBLANK(AG14),#N/A,AG14),IF($AC$5=2,IF(ISBLANK(AG31),#N/A,AG31),IF($AC$5=3,IF(ISBLANK(AG48),#N/A,AG48),\"---\")))","v":{"$error":"#N/A"}},{"$f":"IF($AC$5=1,IF(ISBLANK(AH14),\"\",AH14),IF($AC$5=2,IF(ISBLANK(AH31),\"\",AH31),IF($AC$5=3,IF(ISBLANK(AH48),\"\",AH48),\"---\")))","v":""},{"$f":"IF($AC$5=1,IF(ISBLANK(AI14),\"\",AI14),IF($AC$5=2,IF(ISBLANK(AI31),\"\",AI31),IF($AC$5=3,IF(ISBLANK(AI48),\"\",AI48),\"---\")))","v":""},{"$f":"INDEX(N21:W21,,$AB$8)","v":{"$error":"#N/A"}},null,null,null,null,0.6,0.79463568224020453,18,38,23.5,27.5]
[null,null,null,null,null,null,null,null,null,null,null,null,19,{"$f":"IF($AC$5=3,#N/A,POWER(M39,0.45))","v":3.7621761023862978},{"$error":"#N/A"},100,"","",100,"","",{"$f":"INDEX(N22:W22,,$AB$8)","v":{"$error":"#N/A"}},null,null,null,null,0.3,0.58170736792793831,11,27,18.7,18.7]
[null,null,null,null,null,null,null,null,null,null,null,null,12.5,{"$f":"POWER(M40,0.45)","v":3.116086507375345},90,100,"","",{"$error":"#N/A"},0,0,{"$f":"INDEX(N23:W23,,$AB$8)","v":{"$error":"#N/A"}},null,null,null,null,0.15,0.42583471830473674,6,18]
[null,null,null,null,null,null,null,null,null,null,null,null,9.5,2.754074108566122,{"$f":"IF($AC$5=1,IF(ISBLANK(AC17),\"\",AC17),IF($AC$5=2,IF(ISBLANK(AC34),\"\",AC34),IF($AC$5=3,IF(ISBLANK(AC51),\"\",AC51),\"---\")))","v":69},{"$f":"IF($AC$5=1,IF(ISBLANK(AD17),\"\",AD17),IF($AC$5=2,IF(ISBLANK(AD34),\"\",AD34),IF($AC$5=3,IF(ISBLANK(AD51),\"\",AD51),\"---\")))","v":89},null,null,{"$error":"#N/A"},"","",{"$f":"INDEX(N24:W24,,$AB$8)","v":{"$error":"#N/A"}},null,null,null,null,7.4999999999999997E-2,0.31172925995349998,3,6,null,null,null,0,0]
[null,null,null,null,null,null,null,null,null,null,null,null,4.75,2.0161002539629291,53,73,null,null,{"$error":"#N/A"},"","",{"$f":"INDEX(N25:W25,,$AB$8)","v":{"$error":"#N/A"}},null,null,null,null,0,0,null,null,null,null,0]
[null,null,null,null,null,null,null,null,null,null,null,null,2.36,1.4716698795820382,38,60,null,null,{"$error":"#N/A"},"","",{"$f":"INDEX(N26:W26,,$AB$8)","v":{"$error":"#N/A"}}]
[null,null,null,null,null,null,null,null,null,null,null,null,1.18,1.0773254099250416,26,48,null,null,{"$error":"#N/A"},"","",{"$f":"INDEX(N27:W27,,$AB$8)","v":{"$error":"#N/A"}},null,null,null,null,"Gradation 3 - 12.5 mm Max Size, 9.5 mm Nominal Max Size"]
[null,null,null,null,null,null,null,null,null,null,null,null,0.6,0.79463568224020453,18,38,null,null,{"$error":"#N/A"},"","",{"$f":"INDEX(N28:W28,,$AB$8)","v":{"$error":"#N/A"}},null,null,null,null,null,null,null,null,"Restricted Zone"]
[null,null,null,null,null,null,null,null,null,null,null,null,0.3,0.58170736792793831,11,27,null,null,{"$error":"#N/A"},"","",{"$f":"INDEX(N29:W29,,$AB$8)","v":{"$error":"#N/A"}},null,null,null,null,null,null,"Control Points",null,"Minimum","Maximum","Maximum","Optional","Optional"]
[null,null,null,null,null,null,null,null,null,null,null,null,0.15,0.42583471830473674,6,18,null,null,{"$error":"#N/A"},"","",{"$f":"INDEX(N30:W30,,$AB$8)","v":{"$error":"#N/A"}},null,null,null,null,"Size",".45 Power","Minimum","Maximum","Boundary","Boundary","Density Line","Limit #1","Limit #2"]
[null,null,null,null,null,null,null,null,null,null,null,null,7.4999999999999997E-2,0.31172925995349998,3,6,{"$f":"IF($AC$5=1,IF(ISBLANK(AE24),\"\",AE24),IF($AC$5=2,IF(ISBLANK(AE41),\"\",AE41),IF($AC$5=3,IF(ISBLANK(AE58),\"\",AE58),\"---\")))","v":""},{"$f":"IF($AC$5=1,IF(ISBLANK(AF24),\"\",AF24),IF($AC$5=2,IF(ISBLANK(AF41),\"\",AF41),IF($AC$5=3,IF(ISBLANK(AF58),\"\",AF58),\"---\")))","v":""},{"$error":"#N/A"},0,0,{"$f":"INDEX(N31:W31,,$AB$8)","v":{"$error":"#N/A"}},null,null,null,null,25,{"$f":"POWER(AA48,0.45)","v":4.2566996126039234},{"$error":"#N/A"},{"$error":"#N/A"}]
[null,null,null,null,null,null,null,null,null,null,null,null,0,0,"","",{"$f":"IF($AC$5=1,IF(ISBLANK(AE25),\"\",AE25),IF($AC$5=2,IF(ISBLANK(AE42),\"\",AE42),IF($AC$5=3,IF(ISBLANK(AE59),\"\",AE59),\"---\")))","v":""},{"$f":"IF($AC$5=1,IF(ISBLANK(AF25),\"\",AF25),IF($AC$5=2,IF(ISBLANK(AF42),\"\",AF42),IF($AC$5=3,IF(ISBLANK(AF59),\"\",AF59),\"---\")))","v":""},{"$f":"IF($AC$5=1,IF(ISBLANK(AG25),\"\",AG25),IF($AC$5=2,IF(ISBLANK(AG42),\"\",AG42),IF($AC$5=3,IF(ISBLANK(AG59),\"\",AG59),\"---\")))","v":0},"","",null,null,null,null,null,19,{"$f":"POWER(AA49,0.45)","v":3.7621761023862978},{"$error":"#N/A"},{"$error":"#N/A"}]
["Note: This worksheet may be used if helpful but is not required for submittal. Use the JMF Summary Sheet to input proposed aggregate gradations and blend proportions.",null,null,null,null,null,null,null,null,null,null,null,null,null,null,null,null,null,null,null,null,null,null,null,null,null,12.5,3.116086507375345,{"$error":"#N/A"},100,null,null,100,0,0]
[null,null,null,null,null,null,null,null,null,null,null,null,null,null,null,null,null,null,null,null,null,null,null,null,null,null,9.5,2.754074108566122,90,100]
[null,null,null,null,null,null,null,null,null,null,null,null,null,null,null,null,null,null,null,null,null,null,null,null,null,null,4.75,2.0161002539629291,58,78]
[null,null,null,null,null,null,null,null,null,null,null,null,null,null,null,null,null,null,null,null,null,null,null,null,null,null,2.36,1.4716698795820382,40,60,47.2,47.2]
[null,null,null,null,null,null,null,null,null,null,null,null,null,null,null,null,null,null,null,null,null,null,null,null,null,null,1.18,1.0773254099250416,28,48,31.6,37.6]
[null,null,null,null,null,null,null,null,null,null,null,null,null,null,null,null,null,null,null,null,null,null,null,null,null,null,0.6,0.79463568224020453,18,38,23.5,27.5]
[null,null,null,null,null,null,null,null,null,null,null,null,null,null,null,null,null,null,null,null,null,null,null,null,null,null,0.3,0.58170736792793831,11,27,18.7,18.7]
[null,null,null,null,null,null,null,null,null,null,null,null,null,null,null,null,null,null,null,null,null,null,null,null,null,null,0.15,0.42583471830473674,6,18]
[null,null,null,null,null,null,null,null,null,null,null,null,null,null,null,null,null,null,null,null,null,null,null,null,null,null,7.4999999999999997E-2,0.31172925995349998,3,6,null,null,null,0,0]
[null,null,null,null,null,null,null,null,null,null,null,null,null,null,null,null,null,null,null,null,null,null,null,null,null,null,0,0,null,null,null,null,0]

{"sheet":"Agg - Coarse","index":13,"n_rows":74,"n_cols":44,"rows_kept":74,"cut":false,"hidden":false,"merged":[[24,36,24,37],[25,36,25,37],[19,36,20,37],[19,38,20,38],[19,39,20,39],[18,34,18,43],[7,34,7,38],[4,34,4,40],[5,36,5,40],[19,40,20,40],[19,41,20,41],[19,42,20,42],[19,34,20,34],[19,43,20,43],[19,35,20,35],[21,36,21,37],[22,36,22,37],[23,36,23,37],[72,6,72,12],[73,6,73,12],[72,0,72,3],[73,0,73,3],[16,3,16,4],[46,3,46,4],[52,3,52,4],[41,3,41,4],[47,3,47,4],[53,3,53,4],[70,3,70,4],[39,3,39,4],[58,3,58,4],[59,3,59,4],[64,3,64,4],[65,3,65,4],[41,1,46,1],[47,1,52,1],[53,1,58,1],[59,1,64,1],[28,3,28,4],[32,3,32,4],[33,3,33,4],[18,1,22,1],[18,3,18,4],[22,3,22,4],[23,1,27,1],[23,3,23,4],[27,3,27,4],[16,7,16,8],[18,7,18,8],[22,7,22,8],[23,7,23,8],[27,7,27,8],[28,7,28,8],[32,7,32,8],[16,5,16,6],[18,5,18,6],[22,5,22,6],[23,5,23,6],[27,5,27,6],[28,5,28,6],[32,5,32,6],[33,5,33,6],[53,7,53,8],[58,7,58,8],[59,7,59,8],[64,7,64,8],[65,7,65,8],[41,5,41,6],[39,5,39,6],[70,7,70,8],[33,7,33,8],[39,7,39,8],[41,7,41,8],[46,7,46,8],[47,7,47,8],[52,7,52,8],[64,5,64,6],[65,5,65,6],[70,5,70,6],[52,5,52,6],[53,5,53,6],[58,5,58,6],[59,5,59,6],[46,5,46,6],[47,5,47,6],[70,9,70,10],[16,11,16,12],[18,11,18,12],[22,11,22,12],[23,11,23,12],[27,11,27,12],[28,11,28,12],[32,11,32,12],[33,11,33,12],[39,11,39,12],[52,9,52,10],[53,9,53,10],[58,9,58,10],[59,9,59,10],[64,9,64,10],[65,9,65,10],[32,9,32,10],[33,9,33,10],[39,9,39,10],[41,9,41,10],[46,9,46,10],[47,9,47,10],[16,9,16,10],[18,9,18,10],[64,11,64,12],[65,11,65,12],[70,11,70,12],[16,13,16,14],[18,13,18,14],[22,13,22,14],[23,13,23,14],[27,13,27,14],[28,13,28,14],[32,13,32,14],[46,11,46,12],[47,11,47,12],[52,11,52,12],[53,11,53,12],[58,11,58,12],[59,11,59,12],[41,11,41,12],[53,13,53,14],[58,13,58,14],[59,13,59,14],[64,13,64,14],[65,13,65,14],[70,13,70,14],[33,13,33,14],[41,13,41,14],[46,13,46,14],[47,13,47,14],[52,13,52,14],[41,15,41,16],[46,15,46,16],[47,15,47,16],[16,15,16,16],[18,15,18,16],[22,15,22,16],[23,15,23,16],[27,15,27,16],[28,15,28,16],[8,11,8,12],[9,11,9,12],[6,9,6,10],[7,9,7,10],[8,9,8,10],[9,9,9,10],[70,15,70,16],[6,15,6,16],[7,15,7,16],[8,15,8,16],[9,15,9,16],[6,13,6,14],[7,13,7,14],[8,13,8,14],[9,13,9,14],[52,15,52,16],[53,15,53,16],[58,15,58,16],[59,15,59,16],[64,15,64,16],[65,15,65,16],[32,15,32,16],[33,15,33,16],[39,15,39,16],[8,7,8,8],[9,7,9,8],[6,5,6,6],[7,5,7,6],[8,5,8,6],[9,5,9,6],[2,6,2,7],[3,6,3,7],[4,6,4,7],[2,4,2,5],[3,4,3,5],[4,4,4,5],[2,9,2,12],[3,9,3,12],[4,9,4,12],[6,3,6,4],[7,3,7,4],[7,11,7,12],[6,11,6,12],[6,0,6,2],[68,1,68,2],[12,1,12,2],[13,1,13,2],[14,1,14,2],[15,1,15,2],[10,0,10,2],[8,3,8,4],[9,3,9,4],[2,1,2,2],[3,1,3,2],[4,1,4,2],[7,0,7,2],[8,0,8,2],[9,0,9,2],[6,7,6,8],[7,7,7,8],[69,1,69,2],[70,1,70,2],[16,1,16,2],[33,1,33,2],[35,1,35,2],[36,1,36,2],[37,1,37,2],[38,1,38,2],[39,1,39,2],[65,1,65,2],[67,1,67,2],[28,1,32,1],[34,1,34,2],[66,1,66,2],[40,11,40,12],[40,13,40,14],[40,15,40,16],[11,1,11,2],[11,15,11,16],[11,13,11,14],[11,11,11,12],[11,9,11,10],[11,7,11,8],[11,5,11,6],[11,3,11,4],[17,1,17,2],[17,3,17,4],[17,5,17,6],[17,7,17,8],[17,9,17,10],[17,11,17,12],[17,13,17,14],[17,15,17,16],[39,13,39,14],[22,9,22,10],[23,9,23,10],[27,9,27,10],[28,9,28,10],[66,3,66,4],[66,5,66,6],[66,7,66,8],[66,9,66,10],[66,11,66,12],[66,13,66,14],[66,15,66,16],[11,0,16,0],[17,0,33,0],[34,0,39,0],[40,0,65,0],[66,0,70,0],[34,3,34,4],[34,5,34,6],[34,7,34,8],[34,9,34,10],[34,11,34,12],[34,13,34,14],[34,15,34,16],[40,1,40,2],[40,3,40,4],[40,5,40,6],[40,7,40,8],[40,9,40,10]]}
["UFGS 32 12 15.13 Coarse Aggregate Properties"]
[]
["Mix ID",{"$f":"IF(ISBLANK('JMF Summary'!B3),\"---\",'JMF Summary'!B3)","v":"---"},null,null,"Gradation",null,{"$f":"'JMF Summary'!F3","v":2},null,null,"ASTM C88 Sulfate Solution"]
["Date",{"$f":"IF(ISBLANK('JMF Summary'!B4),\"---\",'JMF Summary'!B4)","v":"---"},null,null,"Compaction",null,{"$f":"'JMF Summary'!F4","v":"75 Gyr"}]
["Project",{"$f":"IF(ISBLANK('JMF Summary'!B5),\"---\",'JMF Summary'!B5)","v":"---"},null,null,"Binder Grade",null,{"$f":"'JMF Summary'!F5","v":"PG 64-22"},null,null,null,null,null,null,null,null,null,null,null,null,null,null,null,null,null,null,null,null,null,null,null,null,null,null,null,"Form Data"]
[null,null,null,null,null,null,null,null,null,null,null,null,null,null,null,null,null,null,null,null,null,null,null,null,null,null,null,null,null,null,null,null,null,null,"Procedure",1,"(1 = Magnesium Sulfate, 2 = Sodium Sulfate)"]
["Aggregate ID",null,null,{"$f":"IF(ISBLANK('JMF Summary'!B11),\"---\",'JMF Summary'!B11)","v":"---"},null,{"$f":"IF(ISBLANK('JMF Summary'!C11),\"---\",'JMF Summary'!C11)","v":"---"},null,{"$f":"IF(ISBLANK('JMF Summary'!D11),\"---\",'JMF Summary'!D11)","v":"---"},null,{"$f":"IF(ISBLANK('JMF Summary'!E11),\"---\",'JMF Summary'!E11)","v":"---"},null,{"$f":"IF(ISBLANK('JMF Summary'!F11),\"---\",'JMF Summary'!F11)","v":"---"},null,{"$f":"IF(ISBLANK('JMF Summary'!G11),\"---\",'JMF Summary'!G11)","v":"---"},null,{"$f":"IF(ISBLANK('JMF Summary'!H11),\"---\",'JMF Summary'!H11)","v":"---"},null,"Limits"]
["Percent of Agg Blend, %",null,null,{"$f":"IF(ISBLANK('JMF Summary'!B15),\"---\",'JMF Summary'!B15)","v":"---"},null,{"$f":"IF(ISBLANK('JMF Summary'!C15),\"---\",'JMF Summary'!C15)","v":"---"},null,{"$f":"IF(ISBLANK('JMF Summary'!D15),\"---\",'JMF Summary'!D15)","v":"---"},null,{"$f":"IF(ISBLANK('JMF Summary'!E15),\"---\",'JMF Summary'!E15)","v":"---"},null,{"$f":"IF(ISBLANK('JMF Summary'!F15),\"---\",'JMF Summary'!F15)","v":"---"},null,{"$f":"IF(ISBLANK('JMF Summary'!G15),\"---\",'JMF Summary'!G15)","v":"---"},null,{"$f":"IF(ISBLANK('JMF Summary'!H15),\"---\",'JMF Summary'!H15)","v":"---"},null,"---",null,null,null,null,null,null,null,null,null,null,null,null,null,null,null,null,"Specification Limits"]
["Percent Passing No. 4, %",null,null,{"$f":"IF(ISBLANK('JMF Summary'!B20),\"---\",'JMF Summary'!B20)","v":"---"},null,{"$f":"IF(ISBLANK('JMF Summary'!C20),\"---\",'JMF Summary'!C20)","v":"---"},null,{"$f":"IF(ISBLANK('JMF Summary'!D20),\"---\",'JMF Summary'!D20)","v":"---"},null,{"$f":"IF(ISBLANK('JMF Summary'!E20),\"---\",'JMF Summary'!E20)","v":"---"},null,{"$f":"IF(ISBLANK('JMF Summary'!F20),\"---\",'JMF Summary'!F20)","v":"---"},null,{"$f":"IF(ISBLANK('JMF Summary'!G20),\"---\",'JMF Summary'!G20)","v":"---"},null,{"$f":"IF(ISBLANK('JMF Summary'!H20),\"---\",'JMF Summary'!H20)","v":"---"},null,"---",null,null,null,null,null,null,null,null,null,null,null,null,null,null,null,null,"Property","Operator","Limit 1",null,"Limit 2"]
["Aggregate Size Class",null,null,{"$f":"IF(ISNUMBER(D9),IF(D9<25,\"Coarse\",IF(D9>75,\"Fine\",\"Intermediate\")),\"---\")","v":"---"},null,{"$f":"IF(ISNUMBER(F9),IF(F9<25,\"Coarse\",IF(F9>75,\"Fine\",\"Intermediate\")),\"---\")","v":"---"},null,{"$f":"IF(ISNUMBER(H9),IF(H9<25,\"Coarse\",IF(H9>75,\"Fine\",\"Intermediate\")),\"---\")","v":"---"},null,{"$f":"IF(ISNUMBER(J9),IF(J9<25,\"Coarse\",IF(J9>75,\"Fine\",\"Intermediate\")),\"---\")","v":"---"},null,{"$f":"IF(ISNUMBER(L9),IF(L9<25,\"Coarse\",IF(L9>75,\"Fine\",\"Intermediate\")),\"---\")","v":"---"},null,{"$f":"IF(ISNUMBER(N9),IF(N9<25,\"Coarse\",IF(N9>75,\"Fine\",\"Intermediate\")),\"---\")","v":"---"},null,{"$f":"IF(ISNUMBER(P9),IF(P9<25,\"Coarse\",IF(P9>75,\"Fine\",\"Intermediate\")),\"---\")","v":"---"},null,"---",null,null,null,null,null,null,null,null,null,null,null,null,null,null,null,null,"LA Abrasion, %",{"$f":"'JMF Summary'!AG19","v":"≤"},{"$f":"IF('JMF Summary'!AH19<>0,'JMF Summary'!AH19,\"---\")","v":40}," - "]
["Replicate",null,null,1,2,1,2,1,2,1,2,1,2,1,2,1,2,"---",null,null,null,null,null,null,null,null,null,null,null,null,null,null,null,null,"Sodium Sulfate Soundness, %",{"$f":"'JMF Summary'!AG20","v":"≤"},{"$f":"IF('JMF Summary'!AH20<>0,'JMF Summary'!AH20,\"---\")","v":12}," - "]
["C131 LA Abrasion","Date Tested",null,null,null,null,null,null,null,null,null,null,null,null,null,null,null,"---",null,null,null,null,null,null,null,null,null,null,null,null,null,null,null,null,"Magnesium Sulfate Soundness, %",{"$f":"'JMF Summary'!AG20","v":"≤"},{"$f":"IF('JMF Summary'!AH21<>0,'JMF Summary'!AH21,\"---\")","v":18}," - "]
[null,"Grading",null,null,null,null,null,null,null,null,null,null,null,null,null,null,null,"---",null,null,null,null,null,null,null,null,null,null,null,null,null,null,null,null,"Selected Sulfate Soundness, %",{"$f":"'JMF Summary'!AG21","v":"≤"},{"$f":"IF(AJ6=1,AK12,AK11)","v":18}," - "]
[null,"Wt Original Test Sample, g",null,null,null,null,null,null,null,null,null,null,null,null,null,null,null,"---",null,null,null,null,null,null,null,null,null,null,null,null,null,null,null,null,"Fractured Faces, %",{"$f":"'JMF Summary'!AG22","v":"≥"},{"$f":"IF('JMF Summary'!AH22<>0,'JMF Summary'!AH22,\"---\")","v":75}," - "]
[null,"Wt Final Test Sample, g",null,null,null,null,null,null,null,null,null,null,null,null,null,null,null,"---",null,null,null,null,null,null,null,null,null,null,null,null,null,null,null,null,"F&E, %",{"$f":"'JMF Summary'!AG23","v":"≤"},{"$f":"IF('JMF Summary'!AH23<>0,'JMF Summary'!AH23,\"---\")","v":5}," - "]
[null,"LA Abrasion Loss, %",null,{"$f":"IFERROR(ROUND((D14-D15)/D14*100,0),\"---\")","v":"---"},{"$f":"IFERROR(ROUND((E14-E15)/E14*100,0),\"---\")","v":"---"},"---","---","---","---","---","---","---","---","---","---","---","---","---",null,null,null,null,null,null,null,null,null,null,null,null,null,null,null,null,"Clay Lumps, %",{"$f":"'JMF Summary'!AG24","v":"≤"},{"$f":"IF('JMF Summary'!AH24<>0,'JMF Summary'!AH24,\"---\")","v":0.3}," - "]
[null,"Avg LA Abrasion Loss, %",null,{"$f":"IF(OR(D$10=\"Fine\",D$10=\"---\"),\"---\",IFERROR(ROUND(IF(AJ22=\"Raw Data\",AVERAGE(D16:E16),AK22),0),\"---\"))","v":"---"},null,{"$f":"IF(OR(F$10=\"Fine\",F$10=\"---\"),\"---\",IFERROR(ROUND(IF(AJ22=\"Raw Data\",AVERAGE(F16:G16),AM22),0),\"---\"))","v":"---"},null,{"$f":"IF(OR(H$10=\"Fine\",H$10=\"---\"),\"---\",IFERROR(ROUND(IF(AJ22=\"Raw Data\",AVERAGE(H16:I16),AN22),0),\"---\"))","v":"---"},null,{"$f":"IF(OR(J$10=\"Fine\",J$10=\"---\"),\"---\",IFERROR(ROUND(IF(AJ22=\"Raw Data\",AVERAGE(J16:K16),AO22),0),\"---\"))","v":"---"},null,{"$f":"IF(OR(L$10=\"Fine\",L$10=\"---\"),\"---\",IFERROR(ROUND(IF(AJ22=\"Raw Data\",AVERAGE(L16:M16),AP22),0),\"---\"))","v":"---"},null,{"$f":"IF(OR(N$10=\"Fine\",N$10=\"---\"),\"---\",IFERROR(ROUND(IF(AJ22=\"Raw Data\",AVERAGE(N16:O16),AQ22),0),\"---\"))","v":"---"},null,{"$f":"IF(OR(P$10=\"Fine\",P$10=\"---\"),\"---\",IFERROR(ROUND(IF(AJ22=\"Raw Data\",AVERAGE(P16:Q16),AR22),0),\"---\"))","v":"---"},null,{"$f":"IF(ISNUMBER(AK10),AJ10 & \" \" & FIXED(AK10,0),\"---\")","v":"≤ 40"}]
[{"$f":"IF(AJ5=1,\"C88 Magnesium Sulfate Soundness\",\"C88 Sodium Sulfate Soundness\")","v":"C88 Sodium Sulfate Soundness"},"Date Tested",null,null,null,null,null,null,null,null,null,null,null,null,null,null,null,"---"]
[null,"1-1/2\" to 3/4\"","Size Fraction, % of +#4",{"$f":"IFERROR(('JMF Summary'!B16-'JMF Summary'!B17)/(100-D9)*100,\"---\")","v":"---"},null,{"$f":"IFERROR(('JMF Summary'!C16-'JMF Summary'!C17)/(100-F9)*100,\"---\")","v":"---"},null,{"$f":"IFERROR(('JMF Summary'!D16-'JMF Summary'!D17)/(100-H9)*100,\"---\")","v":"---"},null,{"$f":"IFERROR(('JMF Summary'!E16-'JMF Summary'!E17)/(100-J9)*100,\"---\")","v":"---"},null,{"$f":"IFERROR(('JMF Summary'!F16-'JMF Summary'!F17)/(100-L9)*100,\"---\")","v":"---"},null,{"$f":"IFERROR(('JMF Summary'!G16-'JMF Summary'!G17)/(100-N9)*100,\"---\")","v":"---"},null,{"$f":"IFERROR(('JMF Summary'!H16-'JMF Summary'!H17)/(100-P9)*100,\"---\")","v":"---"},null,"---",null,null,null,null,null,null,null,null,null,null,null,null,null,null,null,null,"Raw Data Override (admin user only)"]
[null,null,"Wt Original Test Sample, g",null,null,null,null,null,null,null,null,null,null,null,null,null,null,"---",null,null,null,null,null,null,null,null,null,null,null,null,null,null,null,null,"Parameter & Value by Agg ID","Input Type",{"$f":"D7","v":"---"},null,{"$f":"F7","v":"---"},{"$f":"H7","v":"---"},{"$f":"J7","v":"---"},{"$f":"L7","v":"---"},{"$f":"N7","v":"---"},{"$f":"P7","v":"---"}]
[null,null,"Wt Retained, No #, g",null,null,null,null,null,null,null,null,null,null,null,null,null,null,"---"]
[null,null,"Percent Passing, %",{"$f":"IFERROR((D20-D21)/(D20)*100,\"---\")","v":"---"},"---","---","---","---","---","---","---","---","---","---","---","---","---","---",null,null,null,null,null,null,null,null,null,null,null,null,null,null,null,null,"C131 Avg LA Abrasion Loss, %","Raw Data"]
[null,null,"Avg Percent Passing, %",{"$f":"IFERROR(AVERAGE(D22:E22),\"---\")","v":"---"},null,{"$f":"IFERROR(AVERAGE(F22:G22),\"---\")","v":"---"},null,{"$f":"IFERROR(AVERAGE(H22:I22),\"---\")","v":"---"},null,{"$f":"IFERROR(AVERAGE(J22:K22),\"---\")","v":"---"},null,{"$f":"IFERROR(AVERAGE(L22:M22),\"---\")","v":"---"},null,{"$f":"IFERROR(AVERAGE(N22:O22),\"---\")","v":"---"},null,{"$f":"IFERROR(AVERAGE(P22:Q22),\"---\")","v":"---"},null,"---",null,null,null,null,null,null,null,null,null,null,null,null,null,null,null,null,"C88 Weighted Mass Loss, %","Raw Data"]
[null,"3/4\" to 3/8\"","Size Fraction, % of +#4",{"$f":"IFERROR(('JMF Summary'!B17-'JMF Summary'!B19)/(100-D9)*100,\"---\")","v":"---"},null,{"$f":"IFERROR(('JMF Summary'!C17-'JMF Summary'!C19)/(100-F9)*100,\"---\")","v":"---"},null,{"$f":"IFERROR(('JMF Summary'!D17-'JMF Summary'!D19)/(100-H9)*100,\"---\")","v":"---"},null,{"$f":"IFERROR(('JMF Summary'!E17-'JMF Summary'!E19)/(100-J9)*100,\"---\")","v":"---"},null,{"$f":"IFERROR(('JMF Summary'!F17-'JMF Summary'!F19)/(100-L9)*100,\"---\")","v":"---"},null,{"$f":"IFERROR(('JMF Summary'!G17-'JMF Summary'!G19)/(100-N9)*100,\"---\")","v":"---"},null,{"$f":"IFERROR(('JMF Summary'!H17-'JMF Summary'!H19)/(100-P9)*100,\"---\")","v":"---"},null,"---",null,null,null,null,null,null,null,null,null,null,null,null,null,null,null,null,"D5821 Avg Two Fractured Faces, %","Raw Data"]
[null,null,"Wt Original Test Sample, g",null,null,null,null,null,null,null,null,null,null,null,null,null,null,"---",null,null,null,null,null,null,null,null,null,null,null,null,null,null,null,null,"D4791 Weighted Avg F&E (5:1), %","Raw Data"]
[null,null,"Wt Retained, No #, g",null,null,null,null,null,null,null,null,null,null,null,null,null,null,"---",null,null,null,null,null,null,null,null,null,null,null,null,null,null,null,null,"C142 Avg Clay Lumps, %","Raw Data"]
[null,null,"Percent Passing, %",{"$f":"IFERROR((D25-D26)/(D25)*100,\"---\")","v":"---"},"---","---","---","---","---","---","---","---","---","---","---","---","---","---"]
[null,null,"Avg Percent Passing, %",{"$f":"IFERROR(AVERAGE(D27:E27),\"---\")","v":"---"},null,{"$f":"IFERROR(AVERAGE(F27:G27),\"---\")","v":"---"},null,{"$f":"IFERROR(AVERAGE(H27:I27),\"---\")","v":"---"},null,{"$f":"IFERROR(AVERAGE(J27:K27),\"---\")","v":"---"},null,{"$f":"IFERROR(AVERAGE(L27:M27),\"---\")","v":"---"},null,{"$f":"IFERROR(AVERAGE(N27:O27),\"---\")","v":"---"},null,{"$f":"IFERROR(AVERAGE(P27:Q27),\"---\")","v":"---"},null,"---"]
[null,"3/8\" to #4","Size Fraction, % of +#4",{"$f":"IFERROR(('JMF Summary'!B19-'JMF Summary'!B20)/(100-D9)*100,\"---\")","v":"---"},null,{"$f":"IFERROR(('JMF Summary'!C19-'JMF Summary'!C20)/(100-F9)*100,\"---\")","v":"---"},null,{"$f":"IFERROR(('JMF Summary'!D19-'JMF Summary'!D20)/(100-H9)*100,\"---\")","v":"---"},null,{"$f":"IFERROR(('JMF Summary'!E19-'JMF Summary'!E20)/(100-J9)*100,\"---\")","v":"---"},null,{"$f":"IFERROR(('JMF Summary'!F19-'JMF Summary'!F20)/(100-L9)*100,\"---\")","v":"---"},null,{"$f":"IFERROR(('JMF Summary'!G19-'JMF Summary'!G20)/(100-N9)*100,\"---\")","v":"---"},null,{"$f":"IFERROR(('JMF Summary'!H19-'JMF Summary'!H20)/(100-P9)*100,\"---\")","v":"---"},null,"---"]
[null,null,"Wt Original Test Sample, g",null,null,null,null,null,null,null,null,null,null,null,null,null,null,"---"]
[null,null,"Wt Retained, No #, g",null,null,null,null,null,null,null,null,null,null,null,null,null,null,"---"]
[null,null,"Percent Passing, %",{"$f":"IFERROR((D30-D31)/(D30)*100,\"---\")","v":"---"},"---","---","---","---","---","---","---","---","---","---","---","---","---","---"]
[null,null,"Avg Percent Passing, %",{"$f":"IFERROR(AVERAGE(D32:E32),\"---\")","v":"---"},null,{"$f":"IFERROR(AVERAGE(F32:G32),\"---\")","v":"---"},null,{"$f":"IFERROR(AVERAGE(H32:I32),\"---\")","v":"---"},null,{"$f":"IFERROR(AVERAGE(J32:K32),\"---\")","v":"---"},null,{"$f":"IFERROR(AVERAGE(L32:M32),\"---\")","v":"---"},null,{"$f":"IFERROR(AVERAGE(N32:O32),\"---\")","v":"---"},null,{"$f":"IFERROR(AVERAGE(P32:Q32),\"---\")","v":"---"},null,"---"]
[null,"Weighted Mass Loss, %",null,{"$f":"IF(OR(D$10=\"Fine\",D$10=\"---\"),\"---\",IFERROR(ROUND(IF(AJ23=\"Raw Data\",IF(D19<5,D19/100*IF(ISNUMBER(D28),D28,D33),D19/100*D23)+IF(D24<5,D24/100*IF(ISNUMBER(AVERAGE(D23,D33)),AVERAGE(D23,D33),IF(ISNUMBER(D23),D23,IF(ISNUMBER(D33),D33,D33))),D24/100*D28)+IF(D29<5,D29/100*IF(ISNUMBER(D28),D28,D23),D29/100*D33),AK23),0),\"---\"))","v":"---"},null,{"$f":"IF(OR(F$10=\"Fine\",F$10=\"---\"),\"---\",IFERROR(ROUND(IF(AJ23=\"Raw Data\",IF(F19<5,F19/100*IF(ISNUMBER(F28),F28,F33),F19/100*F23)+IF(F24<5,F24/100*IF(ISNUMBER(AVERAGE(F23,F33)),AVERAGE(F23,F33),IF(ISNUMBER(F23),F23,IF(ISNUMBER(F33),F33,F33))),F24/100*F28)+IF(F29<5,F29/100*IF(ISNUMBER(F28),F28,F23),F29/100*F33),AM23),0),\"---\"))","v":"---"},null,{"$f":"IF(OR(H$10=\"Fine\",H$10=\"---\"),\"---\",IFERROR(ROUND(IF(AJ23=\"Raw Data\",IF(H19<5,H19/100*IF(ISNUMBER(H28),H28,H33),H19/100*H23)+IF(H24<5,H24/100*IF(ISNUMBER(AVERAGE(H23,H33)),AVERAGE(H23,H33),IF(ISNUMBER(H23),H23,IF(ISNUMBER(H33),H33,H33))),H24/100*H28)+IF(H29<5,H29/100*IF(ISNUMBER(H28),H28,H23),H29/100*H33),AN23),0),\"---\"))","v":"---"},null,{"$f":"IF(OR(J$10=\"Fine\",J$10=\"---\"),\"---\",IFERROR(ROUND(IF(AJ23=\"Raw Data\",IF(J19<5,J19/100*IF(ISNUMBER(J28),J28,J33),J19/100*J23)+IF(J24<5,J24/100*IF(ISNUMBER(AVERAGE(J23,J33)),AVERAGE(J23,J33),IF(ISNUMBER(J23),J23,IF(ISNUMBER(J33),J33,J33))),J24/100*J28)+IF(J29<5,J29/100*IF(ISNUMBER(J28),J28,J23),J29/100*J33),AO23),0),\"---\"))","v":"---"},null,{"$f":"IF(OR(L$10=\"Fine\",L$10=\"---\"),\"---\",IFERROR(ROUND(IF(AJ23=\"Raw Data\",IF(L19<5,L19/100*IF(ISNUMBER(L28),L28,L33),L19/100*L23)+IF(L24<5,L24/100*IF(ISNUMBER(AVERAGE(L23,L33)),AVERAGE(L23,L33),IF(ISNUMBER(L23),L23,IF(ISNUMBER(L33),L33,L33))),L24/100*L28)+IF(L29<5,L29/100*IF(ISNUMBER(L28),L28,L23),L29/100*F33),AP23),0),\"---\"))","v":"---"},null,{"$f":"IF(OR(N$10=\"Fine\",N$10=\"---\"),\"---\",IFERROR(ROUND(IF(AJ23=\"Raw Data\",IF(N19<5,N19/100*IF(ISNUMBER(N28),N28,N33),N19/100*N23)+IF(N24<5,N24/100*IF(ISNUMBER(AVERAGE(N23,N33)),AVERAGE(N23,N33),IF(ISNUMBER(N23),N23,IF(ISNUMBER(N33),N33,N33))),N24/100*N28)+IF(N29<5,N29/100*IF(ISNUMBER(N28),N28,N23),N29/100*F33),AQ23),0),\"---\"))","v":"---"},null,{"$f":"IF(OR(P$10=\"Fine\",P$10=\"---\"),\"---\",IFERROR(ROUND(IF(AJ23=\"Raw Data\",IF(P19<5,P19/100*IF(ISNUMBER(P28),P28,P33),P19/100*P23)+IF(P24<5,P24/100*IF(ISNUMBER(AVERAGE(P23,P33)),AVERAGE(P23,P33),IF(ISNUMBER(P23),P23,IF(ISNUMBER(P33),P33,P33))),P24/100*P28)+IF(P29<5,P29/100*IF(ISNUMBER(P28),P28,P23),P29/100*F33),AR23),0),\"---\"))","v":"---"},null,{"$f":"IF(AJ6=1,IF(ISNUMBER(AK13),AJ13 & \" \" & FIXED(AK13,0),\"---\"),IF(ISNUMBER(AK11),AJ11 & \" \" & FIXED(AK11,0),\"---\"))","v":"≤ 18"}]
["D5821 Fractured Faces","Date Tested",null,null,null,null,null,null,null,null,null,null,null,null,null,null,null,"---"]
[null,"Wt Original Test Sample, g",null,null,null,null,null,null,null,null,null,null,null,null,null,null,null,"---"]
[null,"Wt 2+ Fractured Faces, g",null,null,null,null,null,null,null,null,null,null,null,null,null,null,null,"---"]
[null,"Wt Remaining Particles, g",null,{"$f":"IFERROR(IF(ISNUMBER(D36),D36-D37,\"---\"),\"---\")","v":"---"},"---","---","---","---","---","---","---","---","---","---","---","---","---","---"]
[null,"Two Fractured Faces, %",null,{"$f":"IFERROR((D37)/(D37+D38)*100,\"---\")","v":"---"},"---","---","---","---","---","---","---","---","---","---","---","---","---","---"]
[null,"Avg Two Fractured Faces, %",null,{"$f":"IF(OR(D$10=\"Fine\",D$10=\"---\"),\"---\",IFERROR(ROUND(IF(AJ24=\"Raw Data\",AVERAGE(D39:E39),AK24),0),\"---\"))","v":"---"},null,{"$f":"IF(OR(F$10=\"Fine\",F$10=\"---\"),\"---\",IFERROR(ROUND(IF(AJ24=\"Raw Data\",AVERAGE(F39:G39),AM24),0),\"---\"))","v":"---"},null,{"$f":"IF(OR(H$10=\"Fine\",H$10=\"---\"),\"---\",IFERROR(ROUND(IF(AJ24=\"Raw Data\",AVERAGE(H39:I39),AN24),0),\"---\"))","v":"---"},null,{"$f":"IF(OR(J$10=\"Fine\",J$10=\"---\"),\"---\",IFERROR(ROUND(IF(AJ24=\"Raw Data\",AVERAGE(J39:K39),AO24),0),\"---\"))","v":"---"},null,{"$f":"IF(OR(L$10=\"Fine\",L$10=\"---\"),\"---\",IFERROR(ROUND(IF(AJ24=\"Raw Data\",AVERAGE(L39:M39),AP24),0),\"---\"))","v":"---"},null,{"$f":"IF(OR(N$10=\"Fine\",N$10=\"---\"),\"---\",IFERROR(ROUND(IF(AJ24=\"Raw Data\",AVERAGE(N39:O39),AQ24),0),\"---\"))","v":"---"},null,{"$f":"IF(OR(P$10=\"Fine\",P$10=\"---\"),\"---\",IFERROR(ROUND(IF(AJ24=\"Raw Data\",AVERAGE(P39:Q39),AR24),0),\"---\"))","v":"---"},null,{"$f":"IF(ISNUMBER(AK14),AJ14 & \" \" & FIXED(AK14,0),\"---\")","v":"≥ 75"}]
["D4791 \nFlat & Elongated, Method B (5:1)","Date Tested",null,null,null,null,null,null,null,null,null,null,null,null,null,null,null,"---"]
[null,"1\" to 3/4\"","Size Fraction, % of Agg",{"$f":"IFERROR('JMF Summary'!B16-'JMF Summary'!B17,\"---\")","v":0},null,{"$f":"IFERROR('JMF Summary'!C16-'JMF Summary'!C17,\"---\")","v":0},null,{"$f":"IFERROR('JMF Summary'!D16-'JMF Summary'!D17,\"---\")","v":0},null,{"$f":"IFERROR('JMF Summary'!E16-'JMF Summary'!E17,\"---\")","v":0},null,{"$f":"IFERROR('JMF Summary'!F16-'JMF Summary'!F17,\"---\")","v":0},null,{"$f":"IFERROR('JMF Summary'!G16-'JMF Summary'!G17,\"---\")","v":0},null,{"$f":"IFERROR('JMF Summary'!H16-'JMF Summary'!H17,\"---\")","v":0},null,"---"]
[null,null,"No. Particles",null,null,null,null,null,null,null,null,null,null,null,null,null,null,"---"]
[null,null,"Wt Original Test Sample, g",null,null,null,null,null,null,null,null,null,null,null,null,null,null,"---"]
[null,null,"Wt Flat & Elongated (5:1), g",null,null,null,null,null,null,null,null,null,null,null,null,null,null,"---"]
[null,null,"Flat & Elongated (5:1), %",{"$f":"IFERROR((D45)/(D44)*100,\"---\")","v":"---"},"---","---","---","---","---","---","---","---","---","---","---","---","---","---"]
[null,null,"Avg F&E (5:1), %",{"$f":"IFERROR(AVERAGE(D46:E46),\"---\")","v":"---"},null,{"$f":"IFERROR(AVERAGE(F46:G46),\"---\")","v":"---"},null,{"$f":"IFERROR(AVERAGE(H46:I46),\"---\")","v":"---"},null,{"$f":"IFERROR(AVERAGE(J46:K46),\"---\")","v":"---"},null,{"$f":"IFERROR(AVERAGE(L46:M46),\"---\")","v":"---"},null,{"$f":"IFERROR(AVERAGE(N46:O46),\"---\")","v":"---"},null,{"$f":"IFERROR(AVERAGE(P46:Q46),\"---\")","v":"---"},null,"---"]
[null,"3/4\" to 1/2\"","Size Fraction, % of Agg",{"$f":"IFERROR('JMF Summary'!B17-'JMF Summary'!B18,\"---\")","v":0},null,{"$f":"IFERROR('JMF Summary'!C17-'JMF Summary'!C18,\"---\")","v":0},null,{"$f":"IFERROR('JMF Summary'!D17-'JMF Summary'!D18,\"---\")","v":0},null,{"$f":"IFERROR('JMF Summary'!E17-'JMF Summary'!E18,\"---\")","v":0},null,{"$f":"IFERROR('JMF Summary'!F17-'JMF Summary'!F18,\"---\")","v":0},null,{"$f":"IFERROR('JMF Summary'!G17-'JMF Summary'!G18,\"---\")","v":0},null,{"$f":"IFERROR('JMF Summary'!H17-'JMF Summary'!H18,\"---\")","v":0},null,"---"]
[null,null,"No. Particles",null,null,null,null,null,null,null,null,null,null,null,null,null,null,"---"]
[null,null,"Wt Original Test Sample, g",null,null,null,null,null,null,null,null,null,null,null,null,null,null,"---"]
[null,null,"Wt Flat & Elongated (5:1), g",null,null,null,null,null,null,null,null,null,null,null,null,null,null,"---"]
[null,null,"Flat & Elongated (5:1), %",{"$f":"IFERROR((D51)/(D50)*100,\"---\")","v":"---"},"---","---","---","---","---","---","---","---","---","---","---","---","---","---"]
[null,null,"Avg F&E (5:1), %",{"$f":"IFERROR(AVERAGE(D52:E52),\"---\")","v":"---"},null,{"$f":"IFERROR(AVERAGE(F52:G52),\"---\")","v":"---"},null,{"$f":"IFERROR(AVERAGE(H52:I52),\"---\")","v":"---"},null,{"$f":"IFERROR(AVERAGE(J52:K52),\"---\")","v":"---"},null,{"$f":"IFERROR(AVERAGE(L52:M52),\"---\")","v":"---"},null,{"$f":"IFERROR(AVERAGE(N52:O52),\"---\")","v":"---"},null,{"$f":"IFERROR(AVERAGE(P52:Q52),\"---\")","v":"---"},null,"---"]
[null,"1/2\" to 3/8\"","Size Fraction, % of Agg",{"$f":"IFERROR('JMF Summary'!B18-'JMF Summary'!B19,\"---\")","v":0},null,{"$f":"IFERROR('JMF Summary'!C18-'JMF Summary'!C19,\"---\")","v":0},null,{"$f":"IFERROR('JMF Summary'!D18-'JMF Summary'!D19,\"---\")","v":0},null,{"$f":"IFERROR('JMF Summary'!E18-'JMF Summary'!E19,\"---\")","v":0},null,{"$f":"IFERROR('JMF Summary'!F18-'JMF Summary'!F19,\"---\")","v":0},null,{"$f":"IFERROR('JMF Summary'!G18-'JMF Summary'!G19,\"---\")","v":0},null,{"$f":"IFERROR('JMF Summary'!H18-'JMF Summary'!H19,\"---\")","v":0},null,"---"]
[null,null,"No. Particles",null,null,null,null,null,null,null,null,null,null,null,null,null,null,"---"]
[null,null,"Wt Original Test Sample, g",null,null,null,null,null,null,null,null,null,null,null,null,null,null,"---"]
[null,null,"Wt Flat & Elongated (5:1), g",null,null,null,null,null,null,null,null,null,null,null,null,null,null,"---"]
[null,null,"Flat & Elongated (5:1), %",{"$f":"IFERROR((D57)/(D56)*100,\"---\")","v":"---"},"---","---","---","---","---","---","---","---","---","---","---","---","---","---"]
[null,null,"Avg F&E (5:1), %",{"$f":"IFERROR(AVERAGE(D58:E58),\"---\")","v":"---"},null,{"$f":"IFERROR(AVERAGE(F58:G58),\"---\")","v":"---"},null,{"$f":"IFERROR(AVERAGE(H58:I58),\"---\")","v":"---"},null,{"$f":"IFERROR(AVERAGE(J58:K58),\"---\")","v":"---"},null,{"$f":"IFERROR(AVERAGE(L58:M58),\"---\")","v":"---"},null,{"$f":"IFERROR(AVERAGE(N58:O58),\"---\")","v":"---"},null,{"$f":"IFERROR(AVERAGE(P58:Q58),\"---\")","v":"---"},null,"---"]
[null,"3/8\" to #4","Size Fraction, % of Agg",{"$f":"IFERROR('JMF Summary'!B19-'JMF Summary'!B20,\"---\")","v":0},null,{"$f":"IFERROR('JMF Summary'!C19-'JMF Summary'!C20,\"---\")","v":0},null,{"$f":"IFERROR('JMF Summary'!D19-'JMF Summary'!D20,\"---\")","v":0},null,{"$f":"IFERROR('JMF Summary'!E19-'JMF Summary'!E20,\"---\")","v":0},null,{"$f":"IFERROR('JMF Summary'!F19-'JMF Summary'!F20,\"---\")","v":0},null,{"$f":"IFERROR('JMF Summary'!G19-'JMF Summary'!G20,\"---\")","v":0},null,{"$f":"IFERROR('JMF Summary'!H19-'JMF Summary'!H20,\"---\")","v":0},null,"---"]
[null,null,"No. Particles",null,null,null,null,null,null,null,null,null,null,null,null,null,null,"---"]
[null,null,"Wt Original Test Sample, g",null,null,null,null,null,null,null,null,null,null,null,null,null,null,"---"]
[null,null,"Wt Flat & Elongated (5:1), g",null,null,null,null,null,null,null,null,null,null,null,null,null,null,"---"]
[null,null,"Flat & Elongated (5:1), %",{"$f":"IFERROR((D63)/(D62)*100,\"---\")","v":"---"},"---","---","---","---","---","---","---","---","---","---","---","---","---","---"]
[null,null,"Avg F&E (5:1), %",{"$f":"IFERROR(AVERAGE(D64:E64),\"---\")","v":"---"},null,{"$f":"IFERROR(AVERAGE(F64:G64),\"---\")","v":"---"},null,{"$f":"IFERROR(AVERAGE(H64:I64),\"---\")","v":"---"},null,{"$f":"IFERROR(AVERAGE(J64:K64),\"---\")","v":"---"},null,{"$f":"IFERROR(AVERAGE(L64:M64),\"---\")","v":"---"},null,{"$f":"IFERROR(AVERAGE(N64:O64),\"---\")","v":"---"},null,{"$f":"IFERROR(AVERAGE(P64:Q64),\"---\")","v":"---"},null,"---"]
[null,"Weighted Avg F&E (5:1), %",null,{"$f":"IF(OR(D$10=\"---\",D$10=\"Fine\"),\"---\",IFERROR(IF(AJ25=\"Raw Data\",IF(D42<10,0,D42/100*D47)+IF(D48<10,0,D48/100*D53)+IF(D54<10,0,D54/100*D59)+IF(D60<10,0,D60/100*D65),AK25),\"---\"))","v":"---"},null,{"$f":"IF(OR(F$10=\"---\",F$10=\"Fine\"),\"---\",IFERROR(IF(AJ25=\"Raw Data\",IF(F42<10,0,F42/100*F47)+IF(F48<10,0,F48/100*F53)+IF(F54<10,0,F54/100*F59)+IF(F60<10,0,F60/100*F65),AM25),\"---\"))","v":"---"},null,{"$f":"IF(OR(H$10=\"---\",H$10=\"Fine\"),\"---\",IFERROR(IF(AJ25=\"Raw Data\",IF(H42<10,0,H42/100*H47)+IF(H48<10,0,H48/100*H53)+IF(H54<10,0,H54/100*H59)+IF(H60<10,0,H60/100*H65),AN25),\"---\"))","v":"---"},null,{"$f":"IF(OR(J$10=\"---\",J$10=\"Fine\"),\"---\",IFERROR(IF(AJ25=\"Raw Data\",IF(J42<10,0,J42/100*J47)+IF(J48<10,0,J48/100*J53)+IF(J54<10,0,J54/100*J59)+IF(J60<10,0,J60/100*J65),AO25),\"---\"))","v":"---"},null,{"$f":"IF(OR(L$10=\"---\",L$10=\"Fine\"),\"---\",IFERROR(IF(AJ25=\"Raw Data\",IF(L42<10,0,L42/100*L47)+IF(L48<10,0,L48/100*L53)+IF(L54<10,0,L54/100*L59)+IF(L60<10,0,L60/100*L65),AP25),\"---\"))","v":"---"},null,{"$f":"IF(OR(N$10=\"---\",N$10=\"Fine\"),\"---\",IFERROR(IF(AJ25=\"Raw Data\",IF(N42<10,0,N42/100*N47)+IF(N48<10,0,N48/100*N53)+IF(N54<10,0,N54/100*N59)+IF(N60<10,0,N60/100*N65),AQ25),\"---\"))","v":"---"},null,{"$f":"IF(OR(P$10=\"---\",P$10=\"Fine\"),\"---\",IFERROR(IF(AJ25=\"Raw Data\",IF(P42<10,0,P42/100*P47)+IF(P48<10,0,P48/100*P53)+IF(P54<10,0,P54/100*P59)+IF(P60<10,0,P60/100*P65),AR25),\"---\"))","v":"---"},null,{"$f":"IF(ISNUMBER(AK15),AJ15 & \" \" & FIXED(AK15,0),\"---\")","v":"≤ 5"}]
["C142 Clay Lumps","Date Tested",null,null,null,null,null,null,null,null,null,null,null,null,null,null,null,"---"]
[null,"Wt Original Test Sample, g",null,null,null,null,null,null,null,null,null,null,null,null,null,null,null,"---"]
[null,"Wt Retained, No. 8 Sieve, g",null,null,null,null,null,null,null,null,null,null,null,null,null,null,null,"---"]
[null,"Clay Lumps & Friable Particles, %",null,{"$f":"IFERROR((D68-D69)/D68*100,\"---\")","v":"---"},"---","---","---","---","---","---","---","---","---",{"$f":"IFERROR((N68-N69)/N68*100,\"---\")","v":"---"},"---","---","---","---"]
[null,"Avg Clay Lumps, %",null,{"$f":"IF(OR(D$10=\"Fine\",D$10=\"---\"),\"---\",IFERROR(ROUND(IF(AJ26=\"Raw Data\",AVERAGE(D70:E70),AK26),1),\"---\"))","v":"---"},null,{"$f":"IF(OR(F$10=\"Fine\",F$10=\"---\"),\"---\",IFERROR(ROUND(IF(AJ26=\"Raw Data\",AVERAGE(F70:G70),AM26),1),\"---\"))","v":"---"},null,{"$f":"IF(OR(H$10=\"Fine\",H$10=\"---\"),\"---\",IFERROR(ROUND(IF(AJ26=\"Raw Data\",AVERAGE(H70:I70),AN26),1),\"---\"))","v":"---"},null,{"$f":"IF(OR(J$10=\"Fine\",J$10=\"---\"),\"---\",IFERROR(ROUND(IF(AJ26=\"Raw Data\",AVERAGE(J70:K70),AO26),1),\"---\"))","v":"---"},null,{"$f":"IF(OR(L$10=\"Fine\",L$10=\"---\"),\"---\",IFERROR(ROUND(IF(AJ26=\"Raw Data\",AVERAGE(L70:M70),AP26),1),\"---\"))","v":"---"},null,{"$f":"IF(OR(N$10=\"Fine\",N$10=\"---\"),\"---\",IFERROR(ROUND(IF(AJ26=\"Raw Data\",AVERAGE(N70:O70),AQ26),1),\"---\"))","v":"---"},null,{"$f":"IF(OR(P$10=\"Fine\",P$10=\"---\"),\"---\",IFERROR(ROUND(IF(AJ26=\"Raw Data\",AVERAGE(P70:Q70),AR26),1),\"---\"))","v":"---"},null,{"$f":"IF(ISNUMBER(AK16),AJ16 & \" \" & FIXED(AK16,1),\"---\")","v":"≤ 0.3"}]
[]
[]
["LAB TECHNICIAN (or other title)",null,null,null,null,null,"LAB MANAGER (or other title)"]

{"sheet":"Agg - Fine","index":14,"n_rows":46,"n_cols":47,"rows_kept":46,"cut":false,"hidden":false,"merged":[[23,45,24,45],[23,46,24,46],[23,35,24,36],[25,35,25,36],[26,35,26,36],[27,35,27,36],[23,40,24,40],[23,37,24,37],[25,38,25,39],[26,38,26,39],[27,38,27,39],[23,38,24,39],[23,41,24,41],[23,42,24,42],[23,43,24,43],[23,44,24,44],[22,35,22,46],[15,35,15,39],[7,0,7,1],[8,0,8,1],[9,0,9,1],[10,0,10,1],[6,16,6,17],[7,16,7,17],[8,16,8,17],[9,16,9,17],[6,12,6,13],[6,14,6,15],[7,2,7,3],[7,4,7,5],[7,6,7,7],[7,8,7,9],[7,10,7,11],[11,0,11,1],[11,16,11,17],[11,4,11,5],[11,6,11,7],[12,10,12,11],[12,12,12,13],[12,14,12,15],[44,6,44,13],[45,6,45,13],[44,0,44,3],[45,0,45,3],[11,10,11,11],[11,12,11,13],[22,2,22,3],[22,4,22,5],[22,6,22,7],[22,8,22,9],[22,10,22,11],[22,12,22,13],[30,2,30,3],[30,4,30,5],[30,6,30,7],[30,12,30,13],[24,6,24,7],[24,8,24,9],[24,10,24,11],[24,12,24,13],[23,6,23,7],[23,8,23,9],[23,10,23,11],[17,16,17,17],[22,16,22,17],[30,16,30,17],[24,16,24,17],[18,16,18,17],[12,16,12,17],[23,16,23,17],[6,2,6,3],[6,4,6,5],[6,6,6,7],[6,8,6,9],[6,10,6,11],[8,6,8,7],[8,8,8,9],[22,14,22,15],[8,12,8,13],[17,12,17,13],[17,14,17,15],[8,10,8,11],[18,14,18,15],[18,12,18,13],[30,8,30,9],[30,10,30,11],[12,6,12,7],[2,3,2,4],[2,5,2,6],[3,3,3,4],[3,5,3,6],[4,3,4,4],[4,5,4,6],[7,12,7,13],[7,14,7,15],[11,2,11,3],[8,14,8,15],[9,2,9,3],[9,4,9,5],[9,6,9,7],[9,8,9,9],[9,10,9,11],[9,12,9,13],[11,8,11,9],[9,14,9,15],[8,2,8,3],[8,4,8,5],[11,14,11,15],[30,14,30,15],[18,6,18,7],[18,8,18,9],[18,10,18,11],[18,0,22,0],[12,0,17,0],[12,2,12,3],[12,4,12,5],[18,2,18,3],[18,4,18,5],[23,2,23,3],[23,4,23,5],[23,0,30,0],[24,2,24,3],[24,4,24,5],[24,14,24,15],[23,12,23,13],[23,14,23,15],[17,2,17,3],[17,4,17,5],[17,6,17,7],[17,8,17,9],[17,10,17,11],[12,8,12,9]]}
["UFGS 32 12 15.13 Fine Aggregate Properties"]
[]
["Mix ID",{"$f":"IF(ISBLANK('JMF Summary'!B3),\"---\",'JMF Summary'!B3)","v":"---"},null,"Gradation",null,{"$f":"'JMF Summary'!F3","v":2}]
["Date",{"$f":"IF(ISBLANK('JMF Summary'!B4),\"---\",'JMF Summary'!B4)","v":"---"},null,"Compaction",null,{"$f":"'JMF Summary'!F4","v":"75 Gyr"}]
["Project",{"$f":"IF(ISBLANK('JMF Summary'!B5),\"---\",'JMF Summary'!B5)","v":"---"},null,"Binder Grade",null,{"$f":"'JMF Summary'!F5","v":"PG 64-22"}]
[]
["Aggregate ID",null,{"$f":"IF(ISBLANK('JMF Summary'!B11),\"---\",'JMF Summary'!B11)","v":"---"},null,{"$f":"IF(ISBLANK('JMF Summary'!C11),\"---\",'JMF Summary'!C11)","v":"---"},null,{"$f":"IF(ISBLANK('JMF Summary'!D11),\"---\",'JMF Summary'!D11)","v":"---"},null,{"$f":"IF(ISBLANK('JMF Summary'!E11),\"---\",'JMF Summary'!E11)","v":"---"},null,{"$f":"IF(ISBLANK('JMF Summary'!F11),\"---\",'JMF Summary'!F11)","v":"---"},null,{"$f":"IF(ISBLANK('JMF Summary'!G11),\"---\",'JMF Summary'!G11)","v":"---"},null,{"$f":"IF(ISBLANK('JMF Summary'!H11),\"---\",'JMF Summary'!H11)","v":"---"},null,"Blend",null,"Limits",null,null,null,null,null,null,null,null,null,null,null,null,null,null,null,null,"Form Data"]
["Percent of Agg Blend, %",null,{"$f":"IF(ISBLANK('JMF Summary'!B15),\"---\",'JMF Summary'!B15)","v":"---"},null,{"$f":"IF(ISBLANK('JMF Summary'!C15),\"---\",'JMF Summary'!C15)","v":"---"},null,{"$f":"IF(ISBLANK('JMF Summary'!D15),\"---\",'JMF Summary'!D15)","v":"---"},null,{"$f":"IF(ISBLANK('JMF Summary'!E15),\"---\",'JMF Summary'!E15)","v":"---"},null,{"$f":"IF(ISBLANK('JMF Summary'!F15),\"---\",'JMF Summary'!F15)","v":"---"},null,{"$f":"IF(ISBLANK('JMF Summary'!G15),\"---\",'JMF Summary'!G15)","v":"---"},null,{"$f":"IF(ISBLANK('JMF Summary'!H15),\"---\",'JMF Summary'!H15)","v":"---"},null,"---",null,"---",null,null,null,null,null,null,null,null,null,null,null,null,null,null,null,null,"Agg 1",false,{"$f":"IF(AK8,\"Natural Sand\",\"---\")","v":"---"}]
["Percent Passing No. 4, %",null,{"$f":"IF(ISBLANK('JMF Summary'!B20),\"---\",'JMF Summary'!B20)","v":"---"},null,{"$f":"IF(ISBLANK('JMF Summary'!C20),\"---\",'JMF Summary'!C20)","v":"---"},null,{"$f":"IF(ISBLANK('JMF Summary'!D20),\"---\",'JMF Summary'!D20)","v":"---"},null,{"$f":"IF(ISBLANK('JMF Summary'!E20),\"---\",'JMF Summary'!E20)","v":"---"},null,{"$f":"IF(ISBLANK('JMF Summary'!F20),\"---\",'JMF Summary'!F20)","v":"---"},null,{"$f":"IF(ISBLANK('JMF Summary'!G20),\"---\",'JMF Summary'!G20)","v":"---"},null,{"$f":"IF(ISBLANK('JMF Summary'!H20),\"---\",'JMF Summary'!H20)","v":"---"},null,"---",null,"---",null,null,null,null,null,null,null,null,null,null,null,null,null,null,null,null,"Agg 2",false,"---"]
["Aggregate Size Class",null,{"$f":"IF(ISNUMBER(C9),IF(C9<25,\"Coarse\",IF(C9>75,\"Fine\",\"Intermediate\")),\"---\")","v":"---"},null,{"$f":"IF(ISNUMBER(E9),IF(E9<25,\"Coarse\",IF(E9>75,\"Fine\",\"Intermediate\")),\"---\")","v":"---"},null,{"$f":"IF(ISNUMBER(G9),IF(G9<25,\"Coarse\",IF(G9>75,\"Fine\",\"Intermediate\")),\"---\")","v":"---"},null,{"$f":"IF(ISNUMBER(I9),IF(I9<25,\"Coarse\",IF(I9>75,\"Fine\",\"Intermediate\")),\"---\")","v":"---"},null,{"$f":"IF(ISNUMBER(K9),IF(K9<25,\"Coarse\",IF(K9>75,\"Fine\",\"Intermediate\")),\"---\")","v":"---"},null,{"$f":"IF(ISNUMBER(M9),IF(M9<25,\"Coarse\",IF(M9>75,\"Fine\",\"Intermediate\")),\"---\")","v":"---"},null,{"$f":"IF(ISNUMBER(O9),IF(O9<25,\"Coarse\",IF(O9>75,\"Fine\",\"Intermediate\")),\"---\")","v":"---"},null,"---",null,"---",null,null,null,null,null,null,null,null,null,null,null,null,null,null,null,null,"Agg 3",false,"---"]
["Replicate",null,1,2,1,2,1,2,1,2,1,2,1,2,1,2,1,2,"---",null,null,null,null,null,null,null,null,null,null,null,null,null,null,null,null,"Agg 4",false,"---"]
["Natural Sand (Report)",null,null,null,null,null,null,null,null,null,null,null,null,null,null,null,{"$f":"IFERROR(IF(AK8,C8,0)+IF(AK9,E8,0)+IF(AK10,G8,0)+IF(AK11,I8,0)+IF(AK12,K8,0)+IF(AK13,M8,0)+IF(AK14,O8,0),\"---\")","v":0},null,{"$f":"IF(ISNUMBER(AL18),AK18 & \" \" & FIXED(AL18,0),\"---\")","v":"≤ 15"},null,null,null,null,null,null,null,null,null,null,null,null,null,null,null,null,"Agg 5",false,"---"]
["D2419 Sand Equivalency","Date Tested",null,null,null,null,null,null,null,null,null,null,null,null,null,null,null,null,null,null,null,null,null,null,null,null,null,null,null,null,null,null,null,null,null,"Agg 6",false,"---"]
[null,"Agitation Method",null,null,null,null,null,null,null,null,null,null,null,null,null,null,null,null,"---",null,null,null,null,null,null,null,null,null,null,null,null,null,null,null,null,"Agg 7",false,"---"]
[null,"Clay Reading",null,null,null,null,null,null,null,null,null,null,null,null,null,null,null,null,"---"]
[null,"Sand Reading",null,null,null,null,null,null,null,null,null,null,null,null,null,null,null,null,"---",null,null,null,null,null,null,null,null,null,null,null,null,null,null,null,null,"Specification Limits"]
[null,"Sand Equivalent",{"$f":"IFERROR(ROUNDUP(C16/C15*100,0),\"---\")","v":"---"},{"$f":"IFERROR(ROUNDUP(D16/D15*100,0),\"---\")","v":"---"},{"$f":"IFERROR(ROUNDUP(E16/E15*100,0),\"---\")","v":"---"},"---","---","---","---","---","---","---","---","---","---","---",{"$f":"IFERROR((Q15-Q16)/Q15*100,\"---\")","v":"---"},{"$f":"IFERROR((R15-R16)/R15*100,\"---\")","v":"---"},"---",null,null,null,null,null,null,null,null,null,null,null,null,null,null,null,null,"Property","Operator","Limit 1",null,"Limit 2"]
[null,"Avg Sand Equivalency",{"$f":"IF(OR(C$10=\"---\",C$10=\"Coarse\"),\"---\",IFERROR(ROUNDUP(IF(AL26=\"Raw Data\",AVERAGE(C17:D17),AM26),0),\"---\"))","v":"---"},null,{"$f":"IF(OR(E$10=\"---\",E$10=\"Coarse\"),\"---\",IFERROR(ROUNDUP(IF(AL26=\"Raw Data\",AVERAGE(E17:F17),AO26),0),\"---\"))","v":"---"},null,{"$f":"IF(OR(G$10=\"---\",G$10=\"Coarse\"),\"---\",IFERROR(ROUNDUP(IF(AL26=\"Raw Data\",AVERAGE(G17:H17),AP26),0),\"---\"))","v":"---"},null,{"$f":"IF(OR(I$10=\"---\",I$10=\"Coarse\"),\"---\",IFERROR(ROUNDUP(IF(AL26=\"Raw Data\",AVERAGE(I17:J17),AQ26),0),\"---\"))","v":"---"},null,{"$f":"IF(OR(K$10=\"---\",K$10=\"Coarse\"),\"---\",IFERROR(ROUNDUP(IF(AL26=\"Raw Data\",AVERAGE(K17:L17),AR26),0),\"---\"))","v":"---"},null,{"$f":"IF(OR(M$10=\"---\",M$10=\"Coarse\"),\"---\",IFERROR(ROUNDUP(IF(AL26=\"Raw Data\",AVERAGE(M17:N17),AS26),0),\"---\"))","v":"---"},null,{"$f":"IF(OR(O$10=\"---\",O$10=\"Coarse\"),\"---\",IFERROR(ROUNDUP(IF(AL26=\"Raw Data\",AVERAGE(O17:P17),AT26),0),\"---\"))","v":"---"},null,{"$f":"IFERROR(ROUNDUP(IF(AND(ISNUMBER(AU26),AL26=\"Results\"),AU26,AVERAGE(Q17:R17)),0),\"---\")","v":"---"},null,{"$f":"IF(ISNUMBER(AL19),AK19 & \" \" & FIXED(AL19,0),\"---\")","v":"> 45"},null,null,null,null,null,null,null,null,null,null,null,null,null,null,null,null,"Natural Sand",{"$f":"'JMF Summary'!AG25","v":"≤"},{"$f":"IF('JMF Summary'!AH25<>0,'JMF Summary'!AH25,\"---\")","v":15}]
["C142 Clay Lumps","Date Tested",null,null,null,null,null,null,null,null,null,null,null,null,null,null,null,null,null,null,null,null,null,null,null,null,null,null,null,null,null,null,null,null,null,"Sand Equivalency",{"$f":"'JMF Summary'!AG26","v":">"},{"$f":"IF('JMF Summary'!AH26<>0,'JMF Summary'!AH26,\"---\")","v":45}," - "]
[null,"Wt Original Test Sample, g",null,null,null,null,null,null,null,null,null,null,null,null,null,null,null,null,"---",null,null,null,null,null,null,null,null,null,null,null,null,null,null,null,null,"FAA, %",{"$f":"'JMF Summary'!AG27","v":">"},{"$f":"IF('JMF Summary'!AH27<>0,'JMF Summary'!AH27,\"---\")","v":45}," - "]
[null,"Wt Retained, No. 20 Sieve, g",null,null,null,null,null,null,null,null,null,null,null,null,null,null,null,null,"---",null,null,null,null,null,null,null,null,null,null,null,null,null,null,null,null,"Clay Lumps, %",{"$f":"'JMF Summary'!AG28","v":"≤"},{"$f":"IF('JMF Summary'!AH28<>0,'JMF Summary'!AH28,\"---\")","v":0.3}," - "]
[null,"Clay Lumps, %",{"$f":"IFERROR((C20-C21)/C20*100,\"---\")","v":"---"},"---","---","---","---","---","---","---","---","---","---","---","---","---","---","---","---"]
[null,"Avg Clay Lumps, %",{"$f":"IF(OR(C$10=\"---\",C$10=\"Coarse\"),\"---\",IFERROR(ROUND(IF(AL27=\"Raw Data\",AVERAGE(C22:D22),AM27),1),\"---\"))","v":"---"},null,{"$f":"IF(OR(E$10=\"---\",E$10=\"Coarse\"),\"---\",IFERROR(ROUND(IF(AL27=\"Raw Data\",AVERAGE(E22:F22),AO27),1),\"---\"))","v":"---"},null,{"$f":"IF(OR(G$10=\"---\",G$10=\"Coarse\"),\"---\",IFERROR(ROUND(IF(AL27=\"Raw Data\",AVERAGE(G22:H22),AP27),1),\"---\"))","v":"---"},null,{"$f":"IF(OR(I$10=\"---\",I$10=\"Coarse\"),\"---\",IFERROR(ROUND(IF(AL27=\"Raw Data\",AVERAGE(I22:J22),AQ27),1),\"---\"))","v":"---"},null,{"$f":"IF(OR(K$10=\"---\",K$10=\"Coarse\"),\"---\",IFERROR(ROUND(IF(AL27=\"Raw Data\",AVERAGE(K22:L22),AR27),1),\"---\"))","v":"---"},null,{"$f":"IF(OR(M$10=\"---\",M$10=\"Coarse\"),\"---\",IFERROR(ROUND(IF(AL27=\"Raw Data\",AVERAGE(M22:N22),AS27),1),\"---\"))","v":"---"},null,{"$f":"IF(OR(O$10=\"---\",O$10=\"Coarse\"),\"---\",IFERROR(ROUND(IF(AL27=\"Raw Data\",AVERAGE(O22:P22),AT27),1),\"---\"))","v":"---"},null,{"$f":"IFERROR(ROUND(IF(AND(ISNUMBER(AU27),AL27=\"Results\"),AU27,AVERAGE(Q22:R22)),1),\"---\")","v":"---"},null,{"$f":"IF(ISNUMBER(AL21),AK21 & \" \" & FIXED(AL21,1),\"---\")","v":"≤ 0.3"},null,null,null,null,null,null,null,null,null,null,null,null,null,null,null,null,"Raw Data Override (admin user only)"]
["C1252 Uncompacted Void Content, Method A (FAA)","Date Tested",null,null,null,null,null,null,null,null,null,null,null,null,null,null,null,null,"---",null,null,null,null,null,null,null,null,null,null,null,null,null,null,null,null,"Parameter & Value by Agg ID",null,"Input Type",{"$f":"C7","v":"---"},null,{"$f":"E7","v":"---"},{"$f":"G7","v":"---"},{"$f":"I7","v":"---"},{"$f":"K7","v":"---"},{"$f":"M7","v":"---"},{"$f":"O7","v":"---"},{"$f":"Q7","v":"Blend"}]
[null,"Gsb, Blend Passing No. 4",null,null,null,null,null,null,null,null,null,null,null,null,null,null,{"$f":"IFERROR('Agg Gsb'!Q44,\"---\")","v":"---"},null,"---"]
[null,"Volume of Measure, mL",null,null,null,null,null,null,null,null,null,null,null,null,null,null,null,null,"---",null,null,null,null,null,null,null,null,null,null,null,null,null,null,null,null,"D2419 Avg Sand Equivalency",null,"Raw Data"]
[null,"Wt Agg, Test Run 1, g",null,null,null,null,null,null,null,null,null,null,null,null,null,null,null,null,"---",null,null,null,null,null,null,null,null,null,null,null,null,null,null,null,null,"C142 Avg Clay Lumps, %",null,"Raw Data"]
[null,"Wt Agg, Test Run 2, g",null,null,null,null,null,null,null,null,null,null,null,null,null,null,null,null,"---",null,null,null,null,null,null,null,null,null,null,null,null,null,null,null,null,"C1252 Avg FAA, %",null,"Raw Data"]
[null,"FAA, Test Run 1, %",{"$f":"IFERROR((C$26-(C27/$C$25))/C$26*100,\"---\")","v":"---"},{"$f":"IFERROR((D$26-(D27/$C$25))/D$26*100,\"---\")","v":"---"},{"$f":"IFERROR((E$26-(E27/$E$25))/E$26*100,\"---\")","v":"---"},{"$f":"IFERROR((F$26-(F27/$E$25))/F$26*100,\"---\")","v":"---"},{"$f":"IFERROR((G$26-(G27/$G$25))/G$26*100,\"---\")","v":"---"},{"$f":"IFERROR((H$26-(H27/$G$25))/H$26*100,\"---\")","v":"---"},{"$f":"IFERROR((I$26-(I27/$I$25))/I$26*100,\"---\")","v":"---"},{"$f":"IFERROR((J$26-(J27/$I$25))/J$26*100,\"---\")","v":"---"},{"$f":"IFERROR((K$26-(K27/$K$25))/K$26*100,\"---\")","v":"---"},{"$f":"IFERROR((L$26-(L27/$K$25))/L$26*100,\"---\")","v":"---"},{"$f":"IFERROR((M$26-(M27/$M$25))/M$26*100,\"---\")","v":"---"},{"$f":"IFERROR((N$26-(N27/$M$25))/N$26*100,\"---\")","v":"---"},{"$f":"IFERROR((O$26-(O27/$O$25))/O$26*100,\"---\")","v":"---"},{"$f":"IFERROR((P$26-(P27/$O$25))/P$26*100,\"---\")","v":"---"},{"$f":"IFERROR((Q$26-(Q27/$Q$25))/Q$26*100,\"---\")","v":"---"},{"$f":"IFERROR((R$26-(R27/$Q$25))/R$26*100,\"---\")","v":"---"},"---"]
[null,"FAA, Test Run 2, %",{"$f":"IFERROR((C$26-(C28/$C$25))/C$26*100,\"---\")","v":"---"},{"$f":"IFERROR((D$26-(D28/$C$25))/D$26*100,\"---\")","v":"---"},{"$f":"IFERROR((E$26-(E28/$E$25))/E$26*100,\"---\")","v":"---"},{"$f":"IFERROR((F$26-(F28/$E$25))/F$26*100,\"---\")","v":"---"},{"$f":"IFERROR((G$26-(G28/$G$25))/G$26*100,\"---\")","v":"---"},{"$f":"IFERROR((H$26-(H28/$G$25))/H$26*100,\"---\")","v":"---"},{"$f":"IFERROR((I$26-(I28/$I$25))/I$26*100,\"---\")","v":"---"},{"$f":"IFERROR((J$26-(J28/$I$25))/J$26*100,\"---\")","v":"---"},{"$f":"IFERROR((K$26-(K28/$K$25))/K$26*100,\"---\")","v":"---"},{"$f":"IFERROR((L$26-(L28/$K$25))/L$26*100,\"---\")","v":"---"},{"$f":"IFERROR((M$26-(M28/$M$25))/M$26*100,\"---\")","v":"---"},{"$f":"IFERROR((N$26-(N28/$M$25))/N$26*100,\"---\")","v":"---"},{"$f":"IFERROR((O$26-(O28/$O$25))/O$26*100,\"---\")","v":"---"},{"$f":"IFERROR((P$26-(P28/$O$25))/P$26*100,\"---\")","v":"---"},{"$f":"IFERROR((Q$26-(Q28/$Q$25))/Q$26*100,\"---\")","v":"---"},{"$f":"IFERROR((R$26-(R28/$Q$25))/R$26*100,\"---\")","v":"---"},"---"]
[null,"Avg FAA, %",{"$f":"IF(OR(C$10=\"---\",C$10=\"Coarse\"),\"---\",IFERROR(IF(AL28=\"Raw Data\",AVERAGE(C30:D30),AM28),\"---\"))","v":"---"},null,{"$f":"IF(OR(E$10=\"---\",E$10=\"Coarse\"),\"---\",IFERROR(IF(AL28=\"Raw Data\",AVERAGE(E30:F30),AO28),\"---\"))","v":"---"},null,{"$f":"IF(OR(G$10=\"---\",G$10=\"Coarse\"),\"---\",IFERROR(IF(AL28=\"Raw Data\",AVERAGE(G30:H30),AP28),\"---\"))","v":"---"},null,{"$f":"IF(OR(I$10=\"---\",I$10=\"Coarse\"),\"---\",IFERROR(IF(AL28=\"Raw Data\",AVERAGE(I30:J30),AQ28),\"---\"))","v":"---"},null,{"$f":"IF(OR(K$10=\"---\",K$10=\"Coarse\"),\"---\",IFERROR(IF(AL28=\"Raw Data\",AVERAGE(K30:L30),AR28),\"---\"))","v":"---"},null,{"$f":"IF(OR(M$10=\"---\",M$10=\"Coarse\"),\"---\",IFERROR(IF(AL28=\"Raw Data\",AVERAGE(M30:N30),AS28),\"---\"))","v":"---"},null,{"$f":"IF(OR(O$10=\"---\",O$10=\"Coarse\"),\"---\",IFERROR(IF(AL28=\"Raw Data\",AVERAGE(O30:P30),AT28),\"---\"))","v":"---"},null,{"$f":"IFERROR(ROUND(IF(AND(ISNUMBER(AU28),AL28=\"Results\"),AU28,AVERAGE(Q29:R30)),1),\"---\")","v":"---"},null,{"$f":"IF(ISNUMBER(AL20),AK20 & \" \" & FIXED(AL20,1),\"---\")","v":"> 45.0"}]
[]
[]
[]
[]
[]
[]
[]
[]
[]
[]
[]
[]
[]
[]
["LAB TECHNICIAN (or other title)",null,null,null,null,null,"LAB MANAGER (or other title)"]

{"sheet":"Agg Gsb","index":15,"n_rows":48,"n_cols":42,"rows_kept":48,"cut":false,"hidden":false,"merged":[[11,33,11,34],[12,33,12,34],[13,33,13,34],[4,33,4,40],[5,35,5,40],[7,33,7,41],[9,33,10,34],[9,35,10,35],[9,36,10,36],[9,37,10,37],[9,38,10,38],[9,39,10,39],[9,40,10,40],[9,41,10,41],[7,0,7,1],[12,0,22,0],[7,6,7,7],[8,6,8,7],[7,14,7,15],[6,0,6,1],[2,3,2,4],[35,2,35,3],[34,12,34,13],[34,14,34,15],[33,14,33,15],[21,6,21,7],[20,6,20,7],[8,14,8,15],[7,12,7,13],[8,12,8,13],[7,10,7,11],[8,10,8,11],[7,8,7,9],[8,8,8,9],[23,0,37,0],[3,3,3,4],[4,3,4,4],[37,2,37,3],[19,2,19,3],[22,2,22,3],[18,2,18,3],[21,2,21,3],[20,2,20,3],[34,2,34,3],[33,2,33,3],[36,2,36,3],[36,14,36,15],[35,14,35,15],[37,14,37,15],[37,8,37,9],[34,10,34,11],[33,10,33,11],[36,10,36,11],[35,10,35,11],[37,10,37,11],[34,8,34,9],[33,8,33,9],[36,8,36,9],[35,8,35,9],[37,12,37,13],[33,12,33,13],[36,12,36,13],[39,14,39,15],[38,2,38,3],[38,4,38,5],[38,6,38,7],[38,8,38,9],[38,10,38,11],[38,12,38,13],[38,14,38,15],[39,2,39,3],[39,4,39,5],[39,6,39,7],[39,8,39,9],[39,10,39,11],[37,4,37,5],[34,6,34,7],[33,6,33,7],[36,6,36,7],[35,6,35,7],[37,6,37,7],[34,4,34,5],[33,4,33,5],[36,4,36,5],[35,4,35,5],[38,0,40,0],[7,2,7,3],[8,2,8,3],[7,4,7,5],[8,4,8,5],[10,2,10,3],[8,0,8,1],[10,0,10,1],[40,14,40,15],[19,4,19,5],[18,4,18,5],[21,4,21,5],[20,4,20,5],[22,4,22,5],[19,6,19,7],[18,6,18,7],[9,14,9,15],[40,2,40,3],[40,4,40,5],[40,6,40,7],[40,8,40,9],[40,10,40,11],[40,12,40,13],[39,12,39,13],[9,0,9,1],[43,12,43,13],[6,2,6,3],[11,0,11,1],[41,0,41,16],[42,14,42,15],[42,12,42,13],[42,10,42,11],[42,8,42,9],[42,6,42,7],[42,4,42,5],[42,2,42,3],[6,14,6,15],[6,12,6,13],[6,10,6,11],[6,8,6,9],[6,6,6,7],[6,4,6,5],[10,14,10,15],[10,12,10,13],[10,10,10,11],[10,8,10,9],[10,6,10,7],[10,4,10,5],[43,14,43,15],[35,12,35,13],[3,8,3,12],[4,8,4,12],[2,8,2,12],[46,0,46,2],[9,12,9,13],[19,12,19,13],[18,12,18,13],[21,12,21,13],[20,12,20,13],[22,12,22,13],[2,5,2,6],[3,5,3,6],[4,5,4,6],[19,10,19,11],[18,10,18,11],[21,10,21,11],[20,10,20,11],[22,10,22,11],[22,6,22,7],[19,8,19,9],[18,8,18,9],[21,8,21,9],[2,14,2,16],[3,14,3,16],[47,0,47,2],[46,5,46,11],[47,5,47,11],[9,2,9,3],[9,4,9,5],[9,6,9,7],[9,8,9,9],[9,10,9,11],[19,14,19,15],[18,14,18,15],[21,14,21,15],[20,14,20,15],[22,14,22,15],[20,8,20,9],[22,8,22,9],[42,0,42,1],[43,0,43,1],[43,2,43,3],[43,4,43,5],[43,6,43,7],[43,8,43,9],[43,10,43,11]]}
["ASTM C127 and C128 Aggregate Specific Gravity"]
[]
["Mix ID",{"$f":"IF(ISBLANK('JMF Summary'!B3),\"---\",'JMF Summary'!B3)","v":"---"},null,"Gradation",null,{"$f":"'JMF Summary'!F3","v":2},null,null,"ASTM C128 Procedure",null,null,null,null,null,"Date Tested"]
["Date",{"$f":"IF(ISBLANK('JMF Summary'!B4),\"---\",'JMF Summary'!B4)","v":"---"},null,"Compaction",null,{"$f":"'JMF Summary'!F4","v":"75 Gyr"}]
["Project",{"$f":"IF(ISBLANK('JMF Summary'!B5),\"---\",'JMF Summary'!B5)","v":"---"},null,"Binder Grade",null,{"$f":"'JMF Summary'!F5","v":"PG 64-22"},null,null,null,null,null,null,null,null,null,null,null,null,null,null,null,null,null,null,null,null,null,null,null,null,null,null,null,"Form Data"]
[null,null,null,null,null,null,null,null,null,null,null,null,null,null,null,null,null,null,null,null,null,null,null,null,null,null,null,null,null,null,null,null,null,"Procedure",1,"(1 = Gravimetric (Pycnometer), 2 = Volumetric (Le Chatelier Flask))"]
["Aggregate ID",null,{"$f":"IF(ISBLANK('JMF Summary'!B11),\"---\",'JMF Summary'!B11)","v":"---"},null,{"$f":"IF(ISBLANK('JMF Summary'!C11),\"---\",'JMF Summary'!C11)","v":"---"},null,{"$f":"IF(ISBLANK('JMF Summary'!D11),\"---\",'JMF Summary'!D11)","v":"---"},null,{"$f":"IF(ISBLANK('JMF Summary'!E11),\"---\",'JMF Summary'!E11)","v":"---"},null,{"$f":"IF(ISBLANK('JMF Summary'!F11),\"---\",'JMF Summary'!F11)","v":"---"},null,{"$f":"IF(ISBLANK('JMF Summary'!G11),\"---\",'JMF Summary'!G11)","v":"---"},null,{"$f":"IF(ISBLANK('JMF Summary'!H11),\"---\",'JMF Summary'!H11)","v":"---"},null,"Blend"]
["Percent of Agg Blend, %",null,{"$f":"IF(ISBLANK('JMF Summary'!B15),\"---\",'JMF Summary'!B15)","v":"---"},null,{"$f":"IF(ISBLANK('JMF Summary'!C15),\"---\",'JMF Summary'!C15)","v":"---"},null,{"$f":"IF(ISBLANK('JMF Summary'!D15),\"---\",'JMF Summary'!D15)","v":"---"},null,{"$f":"IF(ISBLANK('JMF Summary'!E15),\"---\",'JMF Summary'!E15)","v":"---"},null,{"$f":"IF(ISBLANK('JMF Summary'!F15),\"---\",'JMF Summary'!F15)","v":"---"},null,{"$f":"IF(ISBLANK('JMF Summary'!G15),\"---\",'JMF Summary'!G15)","v":"---"},null,{"$f":"IF(ISBLANK('JMF Summary'!H15),\"---\",'JMF Summary'!H15)","v":"---"},null,{"$f":"SUM(C8:P8)","v":0},null,null,null,null,null,null,null,null,null,null,null,null,null,null,null,null,"Raw Data Override (admin user only)"]
["Percent Passing No. 4, %",null,{"$f":"IF(ISBLANK('JMF Summary'!B20),\"---\",'JMF Summary'!B20)","v":"---"},null,{"$f":"IF(ISBLANK('JMF Summary'!C20),\"---\",'JMF Summary'!C20)","v":"---"},null,{"$f":"IF(ISBLANK('JMF Summary'!D20),\"---\",'JMF Summary'!D20)","v":"---"},null,{"$f":"IF(ISBLANK('JMF Summary'!E20),\"---\",'JMF Summary'!E20)","v":"---"},null,{"$f":"IF(ISBLANK('JMF Summary'!F20),\"---\",'JMF Summary'!F20)","v":"---"},null,{"$f":"IF(ISBLANK('JMF Summary'!G20),\"---\",'JMF Summary'!G20)","v":"---"},null,{"$f":"IF(ISBLANK('JMF Summary'!H20),\"---\",'JMF Summary'!H20)","v":"---"},null,{"$f":"IF(ISBLANK('JMF Summary'!I20),\"---\",'JMF Summary'!I20)","v":0},null,null,null,null,null,null,null,null,null,null,null,null,null,null,null,null,"Input Type","Raw Data"]
["Aggregate Size Class",null,{"$f":"IF(ISNUMBER(C9),IF(C9<25,\"Coarse\",IF(C9>75,\"Fine\",\"Intermediate\")),\"---\")","v":"---"},null,{"$f":"IF(ISNUMBER(E9),IF(E9<25,\"Coarse\",IF(E9>75,\"Fine\",\"Intermediate\")),\"---\")","v":"---"},null,{"$f":"IF(ISNUMBER(G9),IF(G9<25,\"Coarse\",IF(G9>75,\"Fine\",\"Intermediate\")),\"---\")","v":"---"},null,{"$f":"IF(ISNUMBER(I9),IF(I9<25,\"Coarse\",IF(I9>75,\"Fine\",\"Intermediate\")),\"---\")","v":"---"},null,{"$f":"IF(ISNUMBER(K9),IF(K9<25,\"Coarse\",IF(K9>75,\"Fine\",\"Intermediate\")),\"---\")","v":"---"},null,{"$f":"IF(ISNUMBER(M9),IF(M9<25,\"Coarse\",IF(M9>75,\"Fine\",\"Intermediate\")),\"---\")","v":"---"},null,{"$f":"IF(ISNUMBER(O9),IF(O9<25,\"Coarse\",IF(O9>75,\"Fine\",\"Intermediate\")),\"---\")","v":"---"},null,"---",null,null,null,null,null,null,null,null,null,null,null,null,null,null,null,null,"Parameter & Value by Agg ID",null,{"$f":"C7","v":"---"},{"$f":"E7","v":"---"},{"$f":"G7","v":"---"},{"$f":"I7","v":"---"},{"$f":"K7","v":"---"},{"$f":"M7","v":"---"},{"$f":"O7","v":"---"}]
["Governing Standard(s)1",null,{"$f":"IF(ISNUMBER(C9),IF(C9<25,\"C127\",IF(C9>75,\"C128\",\"C127 & C128\")),\"---\")","v":"---"},null,{"$f":"IF(ISNUMBER(E9),IF(E9<25,\"C127\",IF(E9>75,\"C128\",\"C127 & C128\")),\"---\")","v":"---"},null,{"$f":"IF(ISNUMBER(G9),IF(G9<25,\"C127\",IF(G9>75,\"C128\",\"C127 & C128\")),\"---\")","v":"---"},null,{"$f":"IF(ISNUMBER(I9),IF(I9<25,\"C127\",IF(I9>75,\"C128\",\"C127 & C128\")),\"---\")","v":"---"},null,{"$f":"IF(ISNUMBER(K9),IF(K9<25,\"C127\",IF(K9>75,\"C128\",\"C127 & C128\")),\"---\")","v":"---"},null,{"$f":"IF(ISNUMBER(M9),IF(M9<25,\"C127\",IF(M9>75,\"C128\",\"C127 & C128\")),\"---\")","v":"---"},null,{"$f":"IF(ISNUMBER(O9),IF(O9<25,\"C127\",IF(O9>75,\"C128\",\"C127 & C128\")),\"---\")","v":"---"},null,"---"]
["Replicate",null,1,2,1,2,1,2,1,2,1,2,1,2,1,2,"---",null,null,null,null,null,null,null,null,null,null,null,null,null,null,null,null,"Gsa"]
["ASTM C127","Wt OD Sample in Air, g (A)",null,null,null,null,null,null,null,null,null,null,null,null,null,null,"---",null,null,null,null,null,null,null,null,null,null,null,null,null,null,null,null,"Gsb"]
[null,"Wt SSD Sample in Air, g (B)",null,null,null,null,null,null,null,null,null,null,null,null,null,null,"---",null,null,null,null,null,null,null,null,null,null,null,null,null,null,null,null,"Abs, %"]
[null,"Wt Sub. Sample in Water, g (C) ",null,null,null,null,null,null,null,null,null,null,null,null,null,null,"---"]
[null,"Gsa",{"$f":"IFERROR(C13/(C13-C15),\"---\")","v":"---"},"---","---","---","---","---","---","---","---","---","---","---","---","---","---"]
[null,"Gsb",{"$f":"IFERROR(C13/(C14-C15),\"---\")","v":"---"},"---","---","---","---","---","---","---","---","---","---","---","---","---","---"]
[null,"Abs, %",{"$f":"IFERROR((C14-C13)/C13*100,\"---\")","v":"---"},"---","---","---","---","---","---","---","---","---","---","---","---","---","---"]
[null,"Gsa Difference",{"$f":"IFERROR(ABS(C16-D16),\"---\")","v":"---"},null,{"$f":"IFERROR(ABS(E16-F16),\"---\")","v":"---"},null,{"$f":"IFERROR(ABS(G16-H16),\"---\")","v":"---"},null,{"$f":"IFERROR(ABS(I16-J16),\"---\")","v":"---"},null,{"$f":"IFERROR(ABS(K16-L16),\"---\")","v":"---"},null,{"$f":"IFERROR(ABS(M16-N16),\"---\")","v":"---"},null,{"$f":"IFERROR(ABS(O16-P16),\"---\")","v":"---"},null,"---"]
[null,"Gsb Difference",{"$f":"IFERROR(ABS(C17-D17),\"---\")","v":"---"},null,{"$f":"IFERROR(ABS(E17-F17),\"---\")","v":"---"},null,{"$f":"IFERROR(ABS(G17-H17),\"---\")","v":"---"},null,{"$f":"IFERROR(ABS(I17-J17),\"---\")","v":"---"},null,{"$f":"IFERROR(ABS(K17-L17),\"---\")","v":"---"},null,{"$f":"IFERROR(ABS(M17-N17),\"---\")","v":"---"},null,{"$f":"IFERROR(ABS(O17-P17),\"---\")","v":"---"},null,"---"]
[null,"Avg Gsa",{"$f":"IFERROR(AVERAGE(C16:D16),\"---\")","v":"---"},null,{"$f":"IFERROR(AVERAGE(E16:F16),\"---\")","v":"---"},null,{"$f":"IFERROR(AVERAGE(G16:H16),\"---\")","v":"---"},null,{"$f":"IFERROR(AVERAGE(I16:J16),\"---\")","v":"---"},null,{"$f":"IFERROR(AVERAGE(K16:L16),\"---\")","v":"---"},null,{"$f":"IFERROR(AVERAGE(M16:N16),\"---\")","v":"---"},null,{"$f":"IFERROR(AVERAGE(O16:P16),\"---\")","v":"---"},null,"---"]
[null,"Avg Gsb",{"$f":"IFERROR(AVERAGE(C17:D17),\"---\")","v":"---"},null,{"$f":"IFERROR(AVERAGE(E17:F17),\"---\")","v":"---"},null,{"$f":"IFERROR(AVERAGE(G17:H17),\"---\")","v":"---"},null,{"$f":"IFERROR(AVERAGE(I17:J17),\"---\")","v":"---"},null,{"$f":"IFERROR(AVERAGE(K17:L17),\"---\")","v":"---"},null,{"$f":"IFERROR(AVERAGE(M17:N17),\"---\")","v":"---"},null,{"$f":"IFERROR(AVERAGE(O17:P17),\"---\")","v":"---"},null,"---"]
[null,"Avg Abs, %",{"$f":"IFERROR(AVERAGE(C18:D18),\"---\")","v":"---"},null,{"$f":"IFERROR(AVERAGE(E18:F18),\"---\")","v":"---"},null,{"$f":"IFERROR(AVERAGE(G18:H18),\"---\")","v":"---"},null,{"$f":"IFERROR(AVERAGE(I18:J18),\"---\")","v":"---"},null,{"$f":"IFERROR(AVERAGE(K18:L18),\"---\")","v":"---"},null,{"$f":"IFERROR(AVERAGE(M18:N18),\"---\")","v":"---"},null,{"$f":"IFERROR(AVERAGE(O18:P18),\"---\")","v":"---"},null,"---"]
["ASTM C128","Wt OD Sample, g (A)",null,null,null,null,null,null,null,null,null,null,null,null,null,null,"---"]
[null,"Wt Pycn. + Water, g (B)",null,null,null,null,null,null,null,null,null,null,null,null,null,null,"---"]
[null,"Wt Pycn. + Sample + Water, g (C) ",null,null,null,null,null,null,null,null,null,null,null,null,null,null,"---"]
[null,"Wt SSD Sample, g (S)",null,null,null,null,null,null,null,null,null,null,null,null,null,null,"---"]
[null,"Wt Le Chatelier SSD Sample, g (S1)",null,null,null,null,null,null,null,null,null,null,null,null,null,null,"---"]
[null,"Water Level Reading, Initial, mL (R1)",null,null,null,null,null,null,null,null,null,null,null,null,null,null,"---"]
[null,"Water Level Reading, Final, mL (R2)",null,null,null,null,null,null,null,null,null,null,null,null,null,null,"---"]
[null,"Gsa",{"$f":"IFERROR(IF($AI$6=1,C24/(C25+C24-C26),C32/(1-C33*C32/100)),\"---\")","v":"---"},"---","---","---","---","---","---","---","---","---","---","---","---","---","---"]
[null,"Gsb",{"$f":"IFERROR(IF($AI$6=1,C24/(C25+C27-C26),(C28*C24/C27)/(0.9775*(C30-C29))),\"---\")","v":"---"},"---","---","---","---","---","---","---","---","---","---","---","---","---","---"]
[null,"Abs, %",{"$f":"IFERROR((C27-C24)/C24*100,\"---\")","v":"---"},"---","---","---","---","---","---","---","---","---","---","---","---","---","---"]
[null,"Gsa Difference",{"$f":"IFERROR(ABS(C31-D31),\"---\")","v":"---"},null,{"$f":"IFERROR(ABS(E31-F31),\"---\")","v":"---"},null,{"$f":"IFERROR(ABS(G31-H31),\"---\")","v":"---"},null,{"$f":"IFERROR(ABS(I31-J31),\"---\")","v":"---"},null,{"$f":"IFERROR(ABS(K31-L31),\"---\")","v":"---"},null,{"$f":"IFERROR(ABS(M31-N31),\"---\")","v":"---"},null,{"$f":"IFERROR(ABS(O31-P31),\"---\")","v":"---"},null,"---"]
[null,"Gsb Difference",{"$f":"IFERROR(ABS(C32-D32),\"---\")","v":"---"},null,{"$f":"IFERROR(ABS(E32-F32),\"---\")","v":"---"},null,{"$f":"IFERROR(ABS(G32-H32),\"---\")","v":"---"},null,{"$f":"IFERROR(ABS(I32-J32),\"---\")","v":"---"},null,{"$f":"IFERROR(ABS(K32-L32),\"---\")","v":"---"},null,{"$f":"IFERROR(ABS(M32-N32),\"---\")","v":"---"},null,{"$f":"IFERROR(ABS(O32-P32),\"---\")","v":"---"},null,"---"]
[null,"Avg Gsa",{"$f":"IFERROR(AVERAGE(C31:D31),\"---\")","v":"---"},null,{"$f":"IFERROR(AVERAGE(E31:F31),\"---\")","v":"---"},null,{"$f":"IFERROR(AVERAGE(G31:H31),\"---\")","v":"---"},null,{"$f":"IFERROR(AVERAGE(I31:J31),\"---\")","v":"---"},null,{"$f":"IFERROR(AVERAGE(K31:L31),\"---\")","v":"---"},null,{"$f":"IFERROR(AVERAGE(M31:N31),\"---\")","v":"---"},null,{"$f":"IFERROR(AVERAGE(O31:P31),\"---\")","v":"---"},null,"---"]
[null,"Avg Gsb",{"$f":"IFERROR(AVERAGE(C32:D32),\"---\")","v":"---"},null,{"$f":"IFERROR(AVERAGE(E32:F32),\"---\")","v":"---"},null,{"$f":"IFERROR(AVERAGE(G32:H32),\"---\")","v":"---"},null,{"$f":"IFERROR(AVERAGE(I32:J32),\"---\")","v":"---"},null,{"$f":"IFERROR(AVERAGE(K32:L32),\"---\")","v":"---"},null,{"$f":"IFERROR(AVERAGE(M32:N32),\"---\")","v":"---"},null,{"$f":"IFERROR(AVERAGE(O32:P32),\"---\")","v":"---"},null,"---"]
[null,"Avg Abs, %",{"$f":"IFERROR(AVERAGE(C33:D33),\"---\")","v":"---"},null,{"$f":"IFERROR(AVERAGE(E33:F33),\"---\")","v":"---"},null,{"$f":"IFERROR(AVERAGE(G33:H33),\"---\")","v":"---"},null,{"$f":"IFERROR(AVERAGE(I33:J33),\"---\")","v":"---"},null,{"$f":"IFERROR(AVERAGE(K33:L33),\"---\")","v":"---"},null,{"$f":"IFERROR(AVERAGE(M33:N33),\"---\")","v":"---"},null,{"$f":"IFERROR(AVERAGE(O33:P33),\"---\")","v":"---"},null,"---"]
["Combined","Gsa",{"$f":"IFERROR(IF(ISNUMBER(C9),IF($AI$9=\"Raw Data\",IF(C9<25,C21,IF(C9>75,C36,1/((100-C9)/100/C21+C9/100/C36))),AJ12),\"---\"),\"---\")","v":"---"},null,{"$f":"IFERROR(IF(ISNUMBER(E9),IF($AI$9=\"Raw Data\",IF(E9<25,E21,IF(E9>75,E36,1/((100-E9)/100/E21+E9/100/E36))),AK12),\"---\"),\"---\")","v":"---"},null,{"$f":"IFERROR(IF(ISNUMBER(G9),IF($AI$9=\"Raw Data\",IF(G9<25,G21,IF(G9>75,G36,1/((100-G9)/100/G21+G9/100/G36))),AL12),\"---\"),\"---\")","v":"---"},null,{"$f":"IFERROR(IF(ISNUMBER(I9),IF($AI$9=\"Raw Data\",IF(I9<25,I21,IF(I9>75,I36,1/((100-I9)/100/I21+I9/100/I36))),AM12),\"---\"),\"---\")","v":"---"},null,{"$f":"IFERROR(IF(ISNUMBER(K9),IF($AI$9=\"Raw Data\",IF(K9<25,K21,IF(K9>75,K36,1/((100-K9)/100/K21+K9/100/K36))),AN12),\"---\"),\"---\")","v":"---"},null,{"$f":"IFERROR(IF(ISNUMBER(M9),IF($AI$9=\"Raw Data\",IF(M9<25,M21,IF(M9>75,M36,1/((100-M9)/100/M21+M9/100/M36))),AO12),\"---\"),\"---\")","v":"---"},null,{"$f":"IFERROR(IF(ISNUMBER(O9),IF($AI$9=\"Raw Data\",IF(O9<25,O21,IF(O9>75,O36,1/((100-O9)/100/O21+O9/100/O36))),AP12),\"---\"),\"---\")","v":"---"},null,{"$f":"IFERROR(1/(IFERROR($C$8/$Q$8/C39,0)+IFERROR($E$8/$Q$8/E39,0)+IFERROR($I$8/$Q$8/I39,0)+IFERROR($G$8/$Q$8/G39,0)+IFERROR($K$8/$Q$8/K39,0)+IFERROR($M$8/$Q$8/M39,0)+IFERROR($O$8/$Q$8/O39,0)),\"---\")","v":"---"}]
[null,"Gsb",{"$f":"IFERROR(IF(ISNUMBER(C9),IF($AI$9=\"Raw Data\",IF(C9<25,C22,IF(C9>75,C37,1/((100-C9)/100/C22+C9/100/C37))),AJ13),\"---\"),\"---\")","v":"---"},null,{"$f":"IFERROR(IF(ISNUMBER(E9),IF($AI$9=\"Raw Data\",IF(E9<25,E22,IF(E9>75,E37,1/((100-E9)/100/E22+E9/100/E37))),AK13),\"---\"),\"---\")","v":"---"},null,{"$f":"IFERROR(IF(ISNUMBER(G9),IF($AI$9=\"Raw Data\",IF(G9<25,G22,IF(G9>75,G37,1/((100-G9)/100/G22+G9/100/G37))),AL13),\"---\"),\"---\")","v":"---"},null,{"$f":"IFERROR(IF(ISNUMBER(I9),IF($AI$9=\"Raw Data\",IF(I9<25,I22,IF(I9>75,I37,1/((100-I9)/100/I22+I9/100/I37))),AM13),\"---\"),\"---\")","v":"---"},null,{"$f":"IFERROR(IF(ISNUMBER(K9),IF($AI$9=\"Raw Data\",IF(K9<25,K22,IF(K9>75,K37,1/((100-K9)/100/K22+K9/100/K37))),AN13),\"---\"),\"---\")","v":"---"},null,{"$f":"IFERROR(IF(ISNUMBER(M9),IF($AI$9=\"Raw Data\",IF(M9<25,M22,IF(M9>75,M37,1/((100-M9)/100/M22+M9/100/M37))),AO13),\"---\"),\"---\")","v":"---"},null,{"$f":"IFERROR(IF(ISNUMBER(O9),IF($AI$9=\"Raw Data\",IF(O9<25,O22,IF(O9>75,O37,1/((100-O9)/100/O22+O9/100/O37))),AP13),\"---\"),\"---\")","v":"---"},null,{"$f":"IFERROR(1/(IFERROR($C$8/$Q$8/C40,0)+IFERROR($E$8/$Q$8/E40,0)+IFERROR($I$8/$Q$8/I40,0)+IFERROR($G$8/$Q$8/G40,0)+IFERROR($K$8/$Q$8/K40,0)+IFERROR($M$8/$Q$8/M40,0)+IFERROR($O$8/$Q$8/O40,0)),\"---\")","v":"---"}]
[null,"Abs, %",{"$f":"IFERROR(IF(ISNUMBER(C9),IF($AI$9=\"Raw Data\",IF(C9<25,C23,IF(C9>75,C38,(100-C9)/100*C23+C9/100*C38)),AJ14),\"---\"),\"---\")","v":"---"},null,{"$f":"IFERROR(IF(ISNUMBER(E9),IF($AI$9=\"Raw Data\",IF(E9<25,E23,IF(E9>75,E38,(100-E9)/100*E23+E9/100*E38)),AK14),\"---\"),\"---\")","v":"---"},null,{"$f":"IFERROR(IF(ISNUMBER(G9),IF($AI$9=\"Raw Data\",IF(G9<25,G23,IF(G9>75,G38,(100-G9)/100*G23+G9/100*G38)),AL14),\"---\"),\"---\")","v":"---"},null,{"$f":"IFERROR(IF(ISNUMBER(I9),IF($AI$9=\"Raw Data\",IF(I9<25,I23,IF(I9>75,I38,(100-I9)/100*I23+I9/100*I38)),AM14),\"---\"),\"---\")","v":"---"},null,{"$f":"IFERROR(IF(ISNUMBER(K9),IF($AI$9=\"Raw Data\",IF(K9<25,K23,IF(K9>75,K38,(100-K9)/100*K23+K9/100*K38)),AN14),\"---\"),\"---\")","v":"---"},null,{"$f":"IFERROR(IF(ISNUMBER(M9),IF($AI$9=\"Raw Data\",IF(M9<25,M23,IF(M9>75,M38,(100-M9)/100*M23+M9/100*M38)),AO14),\"---\"),\"---\")","v":"---"},null,{"$f":"IFERROR(IF(ISNUMBER(O9),IF($AI$9=\"Raw Data\",IF(O9<25,O23,IF(O9>75,O38,(100-O9)/100*O23+O9/100*O38)),AP14),\"---\"),\"---\")","v":"---"},null,{"$f":"IFERROR((IFERROR($C$8/$Q$8*C41,0)+IFERROR($E$8/$Q$8*E41,0)+IFERROR($I$8/$Q$8*I41,0)+IFERROR($G$8/$Q$8*G41,0)+IFERROR($K$8/$Q$8*K41,0)+IFERROR($M$8/$Q$8*M41,0)+IFERROR($O$8/$Q$8*O41,0)),\"---\")","v":0}]
["Specific Gravity Calculation for ASTM C1252 Fine Aggregate Angularity"]
["Percent of Minus No. 4 Fraction, %",null,{"$f":"IFERROR((C8/100*C9)/$Q$43*100,\"---\")","v":"---"},null,{"$f":"IFERROR((E8/100*E9)/$Q$43*100,\"---\")","v":"---"},null,{"$f":"IFERROR((G8/100*G9)/$Q$43*100,\"---\")","v":"---"},null,{"$f":"IFERROR((I8/100*I9)/$Q$43*100,\"---\")","v":"---"},null,{"$f":"IFERROR((K8/100*K9)/$Q$43*100,\"---\")","v":"---"},null,{"$f":"IFERROR((M8/100*M9)/$Q$43*100,\"---\")","v":"---"},null,{"$f":"IFERROR((O8/100*O9)/$Q$43*100,\"---\")","v":"---"},null,{"$f":"IFERROR(C8/100*C9,0)+IFERROR(E8/100*E9,0)+IFERROR(G8/100*G9,0)+IFERROR(I8/100*I9,0)+IFERROR(K8/100*K9,0)+IFERROR(M8/100*M9,0)+IFERROR(O8/100*O9,0)","v":0}]
["Combined Gsb for FAA Calculation",null,"---",null,"---",null,"---",null,"---",null,"---",null,"---",null,"---",null,{"$f":"IFERROR(1/(IFERROR($C$43/SUM($C$43:$P$43)/C40,0)+IFERROR($E$43/SUM($C$43:$P$43)/E40,0)+IFERROR($I$43/SUM($C$43:$P$43)/I40,0)+IFERROR($G$43/SUM($C$43:$P$43)/G40,0)+IFERROR($K$43/SUM($C$43:$P$43)/K40,0)+IFERROR($M$43/SUM($C$43:$P$43)/M40,0)+IFERROR($O$43/SUM($C$43:$P$43)/O40,0)),\"---\")","v":"---"}]
["1 ASTM C127 is required if percent passing No. 4 sieve is less than 25%; ASTM C128 is required if percent passing No. 4 sieve is greater than 75%; otherwise, both are required."]
[]
[]
["LAB TECHNICIAN (or other title)",null,null,null,null,"LAB MANAGER (or other title)"]

{"sheet":"Binder Report","index":16,"n_rows":56,"n_cols":78,"rows_kept":56,"cut":false,"hidden":false,"merged":[[1,66,1,67],[1,29,1,30],[19,3,21,3],[19,4,21,4],[18,29,18,33],[9,31,9,36],[10,31,10,36],[11,31,11,36],[12,31,12,36],[8,29,8,36],[23,29,23,30],[5,5,5,6],[6,5,6,6],[1,34,1,36],[2,34,2,36],[3,34,3,36],[4,34,4,36],[5,34,5,36],[4,5,4,6],[14,0,14,2],[18,0,18,2],[17,0,17,2],[19,0,21,1],[15,0,15,2],[16,0,16,2],[39,4,40,4],[40,0,40,2],[28,0,28,6],[30,0,30,2],[26,3,27,3],[26,4,27,4],[27,0,27,2],[29,0,29,2],[38,0,38,2],[32,0,32,6],[31,0,31,2],[34,0,34,2],[35,0,35,2],[37,0,37,2],[36,0,36,2],[24,0,24,2],[23,0,23,2],[25,0,25,2],[55,0,55,2],[45,0,45,6],[42,0,42,2],[42,3,44,3],[42,4,44,4],[55,4,55,6],[47,0,47,2],[48,0,48,2],[48,3,49,3],[48,4,49,4],[49,0,49,2],[54,0,54,2],[54,4,54,6],[43,0,43,2],[33,0,33,3],[39,0,39,2],[39,3,40,3],[26,0,26,2],[2,1,2,2],[3,1,3,2],[4,1,4,2],[2,5,2,6],[3,5,3,6],[22,0,22,2],[51,1,52,6],[5,1,5,2],[6,1,6,2],[13,0,13,6],[12,0,12,2],[8,3,8,4],[8,5,8,6],[10,0,10,2],[9,0,9,2],[8,0,8,2],[46,3,47,3],[46,4,47,4],[46,0,46,2],[44,0,44,2],[41,0,41,2]]}
["UFGS 32 12 15.13 Asphalt Binder Analysis Report",null,null,null,null,null,null,null,null,null,null,null,null,null,null,null,null,null,null,null,null,null,null,null,null,null,null,null,null,null,null,null,null,null,null,null,null,null,null,null,null,null,null,null,null,null,null,null,null,null,null,null,null,null,null,null,null,null,null,null,null,null,null,null,null,null,null,null,null,null,null,null,"MSCR Grade Data",null,null,null,"Custom Grade Data"]
[null,null,null,null,null,null,null,null,null,null,null,null,null,null,null,null,null,null,null,null,null,null,null,null,null,null,null,null,null,"General Mix Information",null,null,null,"PEN","ASTM D946",null,null,null,null,null,null,"Grade Specifications",null,null,null,null,null,null,null,null,null,null,null,null,null,null,null,null,null,null,null,null,null,null,null,null,"PG Grade Data",null,null,null,null,null,{"$f":"MID(BS12,4,2)","v":"64"},"HPG",null,null,58,"HPG"]
["Mix ID",{"$f":"IF(ISBLANK('JMF Summary'!B3),\"---\",'JMF Summary'!B3)","v":"---"},null,null,"Gradation",{"$f":"'JMF Summary'!F3","v":2},null,null,null,null,null,null,null,null,null,null,null,null,null,null,null,null,null,null,null,null,null,null,null,"Binder Grading",{"$f":"'JMF Summary'!AG8","v":"PG"},null,null,"AC","ASTM D3381 Table 1",null,null,null,null,null,null,{"$f":"IF(AP4=\"Custom Specification\",\"Custom\",IF(RIGHT(F5,3)=\"pen\",AI2,IF(LEFT(F5,2)=\"AC\",AI3,IF(LEFT(F5,2)=\"AR\",AI4,IF(LEFT(F5,2)=\"PG\",IF(MID(F5,6,1)=\"-\",AI5,AI6),\"---\")))))","v":"ASTM D6373"},null,null,null,null,null,null,null,null,null,null,null,null,null,null,null,null,null,null,null,null,null,null,null,null,{"$f":"MID(BN12,4,2)","v":"64"},"HPG",null,null,null,null,{"$f":"(BU2+BU4)/2+4","v":47},"IPG",null,null,16,"IPG"]
["Date",{"$f":"IF(ISBLANK('JMF Summary'!B4),\"---\",'JMF Summary'!B4)","v":"---"},null,null,"Compaction",{"$f":"'JMF Summary'!F4","v":"75 Gyr"},null,null,null,null,null,null,null,null,null,null,null,null,null,null,null,null,null,null,null,null,null,null,null,"Binder Grade",{"$f":"'JMF Summary'!AG9","v":"PG 64-22"},null,null,"AR","ASTM D3381 Table 2",null,null,null,null,null,null,"Automatic Lookup",null,null,null,null,null,null,null,null,null,null,null,null,null,null,null,null,null,null,null,null,null,null,null,null,{"$f":"(BO3+BO5)/2+4","v":25},"IPG",null,null,null,null,{"$f":"MID(BS12,7,3)","v":"22"},"LPG",null,null,-34,"LPG"]
["Project",{"$f":"IF(ISBLANK('JMF Summary'!B5),\"---\",'JMF Summary'!B5)","v":"---"},null,null,"Binder Grade",{"$f":"'JMF Summary'!F5","v":"PG 64-22"},null,null,null,null,null,null,null,null,null,null,null,null,null,null,null,null,null,null,null,null,null,null,null,"Climatic Grade",{"$f":"'JMF Summary'!AG10","v":"PG 64-22"},null,null,"PG","ASTM D6373",null,null,null,null,null,null,null,null,null,null,null,null,null,null,null,null,null,null,null,null,null,null,null,null,null,null,null,null,null,null,null,{"$f":"RIGHT(BN12,3)","v":"-22"},"LPG",null,null,null,null,{"$f":"MID(BS12,6,1)&IF(BU6=\"---\",\"\",\"(\" & BU6 & \")\")","v":"-"},"MSCR",null,null,"E","MSCR"]
["Producer",{"$f":"IF(ISBLANK('JMF Summary'!B6),\"---\",'JMF Summary'!B6)","v":"---"},null,null,"Anti-Strip",{"$f":"IF(ISBLANK('JMF Summary'!C37),\"---\",FIXED('JMF Summary'!B37*100,2) & \"% \" & 'JMF Summary'!C37)","v":"---"},null,null,null,null,null,null,null,null,null,null,null,null,null,null,null,null,null,null,null,null,null,null,null,"PG+ Test",{"$f":"'JMF Summary'!AG11","v":"None"},null,null,"MSCR","ASTM D8239",null,null,null,null,null,null,null,null,null,null,null,null,null,null,null,null,null,null,null,null,null,null,null,null,null,null,null,null,null,null,null,{"$f":"MID(AE5,4,2)","v":"64"},"Climate HPG",null,null,null,null,{"$f":"IF(RIGHT(BS12,2)=\"HP\",\"HP\",\"---\")","v":"---"},"High Polymer?",null,null,"---","High Polymer?"]
["Mix Designer",{"$f":"IF(ISBLANK('JMF Summary'!B7),\"---\",'JMF Summary'!B7)","v":"---"},null,null,"WMA",{"$f":"IF(ISBLANK('JMF Summary'!C38),\"---\",FIXED('JMF Summary'!B38*100,2) & \"% \" & 'JMF Summary'!C38)","v":"---"},null,null,null,null,null,null,null,null,null,null,null,null,null,null,null,null,null,null,null,null,null,null,null,null,null,null,null,null,null,null,null,null,null,null,null,null,null,null,null,null,null,null,null,null,null,null,null,null,null,null,null,null,null,null,null,null,null,null,null,null,{"$f":"BO3-BO5","v":86},"UTI",null,null,null,null,{"$f":"MID(AE5,4,2)","v":"64"},"Climate HPG",null,null,52,"Climate HPG"]
[null,null,null,null,null,null,null,null,null,null,null,null,null,null,null,null,null,null,null,null,null,null,null,null,null,null,null,null,null,null,null,null,null,null,null,null,null,null,null,null,null,null,null,null,null,null,null,null,null,null,null,null,null,null,null,null,null,null,null,null,null,null,null,null,null,null,{"$f":"IF(BO7<92,\"UTI<92\",IF(BO7=92,\"UTI=92\",\"UTI>92\"))","v":"UTI<92"},null,null,null,null,null,{"$f":"(BU7+BU9)/2+4","v":25},"Climate IPG",null,null,16,"Climate IPG"]
["Supplier Recommended Temperature Ranges",null,null,"Min - Max, °C",null,"Min - Max, °F",null,null,null,null,null,null,null,null,null,null,null,null,null,null,null,null,null,null,null,null,null,null,null,"Form Data",null,null,null,null,null,null,null,null,null,null,null,null,null,null,null,null,null,null,null,null,null,null,null,null,null,null,null,null,null,null,null,null,null,null,null,null,null,null,null,null,null,null,{"$f":"RIGHT(AE5,3)","v":"-22"},"Climate LPG",null,null,-28,"Climate LPG"]
["Mixing Temperature Range",null,null,0,0,0,0,null,null,null,null,null,null,null,null,null,null,null,null,null,null,null,null,null,null,null,null,null,null,"Anti-Strip",false,"(True = additive included in binder for binder analysis)"]
["Compaction Temperature Range",null,null,0,0,0,0,null,null,null,null,null,null,null,null,null,null,null,null,null,null,null,null,null,null,null,null,null,null,"WMA",false,"(True = additive included in binder for binder analysis)",null,null,null,null,null,null,null,null,null,null,"ASTM D946",null,null,null,null,null,null,"ASTM D3381 Table 1",null,null,null,null,null,null,null,"ASTM D3381 Table 3",null,null,null,null,null,null,"ASTM D6373",null,null,null,null,"ASTM D8239",null,null,null,null,null,null,"Custom"]
[null,null,null,null,null,null,null,null,null,null,null,null,null,null,null,null,null,null,null,null,null,null,null,null,null,null,null,null,null,"Pass/Fail",false,"(True = passes grade requirements)",null,null,null,null,null,null,null,null,null,null,"PEN",{"$f":"F5","v":"PG 64-22"},null,null,null,null,null,"AC",{"$f":"F5","v":"PG 64-22"},null,null,null,null,null,null,"AR",{"$f":"F5","v":"PG 64-22"},null,null,null,null,null,"PG",{"$f":"F5","v":"PG 64-22"},null,null,null,"MSCR",{"$f":"F5","v":"PG 64-22"},null,null,null,null,null,null,{"$f":"F5","v":"PG 64-22"}]
["Property",null,null,"Test Temp.","ASTM Standard","Specification","Result",null,null,null,null,null,null,null,null,null,null,null,null,null,null,null,null,null,null,null,null,null,null,"PMB",1,"(1 = polymer modified, 2 = not polymer modified)",null,null,null,null,null,null,null,null,null,null,"Temps","Selected Specs","40-50 PEN","60-70 PEN","85-100 PEN","120-150 PEN","200-300 PEN","Temps","Selected Specs","AC-2.5","AC-5","AC-10","AC-20","AC-30","AC-40","Temps","Selected Specs","AR-1000","AR-2000","AR-4000","AR-8000","AR-16000","Temps","Selected Specs","UTI<92","UTI=92","UTI>92","Temps","Selected Specs","S","H","V","E","E(HP)","Temps","Selected Specs"]
["Original Binder",null,null,null,null,null,null,null,null,null,null,null,null,null,null,null,null,null,null,null,null,null,null,null,null,null,null,null,null,null,null,null,null,null,null,null,null,null,null,null,null,"Original Binder"]
["Specific Gravity",null,null,{"$f":"IF($AP$3=$AQ$11,AQ15,IF($AP$3=$AX$11,AX15,IF($AP$3=$BF$11,BF15,IF($AP$3=$BM$11,BM15,IF($AP$3=$BR$11,BR15,IF($AP$3=$BY$11,BY15,\"---\"))))))","v":"15.6°C"},"D70",{"$f":"IF($AP$3=$AQ$11,AR15,IF($AP$3=$AX$11,AY15,IF($AP$3=$BF$11,BG15,IF($AP$3=$BM$11,BN15,IF($AP$3=$BR$11,BS15,IF($AP$3=$BY$11,BZ15,\"---\"))))))","v":"Report"},null,null,null,null,null,null,null,null,null,null,null,null,null,null,null,null,null,null,null,null,null,null,null,null,{"$f":"\"This asphalt binder meets \" & AP3 & \" requirements for the grade of \" & F5 & \".\"","v":"This asphalt binder meets ASTM D6373 requirements for the grade of PG 64-22."},null,null,null,null,null,null,null,null,null,null,"SG","15.6°C",{"$f":"IF(ISBLANK(INDEX(AS15:AW15,1,MATCH($AR$12,$AS$13:$AW$13,0))),\"---\",INDEX(AS15:AW15,1,MATCH($AR$12,$AS$13:$AW$13,0)))","v":{"$error":"#N/A"}},"Report","Report","Report","Report","Report","15.6°C",{"$f":"IF(ISBLANK(INDEX(AZ15:BE15,1,MATCH($AY$12,$AZ$13:$BE$13,0))),\"---\",INDEX(AZ15:BE15,1,MATCH($AY$12,$AZ$13:$BE$13,0)))","v":{"$error":"#N/A"}},"Report","Report","Report","Report","Report","Report","15.6°C",{"$f":"IF(ISBLANK(INDEX(BH15:BL15,1,MATCH($BG$12,$BH$13:$BL$13,0))),\"---\",INDEX(BH15:BL15,1,MATCH($BG$12,$BH$13:$BL$13,0)))","v":{"$error":"#N/A"}},"Report","Report","Report","Report","Report","15.6°C",{"$f":"IF(ISBLANK(INDEX(BO15:BQ15,1,MATCH($BO$8,$BO$13:$BQ$13,0))),\"---\",INDEX(BO15:BQ15,1,MATCH($BO$8,$BO$13:$BQ$13,0)))","v":"Report"},"Report","Report","Report","15.6°C",{"$f":"IF(ISBLANK(INDEX(BT15:BX15,1,MATCH($BU$5,$BT$13:$BX$13,0))),\"---\",INDEX(BT15:BX15,1,MATCH($BU$5,$BT$13:$BX$13,0)))","v":{"$error":"#N/A"}},"Report","Report","Report","Report","Report","25°C","Report"]
["Flash Point, °C",null,null,null,"D92",{"$f":"IF($AP$3=$AQ$11,AR16,IF($AP$3=$AX$11,AY16,IF($AP$3=$BF$11,BG16,IF($AP$3=$BM$11,BN16,IF($AP$3=$BR$11,BS16,IF($AP$3=$BY$11,BZ16,\"---\"))))))","v":"230 min"},null,null,null,null,null,null,null,null,null,null,null,null,null,null,null,null,null,null,null,null,null,null,null,"This asphalt binder          is           is not polymer-modified according to ASTM D7405.",null,null,null,null,null,null,null,null,null,null,null,"Flash Point","---",{"$error":"#N/A"},"230 min","230 min","230 min","230 min","230 min","---",{"$error":"#N/A"},"165 min","175 min","220 min","230 min","230 min","230 min","---",{"$f":"IF(ISBLANK(INDEX(BH15:BX15,1,MATCH($AY$12,$AZ$13:$BE$13,0))),\"---\",INDEX(BH15:BX15,1,MATCH($AY$12,$AZ$13:$BE$13,0)))","v":{"$error":"#N/A"}},"205 min","220 min","225 min","230 min","240 min","---","230 min","230 min","230 min","230 min","---",{"$error":"#N/A"},"230 min","230 min","230 min","230 min","230 min","---","230 min"]
["Penetration, dmm",null,null,{"$f":"IF($AP$3=$AQ$11,AQ17,IF($AP$3=$AX$11,AX17,IF($AP$3=$BF$11,BF17,IF($AP$3=$BM$11,BM17,IF($AP$3=$BR$11,BR17,IF($AP$3=$BY$11,BY17,\"---\"))))))","v":"25°C"},"D5","n/a",null,null,null,null,null,null,null,null,null,null,null,null,null,null,null,null,null,null,null,null,null,null,null,null,null,null,null,null,null,null,null,null,null,null,null,"Pen","25°C",{"$error":"#N/A"},"40 to 50","60 to 70","85 to 100","120 to 150","200 to 300","25°C",{"$error":"#N/A"},"200 min","120 min","70 min","40 min","30 min","20 min","25°C",{"$error":"#N/A"},"Report","Report","Report","Report","Report","25°C","n/a","n/a","n/a","n/a","25°C",{"$error":"#N/A"},"n/a","n/a","n/a","n/a","n/a","25°C","n/a"]
["Ductility (5 cm/min), cm",null,null,{"$f":"IF($AP$3=$AQ$11,AQ18,IF($AP$3=$AX$11,AX18,IF($AP$3=$BF$11,BF18,IF($AP$3=$BM$11,BM18,IF($AP$3=$BR$11,BR18,IF($AP$3=$BY$11,BY18,\"---\"))))))","v":"25°C"},"D113","n/a",null,null,null,null,null,null,null,null,null,null,null,null,null,null,null,null,null,null,null,null,null,null,null,null,null,null,null,null,null,null,null,null,null,null,null,"Ductility","25°C",{"$error":"#N/A"},"100 min","100 min","100 min","100 min","100 min","25°C",{"$error":"#N/A"},"n/a","n/a","n/a","n/a","n/a","n/a","25°C",{"$error":"#N/A"},"n/a","n/a","n/a","n/a","n/a","25°C","n/a","n/a","n/a","n/a","25°C",{"$error":"#N/A"},"n/a","n/a","n/a","n/a","n/a","25°C","n/a"]
["Softening Point, °C",null,null,null,"D36","n/a",null,null,null,null,null,null,null,null,null,null,null,null,null,null,null,null,null,null,null,null,null,null,null,"Specification Limits",null,null,null,null,null,null,null,null,null,null,null,"SP","---",{"$error":"#N/A"},"n/a","n/a","n/a","n/a","n/a","---",{"$error":"#N/A"},"n/a","n/a","n/a","n/a","n/a","n/a","---",{"$error":"#N/A"},"n/a","n/a","n/a","n/a","n/a","---","n/a","n/a","n/a","n/a","---",{"$error":"#N/A"},"n/a","n/a","n/a","n/a","n/a","---","n/a"]
["Separation Index",null,"Top 1/3, G*/sinδ, kPa",{"$f":"IF($AP$3=$AQ$11,AQ20,IF($AP$3=$AX$11,AX20,IF($AP$3=$BF$11,BF20,IF($AP$3=$BM$11,BM20,IF($AP$3=$BR$11,BR20,IF($AP$3=$BY$11,BY20,\"---\"))))))","v":"25°C"},"D7173 / \nD7175","n/a",null,null,null,null,null,null,null,null,null,null,null,null,null,null,null,null,null,null,null,null,null,null,null,"Property","Operator","Limit 1",null,"Limit 2",null,null,null,null,null,null,null,"Separation Top 1/3","25°C",{"$error":"#N/A"},"n/a","n/a","n/a","n/a","n/a","25°C",{"$error":"#N/A"},"n/a","n/a","n/a","n/a","n/a","n/a","25°C",{"$error":"#N/A"},"n/a","n/a","n/a","n/a","n/a","25°C","n/a","n/a","n/a","n/a","25°C",{"$error":"#N/A"},"n/a","n/a","n/a","n/a","n/a","25°C","n/a"]
[null,null,"Bottom 1/3, G*/sinδ, kPa",null,null,"n/a",null,null,null,null,null,null,null,null,null,null,null,null,null,null,null,null,null,null,null,null,null,null,null,"Elastic Recovery, %",{"$f":"'JMF Summary'!AG40","v":"≥"},{"$f":"IF('JMF Summary'!AH40<>0,'JMF Summary'!AH40,\"---\")","v":"---"}," - ",null,null,null,null,null,null,null,null,"Separation Bottom 1/3","25°C",{"$error":"#N/A"},"n/a","n/a","n/a","n/a","n/a","25°C",{"$error":"#N/A"},"n/a","n/a","n/a","n/a","n/a","n/a","25°C",{"$error":"#N/A"},"n/a","n/a","n/a","n/a","n/a","25°C","n/a","n/a","n/a","n/a","25°C",{"$error":"#N/A"},"n/a","n/a","n/a","n/a","n/a","25°C","n/a"]
[null,null,"Difference, %",null,null,"n/a",null,null,null,null,null,null,null,null,null,null,null,null,null,null,null,null,null,null,null,null,null,null,null,null,null,null,null,null,null,null,null,null,null,null,null,"Separation Diff, %","25°C",{"$error":"#N/A"},"n/a","n/a","n/a","n/a","n/a","25°C",{"$error":"#N/A"},"n/a","n/a","n/a","n/a","n/a","n/a","25°C",{"$error":"#N/A"},"n/a","n/a","n/a","n/a","n/a","25°C","n/a","n/a","n/a","n/a","25°C",{"$error":"#N/A"},"n/a","n/a","n/a","n/a","10 max","25°C","n/a"]
["Solubility in TCE",null,null,null,"D2042","n/a",null,null,null,null,null,null,null,null,null,null,null,null,null,null,null,null,null,null,null,null,null,null,null,null,null,null,null,null,null,null,null,null,null,null,null,"Solubility","---",{"$error":"#N/A"},"99.0 min","99.0 min","99.0 min","99.0 min","99.0 min","---",{"$error":"#N/A"},"99.0 min","99.0 min","99.0 min","99.0 min","99.0 min","99.0 min","---",{"$error":"#N/A"},"99.0 min","99.0 min","99.0 min","99.0 min","99.0 min","---","n/a","n/a","n/a","n/a","---",{"$error":"#N/A"},"n/a","n/a","n/a","n/a","n/a","---","n/a"]
["Viscosity (Vacuum Capillary Viscometer), Pa·s",null,null,{"$f":"IF($AP$3=$AQ$11,AQ24,IF($AP$3=$AX$11,AX24,IF($AP$3=$BF$11,BF24,IF($AP$3=$BM$11,BM24,IF($AP$3=$BR$11,BR24,IF($AP$3=$BY$11,BY24,\"---\"))))))","v":"60°C"},"D2171","n/a",null,null,null,null,null,null,null,null,null,null,null,null,null,null,null,null,null,null,null,null,null,null,null,"MSCR Plot Data",null,null,null,null,null,null,null,null,null,null,null,"Vacuum Visc","60°C",{"$error":"#N/A"},"n/a","n/a","n/a","n/a","n/a","60°C",{"$error":"#N/A"},"25 ± 5","50 ± 10","100 ± 20","200 ± 40","300 ± 60","400 ± 80","60°C",{"$error":"#N/A"},"n/a","n/a","n/a","n/a","n/a","60°C","n/a","n/a","n/a","n/a","60°C",{"$error":"#N/A"},"n/a","n/a","n/a","n/a","n/a","60°C","n/a"]
["Viscosity (Kinematic Viscometer), mm2/s",null,null,{"$f":"IF($AP$3=$AQ$11,AQ25,IF($AP$3=$AX$11,AX25,IF($AP$3=$BF$11,BF25,IF($AP$3=$BM$11,BM25,IF($AP$3=$BR$11,BR25,IF($AP$3=$BY$11,BY25,\"---\"))))))","v":"135°C"},"D2170","n/a",null,null,null,null,null,null,null,null,null,null,null,null,null,null,null,null,null,null,null,null,null,null,null,"Jnr","%R",null,null,null,null,null,null,null,null,null,null,"Kinematic Visc","135°C",{"$error":"#N/A"},"n/a","n/a","n/a","n/a","n/a","135°C",{"$error":"#N/A"},"80 min","110 min","150 min","210 min","250 min","300 min","135°C",{"$error":"#N/A"},"n/a","n/a","n/a","n/a","n/a","135°C","n/a","n/a","n/a","n/a","135°C",{"$error":"#N/A"},"n/a","n/a","n/a","n/a","n/a","135°C","n/a"]
["Viscosity (Rotational Viscometer), Pa·s",null,null,{"$f":"IF($AP$3=$AQ$11,AQ26,IF($AP$3=$AX$11,AX26,IF($AP$3=$BF$11,BF26,IF($AP$3=$BM$11,BM26,IF($AP$3=$BR$11,BR26,IF($AP$3=$BY$11,BY26,\"---\"))))))","v":"135°C"},"D4402","3 max",null,null,null,null,null,null,null,null,null,null,null,null,null,null,null,null,null,null,null,null,null,null,null,1E-3,55,null,null,null,null,null,null,null,null,null,null,"Rotational Visc","135°C",{"$error":"#N/A"},"n/a","n/a","n/a","n/a","n/a","135°C",{"$error":"#N/A"},"n/a","n/a","n/a","n/a","n/a","n/a","135°C",{"$error":"#N/A"},"n/a","n/a","n/a","n/a","n/a","135°C","3 max","3 max","3 max","3 max","135°C",{"$error":"#N/A"},"3 max","3 max","3 max","3 max","5 max","135°C","3 max"]
["Dynamic Shear G*/sinδ (10 rad/sec), kPa",null,null,{"$f":"IF($AP$3=$AQ$11,AQ27,IF($AP$3=$AX$11,AX27,IF($AP$3=$BF$11,BF27,IF($AP$3=$BM$11,BM27,IF($AP$3=$BR$11,BR27,IF($AP$3=$BY$11,BY27,\"---\"))))))","v":"64°C"},"D7175","1.00 min",null,null,null,null,null,null,null,null,null,null,null,null,null,null,null,null,null,null,null,null,null,null,null,0.1,55,null,null,null,null,null,null,null,null,null,null,"G*/sinδ","---",{"$error":"#N/A"},"n/a","n/a","n/a","n/a","n/a","---",{"$error":"#N/A"},"n/a","n/a","n/a","n/a","n/a","n/a","---",{"$error":"#N/A"},"n/a","n/a","n/a","n/a","n/a",{"$f":"$BO$3 & \"°C\"","v":"64°C"},"1.00 min","1.00 min","1.00 min","1.00 min",{"$f":"$BU$2 & \"°C\"","v":"64°C"},{"$error":"#N/A"},"1.00 min","1.00 min","1.00 min","1.00 min","1.00 min",{"$f":"$BY$2 & \"°C\"","v":"58°C"},"1.00 min"]
["Phase Angle, °",null,null,null,null,"Report",null,null,null,null,null,null,null,null,null,null,null,null,null,null,null,null,null,null,null,null,null,null,null,0.13,{"$f":"29.371*(AD28)^-0.2633","v":50.259417239439877},null,null,null,null,null,null,null,null,null,null,"δ","---",{"$error":"#N/A"},"n/a","n/a","n/a","n/a","n/a","---",{"$error":"#N/A"},"n/a","n/a","n/a","n/a","n/a","n/a","---",{"$error":"#N/A"},"n/a","n/a","n/a","n/a","n/a",{"$f":"$BO$3 & \"°C\"","v":"64°C"},"Report","Report","Report","Report",{"$f":"$BU$2 & \"°C\"","v":"64°C"},{"$error":"#N/A"},"Report","Report","Report","Report","Report",{"$f":"$BY$2 & \"°C\"","v":"58°C"},"Report"]
["Thin Film Oven (TFO) Residue (ASTM D1754)",null,null,null,null,null,null,null,null,null,null,null,null,null,null,null,null,null,null,null,null,null,null,null,null,null,null,null,null,0.2,44.870151451562108,null,null,null,null,null,null,null,null,null,null,"TFO Residue"]
["Retained Penetration, % of Original Penetration",null,null,{"$f":"IF($AP$3=$AQ$11,AQ30,IF($AP$3=$AX$11,AX30,IF($AP$3=$BF$11,BF30,IF($AP$3=$BM$11,BM30,IF($AP$3=$BR$11,BR30,IF($AP$3=$BY$11,BY30,\"---\"))))))","v":"25°C"},"D5","n/a",null,null,null,null,null,null,null,null,null,null,null,null,null,null,null,null,null,null,null,null,null,null,null,0.3,40.326702087525703,null,null,null,null,null,null,null,null,null,null,"Ret Pen","25°C",{"$f":"IF(ISBLANK(INDEX(AS30:AW30,1,MATCH($AR$12,$AS$13:$AW$13,0))),\"---\",INDEX(AS30:AW30,1,MATCH($AR$12,$AS$13:$AW$13,0)))","v":{"$error":"#N/A"}},"55 min","52 min","47 min","42 min","37 min","25°C",{"$f":"IF(ISBLANK(INDEX(AZ30:BE30,1,MATCH($AY$12,$AZ$13:$BE$13,0))),\"---\",INDEX(AZ30:BE30,1,MATCH($AY$12,$AZ$13:$BE$13,0)))","v":{"$error":"#N/A"}},"n/a","n/a","n/a","n/a","n/a","n/a","25°C",{"$f":"IF(ISBLANK(INDEX(BH29:BX29,1,MATCH($AY$12,$AZ$13:$BE$13,0))),\"---\",INDEX(BH29:BX29,1,MATCH($AY$12,$AZ$13:$BE$13,0)))","v":{"$error":"#N/A"}},"n/a","n/a","n/a","n/a","n/a","25°C",{"$f":"IF(ISBLANK(INDEX(BO30:BQ30,1,MATCH($BO$8,$BO$13:$BQ$13,0))),\"---\",INDEX(BO30:BQ30,1,MATCH($BO$8,$BO$13:$BQ$13,0)))","v":"n/a"},"n/a","n/a","n/a","25°C",{"$f":"IF(ISBLANK(INDEX(BT30:BX30,1,MATCH($BU$5,$BT$13:$BX$13,0))),\"---\",INDEX(BT30:BX30,1,MATCH($BU$5,$BT$13:$BX$13,0)))","v":{"$error":"#N/A"}},"n/a","n/a","n/a","n/a","n/a","25°C","n/a"]
["Ductility (5 cm/min), cm",null,null,{"$f":"IF($AP$3=$AQ$11,AQ31,IF($AP$3=$AX$11,AX31,IF($AP$3=$BF$11,BF31,IF($AP$3=$BM$11,BM31,IF($AP$3=$BR$11,BR31,IF($AP$3=$BY$11,BY31,\"---\"))))))","v":"25°C"},"D113","n/a",null,null,null,null,null,null,null,null,null,null,null,null,null,null,null,null,null,null,null,null,null,null,null,0.4,37.384909836092433,null,null,null,null,null,null,null,null,null,null,"Ductility","25°C",{"$f":"IF(ISBLANK(INDEX(AS31:AW31,1,MATCH($AR$12,$AS$13:$AW$13,0))),\"---\",INDEX(AS31:AW31,1,MATCH($AR$12,$AS$13:$AW$13,0)))","v":{"$error":"#N/A"}},"n/a","50 min","75 min","100 min","100 min","25°C",{"$f":"IF(ISBLANK(INDEX(AZ31:BE31,1,MATCH($AY$12,$AZ$13:$BE$13,0))),\"---\",INDEX(AZ31:BE31,1,MATCH($AY$12,$AZ$13:$BE$13,0)))","v":{"$error":"#N/A"}},"100 min","100 min","50 min","20 min","15 min","10 min","25°C",{"$f":"IF(ISBLANK(INDEX(BH30:BX30,1,MATCH($AY$12,$AZ$13:$BE$13,0))),\"---\",INDEX(BH30:BX30,1,MATCH($AY$12,$AZ$13:$BE$13,0)))","v":{"$error":"#N/A"}},"100 min","100 min","50 min","20 min","15 min","25°C",{"$f":"IF(ISBLANK(INDEX(BO31:BQ31,1,MATCH($BO$8,$BO$13:$BQ$13,0))),\"---\",INDEX(BO31:BQ31,1,MATCH($BO$8,$BO$13:$BQ$13,0)))","v":"n/a"},"n/a","n/a","n/a","25°C",{"$f":"IF(ISBLANK(INDEX(BT31:BX31,1,MATCH($BU$5,$BT$13:$BX$13,0))),\"---\",INDEX(BT31:BX31,1,MATCH($BU$5,$BT$13:$BX$13,0)))","v":{"$error":"#N/A"}},"n/a","n/a","n/a","n/a","n/a","25°C","n/a"]
["Viscosity (Vacuum Capillary Viscometer), Pa·s",null,null,{"$f":"IF($AP$3=$AQ$11,AQ32,IF($AP$3=$AX$11,AX32,IF($AP$3=$BF$11,BF32,IF($AP$3=$BM$11,BM32,IF($AP$3=$BR$11,BR32,IF($AP$3=$BY$11,BY32,\"---\"))))))","v":"60°C"},"D2171","n/a",null,null,null,null,null,null,null,null,null,null,null,null,null,null,null,null,null,null,null,null,null,null,null,0.5,35.251689092252704,null,null,null,null,null,null,null,null,null,null,"Vacuum Visc","60°C",{"$f":"IF(ISBLANK(INDEX(AS32:AW32,1,MATCH($AR$12,$AS$13:$AW$13,0))),\"---\",INDEX(AS32:AW32,1,MATCH($AR$12,$AS$13:$AW$13,0)))","v":{"$error":"#N/A"}},"n/a","n/a","n/a","n/a","n/a","60°C",{"$f":"IF(ISBLANK(INDEX(AZ32:BE32,1,MATCH($AY$12,$AZ$13:$BE$13,0))),\"---\",INDEX(AZ32:BE32,1,MATCH($AY$12,$AZ$13:$BE$13,0)))","v":{"$error":"#N/A"}},"125 max","250 max","500 max","1000 max","1500 max","2000 max","60°C",{"$f":"IF(ISBLANK(INDEX(BH31:BX31,1,MATCH($AY$12,$AZ$13:$BE$13,0))),\"---\",INDEX(BH31:BX31,1,MATCH($AY$12,$AZ$13:$BE$13,0)))","v":{"$error":"#N/A"}},"125 max","250 max","500 max","1000 max","1500 max","60°C",{"$f":"IF(ISBLANK(INDEX(BO32:BQ32,1,MATCH($BO$8,$BO$13:$BQ$13,0))),\"---\",INDEX(BO32:BQ32,1,MATCH($BO$8,$BO$13:$BQ$13,0)))","v":"n/a"},"n/a","n/a","n/a","60°C",{"$f":"IF(ISBLANK(INDEX(BT32:BX32,1,MATCH($BU$5,$BT$13:$BX$13,0))),\"---\",INDEX(BT32:BX32,1,MATCH($BU$5,$BT$13:$BX$13,0)))","v":{"$error":"#N/A"}},"n/a","n/a","n/a","n/a","n/a","60°C","n/a"]
["Rolling Thin Film Oven (RTFO) Residue (ASTM D2872)",null,null,null,null,null,null,null,null,null,null,null,null,null,null,null,null,null,null,null,null,null,null,null,null,null,null,null,null,0.6,33.599398993707275,null,null,null,null,null,null,null,null,null,null,"RTFO Residue"]
["Mass Change, % (mass loss is reported as a negative value)",null,null,null,"D2872","1.00 max",null,null,null,null,null,null,null,null,null,null,null,null,null,null,null,null,null,null,null,null,null,null,null,0.7,32.262975574496444,null,null,null,null,null,null,null,null,null,null,"Mass Change",null,{"$f":"IF(ISBLANK(INDEX(AS34:AW34,1,MATCH($AR$12,$AS$13:$AW$13,0))),\"---\",INDEX(AS34:AW34,1,MATCH($AR$12,$AS$13:$AW$13,0)))","v":{"$error":"#N/A"}},"n/a","n/a","n/a","n/a","n/a",null,{"$f":"IF(ISBLANK(INDEX(AZ34:BE34,1,MATCH($AY$12,$AZ$13:$BE$13,0))),\"---\",INDEX(AZ34:BE34,1,MATCH($AY$12,$AZ$13:$BE$13,0)))","v":{"$error":"#N/A"}},"n/a","n/a","n/a","n/a","n/a","n/a",null,{"$f":"IF(ISBLANK(INDEX(BH33:BX33,1,MATCH($AY$12,$AZ$13:$BE$13,0))),\"---\",INDEX(BH33:BX33,1,MATCH($AY$12,$AZ$13:$BE$13,0)))","v":{"$error":"#N/A"}},"n/a","n/a","n/a","n/a","n/a",null,{"$f":"IF(ISBLANK(INDEX(BO34:BQ34,1,MATCH($BO$8,$BO$13:$BQ$13,0))),\"---\",INDEX(BO34:BQ34,1,MATCH($BO$8,$BO$13:$BQ$13,0)))","v":"1.00 max"},"1.00 max","1.00 max","1.00 max",null,{"$f":"IF(ISBLANK(INDEX(BT34:BX34,1,MATCH($BU$5,$BT$13:$BX$13,0))),\"---\",INDEX(BT34:BX34,1,MATCH($BU$5,$BT$13:$BX$13,0)))","v":{"$error":"#N/A"}},"1.00 max","1.00 max","1.00 max","1.00 max","1.00 max",null,"1.00 max"]
["Viscosity (Vacuum Capillary Viscometer), Pa·s",null,null,{"$f":"IF($AP$3=$AQ$11,AQ35,IF($AP$3=$AX$11,AX35,IF($AP$3=$BF$11,BF35,IF($AP$3=$BM$11,BM35,IF($AP$3=$BR$11,BR35,IF($AP$3=$BY$11,BY35,\"---\"))))))","v":"60°C"},"D2171","n/a",null,null,null,null,null,null,null,null,null,null,null,null,null,null,null,null,null,null,null,null,null,null,null,0.8,31.14835671908801,null,null,null,null,null,null,null,null,null,null,"Vacuum Visc","60°C",{"$error":"#N/A"},"n/a","n/a","n/a","n/a","n/a","60°C",{"$error":"#N/A"},"n/a","n/a","n/a","n/a","n/a","n/a","60°C",{"$error":"#N/A"},"100 ± 25","200 ± 50","400 ± 100","800 ± 200","1600 ± 400","60°C","n/a","n/a","n/a","n/a","60°C",{"$error":"#N/A"},"n/a","n/a","n/a","n/a","n/a","60°C","n/a"]
["Viscosity (Kinematic Viscometer), mm2/s",null,null,"135°C","D2170","n/a",null,null,null,null,null,null,null,null,null,null,null,null,null,null,null,null,null,null,null,null,null,null,null,0.9,30.197200359393317,null,null,null,null,null,null,null,null,null,null,"Kinematic Visc","135°C",{"$error":"#N/A"},"n/a","n/a","n/a","n/a","n/a","135°C",{"$error":"#N/A"},"n/a","n/a","n/a","n/a","n/a","n/a","135°C",{"$error":"#N/A"},"140 min","200 min","275 min","400 min","550 min","135°C","n/a","n/a","n/a","n/a","135°C",{"$error":"#N/A"},"n/a","n/a","n/a","n/a","n/a","135°C","n/a"]
["Penetration, dmm",null,null,"25°C","D5","n/a",null,null,null,null,null,null,null,null,null,null,null,null,null,null,null,null,null,null,null,null,null,null,null,1,29.370999999999999,null,null,null,null,null,null,null,null,null,null,"Pen","25°C",{"$error":"#N/A"},"n/a","n/a","n/a","n/a","n/a","25°C",{"$error":"#N/A"},"n/a","n/a","n/a","n/a","n/a","n/a","25°C",{"$error":"#N/A"},"65 min","40 min","25 min","20 min","20 min","25°C","n/a","n/a","n/a","n/a","25°C",{"$error":"#N/A"},"n/a","n/a","n/a","n/a","n/a","25°C","n/a"]
["Retained Penetration, % of Original Penetration",null,null,"25°C","D5","n/a",null,null,null,null,null,null,null,null,null,null,null,null,null,null,null,null,null,null,null,null,null,null,null,1.1000000000000001,28.643101322701579,null,null,null,null,null,null,null,null,null,null,"Ret Pen","25°C",{"$error":"#N/A"},"n/a","n/a","n/a","n/a","n/a","25°C",{"$error":"#N/A"},"n/a","n/a","n/a","n/a","n/a","n/a","25°C",{"$error":"#N/A"},"n/a","40 min","45 min","50 min","52 min","25°C","n/a","n/a","n/a","n/a","25°C",{"$error":"#N/A"},"n/a","n/a","n/a","n/a","n/a","25°C","n/a"]
["Ductility (5 cm/min), cm",null,null,"25°C","D113","n/a",null,null,null,null,null,null,null,null,null,null,null,null,null,null,null,null,null,null,null,null,null,null,null,1.2,27.994345044335958,null,null,null,null,null,null,null,null,null,null,"Ductility","25°C",{"$error":"#N/A"},"n/a","n/a","n/a","n/a","n/a","25°C",{"$error":"#N/A"},"n/a","n/a","n/a","n/a","n/a","n/a","25°C",{"$error":"#N/A"},"100 min","100 min","75 min","75 min","75 min","25°C","n/a","n/a","n/a","n/a","25°C",{"$error":"#N/A"},"n/a","n/a","n/a","n/a","n/a","25°C","n/a"]
["Dynamic Shear G*/sinδ (10 rad/sec), kPa",null,null,"64°C","D7175","2.20 min",null,null,null,null,null,null,null,null,null,null,null,null,null,null,null,null,null,null,null,null,null,null,null,1.3,27.410530987018923,null,null,null,null,null,null,null,null,null,null,"G*/sinδ","---",{"$error":"#N/A"},"n/a","n/a","n/a","n/a","n/a","---",{"$error":"#N/A"},"n/a","n/a","n/a","n/a","n/a","n/a","---",{"$error":"#N/A"},"n/a","n/a","n/a","n/a","n/a",{"$f":"$BO$3 & \"°C\"","v":"64°C"},"2.20 min","2.20 min","2.20 min","2.20 min","---",{"$error":"#N/A"},"n/a","n/a","n/a","n/a","n/a",{"$f":"$BY$2 & \"°C\"","v":"58°C"},"2.20 min"]
["Phase Angle, °",null,null,null,null,"Report",null,null,null,null,null,null,null,null,null,null,null,null,null,null,null,null,null,null,null,null,null,null,null,1.4,26.880863867790918,null,null,null,null,null,null,null,null,null,null,"δ","---",{"$error":"#N/A"},"n/a","n/a","n/a","n/a","n/a","---",{"$error":"#N/A"},"n/a","n/a","n/a","n/a","n/a","n/a","---",{"$error":"#N/A"},"n/a","n/a","n/a","n/a","n/a",{"$f":"$BO$3 & \"°C\"","v":"64°C"},"Report","Report","Report","Report","---",{"$error":"#N/A"},"n/a","n/a","n/a","n/a","n/a",{"$f":"$BY$2 & \"°C\"","v":"58°C"},"Report"]
["Elastic Recovery, %",null,null,{"$f":"IF($AP$3=$AQ$11,AQ42,IF($AP$3=$AX$11,AX42,IF($AP$3=$BF$11,BF42,IF($AP$3=$BM$11,BM42,IF($AP$3=$BR$11,BR42,IF($AP$3=$BY$11,BY42,\"---\"))))))","v":"25°C"},"D6084 Proc. B","n/a",null,null,null,null,null,null,null,null,null,null,null,null,null,null,null,null,null,null,null,null,null,null,null,1.5,26.396959419478009,null,null,null,null,null,null,null,null,null,null,"ER","25°C",{"$error":"#N/A"},{"$f":"IF($AE$6=\"Elastic Recovery\",$AF$21 & \" min\",\"n/a\")","v":"n/a"},{"$f":"IF($AE$6=\"Elastic Recovery\",$AF$21 & \" min\",\"n/a\")","v":"n/a"},{"$f":"IF($AE$6=\"Elastic Recovery\",$AF$21 & \" min\",\"n/a\")","v":"n/a"},{"$f":"IF($AE$6=\"Elastic Recovery\",$AF$21 & \" min\",\"n/a\")","v":"n/a"},{"$f":"IF($AE$6=\"Elastic Recovery\",$AF$21 & \" min\",\"n/a\")","v":"n/a"},"25°C",{"$error":"#N/A"},{"$f":"IF($AE$6=\"Elastic Recovery\",$AF$21 & \" min\",\"n/a\")","v":"n/a"},"n/a","n/a","n/a","n/a","n/a","25°C",{"$error":"#N/A"},{"$f":"IF($AE$6=\"Elastic Recovery\",$AF$21 & \" min\",\"n/a\")","v":"n/a"},{"$f":"IF($AE$6=\"Elastic Recovery\",$AF$21 & \" min\",\"n/a\")","v":"n/a"},{"$f":"IF($AE$6=\"Elastic Recovery\",$AF$21 & \" min\",\"n/a\")","v":"n/a"},{"$f":"IF($AE$6=\"Elastic Recovery\",$AF$21 & \" min\",\"n/a\")","v":"n/a"},{"$f":"IF($AE$6=\"Elastic Recovery\",$AF$21 & \" min\",\"n/a\")","v":"n/a"},"25°C","n/a",{"$f":"IF($AE$6=\"Elastic Recovery\",$AF$21 & \" min\",\"n/a\")","v":"n/a"},{"$f":"IF($AE$6=\"Elastic Recovery\",$AF$21 & \" min\",\"n/a\")","v":"n/a"},{"$f":"IF($AE$6=\"Elastic Recovery\",$AF$21 & \" min\",\"n/a\")","v":"n/a"},"25°C",{"$error":"#N/A"},{"$f":"IF($AE$6=\"Elastic Recovery\",$AF$21 & \" min\",\"n/a\")","v":"n/a"},{"$f":"IF($AE$6=\"Elastic Recovery\",$AF$21 & \" min\",\"n/a\")","v":"n/a"},{"$f":"IF($AE$6=\"Elastic Recovery\",$AF$21 & \" min\",\"n/a\")","v":"n/a"},{"$f":"IF($AE$6=\"Elastic Recovery\",$AF$21 & \" min\",\"n/a\")","v":"n/a"},{"$f":"IF($AE$6=\"Elastic Recovery\",$AF$21 & \" min\",\"n/a\")","v":"n/a"},"25°C","n/a"]
["MSCR Jnr (3.2 kPa), 1/kPa",null,null,{"$f":"IF($AP$3=$AQ$11,AQ43,IF($AP$3=$AX$11,AX43,IF($AP$3=$BF$11,BF43,IF($AP$3=$BM$11,BM43,IF($AP$3=$BR$11,BR43,IF($AP$3=$BY$11,BY43,\"---\"))))))","v":"64°C"},"D7405 / AASHTO R92","n/a",null,null,null,null,null,null,null,null,null,null,null,null,null,null,null,null,null,null,null,null,null,null,null,1.6,25.952185803130583,null,null,null,null,null,null,null,null,null,null,"Jnr","---",{"$error":"#N/A"},"n/a","n/a","n/a","n/a","n/a","---",{"$error":"#N/A"},"n/a","n/a","n/a","n/a","n/a","n/a","---",{"$error":"#N/A"},"n/a","n/a","n/a","n/a","n/a",{"$f":"$BO$6 & \"°C\"","v":"64°C"},"n/a","n/a","n/a","n/a",{"$f":"$BU$2 & \"°C\"","v":"64°C"},{"$error":"#N/A"},"4.5 max","2.0 max","1.0 max","0.5 max","0.5 max",{"$f":"$BY$2 & \"°C\"","v":"58°C"},"0.25 max"]
["MSCR Jnr, diff, %",null,null,null,null,"n/a",null,null,null,null,null,null,null,null,null,null,null,null,null,null,null,null,null,null,null,null,null,null,null,1.7,25.541213788494026,null,null,null,null,null,null,null,null,null,null,"Jnr, diff","---",{"$error":"#N/A"},"n/a","n/a","n/a","n/a","n/a","---",{"$error":"#N/A"},"n/a","n/a","n/a","n/a","n/a","n/a","---",{"$error":"#N/A"},"n/a","n/a","n/a","n/a","n/a",{"$f":"$BO$6 & \"°C\"","v":"64°C"},"n/a","n/a","n/a","n/a",{"$f":"$BU$2 & \"°C\"","v":"64°C"},{"$error":"#N/A"},"75 max","75 max","75 max","n/a","n/a",{"$f":"$BY$2 & \"°C\"","v":"58°C"},"n/a"]
["MSCR Percent Recovery (3.2 kPa), %",null,null,null,null,"n/a",null,null,null,null,null,null,null,null,null,null,null,null,null,null,null,null,null,null,null,null,null,null,null,2,25,null,null,null,null,null,null,null,null,null,null,"%Rec","---",{"$error":"#N/A"},"n/a","n/a","n/a","n/a","n/a","---",{"$error":"#N/A"},"n/a","n/a","n/a","n/a","n/a","n/a","---",{"$error":"#N/A"},"n/a","n/a","n/a","n/a","n/a",{"$f":"$BO$6 & \"°C\"","v":"64°C"},{"$f":"IF($AE$6=\"Percent Recovery\",IF(ISBLANK(INDEX(BO45:BQ45,1,MATCH($BO$8,$BO$13:$BQ$13,0))),\"---\",INDEX(BO45:BQ45,1,MATCH($BO$8,$BO$13:$BQ$13,0))),\"n/a\")","v":"n/a"},"n/a","55 min","75 min",{"$f":"$BU$2 & \"°C\"","v":"64°C"},{"$error":"#N/A"},"Report","Report","Report","75 min","90 min",{"$f":"$BY$2 & \"°C\"","v":"58°C"},"85 min"]
["Pressure Aging Vessel (PAV) Residue, 100°C, 2.1 MPa, 20 hr (ASTM D6521)",null,null,null,null,null,null,null,null,null,null,null,null,null,null,null,null,null,null,null,null,null,null,null,null,null,null,null,null,2,0,null,null,null,null,null,null,null,null,null,null,"PAV Residue"]
["Dynamic Shear G*sinδ (10 rad/sec), kPa",null,null,{"$f":"IF($AP$3=$AQ$11,AQ47,IF($AP$3=$AX$11,AX47,IF($AP$3=$BF$11,BF47,IF($AP$3=$BM$11,BM47,IF($AP$3=$BR$11,BR47,IF($AP$3=$BY$11,BY47,\"---\"))))))","v":"25°C"},"D7175","6000 max",null,null,null,null,null,null,null,null,null,null,null,null,null,null,null,null,null,null,null,null,null,null,null,null,null,null,null,null,null,null,null,null,null,null,null,"G*sinδ","---",{"$f":"IF(ISBLANK(INDEX(AS47:AW47,1,MATCH($AR$12,$AS$13:$AW$13,0))),\"---\",INDEX(AS47:AW47,1,MATCH($AR$12,$AS$13:$AW$13,0)))","v":{"$error":"#N/A"}},"n/a","n/a","n/a","n/a","n/a","---",{"$f":"IF(ISBLANK(INDEX(AZ47:BE47,1,MATCH($AY$12,$AZ$13:$BE$13,0))),\"---\",INDEX(AZ47:BE47,1,MATCH($AY$12,$AZ$13:$BE$13,0)))","v":{"$error":"#N/A"}},"n/a","n/a","n/a","n/a","n/a","n/a","---",{"$f":"IF(ISBLANK(INDEX(BH46:BX46,1,MATCH($AY$12,$AZ$13:$BE$13,0))),\"---\",INDEX(BH46:BX46,1,MATCH($AY$12,$AZ$13:$BE$13,0)))","v":{"$error":"#N/A"}},"n/a","n/a","n/a","n/a","n/a",{"$f":"$BO$4 & \"°C\"","v":"25°C"},{"$f":"IF(ISBLANK(INDEX(BO47:BQ47,1,MATCH($BO$8,$BO$13:$BQ$13,0))),\"---\",INDEX(BO47:BQ47,1,MATCH($BO$8,$BO$13:$BQ$13,0)))","v":"6000 max"},"6000 max","6000 max","6000 max",{"$f":"IF($BU$6=\"HP\",$BU$8,$BU$3) & \"°C\"","v":"47°C"},{"$f":"IF(ISBLANK(INDEX(BT47:BX47,1,MATCH($BU$5,$BT$13:$BX$13,0))),\"---\",INDEX(BT47:BX47,1,MATCH($BU$5,$BT$13:$BX$13,0)))","v":{"$error":"#N/A"}},"6000 max","6000 max","6000 max","6000 max","6000 max",{"$f":"IF($BY$6=\"HP\",$BY$8,$BY$3) & \"°C\"","v":"16°C"},"n/a"]
["Phase Angle, °",null,null,null,null,"42 min",null,null,null,null,null,null,null,null,null,null,null,null,null,null,null,null,null,null,null,null,null,null,null,null,null,null,null,null,null,null,null,null,null,null,null,"δ","---",{"$f":"IF(ISBLANK(INDEX(AS48:AW48,1,MATCH($AR$12,$AS$13:$AW$13,0))),\"---\",INDEX(AS48:AW48,1,MATCH($AR$12,$AS$13:$AW$13,0)))","v":{"$error":"#N/A"}},"n/a","n/a","n/a","n/a","n/a","---",{"$f":"IF(ISBLANK(INDEX(AZ48:BE48,1,MATCH($AY$12,$AZ$13:$BE$13,0))),\"---\",INDEX(AZ48:BE48,1,MATCH($AY$12,$AZ$13:$BE$13,0)))","v":{"$error":"#N/A"}},"n/a","n/a","n/a","n/a","n/a","n/a","---",{"$f":"IF(ISBLANK(INDEX(BH47:BX47,1,MATCH($AY$12,$AZ$13:$BE$13,0))),\"---\",INDEX(BH47:BX47,1,MATCH($AY$12,$AZ$13:$BE$13,0)))","v":{"$error":"#N/A"}},"n/a","n/a","n/a","n/a","n/a",{"$f":"$BO$4 & \"°C\"","v":"25°C"},{"$f":"IF(ISBLANK(INDEX(BO48:BQ48,1,MATCH($BO$8,$BO$13:$BQ$13,0))),\"---\",INDEX(BO48:BQ48,1,MATCH($BO$8,$BO$13:$BQ$13,0)))","v":"42 min"},"42 min","42 min","42 min",{"$f":"IF($BU$6=\"HP\",$BU$8,$BU$3) & \"°C\"","v":"47°C"},{"$f":"IF(ISBLANK(INDEX(BT48:BX48,1,MATCH($BU$5,$BT$13:$BX$13,0))),\"---\",INDEX(BT48:BX48,1,MATCH($BU$5,$BT$13:$BX$13,0)))","v":{"$error":"#N/A"}},"42 min","42 min","42 min","Report","Report",{"$f":"IF($BY$6=\"HP\",$BY$8,$BY$3) & \"°C\"","v":"16°C"},"n/a"]
["Creep Stiffness, 60 sec, MPa ",null,null,{"$f":"IF($AP$3=$AQ$11,AQ49,IF($AP$3=$AX$11,AX49,IF($AP$3=$BF$11,BF49,IF($AP$3=$BM$11,BM49,IF($AP$3=$BR$11,BR49,IF($AP$3=$BY$11,BY49,\"---\"))))))","v":"-12°C"},"D6648","300 max",null,null,null,null,null,null,null,null,null,null,null,null,null,null,null,null,null,null,null,null,null,null,null,null,null,null,null,null,null,null,null,null,null,null,null,"S","---",{"$f":"IF(ISBLANK(INDEX(AS49:AW49,1,MATCH($AR$12,$AS$13:$AW$13,0))),\"---\",INDEX(AS49:AW49,1,MATCH($AR$12,$AS$13:$AW$13,0)))","v":{"$error":"#N/A"}},"n/a","n/a","n/a","n/a","n/a","---",{"$f":"IF(ISBLANK(INDEX(AZ49:BE49,1,MATCH($AY$12,$AZ$13:$BE$13,0))),\"---\",INDEX(AZ49:BE49,1,MATCH($AY$12,$AZ$13:$BE$13,0)))","v":{"$error":"#N/A"}},"n/a","n/a","n/a","n/a","n/a","n/a","---",{"$f":"IF(ISBLANK(INDEX(BH48:BX48,1,MATCH($AY$12,$AZ$13:$BE$13,0))),\"---\",INDEX(BH48:BX48,1,MATCH($AY$12,$AZ$13:$BE$13,0)))","v":{"$error":"#N/A"}},"n/a","n/a","n/a","n/a","n/a",{"$f":"$BO$5+10 & \"°C\"","v":"-12°C"},{"$f":"IF(ISBLANK(INDEX(BO49:BQ49,1,MATCH($BO$8,$BO$13:$BQ$13,0))),\"---\",INDEX(BO49:BQ49,1,MATCH($BO$8,$BO$13:$BQ$13,0)))","v":"300 max"},"300 max","300 max","300 max",{"$f":"$BU$4+10 & \"°C\"","v":"32°C"},{"$f":"IF(ISBLANK(INDEX(BT49:BX49,1,MATCH($BU$5,$BT$13:$BX$13,0))),\"---\",INDEX(BT49:BX49,1,MATCH($BU$5,$BT$13:$BX$13,0)))","v":{"$error":"#N/A"}},"300 max","300 max","300 max","300 max","300 max",{"$f":"$BY$4+10 & \"°C\"","v":"-24°C"},"300 max"]
["Creep m-value, 60 sec",null,null,null,null,"0.300 min",null,null,null,null,null,null,null,null,null,null,null,null,null,null,null,null,null,null,null,null,null,null,null,null,null,null,null,null,null,null,null,null,null,null,null,"m","---",{"$f":"IF(ISBLANK(INDEX(AS50:AW50,1,MATCH($AR$12,$AS$13:$AW$13,0))),\"---\",INDEX(AS50:AW50,1,MATCH($AR$12,$AS$13:$AW$13,0)))","v":{"$error":"#N/A"}},"n/a","n/a","n/a","n/a","n/a","---",{"$f":"IF(ISBLANK(INDEX(AZ50:BE50,1,MATCH($AY$12,$AZ$13:$BE$13,0))),\"---\",INDEX(AZ50:BE50,1,MATCH($AY$12,$AZ$13:$BE$13,0)))","v":{"$error":"#N/A"}},"n/a","n/a","n/a","n/a","n/a","n/a","---",{"$f":"IF(ISBLANK(INDEX(BH49:BX49,1,MATCH($AY$12,$AZ$13:$BE$13,0))),\"---\",INDEX(BH49:BX49,1,MATCH($AY$12,$AZ$13:$BE$13,0)))","v":{"$error":"#N/A"}},"n/a","n/a","n/a","n/a","n/a",{"$f":"$BO$5+10 & \"°C\"","v":"-12°C"},{"$f":"IF(ISBLANK(INDEX(BO50:BQ50,1,MATCH($BO$8,$BO$13:$BQ$13,0))),\"---\",INDEX(BO50:BQ50,1,MATCH($BO$8,$BO$13:$BQ$13,0)))","v":"0.300 min"},"0.300 min","0.300 min","0.300 min",{"$f":"$BU$4+10 & \"°C\"","v":"32°C"},{"$f":"IF(ISBLANK(INDEX(BT50:BX50,1,MATCH($BU$5,$BT$13:$BX$13,0))),\"---\",INDEX(BT50:BX50,1,MATCH($BU$5,$BT$13:$BX$13,0)))","v":{"$error":"#N/A"}},"0.300 min","0.300 min","0.300 min","0.300 min","0.300 min",{"$f":"$BY$4+10 & \"°C\"","v":"-24°C"},"0.300 min"]
[]
["Comments:"]
[]
[]
[]
["LAB TECHNICIAN (or other title)",null,null,null,"LAB MANAGER (or other title)"]

{"sheet":"JMF Summary (MDV)","index":17,"n_rows":51,"n_cols":39,"rows_kept":51,"cut":false,"hidden":true,"merged":[[41,11,41,12],[49,0,49,1],[49,3,49,6],[43,11,43,12],[44,11,44,12],[45,11,45,12],[46,11,46,12],[47,11,47,12],[48,0,48,1],[48,3,48,6],[48,11,48,12],[42,11,42,12],[40,0,40,1],[40,3,40,6],[40,11,40,12],[38,2,38,3],[38,11,38,12],[39,11,39,12],[31,11,31,12],[32,11,32,12],[36,2,36,3],[36,11,36,12],[37,2,37,3],[37,11,37,12],[35,8,35,12],[33,11,33,12],[32,4,32,5],[33,4,33,5],[26,11,26,12],[27,11,27,12],[28,11,28,12],[29,11,29,12],[30,11,30,12],[7,1,7,2],[9,0,9,12],[10,9,14,9],[10,11,14,12],[16,11,16,12],[10,10,14,10],[10,4,10,5],[11,4,11,5],[12,4,12,5],[13,4,13,5],[14,4,14,5],[15,4,15,5],[16,4,16,5],[22,11,22,12],[23,11,23,12],[24,11,24,12],[25,11,25,12],[12,31,12,35],[15,11,15,12],[21,11,21,12],[17,11,17,12],[18,11,18,12],[19,11,19,12],[20,11,20,12],[5,1,5,2],[5,31,6,31],[6,1,6,2],[1,31,1,32],[2,1,2,2],[3,1,3,2],[4,1,4,2],[2,10,2,11],[2,4,2,5],[3,4,3,5],[4,4,4,5],[5,4,5,5],[17,4,17,5],[18,4,18,5],[19,4,19,5],[20,4,20,5],[21,4,21,5],[22,4,22,5],[23,4,23,5],[24,4,24,5],[25,4,25,5],[26,4,26,5],[27,4,27,5],[28,4,28,5],[29,4,29,5],[30,4,30,5],[31,4,31,5]]}
["UFGS 32 12 15.13 Asphalt Mix Design Verification (MDV) Summary",null,null,null,null,null,null,null,null,null,null,null,null,"UFGS 32 12 15.13 Power 0.45 Combined Gradation Plot"]
[null,null,null,null,null,null,null,null,null,null,null,null,null,null,null,null,null,null,null,null,null,null,null,null,null,null,null,null,null,null,null,"General Mix Information",null,null,null,null,null,"Manual Design Override"]
["Mix ID","TNF-M1A",null,null,"Gradation",null,{"$f":"IF(AL4=\"Spec. Value\",AG5,AL4)","v":2},null,"Temps","Range","Target",null,null,null,null,null,null,null,null,null,null,null,null,null,null,null,null,null,null,null,null,"Specs Type",{"$f":"'Specs Import'!D4","v":"Generic UFGS"},null,null,null,null,"Gradation","Compaction"]
["Date Developed","---",null,null,"Compaction",null,{"$f":"IF(AM4=\"Spec. Value\",AG7,AM4)","v":"75 Gyr"},null,"Mixing",{"$f":"IF($AG$4=\"US\",IF(ISNUMBER('Binder Report (MDV)'!F10),'Binder Report (MDV)'!F10,\"X\")&\" - \"&IF(ISNUMBER('Binder Report (MDV)'!G10),'Binder Report (MDV)'!G10,\"X\"),IF(ISNUMBER('Binder Report (MDV)'!D10),'Binder Report (MDV)'!D10,\"X\")&\" - \"&IF(ISNUMBER('Binder Report (MDV)'!E10),'Binder Report (MDV)'!E10,\"X\"))","v":"320 - 330"},300,{"$f":"IF($AG$4=\"US\",\"°F\",\"°C\")","v":"°F"},null,null,null,null,null,null,null,null,null,null,null,null,null,null,null,null,null,null,null,"Units",{"$f":"'Specs Import'!D5","v":"US"},null,null,null,null,"Spec. Value","Spec. Value"]
["Project","Tinian North Field",null,null,"Binder Grade",null,{"$f":"AG9","v":"PG 64-22"},null,"Compaction",{"$f":"IF($AG$4=\"US\",IF(ISNUMBER('Binder Report (MDV)'!F11),'Binder Report (MDV)'!F11,\"X\")&\" - \"&IF(ISNUMBER('Binder Report (MDV)'!G11),'Binder Report (MDV)'!G11,\"X\"),IF(ISNUMBER('Binder Report (MDV)'!D11),'Binder Report (MDV)'!D11,\"X\")&\" - \"&IF(ISNUMBER('Binder Report (MDV)'!E11),'Binder Report (MDV)'!E11,\"X\"))","v":"295 - 305"},280,{"$f":"IF($AG$4=\"US\",\"°F\",\"°C\")","v":"°F"},null,null,null,null,null,null,null,null,null,null,null,null,null,null,null,null,null,null,null,"Gradation",{"$f":"'Specs Import'!D7","v":2}]
["Producer","Fluor / Tigerbrain",null,null,"Source",null,"Ergon PG 67-22",null,"STMC",1,280,{"$f":"IF($AG$4=\"US\",\"°F\",\"°C\")","v":"°F"},null,null,null,null,null,null,null,null,null,null,null,null,null,null,null,null,null,null,null,"Compaction & Effort",{"$f":"'Specs Import'!D8","v":"Gyratory"}]
["Mix Verifier","USACE ERDC",null,null,null,null,null,null,null,null,null,null,null,null,null,null,null,null,null,null,null,null,null,null,null,null,null,null,null,null,null,null,{"$f":"'Specs Import'!D9","v":"75 Gyr"}]
["Contract No.",null,null,null,null,null,null,null,null,null,null,null,null,null,null,null,null,null,null,null,null,null,null,null,null,null,null,null,null,null,null,"Binder Grading",{"$f":"'Specs Import'!D10","v":"PG"}]
[null,null,null,null,null,null,null,null,null,null,null,null,null,null,null,null,null,null,null,null,null,null,null,null,null,null,null,null,null,null,null,"Binder Grade",{"$f":"'Specs Import'!D11","v":"PG 64-22"}]
["Aggregate Properties",null,null,null,null,null,null,null,null,null,null,null,null,null,null,null,null,null,null,null,null,null,null,null,null,null,null,null,null,null,null,"Climatic Grade",{"$f":"'Specs Import'!D12","v":"PG 64-22"}]
["Aggregate ID",null,null,null,null,null,null,null,null,"Agg Blend Results (MDV)","Agg\nBlend Results (KTR)","Spec. \nLimits",null,null,null,null,null,null,null,null,null,null,null,null,null,null,null,null,null,null,null,"PG+ Test",{"$f":"'Specs Import'!D13","v":"None"}]
["Source"]
["Type","Basalt","Coralline","Coralline","Coralline",null,"---","---","---",null,null,null,null,null,null,null,null,null,null,null,null,null,null,null,null,null,null,null,null,null,null,"Specification Limits"]
["Classification",{"$f":"IF(ISNUMBER(B20),IF(B20<25,\"CA\",IF(B20>75,\"FA\",\"IA\")),\"---\")&IF('Agg - Fine (MDV)'!AK8,\" (NS)\",\"\")","v":"---"},{"$f":"IF(ISNUMBER(C20),IF(C20<25,\"CA\",IF(C20>75,\"FA\",\"IA\")),\"---\")&IF('Agg - Fine (MDV)'!AK9,\" (NS)\",\"\")","v":"---"},{"$f":"IF(ISNUMBER(D20),IF(D20<25,\"CA\",IF(D20>75,\"FA\",\"IA\")),\"---\")&IF('Agg - Fine (MDV)'!AK10,\" (NS)\",\"\")","v":"---"},{"$f":"IF(ISNUMBER(E20),IF(E20<25,\"CA\",IF(E20>75,\"FA\",\"IA\")),\"---\")&IF('Agg - Fine (MDV)'!AK11,\" (NS)\",\"\")","v":"---"},null,{"$f":"IF(ISNUMBER(G20),IF(G20<25,\"CA\",IF(G20>75,\"FA\",\"IA\")),\"---\")&IF('Agg - Fine (MDV)'!AK12,\" (NS)\",\"\")","v":"---"},{"$f":"IF(ISNUMBER(H20),IF(H20<25,\"CA\",IF(H20>75,\"FA\",\"IA\")),\"---\")&IF('Agg - Fine (MDV)'!AK13,\" (NS)\",\"\")","v":"---"},{"$f":"IF(ISNUMBER(I20),IF(I20<25,\"CA\",IF(I20>75,\"FA\",\"IA\")),\"---\")&IF('Agg - Fine (MDV)'!AQ8,\" (NS)\",\"\")","v":"---"},null,null,null,null,null,null,null,null,null,null,null,null,null,null,null,null,null,null,null,null,null,null,"Property","Operator","Limit 1",null,"Limit 2"]
[{"$f":"IF(ISBLANK(B15),\"Agg Blend %\",IF(SUM(B15:I15)=100,\"Agg Blend %\",\"Blend ≠ 100%\"))","v":"Agg Blend %"},null,null,null,null,null,null,null,null,null,null,null,null,null,null,null,null,null,null,null,null,null,null,null,null,null,null,null,null,null,null,"LA Abrasion, %",{"$f":"'Specs Import'!U101","v":"≤"},{"$f":"IF($AG$4=\"US\",'Specs Import'!K101,'Specs Import'!R101)","v":40}," - "]
["1\" / 25.0 mm",null,null,null,null,null,null,null,null,{"$f":"B$15/100*B16+C$15/100*C16+D$15/100*D16+E$15/100*E16+G$15/100*G16+H$15/100*H16+I$15/100*I16","v":0},{"$f":"'JMF Summary'!I16","v":0},{"$f":"IF(AH25<>0,FIXED(AH25,0)&AI25,\"\")&IF(AJ25<>0,AJ25,100)","v":"---"},null,null,null,null,null,null,null,null,null,null,null,null,null,null,null,null,null,null,null,"Sodium Sulfate Soundness, %",{"$f":"'Specs Import'!$U$102","v":"≤"},{"$f":"IF($AG$4=\"US\",'Specs Import'!K102,'Specs Import'!R102)","v":12}," - "]
["3/4\" / 19.0 mm",null,null,null,null,null,null,null,null,0,{"$f":"'JMF Summary'!I17","v":0},{"$f":"IF(AH26<>0,FIXED(AH26,0)&AI26,\"\")&IF(AJ26<>0,AJ26,100)","v":"100"},null,null,null,null,null,null,null,null,null,null,null,null,null,null,null,null,null,null,null,"Magnesium Sulfate Soundness",{"$f":"'Specs Import'!$U$103","v":"≤"},{"$f":"IF($AG$4=\"US\",'Specs Import'!K103,'Specs Import'!R103)","v":18}," - "]
["1/2\" / 12.5 mm",null,null,null,null,null,null,null,null,{"$f":"B$15/100*B18+C$15/100*C18+D$15/100*D18+E$15/100*E18+G$15/100*G18+H$15/100*H18+I$15/100*I18","v":0},{"$f":"'JMF Summary'!I18","v":0},"90 - 100",null,null,null,null,null,null,null,null,null,null,null,null,null,null,null,null,null,null,null,"Fractured Faces, %",{"$f":"'Specs Import'!$U$104","v":"≥"},{"$f":"IF($AG$4=\"US\",'Specs Import'!H104,'Specs Import'!O104)","v":75}," - "]
["3/8\" / 9.5 mm",null,null,null,null,null,null,null,null,0,{"$f":"'JMF Summary'!I19","v":0},"69 - 89",null,null,null,null,null,null,null,null,null,null,null,null,null,null,null,null,null,null,null,"F&E, %",{"$f":"'Specs Import'!$U$105","v":"≤"},{"$f":"IF($AG$4=\"US\",'Specs Import'!K105,'Specs Import'!R105)","v":5}," - "]
["#4 / 4.75 mm",null,null,null,null,null,null,null,null,{"$f":"B$15/100*B20+C$15/100*C20+D$15/100*D20+E$15/100*E20+G$15/100*G20+H$15/100*H20+I$15/100*I20","v":0},{"$f":"'JMF Summary'!I20","v":0},"53 - 73",null,null,null,null,null,null,null,null,null,null,null,null,null,null,null,null,null,null,null,"Clay Lumps, %",{"$f":"'Specs Import'!$U$107","v":"≤"},{"$f":"IF($AG$4=\"US\",'Specs Import'!K107,'Specs Import'!R107)","v":0.3}," - "]
["#8 / 2.36 mm",null,null,null,null,null,null,null,null,0,{"$f":"'JMF Summary'!I21","v":0},"38 - 60",null,null,null,null,null,null,null,null,null,null,null,null,null,null,null,null,null,null,null,"Natural Sand, %",{"$f":"'Specs Import'!U108","v":"≤"},{"$f":"IF($AG$4=\"US\",'Specs Import'!K108,'Specs Import'!R108)","v":15}]
["#16 / 1.18 mm",null,null,null,null,null,null,null,null,0,{"$f":"'JMF Summary'!I22","v":0},"26 - 48",null,null,null,null,null,null,null,null,null,null,null,null,null,null,null,null,null,null,null,"Sand Equivalency",{"$f":"'Specs Import'!$U$109","v":">"},{"$f":"IF($AG$4=\"US\",'Specs Import'!G109,'Specs Import'!N109)","v":45}," - "]
["#30 / 0.60 mm",null,null,null,null,null,null,null,null,0,{"$f":"'JMF Summary'!I23","v":0},"18 - 38",null,null,null,null,null,null,null,null,null,null,null,null,null,null,null,null,null,null,null,"FAA, %",{"$f":"'Specs Import'!$U$110","v":">"},{"$f":"IF($AG$4=\"US\",'Specs Import'!G110,'Specs Import'!N110)","v":45}," - "]
["#50 / 0.30 mm",null,null,null,null,null,null,null,null,0,{"$f":"'JMF Summary'!I24","v":0},"11 - 27",null,null,null,null,null,null,null,null,null,null,null,null,null,null,null,null,null,null,null,"Clay Lumps, %",{"$f":"'Specs Import'!$U$111","v":"≤"},{"$f":"IF($AG$4=\"US\",'Specs Import'!K111,'Specs Import'!R111)","v":0.3}," - "]
["#100 / 0.15 mm",null,null,null,null,null,null,null,null,0,{"$f":"'JMF Summary'!I25","v":0},"6 - 18",null,null,null,null,null,null,null,null,null,null,null,null,null,null,null,null,null,null,null,"1\" / 25.0 mm",null,{"$f":"IFERROR(IF($AG$4=\"US\",IF($G$3=1,'Specs Import'!H114,IF($G$3=2,'Specs Import'!H126,'Specs Import'!H138)),IF($G$3=1,'Specs Import'!O114,IF($G$3=2,'Specs Import'!O126,'Specs Import'!O138))),0)","v":0}," - ",{"$f":"IFERROR(IF($AG$4=\"US\",IF($G$3=1,'Specs Import'!K114,IF($G$3=2,'Specs Import'!K126,'Specs Import'!K138)),IF($G$3=1,'Specs Import'!R114,IF($G$3=2,'Specs Import'!R126,'Specs Import'!R138))),0)","v":"---"}]
["#200 / 0.075 mm",null,null,null,null,null,null,null,null,{"$f":"B$15/100*B26+C$15/100*C26+D$15/100*D26+E$15/100*E26+G$15/100*G26+H$15/100*H26+I$15/100*I26","v":0},{"$f":"'JMF Summary'!I26","v":0},"3 - 6",null,null,null,null,null,null,null,null,null,null,null,null,null,null,null,null,null,null,null,"3/4\" / 19.0 mm",null,{"$f":"IFERROR(IF($AG$4=\"US\",IF($G$3=1,'Specs Import'!H115,IF($G$3=2,'Specs Import'!H127,'Specs Import'!H139)),IF($G$3=1,'Specs Import'!O115,IF($G$3=2,'Specs Import'!O127,'Specs Import'!O139))),0)","v":0}," - ",{"$f":"IFERROR(IF($AG$4=\"US\",IF($G$3=1,'Specs Import'!K115,IF($G$3=2,'Specs Import'!K127,'Specs Import'!K139)),IF($G$3=1,'Specs Import'!R115,IF($G$3=2,'Specs Import'!R127,'Specs Import'!R139))),0)","v":100}]
["Gsa",{"$f":"IFERROR('Agg Gsb (MDV)'!C39,\"---\")","v":"---"},{"$f":"IFERROR('Agg Gsb (MDV)'!E39,\"---\")","v":"---"},{"$f":"IFERROR('Agg Gsb (MDV)'!G39,\"---\")","v":"---"},{"$f":"IFERROR('Agg Gsb (MDV)'!I39,\"---\")","v":"---"},null,{"$f":"IFERROR('Agg Gsb (MDV)'!K39,\"---\")","v":"---"},{"$f":"IFERROR('Agg Gsb (MDV)'!M39,\"---\")","v":"---"},{"$f":"IFERROR('Agg Gsb (MDV)'!O39,\"---\")","v":"---"},{"$f":"IFERROR('Agg Gsb (MDV)'!Q39,\"---\")","v":"---"},{"$f":"'JMF Summary'!I27","v":"---"},"---",null,null,null,null,null,null,null,null,null,null,null,null,null,null,null,null,null,null,null,"1/2\" / 12.5 mm",null,{"$f":"IFERROR(IF($AG$4=\"US\",IF($G$3=1,'Specs Import'!H116,IF($G$3=2,'Specs Import'!H128,'Specs Import'!H140)),IF($G$3=1,'Specs Import'!O116,IF($G$3=2,'Specs Import'!O128,'Specs Import'!O140))),0)","v":90}," - ",{"$f":"IFERROR(IF($AG$4=\"US\",IF($G$3=1,'Specs Import'!K116,IF($G$3=2,'Specs Import'!K128,'Specs Import'!K140)),IF($G$3=1,'Specs Import'!R116,IF($G$3=2,'Specs Import'!R128,'Specs Import'!R140))),0)","v":100}]
["Gsb",{"$f":"IFERROR('Agg Gsb (MDV)'!C40,\"---\")","v":"---"},{"$f":"IFERROR('Agg Gsb (MDV)'!E40,\"---\")","v":"---"},{"$f":"IFERROR('Agg Gsb (MDV)'!G40,\"---\")","v":"---"},{"$f":"IFERROR('Agg Gsb (MDV)'!I40,\"---\")","v":"---"},null,{"$f":"IFERROR('Agg Gsb (MDV)'!K40,\"---\")","v":"---"},{"$f":"IFERROR('Agg Gsb (MDV)'!M40,\"---\")","v":"---"},{"$f":"IFERROR('Agg Gsb (MDV)'!O40,\"---\")","v":"---"},{"$f":"IFERROR('Agg Gsb (MDV)'!Q40,\"---\")","v":"---"},{"$f":"'JMF Summary'!I28","v":"---"},"---",null,null,null,null,null,null,null,null,null,null,null,null,null,null,null,null,null,null,null,"3/8\" / 9.5 mm",null,{"$f":"IFERROR(IF($AG$4=\"US\",IF($G$3=1,'Specs Import'!H117,IF($G$3=2,'Specs Import'!H129,'Specs Import'!H141)),IF($G$3=1,'Specs Import'!O117,IF($G$3=2,'Specs Import'!O129,'Specs Import'!O141))),0)","v":69}," - ",{"$f":"IFERROR(IF($AG$4=\"US\",IF($G$3=1,'Specs Import'!K117,IF($G$3=2,'Specs Import'!K129,'Specs Import'!K141)),IF($G$3=1,'Specs Import'!R117,IF($G$3=2,'Specs Import'!R129,'Specs Import'!R141))),0)","v":89}]
["Abs, %",{"$f":"IFERROR('Agg Gsb (MDV)'!C41,\"---\")","v":"---"},{"$f":"IFERROR('Agg Gsb (MDV)'!E41,\"---\")","v":"---"},{"$f":"IFERROR('Agg Gsb (MDV)'!G41,\"---\")","v":"---"},{"$f":"IFERROR('Agg Gsb (MDV)'!I41,\"---\")","v":"---"},null,{"$f":"IFERROR('Agg Gsb (MDV)'!K41,\"---\")","v":"---"},{"$f":"IFERROR('Agg Gsb (MDV)'!M41,\"---\")","v":"---"},{"$f":"IFERROR('Agg Gsb (MDV)'!O41,\"---\")","v":"---"},{"$f":"IFERROR('Agg Gsb (MDV)'!Q41,\"---\")","v":0},{"$f":"'JMF Summary'!I29","v":0},"---",null,null,null,null,null,null,null,null,null,null,null,null,null,null,null,null,null,null,null,"#4 / 4.75 mm",null,{"$f":"IFERROR(IF($AG$4=\"US\",IF($G$3=1,'Specs Import'!H118,IF($G$3=2,'Specs Import'!H130,'Specs Import'!H142)),IF($G$3=1,'Specs Import'!O118,IF($G$3=2,'Specs Import'!O130,'Specs Import'!O142))),0)","v":53}," - ",{"$f":"IFERROR(IF($AG$4=\"US\",IF($G$3=1,'Specs Import'!K118,IF($G$3=2,'Specs Import'!K130,'Specs Import'!K142)),IF($G$3=1,'Specs Import'!R118,IF($G$3=2,'Specs Import'!R130,'Specs Import'!R142))),0)","v":73}]
["LA Abrasion, %",{"$f":"IFERROR('Agg - Coarse (MDV)'!D17,\"---\")","v":"---"},{"$f":"IFERROR('Agg - Coarse (MDV)'!F17,\"---\")","v":"---"},{"$f":"IFERROR('Agg - Coarse (MDV)'!H17,\"---\")","v":"---"},{"$f":"IFERROR('Agg - Coarse (MDV)'!J17,\"---\")","v":"---"},null,{"$f":"IFERROR('Agg - Coarse (MDV)'!L17,\"---\")","v":"---"},{"$f":"IFERROR('Agg - Coarse (MDV)'!N17,\"---\")","v":"---"},{"$f":"IFERROR('Agg - Coarse (MDV)'!P17,\"---\")","v":"---"},"---",{"$f":"'JMF Summary'!I30","v":"---"},{"$f":"IF(AND(ISNUMBER(AH15),AH15<>0),AG15 & \" \" & FIXED(AH15,0),\"---\")","v":"≤ 40"},null,null,null,null,null,null,null,null,null,null,null,null,null,null,null,null,null,null,null,"#8 / 2.36 mm",null,{"$f":"IFERROR(IF($AG$4=\"US\",IF($G$3=1,'Specs Import'!H119,IF($G$3=2,'Specs Import'!H131,'Specs Import'!H143)),IF($G$3=1,'Specs Import'!O119,IF($G$3=2,'Specs Import'!O131,'Specs Import'!O143))),0)","v":38}," - ",{"$f":"IFERROR(IF($AG$4=\"US\",IF($G$3=1,'Specs Import'!K119,IF($G$3=2,'Specs Import'!K131,'Specs Import'!K143)),IF($G$3=1,'Specs Import'!R119,IF($G$3=2,'Specs Import'!R131,'Specs Import'!R143))),0)","v":60}]
["Fractured Faces, %",{"$f":"IFERROR('Agg - Coarse (MDV)'!D42,\"---\")","v":"---"},{"$f":"IFERROR('Agg - Coarse (MDV)'!F42,\"---\")","v":"---"},{"$f":"IFERROR('Agg - Coarse (MDV)'!H42,\"---\")","v":"---"},{"$f":"IFERROR('Agg - Coarse (MDV)'!J42,\"---\")","v":"---"},null,{"$f":"IFERROR('Agg - Coarse (MDV)'!L42,\"---\")","v":"---"},{"$f":"IFERROR('Agg - Coarse (MDV)'!N42,\"---\")","v":"---"},{"$f":"IFERROR('Agg - Coarse (MDV)'!P42,\"---\")","v":"---"},"---",{"$f":"'JMF Summary'!I31","v":"---"},{"$f":"IF(AND(ISNUMBER(AH18),AH18<>0),AG18 & \" \" & FIXED(AH18,0),\"---\")","v":"≥ 75"},null,null,null,null,null,null,null,null,null,null,null,null,null,null,null,null,null,null,null,"#16 / 1.18 mm",null,{"$f":"IFERROR(IF($AG$4=\"US\",IF($G$3=1,'Specs Import'!H120,IF($G$3=2,'Specs Import'!H132,'Specs Import'!H144)),IF($G$3=1,'Specs Import'!O120,IF($G$3=2,'Specs Import'!O132,'Specs Import'!O144))),0)","v":26}," - ",{"$f":"IFERROR(IF($AG$4=\"US\",IF($G$3=1,'Specs Import'!K120,IF($G$3=2,'Specs Import'!K132,'Specs Import'!K144)),IF($G$3=1,'Specs Import'!R120,IF($G$3=2,'Specs Import'!R132,'Specs Import'!R144))),0)","v":48}]
["F&E, %",{"$f":"IFERROR('Agg - Coarse (MDV)'!D69,\"---\")","v":"---"},{"$f":"IFERROR('Agg - Coarse (MDV)'!F69,\"---\")","v":"---"},{"$f":"IFERROR('Agg - Coarse (MDV)'!H69,\"---\")","v":"---"},{"$f":"IFERROR('Agg - Coarse (MDV)'!J69,\"---\")","v":"---"},null,{"$f":"IFERROR('Agg - Coarse (MDV)'!L69,\"---\")","v":"---"},{"$f":"IFERROR('Agg - Coarse (MDV)'!N69,\"---\")","v":"---"},{"$f":"IFERROR('Agg - Coarse (MDV)'!P69,\"---\")","v":"---"},"---",{"$f":"'JMF Summary'!I32","v":"---"},{"$f":"IF(AND(ISNUMBER(AH19),AH19<>0),AG19 & \" \" & FIXED(AH19,0),\"---\")","v":"≤ 5"},null,null,null,null,null,null,null,null,null,null,null,null,null,null,null,null,null,null,null,"#30 / 0.60 mm",null,{"$f":"IFERROR(IF($AG$4=\"US\",IF($G$3=1,'Specs Import'!H121,IF($G$3=2,'Specs Import'!H133,'Specs Import'!H145)),IF($G$3=1,'Specs Import'!O121,IF($G$3=2,'Specs Import'!O133,'Specs Import'!O145))),0)","v":18}," - ",{"$f":"IFERROR(IF($AG$4=\"US\",IF($G$3=1,'Specs Import'!K121,IF($G$3=2,'Specs Import'!K133,'Specs Import'!K145)),IF($G$3=1,'Specs Import'!R121,IF($G$3=2,'Specs Import'!R133,'Specs Import'!R145))),0)","v":38}]
["Sand Equivalency",{"$f":"IFERROR('Agg - Fine (MDV)'!C18,\"---\")","v":"---"},{"$f":"IFERROR('Agg - Fine (MDV)'!E18,\"---\")","v":"---"},{"$f":"IFERROR('Agg - Fine (MDV)'!G18,\"---\")","v":"---"},{"$f":"IFERROR('Agg - Fine (MDV)'!I18,\"---\")","v":"---"},null,{"$f":"IFERROR('Agg - Fine (MDV)'!K18,\"---\")","v":"---"},{"$f":"IFERROR('Agg - Fine (MDV)'!M18,\"---\")","v":"---"},{"$f":"IFERROR('Agg - Fine (MDV)'!O18,\"---\")","v":"---"},"---",{"$f":"'JMF Summary'!I33","v":"---"},{"$f":"IF(AND(ISNUMBER(AH22),AH22<>0),AG22 & \" \" & FIXED(AH22,0),\"---\")","v":"> 45"},null,null,null,null,null,null,null,null,null,null,null,null,null,null,null,null,null,null,null,"#50 / 0.30 mm",null,{"$f":"IFERROR(IF($AG$4=\"US\",IF($G$3=1,'Specs Import'!H122,IF($G$3=2,'Specs Import'!H134,'Specs Import'!H146)),IF($G$3=1,'Specs Import'!O122,IF($G$3=2,'Specs Import'!O134,'Specs Import'!O146))),0)","v":11}," - ",{"$f":"IFERROR(IF($AG$4=\"US\",IF($G$3=1,'Specs Import'!K122,IF($G$3=2,'Specs Import'!K134,'Specs Import'!K146)),IF($G$3=1,'Specs Import'!R122,IF($G$3=2,'Specs Import'!R134,'Specs Import'!R146))),0)","v":27}]
["FAA, %",{"$f":"IFERROR('Agg - Fine (MDV)'!C33,\"---\")","v":"---"},{"$f":"IFERROR('Agg - Fine (MDV)'!E33,\"---\")","v":"---"},{"$f":"IFERROR('Agg - Fine (MDV)'!G33,\"---\")","v":"---"},{"$f":"IFERROR('Agg - Fine (MDV)'!I33,\"---\")","v":"---"},null,{"$f":"IFERROR('Agg - Fine (MDV)'!K33,\"---\")","v":"---"},{"$f":"IFERROR('Agg - Fine (MDV)'!M33,\"---\")","v":"---"},{"$f":"IFERROR('Agg - Fine (MDV)'!O33,\"---\")","v":"---"},{"$f":"IFERROR('Agg - Fine (MDV)'!Q33,\"---\")","v":"---"},{"$f":"'JMF Summary'!I34","v":"---"},{"$f":"IF(AND(ISNUMBER(AH23),AH23<>0),AG23 & \" \" & FIXED(AH23,1),\"---\")","v":"> 45.0"},null,null,null,null,null,null,null,null,null,null,null,null,null,null,null,null,null,null,null,"#100 / 0.15 mm",null,{"$f":"IFERROR(IF($AG$4=\"US\",IF($G$3=1,'Specs Import'!H123,IF($G$3=2,'Specs Import'!H135,'Specs Import'!H147)),IF($G$3=1,'Specs Import'!O123,IF($G$3=2,'Specs Import'!O135,'Specs Import'!O147))),0)","v":6}," - ",{"$f":"IFERROR(IF($AG$4=\"US\",IF($G$3=1,'Specs Import'!K123,IF($G$3=2,'Specs Import'!K135,'Specs Import'!K147)),IF($G$3=1,'Specs Import'!R123,IF($G$3=2,'Specs Import'!R135,'Specs Import'!R147))),0)","v":18}]
[null,null,null,null,null,null,null,null,null,null,null,null,null,null,null,null,null,null,null,null,null,null,null,null,null,null,null,null,null,null,null,"#200 / 0.075 mm",null,{"$f":"IFERROR(IF($AG$4=\"US\",IF($G$3=1,'Specs Import'!H124,IF($G$3=2,'Specs Import'!H136,'Specs Import'!H148)),IF($G$3=1,'Specs Import'!O124,IF($G$3=2,'Specs Import'!O136,'Specs Import'!O148))),0)","v":3}," - ",{"$f":"IFERROR(IF($AG$4=\"US\",IF($G$3=1,'Specs Import'!K124,IF($G$3=2,'Specs Import'!K136,'Specs Import'!K148)),IF($G$3=1,'Specs Import'!R124,IF($G$3=2,'Specs Import'!R136,'Specs Import'!R148))),0)","v":6}]
["Additive Dosages & Products",null,null,null,null,null,null,null,"MDV & JMF Properties at Design Pb",null,null,null,null,null,null,null,null,null,null,null,null,null,null,null,null,null,null,null,null,null,null,"Elastic Recovery, %",{"$f":"'Specs Import'!U152","v":"≥"},{"$f":"IF(AG11=\"Elastic Recovery\",FIXED(IF($AG$4=\"US\",'Specs Import'!H152,'Specs Import'!O152),0),\"---\")","v":"---"}," - "]
["Anti-Strip",null,null,null,null,null,null,null,"Property","MDV","KTR","Limit",null,null,null,null,null,null,null,null,null,null,null,null,null,null,null,null,null,null,null,"Stability",{"$f":"'Specs Import'!$U$154","v":"≥"},{"$f":"IF(OR($F$4=\"75 Gyr\",$F$4=\"50 Gyr\"),\"---\",IF($F$4=\"75 Blow\",IF($AG$4=\"US\",'Specs Import'!$H$154,'Specs Import'!$O$154),IF($AG$4=\"US\",'Specs Import'!$H$161,'Specs Import'!$O$161)))","v":1350}," - "]
["WMA",null,null,null,null,null,null,null,"Design Pb",{"$f":"IFERROR('Volumetrics (MDV)'!V11,\"---\")","v":"---"},{"$f":"'JMF Summary'!I38","v":"---"},"---",null,null,null,null,null,null,null,null,null,null,null,null,null,null,null,null,null,null,null,"Flow",null,{"$f":"IF(AG11=\"None\",IF(OR($F$4=\"75 Gyr\",$F$4=\"50 Gyr\"),\"---\",IF($F$4=\"75 Blow\",IF($AG$4=\"US\",'Specs Import'!$H$155,'Specs Import'!$O$155),IF($AG$4=\"US\",'Specs Import'!$H$162,'Specs Import'!$O$162))),\"---\")","v":8}," - ",{"$f":"IF(AG11=\"None\",IF(OR($F$4=\"75 Gyr\",$F$4=\"50 Gyr\"),\"---\",IF($F$4=\"75 Blow\",IF($AG$4=\"US\",'Specs Import'!$K$155,'Specs Import'!$R$155),IF($AG$4=\"US\",'Specs Import'!$K$162,'Specs Import'!$R$162))),\"---\")","v":18}]
["Other",null,null,null,null,null,null,null,"Gb",{"$f":"IFERROR('Volumetrics (MDV)'!R3,\"---\")","v":"---"},{"$f":"'JMF Summary'!I39","v":"---"},"---",null,null,null,null,null,null,null,null,null,null,null,null,null,null,null,null,null,null,null,"Air Voids",null,{"$f":"IF($AG$4=\"US\",IF($F$4=\"75 Blow\",'Specs Import'!I156,IF($F$4=\"50 Blow\",'Specs Import'!I163,IF($F$4=\"75 Gyr\",'Specs Import'!I168,'Specs Import'!I173))),IF($F$4=\"75 Blow\",'Specs Import'!P156,IF($F$4=\"50 Blow\",'Specs Import'!P163,IF($F$4=\"75 Gyr\",'Specs Import'!P168,'Specs Import'!P173))))","v":4}," - "]
[null,null,null,null,null,null,null,null,"Gse",{"$f":"IFERROR('Volumetrics (MDV)'!R5,\"---\")","v":"---"},{"$f":"'JMF Summary'!I40","v":"---"},"---",null,null,null,null,null,null,null,null,null,null,null,null,null,null,null,null,null,null,null,"Dust Proportion",null,{"$f":"IF($AG$4=\"US\",IF($F$4=\"75 Blow\",'Specs Import'!H157,IF($F$4=\"50 Blow\",'Specs Import'!H164,IF($F$4=\"75 Gyr\",'Specs Import'!H169,'Specs Import'!H174))),IF($F$4=\"75 Blow\",'Specs Import'!O157,IF($F$4=\"50 Blow\",'Specs Import'!O164,IF($F$4=\"75 Gyr\",'Specs Import'!O169,'Specs Import'!O174))))","v":0.8}," - ",{"$f":"IF($AG$4=\"US\",IF($F$4=\"75 Blow\",'Specs Import'!K157,IF($F$4=\"50 Blow\",'Specs Import'!K164,IF($F$4=\"75 Gyr\",'Specs Import'!K169,'Specs Import'!K174))),IF($F$4=\"75 Blow\",'Specs Import'!R157,IF($F$4=\"50 Blow\",'Specs Import'!R164,IF($F$4=\"75 Gyr\",'Specs Import'!R169,'Specs Import'!R174))))","v":1.2}]
["RAP & Virgin Binder Contents",null,null,"Mix Mechanical Properties",null,null,null,null,"Gmm",{"$f":"IFERROR('Volumetrics (MDV)'!W11,\"---\")","v":"---"},{"$f":"'JMF Summary'!I41","v":"---"},"---",null,null,null,null,null,null,null,null,null,null,null,null,null,null,null,null,null,null,null,"TSR",{"$f":"'Specs Import'!$U$158","v":"≥"},{"$f":"IF($AG$4=\"US\",IF($F$4=\"75 Blow\",'Specs Import'!H158,IF($F$4=\"50 Blow\",'Specs Import'!H165,IF($F$4=\"75 Gyr\",'Specs Import'!H170,'Specs Import'!H175))),IF($F$4=\"75 Blow\",'Specs Import'!O158,IF($F$4=\"50 Blow\",'Specs Import'!O165,IF($F$4=\"75 Gyr\",'Specs Import'!O170,'Specs Import'!O175))))","v":75}," - "]
["RAP, %",0,null,"Property","MDV","KTR","Limit",null,"Gmb",{"$f":"IFERROR('Volumetrics (MDV)'!X11,\"---\")","v":"---"},{"$f":"'JMF Summary'!I42","v":"---"},"---",null,null,null,null,null,null,null,null,null,null,null,null,null,null,null,null,null,null,null,"St Wet",{"$f":"'Specs Import'!$U$159","v":"≥"},{"$f":"IF($AG$4=\"US\",IF($F$4=\"75 Blow\",'Specs Import'!H159,IF($F$4=\"50 Blow\",'Specs Import'!H166,IF($F$4=\"75 Gyr\",'Specs Import'!H171,'Specs Import'!H176))),IF($F$4=\"75 Blow\",'Specs Import'!O159,IF($F$4=\"50 Blow\",'Specs Import'!O166,IF($F$4=\"75 Gyr\",'Specs Import'!O171,'Specs Import'!O176))))","v":60}," - "]
["RAP Pb, %",0,null,{"$f":"\"Stability, \" & IF($AG$4=\"US\",\"lb\",\"N\")","v":"Stability, lb"},{"$f":"IFERROR('Volumetrics (MDV)'!AG11,\"---\")","v":"---"},{"$f":"'JMF Summary'!E43","v":"---"},{"$f":"IF(ISNUMBER(AH37),AG37 & \" \" & FIXED(AH37,0,FALSE),\"---\")","v":"≥ 1,350"},null,"Va",{"$f":"IFERROR('Volumetrics (MDV)'!Y11,\"---\")","v":"---"},{"$f":"'JMF Summary'!I43","v":"---"},{"$f":"IF(ISNUMBER(AH39),FIXED(AH39,1),\"---\")","v":"4.0"},null,null,null,null,null,null,null,null,null,null,null,null,null,null,null,null,null,null,null,"VMA",{"$f":"'Specs Import'!$U$178","v":"≥"},{"$f":"IFERROR(IF($AG$4=\"US\",IF($G$3=1,'Specs Import'!H178,IF($G$3=2,'Specs Import'!H179,'Specs Import'!H180)),IF($G$3=1,'Specs Import'!O178,IF($G$3=2,'Specs Import'!O179,'Specs Import'!O180))),0)","v":14}," - "]
["RBA, %",100,null,"Flow",{"$f":"IFERROR('Volumetrics (MDV)'!AH11,\"---\")","v":"---"},{"$f":"'JMF Summary'!E44","v":"---"},{"$f":"IF(ISNUMBER(AH38),FIXED(AH38,0)&AI38&FIXED(AJ38,0),\"---\")","v":"8 - 18"},null,"VMA",{"$f":"IFERROR('Volumetrics (MDV)'!Z11,\"---\")","v":"---"},{"$f":"'JMF Summary'!I44","v":"---"},{"$f":"IF(ISNUMBER(AH43),AG43 & \" \" & FIXED(AH43,1),\"---\")","v":"≥ 14.0"},null,null,null,null,null,null,null,null,null,null,null,null,null,null,null,null,null,null,null,"ABR",{"$f":"'Specs Import'!$U$181","v":"≤"},{"$f":"IF($AG$4=\"US\",'Specs Import'!K181,'Specs Import'!R181)","v":20}," - "]
[{"$f":"\"RBR, % (\" & AH44 & \"% max)\"","v":"RBR, % (20% max)"},{"$f":"IFERROR((B46-B47)/B46*100,\"---\")","v":"---"},null,"TSR",{"$f":"IFERROR('TSR (MDV)'!C49,\"---\")","v":"---"},{"$f":"'JMF Summary'!E45","v":"---"},{"$f":"IF(ISNUMBER(AH41),AG41 & \" \" & FIXED(AH41,0),\"---\")","v":"≥ 75"},null,"VFA",{"$f":"IFERROR('Volumetrics (MDV)'!AA11,\"---\")","v":"---"},{"$f":"'JMF Summary'!I45","v":"---"},"---"]
["Total Pb, %",{"$f":"J38","v":"---"},null,{"$f":"\"St Dry, \" & IF($AG$4=\"US\",\"psi\",\"kPa\")","v":"St Dry, psi"},{"$f":"IFERROR('TSR (MDV)'!F45,\"---\")","v":"---"},{"$f":"'JMF Summary'!E46","v":"---"},"---",null,"VBE",{"$f":"IFERROR('Volumetrics (MDV)'!AB11,\"---\")","v":"---"},{"$f":"'JMF Summary'!I46","v":"---"},"---"]
["Virgin Pb, %",{"$f":"IFERROR(B46-(B42*B43*(B44/100)/100),\"---\")","v":"---"},null,{"$f":"\"St Wet, \" & IF($AG$4=\"US\",\"psi\",\"kPa\")","v":"St Wet, psi"},{"$f":"IFERROR('TSR (MDV)'!J46,\"---\")","v":"---"},{"$f":"'JMF Summary'!E47","v":"---"},{"$f":"IF(ISNUMBER(AH42),AG42 & \" \" & FIXED(AH42,0),\"---\")","v":"≥ 60"},null,"Pba,mix",{"$f":"IFERROR('Volumetrics (MDV)'!AC11,\"---\")","v":"---"},{"$f":"'JMF Summary'!I47","v":"---"},"---"]
[null,null,null,null,null,null,null,null,"Pbe",{"$f":"IFERROR('Volumetrics (MDV)'!AD11,\"---\")","v":"---"},{"$f":"'JMF Summary'!I48","v":"---"},"---"]
["Sadie Casillas, PhD",null,null,"Ben C. Cox, PhD, PE",null,null,null,null,"D/Pbe",{"$f":"IFERROR('Volumetrics (MDV)'!AF11,\"---\")","v":"---"},{"$f":"'JMF Summary'!I49","v":"---"},{"$f":"IF(ISNUMBER(AH40),FIXED(AH40,1)&AI40&FIXED(AJ40,1),\"---\")","v":"0.8 - 1.2"}]
["RESEARCH CIVIL ENGINEER",null,null,"SENIOR RESEARCH ENGINEER"]
[null,null,null,null,null,null,null,null,null,null,null,null,{"$f":"IF(AG3=\"Generic UFGS\",\"This template utilizes UFGS 32 12 15.13 specification limits.\",\"Specification limits in this template have been tailored to a specific project\"&IF(ISBLANK(B8),\".\",\" for Contract \"&B8&\".\"))","v":"This template utilizes UFGS 32 12 15.13 specification limits."}]

{"sheet":"Volumetrics (MDV)","index":18,"n_rows":45,"n_cols":50,"rows_kept":45,"cut":false,"hidden":true,"merged":[[32,0,32,17],[34,0,37,0],[34,1,37,1],[44,10,44,15],[44,0,44,5],[39,2,41,17],[43,0,43,5],[43,10,43,15],[19,0,22,0],[19,1,22,1],[23,0,26,0],[23,1,26,1],[27,0,30,0],[27,1,30,1],[12,41,13,41],[12,42,13,42],[12,43,12,45],[12,46,12,49],[15,0,18,0],[15,1,18,1],[5,7,5,8],[5,9,5,10],[5,13,5,14],[11,0,14,0],[11,1,14,1],[5,20,9,20],[6,0,6,1],[6,2,6,5],[9,0,9,17],[3,2,3,5],[3,7,3,8],[3,9,3,10],[3,12,3,13],[3,20,3,33],[4,0,4,1],[4,2,4,5],[4,7,4,8],[4,9,4,10],[4,12,4,13],[5,0,5,1],[5,2,5,5],[1,41,1,46],[2,0,2,1],[2,2,2,5],[2,7,2,8],[2,9,2,10],[2,44,3,44],[3,0,3,1]]}
["UFGS 32 12 15.13 Asphalt Mix Design Volumetric Worksheet (Page 1 of 2)",null,null,null,null,null,null,null,null,null,null,null,null,null,null,null,null,null,null,"UFGS 32 12 15.13 Asphalt Mix Design Volumetric Worksheet (Page 2 of 2)"]
[null,null,null,null,null,null,null,null,null,null,null,null,null,null,null,null,null,null,null,null,null,null,null,null,null,null,null,null,null,null,null,null,null,null,null,null,null,null,"Form Data",null,null,"Raw Data Override (admin user only)"]
["Mix ID",null,{"$f":"'JMF Summary (MDV)'!B3","v":"TNF-M1A"},null,null,null,null,"Gradation",null,{"$f":"'JMF Summary (MDV)'!G3","v":2},null,null,"Target Temperatures",null,null,null,"Gb",{"$f":"IFERROR(IF(AQ5=\"Raw Data\",IF(ISNUMBER('Binder Report (MDV)'!G15),'Binder Report (MDV)'!G15,\"---\"),AR5),\"---\")","v":"---"},null,null,null,null,null,null,null,null,null,null,null,null,null,null,null,null,null,null,null,null,"Design Va",{"$f":"IFERROR(IF(AQ4=\"User Input\",AR4,IF(ISNUMBER('JMF Summary'!AH43),'JMF Summary'!AH43,4)),4)","v":4},null,"Parameter","Input Type","Value","Pb","Gmm","Gmb"]
["Date",null,{"$f":"'JMF Summary (MDV)'!B4","v":"---"},null,null,null,null,"Compaction",null,{"$f":"'JMF Summary (MDV)'!G4","v":"75 Gyr"},null,null,"Mixing",null,{"$f":"IF(ISBLANK('JMF Summary (MDV)'!K4),\"---\",'JMF Summary (MDV)'!K4 & \" \" & 'JMF Summary (MDV)'!L4)","v":"300 °F"},null,"Gsb",{"$f":"IFERROR(IF(AQ6=\"Raw Data\",'Agg Gsb (MDV)'!Q40,AR6),\"---\")","v":"---"},null,null,"Volumetric Summary",null,null,null,null,null,null,null,null,null,null,null,null,null,null,null,null,null,"No. Pb's",{"$f":"COUNT(V6:V10)","v":0},null,"Design Va","Specification",4,null,"Raw Data","Raw Data"]
["Project",null,{"$f":"'JMF Summary (MDV)'!B5","v":"Tinian North Field"},null,null,null,null,"Binder Grade",null,{"$f":"'JMF Summary (MDV)'!G5","v":"PG 64-22"},null,null,"Compaction",null,{"$f":"IF(ISBLANK('JMF Summary (MDV)'!K5),\"---\",'JMF Summary (MDV)'!K5 & \" \" & 'JMF Summary (MDV)'!L5)","v":"280 °F"},null,"Gse",{"$f":"IFERROR(IF(AQ7=\"Raw Data\",'Gmm (MDV)'!F55,AR7),\"---\")","v":"---"},null,null,"Source","Pb","Gmm","Gmb","Va, %","VMA, %","VFA, %","VBE, %","Pba,mix, %","Pbe, %","Unit Wt","D/Pbe","Stability","Flow",null,null,null,null,"Pb","Va",null,"Gb","Raw Data",null,{"$f":"A12","v":0},2.5569999999999999,2.3809999999999998]
["Producer",null,{"$f":"'JMF Summary (MDV)'!B6","v":"Fluor / Tigerbrain"},null,null,null,null,"Source",null,{"$f":"'JMF Summary (MDV)'!G6","v":"Ergon PG 67-22"},null,null,"STMC:",{"$f":"IF(OR(ISBLANK('JMF Summary (MDV)'!J6),ISBLANK('JMF Summary (MDV)'!K6)),\"---\",FIXED('JMF Summary (MDV)'!J6,1) & \" hr at \" & 'JMF Summary (MDV)'!K6 & \" \" & 'JMF Summary (MDV)'!L6)","v":"1.0 hr at 280 °F"},null,null,"P200",{"$f":"IFERROR(IF(AQ8=\"Raw Data\",'JMF Summary (MDV)'!J26,AR8),\"---\")","v":0},null,null,{"$f":"\"MDV \" & AN4 & \"-Pt Data\"","v":"MDV 0-Pt Data"},{"$f":"IF(ISNUMBER(A12),A12,#N/A)","v":{"$error":"#N/A"}},{"$f":"B12","v":"---"},{"$f":"I15","v":"---"},"---","---","---","---","---","---",{"$f":"IFERROR(IF('JMF Summary (MDV)'!$AG$4=\"US\",ROUND(X6*62.43,1),ROUND(X6*1000,0)),\"---\")","v":"---"},{"$f":"P12","v":"---"},{"$f":"IF(OR($J$4=\"75 Gyr\",$J$4=\"50 Gyr\"),#N/A,Q15)","v":{"$error":"#N/A"}},{"$f":"IF(OR($J$4=\"75 Gyr\",$J$4=\"50 Gyr\"),#N/A,R15)","v":{"$error":"#N/A"}},null,null,null,null,{"$f":"ROUNDDOWN(TREND(OFFSET(V6,0,0,AN4),OFFSET(Y6,0,0,AN4)^{2,1},AN3^{2,1},TRUE),1)-0.2","v":{"$error":"#REF!"}},{"$f":"TREND(OFFSET($Y$6,0,0,$AN$4),OFFSET($V$6,0,0,$AN$4)^{1,2},AM6^{1,2})","v":{"$error":"#REF!"}},null,"Gsb","Raw Data",2.4249999999999998,{"$f":"A16","v":0},2.5299999999999998,2.399]
["Mix Designer",null,{"$f":"'JMF Summary (MDV)'!B7","v":"USACE ERDC"},null,null,null,null,null,null,null,null,null,null,null,null,null,null,null,null,null,null,{"$f":"IF(ISNUMBER(A16),A16,#N/A)","v":{"$error":"#N/A"}},{"$f":"B16","v":"---"},{"$f":"I19","v":"---"},"---","---","---","---","---","---",{"$f":"IFERROR(IF('JMF Summary (MDV)'!$AG$4=\"US\",ROUND(X7*62.43,1),ROUND(X7*1000,0)),\"---\")","v":"---"},{"$f":"P16","v":"---"},{"$f":"IF(OR($J$4=\"75 Gyr\",$J$4=\"50 Gyr\"),#N/A,Q19)","v":{"$error":"#N/A"}},{"$f":"IF(OR($J$4=\"75 Gyr\",$J$4=\"50 Gyr\"),#N/A,R19)","v":{"$error":"#N/A"}},null,null,null,null,{"$f":"AM6+0.02","v":{"$error":"#REF!"}},{"$f":"TREND(OFFSET($Y$6,0,0,$AN$4),OFFSET($V$6,0,0,$AN$4)^{1,2},AM7^{1,2})","v":{"$error":"#REF!"}},null,"Gse","Raw Data",2.617,{"$f":"A20","v":0},2.5129999999999999,2.4159999999999999]
[null,null,null,null,null,null,null,null,null,null,null,null,null,null,null,null,null,null,null,null,null,{"$f":"IF(ISNUMBER(A20),A20,#N/A)","v":{"$error":"#N/A"}},{"$f":"B20","v":"---"},{"$f":"I23","v":"---"},"---","---","---","---","---","---",{"$f":"IFERROR(IF('JMF Summary (MDV)'!$AG$4=\"US\",ROUND(X8*62.43,1),ROUND(X8*1000,0)),\"---\")","v":"---"},{"$f":"P20","v":"---"},{"$f":"IF(OR($J$4=\"75 Gyr\",$J$4=\"50 Gyr\"),#N/A,Q23)","v":{"$error":"#N/A"}},{"$f":"IF(OR($J$4=\"75 Gyr\",$J$4=\"50 Gyr\"),#N/A,R23)","v":{"$error":"#N/A"}},null,null,null,null,{"$f":"AM7+0.02","v":{"$error":"#REF!"}},{"$f":"TREND(OFFSET($Y$6,0,0,$AN$4),OFFSET($V$6,0,0,$AN$4)^{1,2},AM8^{1,2})","v":{"$error":"#REF!"}},null,"P200","Raw Data",6,{"$f":"A24","v":0},2.4980000000000002,2.4470000000000001]
[null,null,null,null,null,null,null,null,null,null,null,null,null,null,null,null,null,null,null,null,null,{"$f":"IF(ISNUMBER(A24),A24,#N/A)","v":{"$error":"#N/A"}},{"$f":"B24","v":"---"},{"$f":"I27","v":"---"},"---","---","---","---","---","---",{"$f":"IFERROR(IF('JMF Summary (MDV)'!$AG$4=\"US\",ROUND(X9*62.43,1),ROUND(X9*1000,0)),\"---\")","v":"---"},{"$f":"P24","v":"---"},{"$f":"IF(OR($J$4=\"75 Gyr\",$J$4=\"50 Gyr\"),#N/A,Q27)","v":{"$error":"#N/A"}},{"$f":"IF(OR($J$4=\"75 Gyr\",$J$4=\"50 Gyr\"),#N/A,R27)","v":{"$error":"#N/A"}},null,null,null,null,{"$error":"#REF!"},{"$f":"TREND(OFFSET($Y$6,0,0,$AN$4),OFFSET($V$6,0,0,$AN$4)^{1,2},AM9^{1,2})","v":{"$error":"#REF!"}},null,null,null,null,{"$f":"A28","v":0},2.4849999999999999,2.4460000000000002]
["Multi-Point Trial Asphalt Contents",null,null,null,null,null,null,null,null,null,null,null,null,null,null,null,null,null,null,null,null,{"$f":"IF(ISNUMBER(A28),A28,#N/A)","v":{"$error":"#N/A"}},{"$f":"B28","v":"---"},{"$f":"I31","v":"---"},"---","---","---","---","---","---",{"$f":"IFERROR(IF('JMF Summary (MDV)'!$AG$4=\"US\",ROUND(X10*62.43,1),ROUND(X10*1000,0)),\"---\")","v":"---"},{"$f":"P28","v":"---"},{"$f":"IF(OR($J$4=\"75 Gyr\",$J$4=\"50 Gyr\"),#N/A,Q31)","v":{"$error":"#N/A"}},{"$f":"IF(OR($J$4=\"75 Gyr\",$J$4=\"50 Gyr\"),#N/A,R31)","v":{"$error":"#N/A"}},null,null,null,null,{"$error":"#REF!"},{"$f":"TREND(OFFSET($Y$6,0,0,$AN$4),OFFSET($V$6,0,0,$AN$4)^{1,2},AM10^{1,2})","v":{"$error":"#REF!"}},null,"KTR:",null,null,"SPV",2.5289999999999999,2.4249999999999998]
["Pb","Gmm","Spec.","Ht, \nmm","Dry \nWt, g ","Sub. Wt, g","SSD Wt, g","Abs, %","Gmb","Va, \n%","VMA, %","VFA, \n%","VBE, \n%","Pba,mix, %","Pbe, \n%","D/Pbe","Corr. Stability","Flow",null,null,"MDV Opt.",{"$f":"IFERROR(AQ15,\"---\")","v":"---"},{"$f":"IFERROR(AQ16,\"---\")","v":"---"},{"$f":"IFERROR(AQ17,\"---\")","v":"---"},{"$f":"IFERROR(AQ18,\"---\")","v":"---"},{"$f":"IFERROR(AQ19,\"---\")","v":"---"},{"$f":"IFERROR(AQ20,\"---\")","v":"---"},{"$f":"IFERROR(AQ21,\"---\")","v":"---"},{"$f":"IFERROR(AQ22,\"---\")","v":"---"},{"$f":"IFERROR(AQ23,\"---\")","v":"---"},{"$f":"IFERROR(AQ24,\"---\")","v":"---"},{"$f":"IFERROR(AQ25,\"---\")","v":"---"},{"$f":"IFERROR(AQ26,\"---\")","v":"---"},{"$f":"IFERROR(AQ27,\"---\")","v":"---"},null,null,null,null,{"$error":"#REF!"},{"$f":"TREND(OFFSET($Y$6,0,0,$AN$4),OFFSET($V$6,0,0,$AN$4)^{1,2},AM11^{1,2})","v":{"$error":"#REF!"}}]
[null,{"$f":"IFERROR(IF($AT$4=\"Raw Data\",'Gmm (MDV)'!F56,AT5),\"---\")","v":"---"},1,null,null,null,null,{"$f":"IFERROR((G12-E12)/(G12-F12)*100,\"---\")","v":"---"},{"$f":"IFERROR(IF($AU$4=\"Raw Data\",E12/(G12-F12),AU5),\"---\")","v":"---"},{"$f":"IFERROR((1-I12/$B$12)*100,\"---\")","v":"---"},{"$f":"IFERROR(100-I12*(100-$A$12)/$R$4,\"---\")","v":"---"},{"$f":"IFERROR(100*(K12-J12)/K12,\"---\")","v":"---"},{"$f":"IFERROR(K12-J12,\"---\")","v":"---"},{"$f":"IFERROR(IF(ISNUMBER(A12),($R$5-$R$4)/($R$5*$R$4)*$R$3*(1-A12/100)*100,\"---\"),\"---\")","v":"---"},{"$f":"IFERROR(A12-N12,\"---\")","v":"---"},{"$f":"IFERROR($R$6/O12,\"---\")","v":"---"},{"$f":"IF(OR('Volumetrics (MDV)'!$J$4=\"75 Gyr\", 'Volumetrics (MDV)'!$J$4=\"50 Gyr\"),\"---\",IF(ISNUMBER('Stability (MDV)'!F13),'Stability (MDV)'!F13,\"---\"))","v":"---"},{"$f":"IF(OR('Volumetrics (MDV)'!$J$4=\"75 Gyr\", 'Volumetrics (MDV)'!$J$4=\"50 Gyr\"),\"---\",IF(ISNUMBER('Stability (MDV)'!G13),'Stability (MDV)'!G13,\"---\"))","v":"---"},null,null,"MDV SPV",{"$f":"IF(ISNUMBER(A35),A35,#N/A)","v":{"$error":"#N/A"}},{"$f":"B35","v":"---"},{"$f":"I38","v":"---"},"---","---","---","---","---","---",{"$f":"IFERROR(IF('JMF Summary (MDV)'!$AG$4=\"US\",ROUND(X12*62.43,1),ROUND(X12*1000,0)),\"---\")","v":"---"},{"$f":"P38","v":"---"},{"$f":"IF(OR($J$4=\"75 Gyr\",$J$4=\"50 Gyr\"),#N/A,Q38)","v":{"$error":"#N/A"}},{"$f":"IF(OR($J$4=\"75 Gyr\",$J$4=\"50 Gyr\"),#N/A,R38)","v":{"$error":"#N/A"}},null,null,null,null,{"$error":"#REF!"},{"$f":"TREND(OFFSET($Y$6,0,0,$AN$4),OFFSET($V$6,0,0,$AN$4)^{1,2},AM12^{1,2})","v":{"$error":"#REF!"}},null,"Curve Data"]
[null,null,2,null,null,null,null,{"$f":"IFERROR((G13-E13)/(G13-F13)*100,\"---\")","v":"---"},{"$f":"IFERROR(IF($AU$4=\"Raw Data\",E13/(G13-F13),\"---\"),\"---\")","v":"---"},{"$f":"IFERROR((1-I13/$B$12)*100,\"---\")","v":"---"},{"$f":"IFERROR(100-I13*(100-$A$12)/$R$4,\"---\")","v":"---"},{"$f":"IFERROR(100*(K13-J13)/K13,\"---\")","v":"---"},{"$f":"IFERROR(K13-J13,\"---\")","v":"---"},{"$f":"IFERROR(IF(ISNUMBER(A12),($R$5-$R$4)/($R$5*$R$4)*$R$3*(1-A12/100)*100,\"---\"),\"---\")","v":"---"},{"$f":"IFERROR(A12-N13,\"---\")","v":"---"},{"$f":"IFERROR($R$6/O13,\"---\")","v":"---"},{"$f":"IF(OR('Volumetrics (MDV)'!$J$4=\"75 Gyr\", 'Volumetrics (MDV)'!$J$4=\"50 Gyr\"),\"---\",IF(ISNUMBER('Stability (MDV)'!F14),'Stability (MDV)'!F14,\"---\"))","v":"---"},{"$f":"IF(OR('Volumetrics (MDV)'!$J$4=\"75 Gyr\", 'Volumetrics (MDV)'!$J$4=\"50 Gyr\"),\"---\",IF(ISNUMBER('Stability (MDV)'!G14),'Stability (MDV)'!G14,\"---\"))","v":"---"},null,null,"KTR Opt.",{"$f":"Volumetrics!V11","v":"---"},{"$f":"Volumetrics!W11","v":"---"},{"$f":"Volumetrics!X11","v":"---"},{"$f":"Volumetrics!Y11","v":"---"},{"$f":"Volumetrics!Z11","v":"---"},{"$f":"Volumetrics!AA11","v":"---"},{"$f":"Volumetrics!AB11","v":"---"},{"$f":"Volumetrics!AC11","v":"---"},{"$f":"Volumetrics!AD11","v":"---"},{"$f":"Volumetrics!AE11","v":"---"},{"$f":"Volumetrics!AF11","v":"---"},{"$f":"Volumetrics!AG11","v":"---"},{"$f":"Volumetrics!AH11","v":"---"},null,null,null,null,{"$error":"#REF!"},{"$f":"TREND(OFFSET($Y$6,0,0,$AN$4),OFFSET($V$6,0,0,$AN$4)^{1,2},AM13^{1,2})","v":{"$error":"#REF!"}},null,"Curves","Value @ \nPb, des","Plot Data for Arrows by Pb",null,null,"Plot Axis Limits"]
[null,null,3,null,null,null,null,{"$f":"IFERROR((G14-E14)/(G14-F14)*100,\"---\")","v":"---"},{"$f":"IFERROR(IF($AU$4=\"Raw Data\",E14/(G14-F14),\"---\"),\"---\")","v":"---"},{"$f":"IFERROR((1-I14/$B$12)*100,\"---\")","v":"---"},{"$f":"IFERROR(100-I14*(100-$A$12)/$R$4,\"---\")","v":"---"},{"$f":"IFERROR(100*(K14-J14)/K14,\"---\")","v":"---"},{"$f":"IFERROR(K14-J14,\"---\")","v":"---"},{"$f":"IFERROR(IF(ISNUMBER(A12),($R$5-$R$4)/($R$5*$R$4)*$R$3*(1-A12/100)*100,\"---\"),\"---\")","v":"---"},{"$f":"IFERROR(A12-N14,\"---\")","v":"---"},{"$f":"IFERROR($R$6/O14,\"---\")","v":"---"},{"$f":"IF(OR('Volumetrics (MDV)'!$J$4=\"75 Gyr\", 'Volumetrics (MDV)'!$J$4=\"50 Gyr\"),\"---\",IF(ISNUMBER('Stability (MDV)'!F15),'Stability (MDV)'!F15,\"---\"))","v":"---"},{"$f":"IF(OR('Volumetrics (MDV)'!$J$4=\"75 Gyr\", 'Volumetrics (MDV)'!$J$4=\"50 Gyr\"),\"---\",IF(ISNUMBER('Stability (MDV)'!G15),'Stability (MDV)'!G15,\"---\"))","v":"---"},null,null,null,{"$f":"IF(AND(MAX(OFFSET(Y6,0,0,AN4))>AN3,MIN(OFFSET(Y6,0,0,AN4))<AN3),\"\",\"Note! Trial asphalt contents do not span the design Va value. Exercise caution with extrapolated results.\")","v":{"$error":"#REF!"}},null,null,null,null,null,null,null,null,null,null,null,null,null,null,null,null,{"$error":"#REF!"},{"$f":"TREND(OFFSET($Y$6,0,0,$AN$4),OFFSET($V$6,0,0,$AN$4)^{1,2},AM14^{1,2})","v":{"$error":"#REF!"}},null,null,null,{"$f":"AU15","v":{"$error":"#REF!"}},{"$f":"AQ15","v":{"$error":"#N/A"}},{"$f":"AS14","v":{"$error":"#N/A"}},"Min","Max","Major","Minor"]
[null,null,"Avg",{"$f":"IFERROR(AVERAGE(D12:D14),\"---\")","v":"---"},"---","---","---","---","---","---","---","---","---","---","---","---",{"$f":"IFERROR(AVERAGE(Q12:Q14),\"---\")","v":"---"},{"$f":"IFERROR(AVERAGE(R12:R14),\"---\")","v":"---"},null,null,null,null,null,null,null,null,null,null,null,null,null,null,null,null,null,null,null,null,{"$error":"#REF!"},{"$f":"TREND(OFFSET($Y$6,0,0,$AN$4),OFFSET($V$6,0,0,$AN$4)^{1,2},AM15^{1,2})","v":{"$error":"#REF!"}},null,"Gmm",{"$f":"IF(ABS(INDEX(AN6:AN31,MATCH(AN3,AN6:AN31,-1))-AN3)<ABS(AN3-INDEX(AN6:AN31,MATCH(AN3,AN6:AN31,-1)+1)),INDEX(AM6:AM31,MATCH(AN3,AN6:AN31,-1)),INDEX(AM6:AM31,MATCH(AN3,AN6:AN31,-1)+1))","v":{"$error":"#N/A"}},{"$f":"AQ15","v":{"$error":"#N/A"}},{"$f":"AQ15","v":{"$error":"#N/A"}},0,{"$f":"MIN(Volumetrics!AU15,MROUND(MIN(OFFSET(V6,0,0,AN4),IFERROR(V11,1000),IFERROR(V12,1000),IFERROR(V13,1000)),0.5)-AW15)","v":{"$error":"#REF!"}},{"$f":"MAX(Volumetrics!AV15,MROUND(MAX(OFFSET(V6,0,0,AN4),IFERROR(V11,0),IFERROR(V12,0),IFERROR(V13,0)),0.5)+AW15)","v":{"$error":"#REF!"}},0.5,0.1]
[null,{"$f":"IFERROR(IF($AT$4=\"Raw Data\",'Gmm (MDV)'!H56,AT6),\"---\")","v":"---"},4,null,null,null,null,{"$f":"IFERROR((G16-E16)/(G16-F16)*100,\"---\")","v":"---"},{"$f":"IFERROR(IF($AU$4=\"Raw Data\",E16/(G16-F16),AU6),\"---\")","v":"---"},{"$f":"IFERROR((1-I16/$B$16)*100,\"---\")","v":"---"},{"$f":"IFERROR(100-I16*(100-$A$16)/$R$4,\"---\")","v":"---"},{"$f":"IFERROR(100*(K16-J16)/K16,\"---\")","v":"---"},{"$f":"IFERROR(K16-J16,\"---\")","v":"---"},{"$f":"IFERROR(IF(ISNUMBER(A16),($R$5-$R$4)/($R$5*$R$4)*$R$3*(1-A16/100)*100,\"---\"),\"---\")","v":"---"},{"$f":"IFERROR(A16-N16,\"---\")","v":"---"},{"$f":"IFERROR($R$6/O16,\"---\")","v":"---"},{"$f":"IF(OR('Volumetrics (MDV)'!$J$4=\"75 Gyr\", 'Volumetrics (MDV)'!$J$4=\"50 Gyr\"),\"---\",IF(ISNUMBER('Stability (MDV)'!F17),'Stability (MDV)'!F17,\"---\"))","v":"---"},{"$f":"IF(OR('Volumetrics (MDV)'!$J$4=\"75 Gyr\", 'Volumetrics (MDV)'!$J$4=\"50 Gyr\"),\"---\",IF(ISNUMBER('Stability (MDV)'!G17),'Stability (MDV)'!G17,\"---\"))","v":"---"},null,null,null,null,null,null,null,null,null,null,null,null,null,null,null,null,null,null,null,null,{"$error":"#REF!"},{"$f":"TREND(OFFSET($Y$6,0,0,$AN$4),OFFSET($V$6,0,0,$AN$4)^{1,2},AM16^{1,2})","v":{"$error":"#REF!"}},null,"Gmm",{"$f":"TREND(OFFSET(W6,0,0,$AN$4),OFFSET(V6,0,0,$AN$4)^{1,2},AQ15^{1,2})","v":{"$error":"#REF!"}},{"$f":"AQ16","v":{"$error":"#REF!"}},{"$f":"AQ16","v":{"$error":"#REF!"}},0,{"$f":"MROUND(MIN(OFFSET(W6,0,0,AN4)),0.05)-0.05","v":{"$error":"#REF!"}},{"$f":"MROUND(R5,0.05)+0.05","v":{"$error":"#VALUE!"}},0.05,0.01]
[null,null,5,null,null,null,null,{"$f":"IFERROR((G17-E17)/(G17-F17)*100,\"---\")","v":"---"},{"$f":"IFERROR(IF($AU$4=\"Raw Data\",E17/(G17-F17),\"---\"),\"---\")","v":"---"},{"$f":"IFERROR((1-I17/$B$16)*100,\"---\")","v":"---"},{"$f":"IFERROR(100-I17*(100-$A$16)/$R$4,\"---\")","v":"---"},{"$f":"IFERROR(100*(K17-J17)/K17,\"---\")","v":"---"},{"$f":"IFERROR(K17-J17,\"---\")","v":"---"},{"$f":"IFERROR(IF(ISNUMBER(A16),($R$5-$R$4)/($R$5*$R$4)*$R$3*(1-A16/100)*100,\"---\"),\"---\")","v":"---"},{"$f":"IFERROR(A16-N17,\"---\")","v":"---"},{"$f":"IFERROR($R$6/O17,\"---\")","v":"---"},{"$f":"IF(OR('Volumetrics (MDV)'!$J$4=\"75 Gyr\", 'Volumetrics (MDV)'!$J$4=\"50 Gyr\"),\"---\",IF(ISNUMBER('Stability (MDV)'!F18),'Stability (MDV)'!F18,\"---\"))","v":"---"},{"$f":"IF(OR('Volumetrics (MDV)'!$J$4=\"75 Gyr\", 'Volumetrics (MDV)'!$J$4=\"50 Gyr\"),\"---\",IF(ISNUMBER('Stability (MDV)'!G18),'Stability (MDV)'!G18,\"---\"))","v":"---"},null,null,null,null,null,null,null,null,null,null,null,null,null,null,null,null,null,null,null,null,{"$error":"#REF!"},{"$f":"TREND(OFFSET($Y$6,0,0,$AN$4),OFFSET($V$6,0,0,$AN$4)^{1,2},AM17^{1,2})","v":{"$error":"#REF!"}},null,"Gmb",{"$f":"TREND(OFFSET(X6,0,0,$AN$4),OFFSET(V6,0,0,$AN$4)^{1,2},AQ15^{1,2})","v":{"$error":"#REF!"}},{"$f":"AQ17","v":{"$error":"#REF!"}},{"$f":"AQ17","v":{"$error":"#REF!"}},0,"---","---","---","---"]
[null,null,6,null,null,null,null,{"$f":"IFERROR((G18-E18)/(G18-F18)*100,\"---\")","v":"---"},{"$f":"IFERROR(IF($AU$4=\"Raw Data\",E18/(G18-F18),\"---\"),\"---\")","v":"---"},{"$f":"IFERROR((1-I18/$B$16)*100,\"---\")","v":"---"},{"$f":"IFERROR(100-I18*(100-$A$16)/$R$4,\"---\")","v":"---"},{"$f":"IFERROR(100*(K18-J18)/K18,\"---\")","v":"---"},{"$f":"IFERROR(K18-J18,\"---\")","v":"---"},{"$f":"IFERROR(IF(ISNUMBER(A16),($R$5-$R$4)/($R$5*$R$4)*$R$3*(1-A16/100)*100,\"---\"),\"---\")","v":"---"},{"$f":"IFERROR(A16-N18,\"---\")","v":"---"},{"$f":"IFERROR($R$6/O18,\"---\")","v":"---"},{"$f":"IF(OR('Volumetrics (MDV)'!$J$4=\"75 Gyr\", 'Volumetrics (MDV)'!$J$4=\"50 Gyr\"),\"---\",IF(ISNUMBER('Stability (MDV)'!F19),'Stability (MDV)'!F19,\"---\"))","v":"---"},{"$f":"IF(OR('Volumetrics (MDV)'!$J$4=\"75 Gyr\", 'Volumetrics (MDV)'!$J$4=\"50 Gyr\"),\"---\",IF(ISNUMBER('Stability (MDV)'!G19),'Stability (MDV)'!G19,\"---\"))","v":"---"},null,null,null,null,null,null,null,null,null,null,null,null,null,null,null,null,null,null,null,null,{"$error":"#REF!"},{"$f":"TREND(OFFSET($Y$6,0,0,$AN$4),OFFSET($V$6,0,0,$AN$4)^{1,2},AM18^{1,2})","v":{"$error":"#REF!"}},null,"Va",{"$f":"TREND(OFFSET(Y6,0,0,$AN$4),OFFSET(V6,0,0,$AN$4)^{1,2},AQ15^{1,2})","v":{"$error":"#REF!"}},{"$f":"AN3","v":4},{"$f":"AN3","v":4},0,0,{"$f":"MAX(Volumetrics!AV18,ROUND(MAX(OFFSET(Y6,0,0,AN4),IF(ISNUMBER(Y11),Y11,0),IF(ISNUMBER(Y12),Y12,0)),0)+1)","v":{"$error":"#REF!"}},1,0.5]
[null,null,"Avg",{"$f":"IFERROR(AVERAGE(D16:D18),\"---\")","v":"---"},"---","---","---","---","---","---","---","---","---",{"$f":"IFERROR(AVERAGE(N16:N18),\"---\")","v":"---"},{"$f":"IFERROR(AVERAGE(O16:O18),\"---\")","v":"---"},{"$f":"IFERROR(AVERAGE(P16:P18),\"---\")","v":"---"},{"$f":"IFERROR(AVERAGE(Q16:Q18),\"---\")","v":"---"},{"$f":"IFERROR(AVERAGE(R16:R18),\"---\")","v":"---"},null,null,null,null,null,null,null,null,null,null,null,null,null,null,null,null,null,null,null,null,{"$error":"#REF!"},{"$f":"TREND(OFFSET($Y$6,0,0,$AN$4),OFFSET($V$6,0,0,$AN$4)^{1,2},AM19^{1,2})","v":{"$error":"#REF!"}},null,"VMA",{"$f":"TREND(OFFSET(Z6,0,0,$AN$4),OFFSET(V6,0,0,$AN$4)^{1,2},AQ15^{1,2})","v":{"$error":"#REF!"}},{"$f":"AQ19","v":{"$error":"#REF!"}},{"$f":"AQ19","v":{"$error":"#REF!"}},0,{"$f":"MIN(Volumetrics!AU19,MROUND(MIN(OFFSET(Z6,0,0,AN4),IF(ISNUMBER(Z11),Z11,1000),IF(ISNUMBER(Z12),Z12,1000)),0.5)-0.5)","v":{"$error":"#REF!"}},{"$f":"MAX(Volumetrics!AV19,MROUND(MAX(OFFSET(Z6,0,0,AN4),IF(ISNUMBER(Z11),Z11,0),IF(ISNUMBER(Z12),Z12,0)),0.5)+0.5)","v":{"$error":"#REF!"}},0.5,0.25]
[null,{"$f":"IFERROR(IF($AT$4=\"Raw Data\",'Gmm (MDV)'!K56,AT7),\"---\")","v":"---"},7,null,null,null,null,{"$f":"IFERROR((G20-E20)/(G20-F20)*100,\"---\")","v":"---"},{"$f":"IFERROR(IF($AU$4=\"Raw Data\",E20/(G20-F20),AU7),\"---\")","v":"---"},{"$f":"IFERROR((1-I20/$B$20)*100,\"---\")","v":"---"},{"$f":"IFERROR(100-I20*(100-$A$20)/$R$4,\"---\")","v":"---"},{"$f":"IFERROR(100*(K20-J20)/K20,\"---\")","v":"---"},{"$f":"IFERROR(K20-J20,\"---\")","v":"---"},{"$f":"IFERROR(IF(ISNUMBER(A20),($R$5-$R$4)/($R$5*$R$4)*$R$3*(1-A20/100)*100,\"---\"),\"---\")","v":"---"},{"$f":"IFERROR(A20-N20,\"---\")","v":"---"},{"$f":"IFERROR($R$6/O20,\"---\")","v":"---"},{"$f":"IF(OR('Volumetrics (MDV)'!$J$4=\"75 Gyr\", 'Volumetrics (MDV)'!$J$4=\"50 Gyr\"),\"---\",IF(ISNUMBER('Stability (MDV)'!F21),'Stability (MDV)'!F21,\"---\"))","v":"---"},{"$f":"IF(OR('Volumetrics (MDV)'!$J$4=\"75 Gyr\", 'Volumetrics (MDV)'!$J$4=\"50 Gyr\"),\"---\",IF(ISNUMBER('Stability (MDV)'!G21),'Stability (MDV)'!G21,\"---\"))","v":"---"},null,null,null,null,null,null,null,null,null,null,null,null,null,null,null,null,null,null,null,null,{"$error":"#REF!"},{"$f":"TREND(OFFSET($Y$6,0,0,$AN$4),OFFSET($V$6,0,0,$AN$4)^{1,2},AM20^{1,2})","v":{"$error":"#REF!"}},null,"VFA",{"$f":"TREND(OFFSET(AA6,0,0,$AN$4),OFFSET(V6,0,0,$AN$4)^{1,2},AQ15^{1,2})","v":{"$error":"#REF!"}},{"$error":"#REF!"},{"$error":"#REF!"},0,{"$f":"MIN(Volumetrics!AU20,MROUND(MIN(OFFSET(AA6,0,0,AN4),IF(ISNUMBER(AA11),AA11,1000),IF(ISNUMBER(AA12),AA12,1000)),10)-10)","v":{"$error":"#REF!"}},{"$f":"MAX(Volumetrics!AV20,MROUND(MAX(OFFSET(AA6,0,0,AN4),IF(ISNUMBER(AA11),AA11,0),IF(ISNUMBER(AA12),AA12,0)),10)+10)","v":{"$error":"#REF!"}},10,5]
[null,null,8,null,null,null,null,{"$f":"IFERROR((G21-E21)/(G21-F21)*100,\"---\")","v":"---"},{"$f":"IFERROR(IF($AU$4=\"Raw Data\",E21/(G21-F21),\"---\"),\"---\")","v":"---"},{"$f":"IFERROR((1-I21/$B$20)*100,\"---\")","v":"---"},{"$f":"IFERROR(100-I21*(100-$A$20)/$R$4,\"---\")","v":"---"},{"$f":"IFERROR(100*(K21-J21)/K21,\"---\")","v":"---"},{"$f":"IFERROR(K21-J21,\"---\")","v":"---"},{"$f":"IFERROR(IF(ISNUMBER(A20),($R$5-$R$4)/($R$5*$R$4)*$R$3*(1-A20/100)*100,\"---\"),\"---\")","v":"---"},{"$f":"IFERROR(A20-N21,\"---\")","v":"---"},{"$f":"IFERROR($R$6/O21,\"---\")","v":"---"},{"$f":"IF(OR('Volumetrics (MDV)'!$J$4=\"75 Gyr\", 'Volumetrics (MDV)'!$J$4=\"50 Gyr\"),\"---\",IF(ISNUMBER('Stability (MDV)'!F22),'Stability (MDV)'!F22,\"---\"))","v":"---"},{"$f":"IF(OR('Volumetrics (MDV)'!$J$4=\"75 Gyr\", 'Volumetrics (MDV)'!$J$4=\"50 Gyr\"),\"---\",IF(ISNUMBER('Stability (MDV)'!G22),'Stability (MDV)'!G22,\"---\"))","v":"---"},null,null,null,null,null,null,null,null,null,null,null,null,null,null,null,null,null,null,null,null,{"$error":"#REF!"},{"$f":"TREND(OFFSET($Y$6,0,0,$AN$4),OFFSET($V$6,0,0,$AN$4)^{1,2},AM21^{1,2})","v":{"$error":"#REF!"}},null,"VBE",{"$f":"TREND(OFFSET(AB6,0,0,$AN$4),OFFSET(V6,0,0,$AN$4)^{1,2},AQ15^{1,2})","v":{"$error":"#REF!"}},{"$error":"#REF!"},{"$error":"#REF!"},0,"---","---","---","---"]
[null,null,9,null,null,null,null,{"$f":"IFERROR((G22-E22)/(G22-F22)*100,\"---\")","v":"---"},{"$f":"IFERROR(IF($AU$4=\"Raw Data\",E22/(G22-F22),\"---\"),\"---\")","v":"---"},{"$f":"IFERROR((1-I22/$B$20)*100,\"---\")","v":"---"},{"$f":"IFERROR(100-I22*(100-$A$20)/$R$4,\"---\")","v":"---"},{"$f":"IFERROR(100*(K22-J22)/K22,\"---\")","v":"---"},{"$f":"IFERROR(K22-J22,\"---\")","v":"---"},{"$f":"IFERROR(IF(ISNUMBER(A20),($R$5-$R$4)/($R$5*$R$4)*$R$3*(1-A20/100)*100,\"---\"),\"---\")","v":"---"},{"$f":"IFERROR(A20-N22,\"---\")","v":"---"},{"$f":"IFERROR($R$6/O22,\"---\")","v":"---"},{"$f":"IF(OR('Volumetrics (MDV)'!$J$4=\"75 Gyr\", 'Volumetrics (MDV)'!$J$4=\"50 Gyr\"),\"---\",IF(ISNUMBER('Stability (MDV)'!F23),'Stability (MDV)'!F23,\"---\"))","v":"---"},{"$f":"IF(OR('Volumetrics (MDV)'!$J$4=\"75 Gyr\", 'Volumetrics (MDV)'!$J$4=\"50 Gyr\"),\"---\",IF(ISNUMBER('Stability (MDV)'!G23),'Stability (MDV)'!G23,\"---\"))","v":"---"},null,null,null,null,null,null,null,null,null,null,null,null,null,null,null,null,null,null,null,null,{"$error":"#REF!"},{"$f":"TREND(OFFSET($Y$6,0,0,$AN$4),OFFSET($V$6,0,0,$AN$4)^{1,2},AM22^{1,2})","v":{"$error":"#REF!"}},null,"Pba,mix",{"$f":"TREND(OFFSET(AC6,0,0,$AN$4),OFFSET(V6,0,0,$AN$4)^{1,2},AQ15^{1,2})","v":{"$error":"#REF!"}},{"$error":"#REF!"},{"$error":"#REF!"},0,"---","---","---","---"]
[null,null,"Avg",{"$f":"IFERROR(AVERAGE(D20:D22),\"---\")","v":"---"},"---","---","---","---","---","---","---","---","---",{"$f":"IFERROR(AVERAGE(N20:N22),\"---\")","v":"---"},{"$f":"IFERROR(AVERAGE(O20:O22),\"---\")","v":"---"},{"$f":"IFERROR(AVERAGE(P20:P22),\"---\")","v":"---"},{"$f":"IFERROR(AVERAGE(Q20:Q22),\"---\")","v":"---"},{"$f":"IFERROR(AVERAGE(R20:R22),\"---\")","v":"---"},null,null,null,null,null,null,null,null,null,null,null,null,null,null,null,null,null,null,null,null,{"$error":"#REF!"},{"$f":"TREND(OFFSET($Y$6,0,0,$AN$4),OFFSET($V$6,0,0,$AN$4)^{1,2},AM23^{1,2})","v":{"$error":"#REF!"}},null,"Pbe",{"$f":"TREND(OFFSET(AD6,0,0,$AN$4),OFFSET(V6,0,0,$AN$4)^{1,2},AQ15^{1,2})","v":{"$error":"#REF!"}},{"$error":"#REF!"},{"$error":"#REF!"},0,"---","---","---","---"]
[null,{"$f":"IFERROR(IF($AT$4=\"Raw Data\",'Gmm (MDV)'!N56,AT8),\"---\")","v":"---"},10,null,null,null,null,{"$f":"IFERROR((G24-E24)/(G24-F24)*100,\"---\")","v":"---"},{"$f":"IFERROR(IF($AU$4=\"Raw Data\",E24/(G24-F24),AU8),\"---\")","v":"---"},{"$f":"IFERROR((1-I24/$B$24)*100,\"---\")","v":"---"},{"$f":"IFERROR(100-I24*(100-$A$24)/$R$4,\"---\")","v":"---"},{"$f":"IFERROR(100*(K24-J24)/K24,\"---\")","v":"---"},{"$f":"IFERROR(K24-J24,\"---\")","v":"---"},{"$f":"IFERROR(IF(ISNUMBER(A24),($R$5-$R$4)/($R$5*$R$4)*$R$3*(1-A24/100)*100,\"---\"),\"---\")","v":"---"},{"$f":"IFERROR(A24-N24,\"---\")","v":"---"},{"$f":"IFERROR($R$6/O24,\"---\")","v":"---"},{"$f":"IF(OR('Volumetrics (MDV)'!$J$4=\"75 Gyr\", 'Volumetrics (MDV)'!$J$4=\"50 Gyr\"),\"---\",IF(ISNUMBER('Stability (MDV)'!F25),'Stability (MDV)'!F25,\"---\"))","v":"---"},{"$f":"IF(OR('Volumetrics (MDV)'!$J$4=\"75 Gyr\", 'Volumetrics (MDV)'!$J$4=\"50 Gyr\"),\"---\",IF(ISNUMBER('Stability (MDV)'!G25),'Stability (MDV)'!G25,\"---\"))","v":"---"},null,null,null,null,null,null,null,null,null,null,null,null,null,null,null,null,null,null,null,null,{"$error":"#REF!"},{"$f":"TREND(OFFSET($Y$6,0,0,$AN$4),OFFSET($V$6,0,0,$AN$4)^{1,2},AM24^{1,2})","v":{"$error":"#REF!"}},null,"Unit Wt",{"$f":"TREND(OFFSET(AE6,0,0,$AN$4),OFFSET(V6,0,0,$AN$4)^{1,2},AQ15^{1,2})","v":{"$error":"#REF!"}},{"$error":"#REF!"},{"$error":"#REF!"},0,{"$f":"MIN(Volumetrics!AU24,ROUNDDOWN(MIN(OFFSET(AE6,0,0,AN4),IF(ISNUMBER(AE11),AE11,1000),IF(ISNUMBER(AE12),AE12,1000)),0)-AW24)","v":{"$error":"#REF!"}},{"$f":"MAX(Volumetrics!AV24,ROUNDUP(MAX(OFFSET(AE6,0,0,AN4),IF(ISNUMBER(AE11),AE11,0),IF(ISNUMBER(AE12),AE12,0)),0)+AW24)","v":{"$error":"#REF!"}},{"$f":"MROUND((MROUND(MAX(OFFSET(AE6,0,0,AN4),OFFSET(Volumetrics!AE6,0,0,Volumetrics!AN4)),0.5)-MROUND(MIN(OFFSET(AE6,0,0,AN4),OFFSET(Volumetrics!AE6,0,0,Volumetrics!AN4)),0.5))/4,1)","v":{"$error":"#REF!"}},{"$f":"AW24/2","v":{"$error":"#REF!"}}]
[null,null,11,null,null,null,null,{"$f":"IFERROR((G25-E25)/(G25-F25)*100,\"---\")","v":"---"},{"$f":"IFERROR(IF($AU$4=\"Raw Data\",E25/(G25-F25),\"---\"),\"---\")","v":"---"},{"$f":"IFERROR((1-I25/$B$24)*100,\"---\")","v":"---"},{"$f":"IFERROR(100-I25*(100-$A$24)/$R$4,\"---\")","v":"---"},{"$f":"IFERROR(100*(K25-J25)/K25,\"---\")","v":"---"},{"$f":"IFERROR(K25-J25,\"---\")","v":"---"},{"$f":"IFERROR(IF(ISNUMBER(A24),($R$5-$R$4)/($R$5*$R$4)*$R$3*(1-A24/100)*100,\"---\"),\"---\")","v":"---"},{"$f":"IFERROR(A24-N25,\"---\")","v":"---"},{"$f":"IFERROR($R$6/O25,\"---\")","v":"---"},{"$f":"IF(OR('Volumetrics (MDV)'!$J$4=\"75 Gyr\", 'Volumetrics (MDV)'!$J$4=\"50 Gyr\"),\"---\",IF(ISNUMBER('Stability (MDV)'!F26),'Stability (MDV)'!F26,\"---\"))","v":"---"},{"$f":"IF(OR('Volumetrics (MDV)'!$J$4=\"75 Gyr\", 'Volumetrics (MDV)'!$J$4=\"50 Gyr\"),\"---\",IF(ISNUMBER('Stability (MDV)'!G26),'Stability (MDV)'!G26,\"---\"))","v":"---"},null,null,null,null,null,null,null,null,null,null,null,null,null,null,null,null,null,null,null,null,{"$error":"#REF!"},{"$f":"TREND(OFFSET($Y$6,0,0,$AN$4),OFFSET($V$6,0,0,$AN$4)^{1,2},AM25^{1,2})","v":{"$error":"#REF!"}},null,"D/Pbe",{"$f":"TREND(OFFSET(AF6,0,0,$AN$4),OFFSET(V6,0,0,$AN$4)^{1,2},AQ15^{1,2})","v":{"$error":"#REF!"}},{"$error":"#REF!"},{"$error":"#REF!"},0,{"$f":"MIN(Volumetrics!AU25,ROUNDDOWN(MIN(OFFSET(AF6,0,0,AN4),IF(ISNUMBER(AF11),AF11,1000),IF(ISNUMBER(AF12),AF12,1000)),1)-AW25)","v":{"$error":"#REF!"}},{"$f":"MAX(Volumetrics!AV25,ROUNDUP(MAX(OFFSET(AF6,0,0,AN4),IF(ISNUMBER(AF11),AF11,0),IF(ISNUMBER(AF12),AF12,0)),1)+AW25)","v":{"$error":"#REF!"}},{"$f":"MROUND((MROUND(MAX(OFFSET(AF6,0,0,AN4)),0.1)-MROUND(MIN(OFFSET(AF6,0,0,AN4)),0.1))/4,0.1)","v":{"$error":"#REF!"}},{"$f":"AW25/2","v":{"$error":"#REF!"}}]
[null,null,12,null,null,null,null,{"$f":"IFERROR((G26-E26)/(G26-F26)*100,\"---\")","v":"---"},{"$f":"IFERROR(IF($AU$4=\"Raw Data\",E26/(G26-F26),\"---\"),\"---\")","v":"---"},{"$f":"IFERROR((1-I26/$B$24)*100,\"---\")","v":"---"},{"$f":"IFERROR(100-I26*(100-$A$24)/$R$4,\"---\")","v":"---"},{"$f":"IFERROR(100*(K26-J26)/K26,\"---\")","v":"---"},{"$f":"IFERROR(K26-J26,\"---\")","v":"---"},{"$f":"IFERROR(IF(ISNUMBER(A24),($R$5-$R$4)/($R$5*$R$4)*$R$3*(1-A24/100)*100,\"---\"),\"---\")","v":"---"},{"$f":"IFERROR(A24-N26,\"---\")","v":"---"},{"$f":"IFERROR($R$6/O26,\"---\")","v":"---"},{"$f":"IF(OR('Volumetrics (MDV)'!$J$4=\"75 Gyr\", 'Volumetrics (MDV)'!$J$4=\"50 Gyr\"),\"---\",IF(ISNUMBER('Stability (MDV)'!F27),'Stability (MDV)'!F27,\"---\"))","v":"---"},{"$f":"IF(OR('Volumetrics (MDV)'!$J$4=\"75 Gyr\", 'Volumetrics (MDV)'!$J$4=\"50 Gyr\"),\"---\",IF(ISNUMBER('Stability (MDV)'!G27),'Stability (MDV)'!G27,\"---\"))","v":"---"},null,null,null,null,null,null,null,null,null,null,null,null,null,null,null,null,null,null,null,null,{"$error":"#REF!"},{"$f":"TREND(OFFSET($Y$6,0,0,$AN$4),OFFSET($V$6,0,0,$AN$4)^{1,2},AM26^{1,2})","v":{"$error":"#REF!"}},null,"Stability",{"$f":"TREND(OFFSET(AG6,0,0,$AN$4),OFFSET(V6,0,0,$AN$4)^{1,2},AQ15^{1,2})","v":{"$error":"#REF!"}},{"$error":"#REF!"},{"$error":"#REF!"},0,{"$f":"MIN(Volumetrics!AU26,MROUND(ROUNDDOWN(MIN(OFFSET(AG6,0,0,AN4),IF(ISNUMBER(AG11),AG11,100000),IF(ISNUMBER(AG12),AG12,10000)),0)-AW26,100))","v":{"$error":"#REF!"}},{"$f":"MAX(Volumetrics!AV26,MROUND(ROUNDUP(MAX(OFFSET(AG6,0,0,AN4),IF(ISNUMBER(AG11),AG11,0),IF(ISNUMBER(AG12),AG12,0)),0)+AW26,100))","v":{"$error":"#REF!"}},{"$f":"MROUND((MROUND(MAX(OFFSET(AG6,0,0,AN4)),100)-MROUND(MIN(OFFSET(AG6,0,0,AN4)),100))/4,100)","v":{"$error":"#REF!"}},{"$f":"AW26/2","v":{"$error":"#REF!"}}]
[null,null,"Avg",{"$f":"IFERROR(AVERAGE(D24:D26),\"---\")","v":"---"},"---","---","---","---","---","---","---","---","---",{"$f":"IFERROR(AVERAGE(N24:N26),\"---\")","v":"---"},{"$f":"IFERROR(AVERAGE(O24:O26),\"---\")","v":"---"},{"$f":"IFERROR(AVERAGE(P24:P26),\"---\")","v":"---"},{"$f":"IFERROR(AVERAGE(Q24:Q26),\"---\")","v":"---"},{"$f":"IFERROR(AVERAGE(R24:R26),\"---\")","v":"---"},null,null,null,null,null,null,null,null,null,null,null,null,null,null,null,null,null,null,null,null,{"$error":"#REF!"},{"$f":"TREND(OFFSET($Y$6,0,0,$AN$4),OFFSET($V$6,0,0,$AN$4)^{1,2},AM27^{1,2})","v":{"$error":"#REF!"}},null,"Flow",{"$f":"TREND(OFFSET(AH6,0,0,$AN$4),OFFSET(V6,0,0,$AN$4)^{1,2},AQ15^{1,2})","v":{"$error":"#REF!"}},{"$error":"#REF!"},{"$error":"#REF!"},0,{"$f":"MIN(Volumetrics!AU27,ROUNDDOWN(MIN(OFFSET(AH6,0,0,AN4),IF(ISNUMBER(AH11),AH11,1000),IF(ISNUMBER(AH12),AH12,1000)),0)-AW27)","v":{"$error":"#REF!"}},{"$f":"MAX(Volumetrics!AV27,ROUNDUP(MAX(OFFSET(AH6,0,0,AN4),IF(ISNUMBER(AH11),AH11,0),IF(ISNUMBER(AH12),AH12,0)),0)+AW27)","v":{"$error":"#REF!"}},{"$f":"MROUND(ROUNDUP((MROUND(MAX(OFFSET(AH6,0,0,AN4)),1)-MROUND(MIN(OFFSET(AH6,0,0,AN4)),1))/4,0),1)","v":{"$error":"#REF!"}},{"$f":"AW27/2","v":{"$error":"#REF!"}}]
[null,{"$f":"IFERROR(IF($AT$4=\"Raw Data\",'Gmm (MDV)'!P56,AT9),\"---\")","v":"---"},13,null,null,null,null,{"$f":"IFERROR((G28-E28)/(G28-F28)*100,\"---\")","v":"---"},{"$f":"IFERROR(IF($AU$4=\"Raw Data\",E28/(G28-F28),AU9),\"---\")","v":"---"},{"$f":"IFERROR((1-I28/$B$28)*100,\"---\")","v":"---"},{"$f":"IF(ISNUMBER($A$28),IFERROR(100-I28*(100-$A$28)/$R$4,\"---\"),\"---\")","v":"---"},{"$f":"IFERROR(100*(K28-J28)/K28,\"---\")","v":"---"},{"$f":"IFERROR(K28-J28,\"---\")","v":"---"},{"$f":"IFERROR(IF(ISNUMBER(A28),($R$5-$R$4)/($R$5*$R$4)*$R$3*(1-A28/100)*100,\"---\"),\"---\")","v":"---"},{"$f":"IFERROR(A28-N28,\"---\")","v":"---"},{"$f":"IFERROR($R$6/O28,\"---\")","v":"---"},{"$f":"IF(OR('Volumetrics (MDV)'!$J$4=\"75 Gyr\", 'Volumetrics (MDV)'!$J$4=\"50 Gyr\"),\"---\",IF(ISNUMBER('Stability (MDV)'!F29),'Stability (MDV)'!F29,\"---\"))","v":"---"},{"$f":"IF(OR('Volumetrics (MDV)'!$J$4=\"75 Gyr\", 'Volumetrics (MDV)'!$J$4=\"50 Gyr\"),\"---\",IF(ISNUMBER('Stability (MDV)'!G29),'Stability (MDV)'!G29,\"---\"))","v":"---"},null,null,null,null,null,null,null,null,null,null,null,null,null,null,null,null,null,null,null,null,{"$error":"#REF!"},{"$f":"TREND(OFFSET($Y$6,0,0,$AN$4),OFFSET($V$6,0,0,$AN$4)^{1,2},AM28^{1,2})","v":{"$error":"#REF!"}}]
[null,null,14,null,null,null,null,{"$f":"IFERROR((G29-E29)/(G29-F29)*100,\"---\")","v":"---"},{"$f":"IFERROR(IF($AU$4=\"Raw Data\",E29/(G29-F29),\"---\"),\"---\")","v":"---"},{"$f":"IFERROR((1-I29/$B$28)*100,\"---\")","v":"---"},{"$f":"IF(ISNUMBER($A$28),IFERROR(100-I29*(100-$A$28)/$R$4,\"---\"),\"---\")","v":"---"},{"$f":"IFERROR(100*(K29-J29)/K29,\"---\")","v":"---"},{"$f":"IFERROR(K29-J29,\"---\")","v":"---"},{"$f":"IFERROR(IF(ISNUMBER(A28),($R$5-$R$4)/($R$5*$R$4)*$R$3*(1-A28/100)*100,\"---\"),\"---\")","v":"---"},{"$f":"IFERROR(A28-N29,\"---\")","v":"---"},{"$f":"IFERROR($R$6/O29,\"---\")","v":"---"},{"$f":"IF(OR('Volumetrics (MDV)'!$J$4=\"75 Gyr\", 'Volumetrics (MDV)'!$J$4=\"50 Gyr\"),\"---\",IF(ISNUMBER('Stability (MDV)'!F30),'Stability (MDV)'!F30,\"---\"))","v":"---"},{"$f":"IF(OR('Volumetrics (MDV)'!$J$4=\"75 Gyr\", 'Volumetrics (MDV)'!$J$4=\"50 Gyr\"),\"---\",IF(ISNUMBER('Stability (MDV)'!G30),'Stability (MDV)'!G30,\"---\"))","v":"---"},null,null,null,null,null,null,null,null,null,null,null,null,null,null,null,null,null,null,null,null,{"$error":"#REF!"},{"$f":"TREND(OFFSET($Y$6,0,0,$AN$4),OFFSET($V$6,0,0,$AN$4)^{1,2},AM29^{1,2})","v":{"$error":"#REF!"}}]
[null,null,15,null,null,null,null,{"$f":"IFERROR((G30-E30)/(G30-F30)*100,\"---\")","v":"---"},{"$f":"IFERROR(IF($AU$4=\"Raw Data\",E30/(G30-F30),\"---\"),\"---\")","v":"---"},{"$f":"IFERROR((1-I30/$B$28)*100,\"---\")","v":"---"},{"$f":"IF(ISNUMBER($A$28),IFERROR(100-I30*(100-$A$28)/$R$4,\"---\"),\"---\")","v":"---"},{"$f":"IFERROR(100*(K30-J30)/K30,\"---\")","v":"---"},{"$f":"IFERROR(K30-J30,\"---\")","v":"---"},{"$f":"IFERROR(IF(ISNUMBER(A28),($R$5-$R$4)/($R$5*$R$4)*$R$3*(1-A28/100)*100,\"---\"),\"---\")","v":"---"},{"$f":"IFERROR(A28-N30,\"---\")","v":"---"},{"$f":"IFERROR($R$6/O30,\"---\")","v":"---"},{"$f":"IF(OR('Volumetrics (MDV)'!$J$4=\"75 Gyr\", 'Volumetrics (MDV)'!$J$4=\"50 Gyr\"),\"---\",IF(ISNUMBER('Stability (MDV)'!F31),'Stability (MDV)'!F31,\"---\"))","v":"---"},{"$f":"IF(OR('Volumetrics (MDV)'!$J$4=\"75 Gyr\", 'Volumetrics (MDV)'!$J$4=\"50 Gyr\"),\"---\",IF(ISNUMBER('Stability (MDV)'!G31),'Stability (MDV)'!G31,\"---\"))","v":"---"},null,null,null,null,null,null,null,null,null,null,null,null,null,null,null,null,null,null,null,null,{"$error":"#REF!"},{"$f":"TREND(OFFSET($Y$6,0,0,$AN$4),OFFSET($V$6,0,0,$AN$4)^{1,2},AM30^{1,2})","v":{"$error":"#REF!"}}]
[null,null,"Avg",{"$f":"IFERROR(AVERAGE(D28:D30),\"---\")","v":"---"},"---","---","---","---","---","---","---",{"$f":"IFERROR(100*(K31-J31)/K31,\"---\")","v":"---"},{"$f":"IFERROR(AVERAGE(M28:M30),\"---\")","v":"---"},"---","---","---","---","---",null,null,null,null,null,null,null,null,null,null,null,null,null,null,null,null,null,null,null,null,{"$error":"#REF!"},{"$f":"TREND(OFFSET($Y$6,0,0,$AN$4),OFFSET($V$6,0,0,$AN$4)^{1,2},AM31^{1,2})","v":{"$error":"#REF!"}}]
[]
["Single-Point Verification (SPV)"]
["Pb","Gmm","Spec.","Ht, \nmm","Dry \nWt, g ","Sub. Wt, g","SSD Wt, g","Abs, %","Gmb","Va, \n%","VMA, %","VFA, \n%","VBE, \n%","Pba,mix, %","Pbe, \n%","D/Pbe","Corr. Stability","Flow"]
[null,{"$f":"IFERROR(IF(ISNUMBER(A35),IF($AT$4=\"Raw Data\",1/((1-A35/100)/AVERAGE($R$5)+A35/100/$R$3),AT10),\"---\"),\"---\")","v":"---"},1,null,null,null,null,{"$f":"IFERROR((G35-E35)/(G35-F35)*100,\"---\")","v":"---"},{"$f":"IFERROR(IF($AU$4=\"Raw Data\",E35/(G35-F35),AU10),\"---\")","v":"---"},{"$f":"IFERROR((1-I35/$B$35)*100,\"---\")","v":"---"},{"$f":"IFERROR(100-I35*(100-$A$35)/$R$4,\"---\")","v":"---"},{"$f":"IFERROR(100*(K35-J35)/K35,\"---\")","v":"---"},{"$f":"IFERROR(K35-J35,\"---\")","v":"---"},{"$f":"IFERROR(IF(ISNUMBER(A35),($R$5-$R$4)/($R$5*$R$4)*$R$3*(1-A35/100)*100,\"---\"),\"---\")","v":"---"},{"$f":"IFERROR(A35-N35,\"---\")","v":"---"},{"$f":"IFERROR($R$6/O35,\"---\")","v":"---"},{"$f":"IF(OR('Volumetrics (MDV)'!$J$4=\"75 Gyr\", 'Volumetrics (MDV)'!$J$4=\"50 Gyr\"),\"---\",IF(ISNUMBER('Stability (MDV)'!F37),'Stability (MDV)'!F37,\"---\"))","v":"---"},{"$f":"IF(OR('Volumetrics (MDV)'!$J$4=\"75 Gyr\", 'Volumetrics (MDV)'!$J$4=\"50 Gyr\"),\"---\",IF(ISNUMBER('Stability (MDV)'!G37),'Stability (MDV)'!G37,\"---\"))","v":"---"}]
[null,null,2,null,null,null,null,{"$f":"IFERROR((G36-E36)/(G36-F36)*100,\"---\")","v":"---"},{"$f":"IFERROR(IF($AU$4=\"Raw Data\",E36/(G36-F36),\"---\"),\"---\")","v":"---"},{"$f":"IFERROR((1-I36/$B$35)*100,\"---\")","v":"---"},{"$f":"IFERROR(100-I36*(100-$A$35)/$R$4,\"---\")","v":"---"},{"$f":"IFERROR(100*(K36-J36)/K36,\"---\")","v":"---"},{"$f":"IFERROR(K36-J36,\"---\")","v":"---"},{"$f":"IFERROR(IF(ISNUMBER(A35),($R$5-$R$4)/($R$5*$R$4)*$R$3*(1-A35/100)*100,\"---\"),\"---\")","v":"---"},{"$f":"IFERROR(A35-N36,\"---\")","v":"---"},{"$f":"IFERROR($R$6/O36,\"---\")","v":"---"},{"$f":"IF(OR('Volumetrics (MDV)'!$J$4=\"75 Gyr\", 'Volumetrics (MDV)'!$J$4=\"50 Gyr\"),\"---\",IF(ISNUMBER('Stability (MDV)'!F38),'Stability (MDV)'!F38,\"---\"))","v":"---"},{"$f":"IF(OR('Volumetrics (MDV)'!$J$4=\"75 Gyr\", 'Volumetrics (MDV)'!$J$4=\"50 Gyr\"),\"---\",IF(ISNUMBER('Stability (MDV)'!G38),'Stability (MDV)'!G38,\"---\"))","v":"---"}]
[null,null,3,null,null,null,null,{"$f":"IFERROR((G37-E37)/(G37-F37)*100,\"---\")","v":"---"},{"$f":"IFERROR(IF($AU$4=\"Raw Data\",E37/(G37-F37),\"---\"),\"---\")","v":"---"},{"$f":"IFERROR((1-I37/$B$35)*100,\"---\")","v":"---"},{"$f":"IFERROR(100-I37*(100-$A$35)/$R$4,\"---\")","v":"---"},{"$f":"IFERROR(100*(K37-J37)/K37,\"---\")","v":"---"},{"$f":"IFERROR(K37-J37,\"---\")","v":"---"},{"$f":"IFERROR(IF(ISNUMBER(A35),($R$5-$R$4)/($R$5*$R$4)*$R$3*(1-A35/100)*100,\"---\"),\"---\")","v":"---"},{"$f":"IFERROR(A35-N37,\"---\")","v":"---"},{"$f":"IFERROR($R$6/O37,\"---\")","v":"---"},{"$f":"IF(OR('Volumetrics (MDV)'!$J$4=\"75 Gyr\", 'Volumetrics (MDV)'!$J$4=\"50 Gyr\"),\"---\",IF(ISNUMBER('Stability (MDV)'!F39),'Stability (MDV)'!F39,\"---\"))","v":"---"},{"$f":"IF(OR('Volumetrics (MDV)'!$J$4=\"75 Gyr\", 'Volumetrics (MDV)'!$J$4=\"50 Gyr\"),\"---\",IF(ISNUMBER('Stability (MDV)'!G39),'Stability (MDV)'!G39,\"---\"))","v":"---"}]
[null,null,"Avg",{"$f":"IFERROR(AVERAGE(D35:D37),\"---\")","v":"---"},"---","---","---","---","---","---","---","---","---",{"$f":"IFERROR(AVERAGE(N35:N37),\"---\")","v":"---"},{"$f":"IFERROR(AVERAGE(O35:O37),\"---\")","v":"---"},{"$f":"IFERROR(AVERAGE(P35:P37),\"---\")","v":"---"},{"$f":"IFERROR(AVERAGE(Q35:Q37),\"---\")","v":"---"},{"$f":"IFERROR(AVERAGE(R35:R37),\"---\")","v":"---"}]
[]
[null,"Comments:"]
[]
[]
[]
["Thomas Carr, Andrew Guillotte",null,null,null,null,null,null,null,null,null,"Ben C. Cox, PhD, PE"]
["ASPHALT MIX DESIGN TECHNICIAN",null,null,null,null,null,null,null,null,null,"SENIOR RESEARCH ENGINEER"]

{"sheet":"Gmm (MDV)","index":19,"n_rows":64,"n_cols":43,"rows_kept":64,"cut":false,"hidden":true,"merged":[[59,0,60,16],[62,0,62,4],[62,7,62,15],[63,0,63,4],[63,7,63,15],[54,0,55,0],[54,1,54,4],[54,5,54,16],[55,1,55,4],[55,5,55,6],[55,7,55,9],[55,10,55,12],[55,13,55,14],[55,15,55,16],[56,0,57,0],[56,1,56,4],[56,5,56,16],[57,1,57,4],[57,5,57,6],[57,7,57,9],[57,10,57,12],[57,13,57,14],[57,15,57,16],[53,13,53,14],[53,15,53,16],[51,7,51,9],[51,10,51,12],[51,13,51,14],[51,15,51,16],[52,1,52,4],[52,5,52,6],[52,7,52,9],[52,10,52,12],[52,13,52,14],[52,15,52,16],[50,0,53,0],[50,1,50,4],[50,7,50,8],[50,10,50,11],[51,1,51,4],[51,5,51,6],[53,1,53,4],[53,5,53,6],[53,7,53,9],[53,10,53,12],[47,13,47,14],[47,15,47,16],[48,1,48,4],[48,5,48,6],[48,7,48,9],[48,10,48,12],[48,13,48,14],[48,15,48,16],[46,0,49,0],[46,1,46,4],[46,7,46,8],[46,10,46,11],[47,1,47,4],[47,5,47,6],[47,7,47,9],[47,10,47,12],[49,1,49,4],[49,5,49,6],[49,7,49,9],[49,10,49,12],[49,13,49,14],[49,15,49,16],[44,1,44,4],[44,7,44,8],[44,10,44,11],[45,1,45,4],[45,7,45,8],[45,10,45,11],[35,3,35,4],[35,7,35,8],[35,10,35,11],[43,1,43,4],[43,7,43,8],[43,10,43,11],[36,3,36,4],[37,3,37,4],[38,3,38,4],[19,1,42,2],[39,3,39,4],[40,3,40,4],[41,3,41,4],[42,3,42,4],[33,3,33,4],[33,7,33,8],[33,10,33,11],[34,3,34,4],[34,7,34,8],[34,10,34,11],[31,3,31,4],[31,7,31,8],[31,10,31,11],[32,3,32,4],[32,7,32,8],[32,10,32,11],[29,3,29,4],[29,7,29,8],[29,10,29,11],[30,3,30,4],[30,7,30,8],[30,10,30,11],[27,7,27,8],[27,10,27,11],[28,3,28,4],[28,7,28,8],[28,10,28,11],[18,1,18,4],[18,7,18,8],[18,10,18,11],[25,3,25,4],[25,7,25,8],[25,10,25,11],[26,3,26,4],[26,7,26,8],[26,10,26,11],[23,3,23,4],[23,7,23,8],[23,10,23,11],[24,3,24,4],[24,7,24,8],[24,10,24,11],[19,0,45,0],[19,3,19,4],[19,7,19,8],[19,10,19,11],[20,3,20,4],[20,7,20,8],[15,0,18,0],[15,1,15,4],[15,7,15,8],[15,10,15,11],[16,1,16,4],[16,7,16,8],[16,10,16,11],[17,1,17,4],[17,7,17,8],[17,10,17,11],[20,10,20,11],[21,3,21,4],[21,7,21,8],[21,10,21,11],[22,3,22,4],[22,7,22,8],[22,10,22,11],[27,3,27,4],[11,0,14,0],[11,1,11,4],[11,7,11,8],[11,10,11,11],[12,1,12,4],[12,7,12,8],[12,10,12,11],[6,39,7,39],[6,40,7,40],[13,1,13,4],[13,7,13,8],[13,10,13,11],[14,1,14,4],[14,7,14,8],[14,10,14,11],[10,1,10,4],[10,7,10,8],[10,10,10,11],[4,0,4,1],[4,2,4,3],[4,5,4,7],[4,8,4,10],[4,12,4,16],[6,41,7,41],[6,42,7,42],[9,0,9,4],[9,5,9,6],[9,7,9,9],[9,10,9,12],[9,13,9,14],[9,15,9,16],[5,0,5,1],[5,2,5,3],[5,5,5,7],[5,8,5,10],[5,12,5,16],[6,0,6,1],[6,2,6,3],[6,5,6,7],[6,8,6,10],[6,12,6,16],[2,0,2,1],[2,2,2,3],[2,5,2,7],[2,8,2,10],[2,12,2,16],[2,39,2,43],[3,0,3,1],[3,2,3,3],[3,5,3,7],[3,8,3,10],[3,12,3,16],[41,7,41,8],[41,10,41,11],[42,7,42,8],[42,10,42,11],[36,7,36,8],[36,10,36,11],[37,7,37,8],[37,10,37,11],[38,7,38,8],[38,10,38,11],[39,7,39,8],[39,10,39,11],[40,7,40,8],[40,10,40,11]]}
["ASTM D2041 Theoretical Maximum Specific Gravity"]
[]
["Mix ID",null,{"$f":"'JMF Summary (MDV)'!B3","v":"TNF-M1A"},null,null,"Gradation",null,null,{"$f":"'JMF Summary (MDV)'!G3","v":2},null,null,null,"Container & Procedure",null,null,null,null,null,null,null,null,null,null,null,null,null,null,null,null,null,null,null,null,null,null,null,null,null,null,"Form Data"]
["Date",null,{"$f":"'JMF Summary (MDV)'!B4","v":"---"},null,null,"Compaction",null,null,{"$f":"'JMF Summary (MDV)'!G4","v":"75 Gyr"},null,null,null,null,null,null,null,null,null,null,null,null,null,null,null,null,null,null,null,null,null,null,null,null,null,null,null,null,null,null,"Procedure",1,"(1 = Bowl in Water, 2 = Bowl in Air, 3 = Flask in Air)"]
["Project",null,{"$f":"'JMF Summary (MDV)'!B5","v":"Tinian North Field"},null,null,"Binder Grade",null,null,{"$f":"'JMF Summary (MDV)'!G5","v":"PG 64-22"},null,null,null,null,null,null,null,null,null,null,null,null,null,null,null,null,null,null,null,null,null,null,null,null,null,null,null,null,null,null,"Dry Back",false,"(TRUE = Dry Back, FALSE = Standard)"]
["Producer",null,{"$f":"'JMF Summary (MDV)'!B6","v":"Fluor / Tigerbrain"},null,null,"Binder Source",null,null,{"$f":"'JMF Summary (MDV)'!G6","v":"Ergon PG 67-22"}]
["Mix Designer",null,{"$f":"'JMF Summary (MDV)'!B7","v":"USACE ERDC"},null,null,"Gb",null,null,{"$f":"IF(ISNUMBER('Binder Report (MDV)'!G15),'Binder Report (MDV)'!G15,\"---\")","v":"---"},null,null,null,null,null,null,null,null,null,null,null,null,null,null,null,null,null,null,null,null,null,null,null,null,null,null,null,null,null,null,"Pb","Gmm (Meas.)","Gse (Meas.)","Gmm (Backcalc.)"]
[]
[null,null,null,null,null,null,null,null,null,null,null,null,null,null,null,null,null,null,null,null,null,null,null,null,null,null,null,null,null,null,null,null,null,null,null,null,null,null,null,{"$f":"IF(ISNUMBER(F10),F10,#N/A)","v":{"$error":"#N/A"}},{"$f":"IF(ISNUMBER(F49),F49,#N/A)","v":{"$error":"#N/A"}},{"$f":"IF(ISNUMBER(F50),F50,#N/A)","v":{"$error":"#N/A"}},{"$f":"IF(ISNUMBER(F56),F56,#N/A)","v":{"$error":"#N/A"}}]
["Trial Asphalt Content, Pb, %",null,null,null,null,{"$f":"IF(ISNUMBER('Volumetrics (MDV)'!A12),'Volumetrics (MDV)'!A12,\"---\")","v":"---"},null,{"$f":"IF(ISNUMBER('Volumetrics (MDV)'!A16),'Volumetrics (MDV)'!A16,\"---\")","v":"---"},null,null,{"$f":"IF(ISNUMBER('Volumetrics (MDV)'!A20),'Volumetrics (MDV)'!A20,\"---\")","v":"---"},null,null,{"$f":"IF(ISNUMBER('Volumetrics (MDV)'!A24),'Volumetrics (MDV)'!A24,\"---\")","v":"---"},null,{"$f":"IF(ISNUMBER('Volumetrics (MDV)'!A28),'Volumetrics (MDV)'!A28,\"---\")","v":"---"},null,null,null,null,null,null,null,null,null,null,null,null,null,null,null,null,null,null,null,null,null,null,null,{"$f":"IF(ISNUMBER(H10),H10,#N/A)","v":{"$error":"#N/A"}},{"$f":"IF(ISNUMBER(H49),H49,#N/A)","v":{"$error":"#N/A"}},{"$f":"IF(ISNUMBER(H50),H50,#N/A)","v":{"$error":"#N/A"}},{"$f":"IF(ISNUMBER(H56),H56,#N/A)","v":{"$error":"#N/A"}}]
["Procedure","Replicate",null,null,null,1,2,1,null,2,1,null,2,1,2,1,2,null,null,null,null,null,null,null,null,null,null,null,null,null,null,null,null,null,null,null,null,null,null,{"$f":"IF(ISNUMBER(K10),K10,#N/A)","v":{"$error":"#N/A"}},{"$f":"IF(ISNUMBER(K49),K49,#N/A)","v":{"$error":"#N/A"}},{"$f":"IF(ISNUMBER(K50),K50,#N/A)","v":{"$error":"#N/A"}},{"$f":"IF(ISNUMBER(K56),K56,#N/A)","v":{"$error":"#N/A"}}]
["Bowl (Weighing In Water)","Pycnometer No.",null,null,null,1,2,1,null,2,1,null,2,1,2,1,2,null,null,null,null,null,null,null,null,null,null,null,null,null,null,null,null,null,null,null,null,null,null,{"$f":"IF(ISNUMBER(N10),N10,#N/A)","v":{"$error":"#N/A"}},{"$f":"IF(ISNUMBER(N49),N49,#N/A)","v":{"$error":"#N/A"}},{"$f":"IF(ISNUMBER(N50),N50,#N/A)","v":{"$error":"#N/A"}},{"$f":"IF(ISNUMBER(N56),N56,#N/A)","v":{"$error":"#N/A"}}]
[null,"Wt. Dry Sample in Air, g (A)",null,null,null,null,null,null,null,null,null,null,null,null,null,null,null,null,null,null,null,null,null,null,null,null,null,null,null,null,null,null,null,null,null,null,null,null,null,{"$f":"IF(ISNUMBER(P10),P10,#N/A)","v":{"$error":"#N/A"}},{"$f":"IF(ISNUMBER(P49),P49,#N/A)","v":{"$error":"#N/A"}},{"$f":"IF(ISNUMBER(P50),P50,#N/A)","v":{"$error":"#N/A"}},{"$f":"IF(ISNUMBER(P56),P56,#N/A)","v":{"$error":"#N/A"}}]
[null,"Wt. Bowl in Water, g (B)",null,null,null,null,null,null,null,null,null,null,null,null,null,null,null,null,null,null,null,null,null,null,null,null,null,null,null,null,null,null,null,null,null,null,null,null,null,"Avg","---",{"$f":"IF(ISNUMBER(F55),F55,#N/A)","v":{"$error":"#N/A"}},"---"]
[null,"Wt. Sample+Bowl in Water, g (C)"]
[{"$f":"IF(AO4=1,\"Bowl or Flask (Weighing in Air)\", IF(AO4=2,\"Bowl (Weighing in Air)\", \"Flask (Weighing in Air)\"))","v":"Bowl or Flask (Weighing in Air)"},"Pycnometer No."]
[null,"Wt. Dry Sample in Air, g (A)"]
[null,{"$f":"IF($AO$4=3,\"Wt. Flask+Plate w/ Water, g (D)\",\"Wt. Bowl+Lid w/ Water, g (D)\")","v":"Wt. Bowl+Lid w/ Water, g (D)"}]
[null,{"$f":"IF($AO$4=3,\"Wt. Sample+Flask+Plate w/ Water, g (E)\", \"Wt. Sample+Bowl+Lid w/ Water, g (E)\")","v":"Wt. Sample+Bowl+Lid w/ Water, g (E)"}]
["Supplemental Dry Back","Wt. Sample, g, at 15-Minute Intervals",null,"00:00:00"]
[null,null,null,"00:15:00"]
[null,null,null,"00:30:00"]
[null,null,null,"00:45:00"]
[null,null,null,"01:00:00"]
[null,null,null,"01:15:00"]
[null,null,null,"01:30:00"]
[null,null,null,"01:45:00"]
[null,null,null,"02:00:00"]
[null,null,null,"02:15:00"]
[null,null,null,"02:30:00"]
[null,null,null,"02:45:00"]
[null,null,null,"03:00:00"]
[null,null,null,"03:15:00"]
[null,null,null,"03:30:00"]
[null,null,null,"03:45:00"]
[null,null,null,"04:00:00"]
[null,null,null,"04:15:00"]
[null,null,null,"04:30:00"]
[null,null,null,"04:45:00"]
[null,null,null,"05:00:00"]
[null,null,null,"05:15:00"]
[null,null,null,"05:30:00"]
[null,null,null,"05:45:00"]
[null,"Running mass loss, %",null,null,null,{"$f":"IF(COUNT(F20:F36)>1,(INDEX(F20:F36,COUNT(F20:F36)-1)-INDEX(F20:F36,COUNT(F20:F36)))/INDEX(F20:F36,COUNT(F20:F36))*100,\"---\")","v":"---"},{"$f":"IF(COUNT(G20:G43)>1,(INDEX(G20:G43,COUNT(G20:G43)-1)-INDEX(G20:G43,COUNT(G20:G43)))/INDEX(G20:G43,COUNT(G20:G43))*100,\"---\")","v":"---"},{"$f":"IF(COUNT(H20:H36)>1,(INDEX(H20:H36,COUNT(H20:H36)-1)-INDEX(H20:H36,COUNT(H20:H36)))/INDEX(H20:H36,COUNT(H20:H36))*100,\"---\")","v":"---"},null,{"$f":"IF(COUNT(J20:J36)>1,(INDEX(J20:J36,COUNT(J20:J36)-1)-INDEX(J20:J36,COUNT(J20:J36)))/INDEX(J20:J36,COUNT(J20:J36))*100,\"---\")","v":"---"},{"$f":"IF(COUNT(K20:K36)>1,(INDEX(K20:K36,COUNT(K20:K36)-1)-INDEX(K20:K36,COUNT(K20:K36)))/INDEX(K20:K36,COUNT(K20:K36))*100,\"---\")","v":"---"},null,{"$f":"IF(COUNT(M20:M36)>1,(INDEX(M20:M36,COUNT(M20:M36)-1)-INDEX(M20:M36,COUNT(M20:M36)))/INDEX(M20:M36,COUNT(M20:M36))*100,\"---\")","v":"---"},{"$f":"IF(COUNT(N20:N36)>1,(INDEX(N20:N36,COUNT(N20:N36)-1)-INDEX(N20:N36,COUNT(N20:N36)))/INDEX(N20:N36,COUNT(N20:N36))*100,\"---\")","v":"---"},{"$f":"IF(COUNT(O20:O36)>1,(INDEX(O20:O36,COUNT(O20:O36)-1)-INDEX(O20:O36,COUNT(O20:O36)))/INDEX(O20:O36,COUNT(O20:O36))*100,\"---\")","v":"---"},{"$f":"IF(COUNT(P20:P36)>1,(INDEX(P20:P36,COUNT(P20:P36)-1)-INDEX(P20:P36,COUNT(P20:P36)))/INDEX(P20:P36,COUNT(P20:P36))*100,\"---\")","v":"---"},{"$f":"IF(COUNT(Q20:Q36)>1,(INDEX(Q20:Q36,COUNT(Q20:Q36)-1)-INDEX(Q20:Q36,COUNT(Q20:Q36)))/INDEX(Q20:Q36,COUNT(Q20:Q36))*100,\"---\")","v":"---"}]
[null,"Surface Dry (<0.05% mass loss)?",null,null,null,{"$f":"IF(ISNUMBER(F44),IF(F44<0.05,\"Dry\",\"No\"),\"---\")","v":"---"},{"$f":"IF(ISNUMBER(G44),IF(G44<0.05,\"Dry\",\"No\"),\"---\")","v":"---"},{"$f":"IF(ISNUMBER(H44),IF(H44<0.05,\"Dry\",\"No\"),\"---\")","v":"---"},null,{"$f":"IF(ISNUMBER(J44),IF(J44<0.05,\"Dry\",\"No\"),\"---\")","v":"---"},{"$f":"IF(ISNUMBER(K44),IF(K44<0.05,\"Dry\",\"No\"),\"---\")","v":"---"},null,{"$f":"IF(ISNUMBER(M44),IF(M44<0.05,\"Dry\",\"No\"),\"---\")","v":"---"},{"$f":"IF(ISNUMBER(N44),IF(N44<0.05,\"Dry\",\"No\"),\"---\")","v":"---"},{"$f":"IF(ISNUMBER(O44),IF(O44<0.05,\"Dry\",\"No\"),\"---\")","v":"---"},{"$f":"IF(ISNUMBER(P44),IF(P44<0.05,\"Dry\",\"No\"),\"---\")","v":"---"},{"$f":"IF(ISNUMBER(Q44),IF(Q44<0.05,\"Dry\",\"No\"),\"---\")","v":"---"}]
[null,"Wt. Surface Dry Sample in Air, g (A')",null,null,null,{"$f":"IF(F45=\"Dry\",INDEX(F20:F36,COUNT(F20:F36)),\"---\")","v":"---"},{"$f":"IF(G45=\"Dry\",INDEX(G20:G36,COUNT(G20:G36)),\"---\")","v":"---"},{"$f":"IF(H45=\"Dry\",INDEX(H20:H36,COUNT(H20:H36)),\"---\")","v":"---"},null,{"$f":"IF(J45=\"Dry\",INDEX(J20:J36,COUNT(J20:J36)),\"---\")","v":"---"},{"$f":"IF(K45=\"Dry\",INDEX(K20:K36,COUNT(K20:K36)),\"---\")","v":"---"},null,{"$f":"IF(M45=\"Dry\",INDEX(M20:M36,COUNT(M20:M36)),\"---\")","v":"---"},{"$f":"IF(N45=\"Dry\",INDEX(N20:N36,COUNT(N20:N36)),\"---\")","v":"---"},{"$f":"IF(O45=\"Dry\",INDEX(O20:O36,COUNT(O20:O36)),\"---\")","v":"---"},{"$f":"IF(P45=\"Dry\",INDEX(P20:P36,COUNT(P20:P36)),\"---\")","v":"---"},{"$f":"IF(Q45=\"Dry\",INDEX(Q20:Q36,COUNT(Q20:Q36)),\"---\")","v":"---"}]
["Standard Calculations","Rep Gmm",null,null,null,{"$f":"IFERROR(IF($AO$4=1,F13/(F13-(F15-F14)),F17/(F17-(F19-F18))),\"---\")","v":"---"},{"$f":"IFERROR(IF($AO$4=1,G13/(G13-(G15-G14)),G17/(G17-(G19-G18))),\"---\")","v":"---"},{"$f":"IFERROR(IF($AO$4=1,H13/(H13-(H15-H14)),H17/(H17-(H19-H18))),\"---\")","v":"---"},null,{"$f":"IFERROR(IF($AO$4=1,J13/(J13-(J15-J14)),J17/(J17-(J19-J18))),\"---\")","v":"---"},{"$f":"IFERROR(IF($AO$4=1,K13/(K13-(K15-K14)),K17/(K17-(K19-K18))),\"---\")","v":"---"},null,{"$f":"IFERROR(IF($AO$4=1,M13/(M13-(M15-M14)),M17/(M17-(M19-M18))),\"---\")","v":"---"},{"$f":"IFERROR(IF($AO$4=1,N13/(N13-(N15-N14)),N17/(N17-(N19-N18))),\"---\")","v":"---"},{"$f":"IFERROR(IF($AO$4=1,O13/(O13-(O15-O14)),O17/(O17-(O19-O18))),\"---\")","v":"---"},{"$f":"IFERROR(IF($AO$4=1,P13/(P13-(P15-P14)),P17/(P17-(P19-P18))),\"---\")","v":"---"},{"$f":"IFERROR(IF($AO$4=1,Q13/(Q13-(Q15-Q14)),Q17/(Q17-(Q19-Q18))),\"---\")","v":"---"}]
[null,"Difference",null,null,null,{"$f":"IFERROR(ABS(F47-G47),\"---\")","v":"---"},null,{"$f":"IFERROR(ABS(H47-J47),\"---\")","v":"---"},null,null,{"$f":"IFERROR(ABS(K47-M47),\"---\")","v":"---"},null,null,{"$f":"IFERROR(ABS(N47-O47),\"---\")","v":"---"},null,{"$f":"IFERROR(ABS(P47-Q47),\"---\")","v":"---"}]
[null,"Avg Gmm",null,null,null,{"$f":"IFERROR(ROUND(AVERAGE(F47:G47),3),\"---\")","v":"---"},null,{"$f":"IFERROR(ROUND(AVERAGE(H47:J47),3),\"---\")","v":"---"},null,null,{"$f":"IFERROR(ROUND(AVERAGE(K47:M47),3),\"---\")","v":"---"},null,null,{"$f":"IFERROR(ROUND(AVERAGE(N47:O47),3),\"---\")","v":"---"},null,{"$f":"IFERROR(ROUND(AVERAGE(P47:Q47),3),\"---\")","v":"---"}]
[null,"Calc. Gse",null,null,null,{"$f":"IFERROR(IF(ISNUMBER(F10),(100-F10)/((100/F49)-(F10/$I$7)),\"---\"),\"---\")","v":"---"},null,{"$f":"IFERROR(IF(ISNUMBER(H10),(100-H10)/((100/H49)-(H10/$I$7)),\"---\"),\"---\")","v":"---"},null,null,{"$f":"IFERROR(IF(ISNUMBER(K10),(100-K10)/((100/K49)-(K10/$I$7)),\"---\"),\"---\")","v":"---"},null,null,{"$f":"IFERROR(IF(ISNUMBER(N10),(100-N10)/((100/N49)-(N10/$I$7)),\"---\"),\"---\")","v":"---"},null,{"$f":"IFERROR(IF(ISNUMBER(P10),(100-P10)/((100/P49)-(P10/$I$7)),\"---\"),\"---\")","v":"---"}]
["Dry Back Calculations","Rep Gmm, Dry Back",null,null,null,{"$f":"IF(ISNUMBER(F46),IF($AO$4=1,F13/(F46-(F15-F14)),F17/(F46-(F19-F18))),\"---\")","v":"---"},{"$f":"IF(ISNUMBER(G46),IF($AO$4=1,G13/(G46-(G15-G14)),G17/(G46-(G19-G18))),\"---\")","v":"---"},{"$f":"IF(ISNUMBER(H46),IF($AO$4=1,H13/(H46-(H15-H14)),H17/(H46-(H19-H18))),\"---\")","v":"---"},null,{"$f":"IF(ISNUMBER(J46),IF($AO$4=1,J13/(J46-(J15-J14)),J17/(J46-(J19-J18))),\"---\")","v":"---"},{"$f":"IF(ISNUMBER(K46),IF($AO$4=1,K13/(K46-(K15-K14)),K17/(K46-(K19-K18))),\"---\")","v":"---"},null,{"$f":"IF(ISNUMBER(M46),IF($AO$4=1,M13/(M46-(M15-M14)),M17/(M46-(M19-M18))),\"---\")","v":"---"},{"$f":"IF(ISNUMBER(N46),IF($AO$4=1,N13/(N46-(N15-N14)),N17/(N46-(N19-N18))),\"---\")","v":"---"},{"$f":"IF(ISNUMBER(O46),IF($AO$4=1,O13/(O46-(O15-O14)),O17/(O46-(O19-O18))),\"---\")","v":"---"},{"$f":"IF(ISNUMBER(P46),IF($AO$4=1,P13/(P46-(P15-P14)),P17/(P46-(P19-P18))),\"---\")","v":"---"},{"$f":"IF(ISNUMBER(Q46),IF($AO$4=1,Q13/(Q46-(Q15-Q14)),Q17/(Q46-(Q19-Q18))),\"---\")","v":"---"}]
[null,"Difference",null,null,null,{"$f":"IFERROR(ABS(F51-G51),\"---\")","v":"---"},null,{"$f":"IFERROR(ABS(H51-J51),\"---\")","v":"---"},null,null,{"$f":"IFERROR(ABS(K51-M51),\"---\")","v":"---"},null,null,{"$f":"IFERROR(ABS(N51-O51),\"---\")","v":"---"},null,{"$f":"IFERROR(ABS(P51-Q51),\"---\")","v":"---"}]
[null,"Avg Gmm, Dry Back",null,null,null,{"$f":"IFERROR(ROUND(AVERAGE(F51:G51),3),\"---\")","v":"---"},null,{"$f":"IFERROR(ROUND(AVERAGE(H51:J51),3),\"---\")","v":"---"},null,null,{"$f":"IFERROR(ROUND(AVERAGE(K51:M51),3),\"---\")","v":"---"},null,null,{"$f":"IFERROR(ROUND(AVERAGE(N51:O51),3),\"---\")","v":"---"},null,{"$f":"IFERROR(ROUND(AVERAGE(P51:Q51),3),\"---\")","v":"---"}]
[null,"Calc. Gse, Dry Back",null,null,null,{"$f":"IFERROR(IF(ISNUMBER(F10),(100-F10)/((100/F53)-(F10/$I$7)),\"---\"),\"---\")","v":"---"},null,{"$f":"IFERROR(IF(ISNUMBER(H10),(100-H10)/((100/H53)-(H10/$I$7)),\"---\"),\"---\")","v":"---"},null,null,{"$f":"IFERROR(IF(ISNUMBER(K10),(100-K10)/((100/K53)-(K10/$I$7)),\"---\"),\"---\")","v":"---"},null,null,{"$f":"IFERROR(IF(ISNUMBER(N10),(100-N10)/((100/N53)-(N10/$I$7)),\"---\"),\"---\")","v":"---"},null,{"$f":"IFERROR(IF(ISNUMBER(P10),(100-P10)/((100/P53)-(P10/$I$7)),\"---\"),\"---\")","v":"---"}]
["Results",{"$f":"IFERROR(IF($AO$5=TRUE,\"Avg Gse (Dry Back Calculation)\",\"Avg Gse (Standard Calculation)\"),\"---\")","v":"Avg Gse (Standard Calculation)"},null,null,null,{"$f":"IFERROR(IF($AO$5=TRUE,AVERAGE(F54:Q54),AVERAGE(F50:Q50)),\"---\")","v":"---"}]
[null,"Gmm (Calc. via Avg Gse)",null,null,null,{"$f":"IFERROR(1/((1-F10/100)/AVERAGE($F$55)+F10/100/$I$7),\"---\")","v":"---"},null,{"$f":"IFERROR(1/((1-H10/100)/AVERAGE($F$55)+H10/100/$I$7),\"---\")","v":"---"},null,null,{"$f":"IFERROR(1/((1-K10/100)/AVERAGE($F$55)+K10/100/$I$7),\"---\")","v":"---"},null,null,{"$f":"IFERROR(1/((1-N10/100)/AVERAGE($F$55)+N10/100/$I$7),\"---\")","v":"---"},null,{"$f":"IFERROR(1/((1-P10/100)/AVERAGE($F$55)+P10/100/$I$7),\"---\")","v":"---"}]
["KTR \nResults",{"$f":"IFERROR(IF($AO$5=TRUE,\"Avg Gse (Dry Back Calculation)\",\"Avg Gse (Standard Calculation)\"),\"---\")","v":"Avg Gse (Standard Calculation)"},null,null,null,{"$f":"Gmm!F48","v":"---"}]
[null,"Gmm (Calc. via Avg Gse)",null,null,null,{"$f":"Gmm!F49","v":"---"},null,{"$f":"Gmm!H49","v":"---"},null,null,{"$f":"Gmm!K49","v":"---"},null,null,{"$f":"Gmm!N49","v":"---"},null,{"$f":"Gmm!P49","v":"---"}]
["Comments:"]
[]
[]
[]
["Thomas Carr, Andrew Guillotte",null,null,null,null,null,null,"Ben C. Cox, PhD, PE"]
["ASPHALT MIX DESIGN TECHNICIAN",null,null,null,null,null,null,"SENIOR RESEARCH ENGINEER"]

{"sheet":"Stability (MDV)","index":20,"n_rows":53,"n_cols":43,"rows_kept":53,"cut":false,"hidden":true,"merged":[[36,0,39,0],[43,0,44,8],[51,0,51,3],[51,5,51,8],[52,0,52,3],[52,5,52,8],[28,0,31,0],[33,0,33,8],[34,0,35,0],[34,1,35,1],[34,2,35,2],[34,3,35,3],[34,4,35,4],[34,5,35,5],[34,6,35,6],[34,7,34,8],[10,39,10,40],[10,41,11,42],[12,0,15,0],[16,0,19,0],[20,0,23,0],[10,35,10,36],[10,37,10,38],[24,0,27,0],[10,6,11,6],[10,7,10,8],[10,32,10,33],[10,34,11,34],[10,0,11,0],[10,1,11,1],[10,2,11,2],[10,3,11,3],[10,4,11,4],[10,5,11,5],[9,32,9,42],[4,0,4,1],[4,2,4,3],[4,5,4,6],[4,7,4,8],[5,0,5,1],[5,2,5,3],[5,5,5,6],[5,7,5,8],[6,0,6,1],[6,2,6,3],[6,5,6,6],[6,7,6,8],[9,0,9,8],[3,0,3,1],[3,2,3,3],[3,5,3,6],[3,7,3,8],[1,32,1,33],[2,0,2,1],[2,2,2,3],[2,5,2,6],[2,7,2,8]]}
["ASTM D6927 Marshall Stability and Flow"]
[null,null,null,null,null,null,null,null,null,null,null,null,null,null,null,null,null,null,null,null,null,null,null,null,null,null,null,null,null,null,null,null,"General Mix Info"]
["Mix ID",null,{"$f":"'JMF Summary (MDV)'!B3","v":"TNF-M1A"},null,null,"Gradation",null,{"$f":"'JMF Summary (MDV)'!G3","v":2},null,null,null,null,null,null,null,null,null,null,null,null,null,null,null,null,null,null,null,null,null,null,null,null,"Units",{"$f":"'JMF Summary (MDV)'!AG4","v":"US"}]
["Date",null,{"$f":"'JMF Summary (MDV)'!B4","v":"---"},null,null,"Compaction",null,{"$f":"'JMF Summary (MDV)'!G4","v":"75 Gyr"}]
["Project",null,{"$f":"'JMF Summary (MDV)'!B5","v":"Tinian North Field"},null,null,"Binder Grade",null,{"$f":"'JMF Summary (MDV)'!G5","v":"PG 64-22"}]
["Producer",null,{"$f":"'JMF Summary (MDV)'!B6","v":"Fluor / Tigerbrain"},null,null,"Binder Source",null,{"$f":"'JMF Summary (MDV)'!G6","v":"Ergon PG 67-22"}]
["Mix Designer",null,{"$f":"'JMF Summary (MDV)'!B7","v":"USACE ERDC"},null,null,"Date Tested",null,"2025-06-26"]
[]
[]
["Multi-Point Trial Asphalt Contents",null,null,null,null,null,null,null,null,null,null,null,null,null,null,null,null,null,null,null,null,null,null,null,null,null,null,null,null,null,null,null,"Form Data"]
["Pb","Spec.","Ht, mm",{"$f":"\"Meas. Stability, \" & IF(AH3=\"US\",\"lb\",\"N\")","v":"Meas. Stability, lb"},"Correlation Ratio",{"$f":"\"Corr. Stability, \" & IF(AH3=\"US\",\"lb\",\"N\")","v":"Corr. Stability, lb"},"Flow","Flow Calc Method",null,null,null,null,null,null,null,null,null,null,null,null,null,null,null,null,null,null,null,null,null,null,null,null,"D6927 Table 1 Values",null,"Specimen","Thickness",null,"CR",null,"Interpolated Values",null,"Flow Calc Method"]
[null,null,null,null,null,null,null,"Peak","Tangent Offset",null,null,null,null,null,null,null,null,null,null,null,null,null,null,null,null,null,null,null,null,null,null,null,"Thickness (mm)","Correlation Ratio",null,"Below","Above","Below","Above","Actual Thickness","Interp. CR"]
[{"$f":"IF(ISNUMBER('Volumetrics (MDV)'!A12),'Volumetrics (MDV)'!A12,\"---\")","v":"---"},1,{"$f":"IFERROR(IF(ISNUMBER('Volumetrics (MDV)'!D12),'Volumetrics (MDV)'!D12,\"---\"),\"---\")","v":"---"},null,{"$f":"IFERROR(AO13,\"---\")","v":"---"},{"$f":"IFERROR(IF(D13*E13<>0,D13*E13,\"---\"),\"---\")","v":"---"},null,null,null,null,null,null,null,null,null,null,null,null,null,null,null,null,null,null,null,null,null,null,null,null,null,null,25.4,5.56,1,{"$f":"INDEX($AG$13:$AG$45,MATCH(AN13,$AG$13:$AG$45,1),1)","v":{"$error":"#N/A"}},{"$f":"INDEX($AG$13:$AG$45,MATCH(AN13,$AG$13:$AG$45,1)+1,1)","v":{"$error":"#N/A"}},{"$f":"VLOOKUP(AJ13,$AG$13:$AH$45,2,FALSE)","v":{"$error":"#N/A"}},{"$f":"VLOOKUP(AK13,$AG$13:$AH$45,2,FALSE)","v":{"$error":"#N/A"}},{"$f":"C13","v":"---"},{"$f":"ROUND(TREND(AL13:AM13,AJ13:AK13,AN13),2)","v":{"$error":"#VALUE!"}},false,{"$f":"IF(OR($H$4=\"75 Gyr\",$H$4=\"50 Gyr\"),\"---\",IF(AP13=TRUE,\"Peak\",\"Tangent Offset\"))","v":"---"}]
[null,2,{"$f":"IFERROR(IF(ISNUMBER('Volumetrics (MDV)'!D13),'Volumetrics (MDV)'!D13,\"---\"),\"---\")","v":"---"},null,{"$f":"IFERROR(AO14,\"---\")","v":"---"},{"$f":"IFERROR(IF(D14*E14<>0,D14*E14,\"---\"),\"---\")","v":"---"},null,null,null,null,null,null,null,null,null,null,null,null,null,null,null,null,null,null,null,null,null,null,null,null,null,null,27,5,2,{"$f":"INDEX($AG$13:$AG$45,MATCH(AN14,$AG$13:$AG$45,1),1)","v":{"$error":"#N/A"}},{"$f":"INDEX($AG$13:$AG$45,MATCH(AN14,$AG$13:$AG$45,1)+1,1)","v":{"$error":"#N/A"}},{"$f":"VLOOKUP(AJ14,$AG$13:$AH$45,2,FALSE)","v":{"$error":"#N/A"}},{"$error":"#N/A"},{"$f":"C14","v":"---"},{"$f":"ROUND(TREND(AL14:AM14,AJ14:AK14,AN14),2)","v":{"$error":"#VALUE!"}},false,{"$f":"IF(OR($H$4=\"75 Gyr\",$H$4=\"50 Gyr\"),\"---\",IF(AP14=TRUE,\"Peak\",\"Tangent Offset\"))","v":"---"}]
[null,3,{"$f":"IFERROR(IF(ISNUMBER('Volumetrics (MDV)'!D14),'Volumetrics (MDV)'!D14,\"---\"),\"---\")","v":"---"},null,{"$f":"IFERROR(AO15,\"---\")","v":"---"},{"$f":"IFERROR(IF(D15*E15<>0,D15*E15,\"---\"),\"---\")","v":"---"},null,null,null,null,null,null,null,null,null,null,null,null,null,null,null,null,null,null,null,null,null,null,null,null,null,null,28.6,4.55,3,{"$error":"#N/A"},{"$error":"#N/A"},{"$error":"#N/A"},{"$error":"#N/A"},{"$f":"C15","v":"---"},{"$error":"#VALUE!"},false,"---"]
[null,"Avg",{"$f":"IFERROR(AVERAGE(C13:C15),\"---\")","v":"---"},{"$f":"IFERROR(AVERAGE(D13:D15),\"---\")","v":"---"},{"$f":"IFERROR(AVERAGE(E13:E15),\"---\")","v":"---"},{"$f":"IFERROR(AVERAGE(F13:F15),\"---\")","v":"---"},{"$f":"IFERROR(AVERAGE(G13:G15),\"---\")","v":"---"},"---","---",null,null,null,null,null,null,null,null,null,null,null,null,null,null,null,null,null,null,null,null,null,null,null,30.2,4.17,"---","---","---","---","---","---","---","---","---"]
[{"$f":"IF(ISNUMBER('Volumetrics (MDV)'!A16),'Volumetrics (MDV)'!A16,\"---\")","v":"---"},4,{"$f":"IFERROR(IF(ISNUMBER('Volumetrics (MDV)'!D16),'Volumetrics (MDV)'!D16,\"---\"),\"---\")","v":"---"},null,{"$f":"IFERROR(AO17,\"---\")","v":"---"},{"$f":"IFERROR(IF(D17*E17<>0,D17*E17,\"---\"),\"---\")","v":"---"},null,null,null,null,null,null,null,null,null,null,null,null,null,null,null,null,null,null,null,null,null,null,null,null,null,null,31.8,3.85,4,{"$error":"#N/A"},{"$error":"#N/A"},{"$error":"#N/A"},{"$error":"#N/A"},{"$f":"C17","v":"---"},{"$error":"#VALUE!"},false,"---"]
[null,5,{"$f":"IFERROR(IF(ISNUMBER('Volumetrics (MDV)'!D17),'Volumetrics (MDV)'!D17,\"---\"),\"---\")","v":"---"},null,{"$f":"IFERROR(AO18,\"---\")","v":"---"},{"$f":"IFERROR(IF(D18*E18<>0,D18*E18,\"---\"),\"---\")","v":"---"},null,null,null,null,null,null,null,null,null,null,null,null,null,null,null,null,null,null,null,null,null,null,null,null,null,null,33.299999999999997,3.57,5,{"$error":"#N/A"},{"$error":"#N/A"},{"$error":"#N/A"},{"$error":"#N/A"},{"$f":"C18","v":"---"},{"$error":"#VALUE!"},false,"---"]
[null,6,{"$f":"IFERROR(IF(ISNUMBER('Volumetrics (MDV)'!D18),'Volumetrics (MDV)'!D18,\"---\"),\"---\")","v":"---"},null,{"$f":"IFERROR(AO19,\"---\")","v":"---"},{"$f":"IFERROR(IF(D19*E19<>0,D19*E19,\"---\"),\"---\")","v":"---"},null,null,null,null,null,null,null,null,null,null,null,null,null,null,null,null,null,null,null,null,null,null,null,null,null,null,34.9,3.33,6,{"$error":"#N/A"},{"$error":"#N/A"},{"$error":"#N/A"},{"$error":"#N/A"},{"$f":"C19","v":"---"},{"$error":"#VALUE!"},false,"---"]
[null,"Avg",{"$f":"IFERROR(AVERAGE(C17:C19),\"---\")","v":"---"},{"$f":"IFERROR(AVERAGE(D17:D19),\"---\")","v":"---"},{"$f":"IFERROR(AVERAGE(E17:E19),\"---\")","v":"---"},{"$f":"IFERROR(AVERAGE(F17:F19),\"---\")","v":"---"},{"$f":"IFERROR(AVERAGE(G17:G19),\"---\")","v":"---"},"---","---",null,null,null,null,null,null,null,null,null,null,null,null,null,null,null,null,null,null,null,null,null,null,null,36.5,3.03,"---","---","---","---","---","---","---","---","---"]
[{"$f":"IF(ISNUMBER('Volumetrics (MDV)'!A20),'Volumetrics (MDV)'!A20,\"---\")","v":"---"},7,{"$f":"IFERROR(IF(ISNUMBER('Volumetrics (MDV)'!D20),'Volumetrics (MDV)'!D20,\"---\"),\"---\")","v":"---"},null,{"$f":"IFERROR(AO21,\"---\")","v":"---"},{"$f":"IFERROR(IF(D21*E21<>0,D21*E21,\"---\"),\"---\")","v":"---"},null,null,null,null,null,null,null,null,null,null,null,null,null,null,null,null,null,null,null,null,null,null,null,null,null,null,38.1,2.78,7,{"$error":"#N/A"},{"$error":"#N/A"},{"$error":"#N/A"},{"$error":"#N/A"},{"$f":"C21","v":"---"},{"$error":"#VALUE!"},false,"---"]
[null,8,{"$f":"IFERROR(IF(ISNUMBER('Volumetrics (MDV)'!D21),'Volumetrics (MDV)'!D21,\"---\"),\"---\")","v":"---"},null,{"$f":"IFERROR(AO22,\"---\")","v":"---"},{"$f":"IFERROR(IF(D22*E22<>0,D22*E22,\"---\"),\"---\")","v":"---"},null,null,null,null,null,null,null,null,null,null,null,null,null,null,null,null,null,null,null,null,null,null,null,null,null,null,39.700000000000003,2.5,8,{"$error":"#N/A"},{"$error":"#N/A"},{"$error":"#N/A"},{"$error":"#N/A"},{"$f":"C22","v":"---"},{"$error":"#VALUE!"},false,"---"]
[null,9,{"$f":"IFERROR(IF(ISNUMBER('Volumetrics (MDV)'!D22),'Volumetrics (MDV)'!D22,\"---\"),\"---\")","v":"---"},null,{"$f":"IFERROR(AO23,\"---\")","v":"---"},{"$f":"IFERROR(IF(D23*E23<>0,D23*E23,\"---\"),\"---\")","v":"---"},null,null,null,null,null,null,null,null,null,null,null,null,null,null,null,null,null,null,null,null,null,null,null,null,null,null,41.3,2.27,9,{"$error":"#N/A"},{"$error":"#N/A"},{"$error":"#N/A"},{"$error":"#N/A"},{"$f":"C23","v":"---"},{"$error":"#VALUE!"},false,"---"]
[null,"Avg",{"$f":"IFERROR(AVERAGE(C21:C23),\"---\")","v":"---"},{"$f":"IFERROR(AVERAGE(D21:D23),\"---\")","v":"---"},{"$f":"IFERROR(AVERAGE(E21:E23),\"---\")","v":"---"},{"$f":"IFERROR(AVERAGE(F21:F23),\"---\")","v":"---"},{"$f":"IFERROR(AVERAGE(G21:G23),\"---\")","v":"---"},"---","---",null,null,null,null,null,null,null,null,null,null,null,null,null,null,null,null,null,null,null,null,null,null,null,42.9,2.08,"---","---","---","---","---","---","---","---","---"]
[{"$f":"IF(ISNUMBER('Volumetrics (MDV)'!A24),'Volumetrics (MDV)'!A24,\"---\")","v":"---"},10,{"$f":"IFERROR(IF(ISNUMBER('Volumetrics (MDV)'!D24),'Volumetrics (MDV)'!D24,\"---\"),\"---\")","v":"---"},null,{"$f":"IFERROR(AO25,\"---\")","v":"---"},{"$f":"IFERROR(IF(D25*E25<>0,D25*E25,\"---\"),\"---\")","v":"---"},null,null,null,null,null,null,null,null,null,null,null,null,null,null,null,null,null,null,null,null,null,null,null,null,null,null,44.4,1.92,10,{"$error":"#N/A"},{"$error":"#N/A"},{"$error":"#N/A"},{"$error":"#N/A"},{"$f":"C25","v":"---"},{"$error":"#VALUE!"},false,"---"]
[null,11,{"$f":"IFERROR(IF(ISNUMBER('Volumetrics (MDV)'!D25),'Volumetrics (MDV)'!D25,\"---\"),\"---\")","v":"---"},null,{"$f":"IFERROR(AO26,\"---\")","v":"---"},{"$f":"IFERROR(IF(D26*E26<>0,D26*E26,\"---\"),\"---\")","v":"---"},null,null,null,null,null,null,null,null,null,null,null,null,null,null,null,null,null,null,null,null,null,null,null,null,null,null,46,1.79,11,{"$error":"#N/A"},{"$error":"#N/A"},{"$error":"#N/A"},{"$error":"#N/A"},{"$f":"C26","v":"---"},{"$error":"#VALUE!"},false,"---"]
[null,12,{"$f":"IFERROR(IF(ISNUMBER('Volumetrics (MDV)'!D26),'Volumetrics (MDV)'!D26,\"---\"),\"---\")","v":"---"},null,{"$f":"IFERROR(AO27,\"---\")","v":"---"},{"$f":"IFERROR(IF(D27*E27<>0,D27*E27,\"---\"),\"---\")","v":"---"},null,null,null,null,null,null,null,null,null,null,null,null,null,null,null,null,null,null,null,null,null,null,null,null,null,null,47.6,1.67,12,{"$error":"#N/A"},{"$error":"#N/A"},{"$error":"#N/A"},{"$error":"#N/A"},{"$f":"C27","v":"---"},{"$error":"#VALUE!"},false,"---"]
[null,"Avg",{"$f":"IFERROR(AVERAGE(C25:C27),\"---\")","v":"---"},{"$f":"IFERROR(AVERAGE(D25:D27),\"---\")","v":"---"},{"$f":"IFERROR(AVERAGE(E25:E27),\"---\")","v":"---"},{"$f":"IFERROR(AVERAGE(F25:F27),\"---\")","v":"---"},{"$f":"IFERROR(AVERAGE(G25:G27),\"---\")","v":"---"},"---","---",null,null,null,null,null,null,null,null,null,null,null,null,null,null,null,null,null,null,null,null,null,null,null,49.2,1.56,"---","---","---","---","---","---","---","---","---"]
[{"$f":"IF(ISNUMBER('Volumetrics (MDV)'!A28),'Volumetrics (MDV)'!A28,\"---\")","v":"---"},13,{"$f":"IFERROR(IF(ISNUMBER('Volumetrics (MDV)'!D28),'Volumetrics (MDV)'!D28,\"---\"),\"---\")","v":"---"},null,{"$f":"IFERROR(AO29,\"---\")","v":"---"},{"$f":"IFERROR(IF(D29*E29<>0,D29*E29,\"---\"),\"---\")","v":"---"},null,null,null,null,null,null,null,null,null,null,null,null,null,null,null,null,null,null,null,null,null,null,null,null,null,null,50.8,1.47,13,{"$error":"#N/A"},{"$error":"#N/A"},{"$error":"#N/A"},{"$error":"#N/A"},{"$f":"C29","v":"---"},{"$error":"#VALUE!"},false,"---"]
[null,14,{"$f":"IFERROR(IF(ISNUMBER('Volumetrics (MDV)'!D29),'Volumetrics (MDV)'!D29,\"---\"),\"---\")","v":"---"},null,{"$f":"IFERROR(AO30,\"---\")","v":"---"},{"$f":"IFERROR(IF(D30*E30<>0,D30*E30,\"---\"),\"---\")","v":"---"},null,null,null,null,null,null,null,null,null,null,null,null,null,null,null,null,null,null,null,null,null,null,null,null,null,null,52.4,1.39,14,{"$error":"#N/A"},{"$error":"#N/A"},{"$error":"#N/A"},{"$error":"#N/A"},{"$f":"C30","v":"---"},{"$error":"#VALUE!"},false,"---"]
[null,15,{"$f":"IFERROR(IF(ISNUMBER('Volumetrics (MDV)'!D30),'Volumetrics (MDV)'!D30,\"---\"),\"---\")","v":"---"},null,{"$f":"IFERROR(AO31,\"---\")","v":"---"},{"$f":"IFERROR(IF(D31*E31<>0,D31*E31,\"---\"),\"---\")","v":"---"},null,null,null,null,null,null,null,null,null,null,null,null,null,null,null,null,null,null,null,null,null,null,null,null,null,null,54,1.32,15,{"$error":"#N/A"},{"$error":"#N/A"},{"$error":"#N/A"},{"$error":"#N/A"},{"$f":"C31","v":"---"},{"$error":"#VALUE!"},false,"---"]
[null,"Avg",{"$f":"IFERROR(AVERAGE(C29:C31),\"---\")","v":"---"},{"$f":"IFERROR(AVERAGE(D29:D31),\"---\")","v":"---"},{"$f":"IFERROR(AVERAGE(E29:E31),\"---\")","v":"---"},{"$f":"IFERROR(AVERAGE(F29:F31),\"---\")","v":"---"},{"$f":"IFERROR(AVERAGE(G29:G31),\"---\")","v":"---"},"---","---",null,null,null,null,null,null,null,null,null,null,null,null,null,null,null,null,null,null,null,null,null,null,null,55.6,1.25,"---","---","---","---","---","---","---","---","---"]
[null,null,null,null,null,null,null,null,null,null,null,null,null,null,null,null,null,null,null,null,null,null,null,null,null,null,null,null,null,null,null,null,57.2,1.19,16,{"$error":"#N/A"},{"$error":"#N/A"},{"$error":"#N/A"},{"$error":"#N/A"},{"$f":"C37","v":"---"},{"$error":"#VALUE!"},false,"---"]
["Single-Point Verification",null,null,null,null,null,null,null,null,null,null,null,null,null,null,null,null,null,null,null,null,null,null,null,null,null,null,null,null,null,null,null,58.7,1.1399999999999999,17,{"$error":"#N/A"},{"$error":"#N/A"},{"$error":"#N/A"},{"$error":"#N/A"},{"$f":"C38","v":"---"},{"$error":"#VALUE!"},true,"---"]
["Pb","Spec.","Ht, mm","Meas. Stability, lb","Correlation Ratio",{"$f":"\"Corr. Stability, \" & IF(AH3=\"US\",\"lb\",\"N\")","v":"Corr. Stability, lb"},"Flow","Flow Calc Method",null,null,null,null,null,null,null,null,null,null,null,null,null,null,null,null,null,null,null,null,null,null,null,null,60.3,1.0900000000000001,18,{"$error":"#N/A"},{"$error":"#N/A"},{"$error":"#N/A"},{"$error":"#N/A"},{"$f":"C39","v":"---"},{"$error":"#VALUE!"},false,"---"]
[null,null,null,null,null,null,null,"Peak","Tangent Offset",null,null,null,null,null,null,null,null,null,null,null,null,null,null,null,null,null,null,null,null,null,null,null,61.9,1.04]
[{"$f":"IF(ISNUMBER('Volumetrics (MDV)'!A35),'Volumetrics (MDV)'!A35,\"---\")","v":"---"},1,{"$f":"IFERROR(IF(ISNUMBER('Volumetrics (MDV)'!D35),'Volumetrics (MDV)'!D35,\"---\"),\"---\")","v":"---"},null,{"$f":"IFERROR(AO33,\"---\")","v":"---"},{"$f":"IFERROR(IF(D37*E37<>0,D37*E37,\"---\"),\"---\")","v":"---"},null,null,null,null,null,null,null,null,null,null,null,null,null,null,null,null,null,null,null,null,null,null,null,null,null,null,63.5,1]
[null,2,{"$f":"IFERROR(IF(ISNUMBER('Volumetrics (MDV)'!D36),'Volumetrics (MDV)'!D36,\"---\"),\"---\")","v":"---"},null,{"$f":"IFERROR(AO34,\"---\")","v":"---"},{"$f":"IFERROR(IF(D38*E38<>0,D38*E38,\"---\"),\"---\")","v":"---"},null,null,null,null,null,null,null,null,null,null,null,null,null,null,null,null,null,null,null,null,null,null,null,null,null,null,65.099999999999994,0.96]
[null,3,{"$f":"IFERROR(IF(ISNUMBER('Volumetrics (MDV)'!D37),'Volumetrics (MDV)'!D37,\"---\"),\"---\")","v":"---"},null,{"$f":"IFERROR(AO35,\"---\")","v":"---"},{"$f":"IFERROR(IF(D39*E39<>0,D39*E39,\"---\"),\"---\")","v":"---"},null,null,null,null,null,null,null,null,null,null,null,null,null,null,null,null,null,null,null,null,null,null,null,null,null,null,66.7,0.93]
[null,"Avg",{"$f":"IFERROR(AVERAGE(C37:C39),\"---\")","v":"---"},{"$f":"IFERROR(AVERAGE(D37:D39),\"---\")","v":"---"},{"$f":"IFERROR(AVERAGE(E37:E39),\"---\")","v":"---"},{"$f":"IFERROR(AVERAGE(F37:F39),\"---\")","v":"---"},{"$f":"IFERROR(AVERAGE(G37:G39),\"---\")","v":"---"},"---","---",null,null,null,null,null,null,null,null,null,null,null,null,null,null,null,null,null,null,null,null,null,null,null,68.3,0.89]
[null,null,null,null,null,null,null,null,null,null,null,null,null,null,null,null,null,null,null,null,null,null,null,null,null,null,null,null,null,null,null,null,69.8,0.86]
[null,null,null,null,null,null,null,null,null,null,null,null,null,null,null,null,null,null,null,null,null,null,null,null,null,null,null,null,null,null,null,null,71.400000000000006,0.83]
["Comments:",null,null,null,null,null,null,null,null,null,null,null,null,null,null,null,null,null,null,null,null,null,null,null,null,null,null,null,null,null,null,null,73,0.81]
[null,null,null,null,null,null,null,null,null,null,null,null,null,null,null,null,null,null,null,null,null,null,null,null,null,null,null,null,null,null,null,null,74.599999999999994,0.78]
[null,null,null,null,null,null,null,null,null,null,null,null,null,null,null,null,null,null,null,null,null,null,null,null,null,null,null,null,null,null,null,null,76.2,0.76]
[]
[]
[]
[]
[]
[]
["Andrew Guillotte",null,null,null,null,"Ben C. Cox, PhD, PE"]
["ASPHALT MIXTURE DESIGN TECHNICIAN",null,null,null,null,"SENIOR RESEARCH ENGINEER"]

{"sheet":"TSR (MDV)","index":21,"n_rows":56,"n_cols":36,"rows_kept":56,"cut":false,"hidden":true,"merged":[[55,0,55,1],[55,4,55,8],[20,31,20,32],[20,33,20,34],[21,31,21,32],[21,33,21,35],[48,2,48,9],[51,0,52,9],[54,0,54,1],[54,4,54,8],[23,0,23,10],[34,0,34,10],[42,0,42,10],[17,31,17,32],[17,33,17,34],[18,31,18,32],[18,33,18,34],[19,31,19,32],[19,33,19,34],[16,31,16,32],[16,33,16,34],[6,1,6,3],[6,5,6,6],[6,7,6,9],[8,1,8,3],[8,5,8,9],[10,0,10,1],[10,2,10,5],[10,6,10,9],[12,31,12,35],[14,31,14,32],[14,33,14,34],[15,31,15,32],[15,33,15,34],[10,10,11,10],[4,1,4,3],[4,5,4,6],[4,7,4,9],[4,31,4,38],[5,1,5,3],[5,5,5,6],[5,7,5,9],[5,33,5,38],[1,31,1,32],[2,1,2,3],[2,5,2,6],[2,7,2,9],[3,1,3,3],[3,5,3,6],[3,7,3,9]]}
["ASTM D4867 Tensile Strength Ratio"]
[null,null,null,null,null,null,null,null,null,null,null,null,null,null,null,null,null,null,null,null,null,null,null,null,null,null,null,null,null,null,null,"General Mix Info"]
["Mix ID",{"$f":"'JMF Summary (MDV)'!B3","v":"TNF-M1A"},null,null,null,"Gradation",null,{"$f":"'JMF Summary (MDV)'!G3","v":2},null,null,null,null,null,null,null,null,null,null,null,null,null,null,null,null,null,null,null,null,null,null,null,"Units",{"$f":"'JMF Summary (MDV)'!AG4","v":"US"}]
["Date",{"$f":"'JMF Summary (MDV)'!B4","v":"---"},null,null,null,"Compaction",null,{"$f":"'JMF Summary (MDV)'!G4","v":"75 Gyr"}]
["Project",{"$f":"'JMF Summary (MDV)'!B5","v":"Tinian North Field"},null,null,null,"Binder Grade",null,{"$f":"'JMF Summary (MDV)'!G5","v":"PG 64-22"},null,null,null,null,null,null,null,null,null,null,null,null,null,null,null,null,null,null,null,null,null,null,null,"Form Data"]
["Producer",{"$f":"'JMF Summary (MDV)'!B6","v":"Fluor / Tigerbrain"},null,null,null,"Anti-Strip",null,{"$f":"IF(ISBLANK('JMF Summary (MDV)'!C37),\"---\",FIXED('JMF Summary (MDV)'!B37*100,2) & \"% \" & 'JMF Summary (MDV)'!C37)","v":"---"},null,null,null,null,null,null,null,null,null,null,null,null,null,null,null,null,null,null,null,null,null,null,null,"F-T",false,"(TRUE = Freeze-Thaw + Moisture, FALSE = Moisture Only)"]
["Mix Designer",{"$f":"'JMF Summary (MDV)'!B7","v":"USACE ERDC"},null,null,null,"WMA",null,{"$f":"IF(ISBLANK('JMF Summary (MDV)'!C38),\"---\",FIXED('JMF Summary (MDV)'!B38*100,2) & \"% \" & 'JMF Summary (MDV)'!C38)","v":"---"}]
[null,null,null,null,null,null,null,null,null,null,null,null,null,null,null,null,null,null,null,null,null,null,null,null,null,null,null,null,null,null,null,"Specification Limits"]
["Date Tested",null,null,null,null,"        Freeze-Thaw Conditioning",null,null,null,null,null,null,null,null,null,null,null,null,null,null,null,null,null,null,null,null,null,null,null,null,null,"Property","Operator","Limit 1",null,"Limit 2"]
[null,null,null,null,null,null,null,null,null,null,null,null,null,null,null,null,null,null,null,null,null,null,null,null,null,null,null,null,null,null,null,"TSR",{"$f":"'JMF Summary (MDV)'!AG41","v":"≥"},{"$f":"IF('JMF Summary (MDV)'!AH41<>0,'JMF Summary (MDV)'!AH41,\"---\")","v":75}," - "]
["Test Parameter",null,"Unconditioned",null,null,null,"Conditioned",null,null,null,"KTR",null,null,null,null,null,null,null,null,null,null,null,null,null,null,null,null,null,null,null,null,"St Wet",{"$f":"'JMF Summary (MDV)'!AG42","v":"≥"},{"$f":"IF('JMF Summary (MDV)'!AH42<>0,'JMF Summary (MDV)'!AH42,\"---\")","v":60}," - "]
["Specimen ID","Limits","M2A(S2)-28","M2A(S2)-30","M2A(S2)-31","Avg","M2A(S2)-34","M2A(S2)-35","M2A(S2)-40","Avg"]
["No. Blows to Achieve Air Voids","---",null,null,null,"---",null,null,null,"---","---",null,null,null,null,null,null,null,null,null,null,null,null,null,null,null,null,null,null,null,null,"Raw Data Override (admin user only)"]
["(D) Diameter, mm","---",null,null,null,"---",null,null,null,"---","---",null,null,null,null,null,null,null,null,null,null,null,null,null,null,null,null,null,null,null,null,"Input Type","Raw Data"]
["(t) Thickness, mm  ","---",null,null,null,"---",null,null,null,"---","---",null,null,null,null,null,null,null,null,null,null,null,null,null,null,null,null,null,null,null,null,"Parameter",null,"Unconditioned",null,"Conditioned"]
["(A) Dry mass in air, g ","---",null,null,null,"---",null,null,null,"---","---",null,null,null,null,null,null,null,null,null,null,null,null,null,null,null,null,null,null,null,null,"Avg Va, %",null,7.1,null,7.1]
["(B) SSD mass, g","---",null,null,null,"---",null,null,null,"---","---",null,null,null,null,null,null,null,null,null,null,null,null,null,null,null,null,null,null,null,null,"Avg Pre-Conditioning Saturation",null,"---",null,74.8]
["(C) Mass in water, g","---",null,null,null,"---",null,null,null,"---","---",null,null,null,null,null,null,null,null,null,null,null,null,null,null,null,null,null,null,null,null,"Avg Pre-Conditioning Swell",null,"---",null,0.5]
["(E) Volume, cm3","---",{"$f":"IFERROR(IF(ISBLANK(C17),\"---\",C17-C18),\"---\")","v":"---"},{"$f":"IFERROR(IF(ISBLANK(D17),\"---\",D17-D18),\"---\")","v":"---"},"---","---",{"$f":"IFERROR(IF(ISBLANK(G17),\"---\",G17-G18),\"---\")","v":"---"},"---","---","---","---",null,null,null,null,null,null,null,null,null,null,null,null,null,null,null,null,null,null,null,null,"Avg Post-Conditioning Saturation",null,"---",null,81]
["(F) Bulk Specific Gravity, Gmb","---",{"$f":"IFERROR(C16/C19,\"---\")","v":"---"},{"$f":"IFERROR(D16/D19,\"---\")","v":"---"},"---","---","---","---","---","---","---",null,null,null,null,null,null,null,null,null,null,null,null,null,null,null,null,null,null,null,null,"Avg Post-Conditioning Swell",null,"---",null,0]
["(G) Maximum Specific Gravity, Gmm","---",null,null,null,"---",null,null,null,"---","---",null,null,null,null,null,null,null,null,null,null,null,null,null,null,null,null,null,null,null,null,"Avg Strength, St",null,63.5,null,60.1]
["(H) Air Voids, %","7.0 ± 0.5",{"$f":"IFERROR(100*(C21-C20)/C21,\"---\")","v":"---"},{"$f":"IFERROR(100*(D21-D20)/D21,\"---\")","v":"---"},{"$f":"IFERROR(100*(E21-E20)/E21,\"---\")","v":"---"},{"$f":"IFERROR(IF($AG$14=\"Raw Data\",AVERAGE(C22:E22),AH16),\"---\")","v":"---"},{"$f":"IFERROR(100*(G21-G20)/G21,\"---\")","v":"---"},{"$f":"IFERROR(100*(H21-H20)/H21,\"---\")","v":"---"},{"$f":"IFERROR(100*(I21-I20)/I21,\"---\")","v":"---"},{"$f":"IFERROR(IF($AG$14=\"Raw Data\",AVERAGE(G22:I22),AJ16),\"---\")","v":"---"},{"$f":"AVERAGE(TSR!F21,TSR!J21)","v":{"$error":"#DIV/0!"}},null,null,null,null,null,null,null,null,null,null,null,null,null,null,null,null,null,null,null,null,"TSR"]
["(I) Volume of air voids, cm3","---","---","---","---","---",{"$f":"IFERROR(G22*G19/100,\"---\")","v":"---"},{"$f":"IFERROR(H22*H19/100,\"---\")","v":"---"},{"$f":"IFERROR(I22*I19/100,\"---\")","v":"---"},"---","---"]
["Partial vacuum saturation to 70% to 80% saturation"]
["Saturation Time, min","---","---","---","---","---",null,null,null,"---","---"]
["Absolute Vacuum, mm Hg","---","---","---","---","---",null,null,null,"---","---"]
["SSD mass at 70% saturation, g","---","---","---","---","---",{"$f":"IFERROR(G16+0.7*G22*G19/100,\"---\")","v":"---"},{"$f":"IFERROR(H16+0.7*H22*H19/100,\"---\")","v":"---"},{"$f":"IFERROR(I16+0.7*I22*I19/100,\"---\")","v":"---"},"---","---"]
["SSD mass at 80% saturation, g","---","---","---","---","---",{"$f":"IFERROR(G16+0.8*G22*G19/100,\"---\")","v":"---"},{"$f":"IFERROR(H16+0.8*H22*H19/100,\"---\")","v":"---"},{"$f":"IFERROR(I16+0.8*I22*I19/100,\"---\")","v":"---"},"---","---"]
["(B') SSD mass, g","---","---","---","---","---",null,null,null,"---","---"]
["(C') Mass in water, g","---","---","---","---","---",null,null,null,"---","---"]
["(E') Volume, cm3","---","---","---","---","---",{"$f":"IFERROR(IF(ISBLANK(G29),\"---\",G29-G30),\"---\")","v":"---"},{"$f":"IFERROR(IF(ISBLANK(H29),\"---\",H29-H30),\"---\")","v":"---"},{"$f":"IFERROR(IF(ISBLANK(I29),\"---\",I29-I30),\"---\")","v":"---"},"---","---"]
["(J') Vol abs. water, cm3","---","---","---","---","---",{"$f":"IFERROR(IF(ISBLANK(G29),\"---\",G29-G16),\"---\")","v":"---"},{"$f":"IFERROR(IF(ISBLANK(H29),\"---\",H29-H16),\"---\")","v":"---"},{"$f":"IFERROR(IF(ISBLANK(I29),\"---\",I29-I16),\"---\")","v":"---"},"---","---"]
["Pre-Conditioning Saturation, %","70 to 80","---","---","---","---",{"$f":"IFERROR(100*G32/G23,\"---\")","v":"---"},{"$f":"IFERROR(100*H32/H23,\"---\")","v":"---"},{"$f":"IFERROR(100*I32/I23,\"---\")","v":"---"},{"$f":"IFERROR(IF($AG$14=\"Raw Data\",AVERAGE(G33:I33),AJ17),\"---\")","v":"---"},{"$f":"TSR!J32","v":"---"}]
["Swell, %","---","---","---","---","---",{"$f":"IFERROR((G31-G19)/G19*100,\"---\")","v":"---"},{"$f":"IFERROR((H31-H19)/H19*100,\"---\")","v":"---"},{"$f":"IFERROR((I31-I19)/I19*100,\"---\")","v":"---"},{"$f":"IFERROR(IF($AG$14=\"Raw Data\",AVERAGE(G34:I34),AJ18),\"---\")","v":"---"},{"$f":"TSR!J33","v":"---"}]
[{"$f":"IF(AG6,\"Min. 15-hour freeze-thaw cycle followed by moisture conditioning at 140ºF [60ºC] for 24 hours\",\"Moisture conditioning at 140ºF [60ºC] for 24 hours\")","v":"Moisture conditioning at 140ºF [60ºC] for 24 hours"}]
["(t'') Thickness, mm  ","---","---","---","---","---",null,null,null,"---","---"]
["(B'') SSD mass, g","---","---","---","---","---",null,null,null,"---","---"]
["(C'') Mass in water, g","---","---","---","---","---",null,null,null,"---","---"]
["(E'') Volume, cm3","---","---","---","---","---",{"$f":"IFERROR(IF(ISBLANK(G37),\"---\",G37-G38),\"---\")","v":"---"},{"$f":"IFERROR(IF(ISBLANK(H37),\"---\",H37-H38),\"---\")","v":"---"},{"$f":"IFERROR(IF(ISBLANK(I37),\"---\",I37-I38),\"---\")","v":"---"},"---","---"]
["(J'') Vol abs. water, cm3","---","---","---","---","---",{"$f":"IFERROR(IF(ISBLANK(G37),\"---\",G37-G16),\"---\")","v":"---"},{"$f":"IFERROR(IF(ISBLANK(H37),\"---\",H37-H16),\"---\")","v":"---"},{"$f":"IFERROR(IF(ISBLANK(I37),\"---\",I37-I16),\"---\")","v":"---"},"---","---"]
["Post-Conditioning Saturation, %","---","---","---","---","---",{"$f":"IFERROR(100*G40/G23,\"---\")","v":"---"},{"$f":"IFERROR(100*H40/H23,\"---\")","v":"---"},{"$f":"IFERROR(100*I40/I23,\"---\")","v":"---"},{"$f":"IFERROR(IF($AG$14=\"Raw Data\",AVERAGE(G41:I41),AJ19),\"---\")","v":"---"},{"$f":"TSR!J40","v":"---"}]
["Swell, %","---","---","---","---","---",{"$f":"IFERROR((G39-G19)/G19*100,\"---\")","v":"---"},{"$f":"IFERROR((H39-H19)/H19*100,\"---\")","v":"---"},{"$f":"IFERROR((I39-I19)/I19*100,\"---\")","v":"---"},{"$f":"IFERROR(IF($AG$14=\"Raw Data\",AVERAGE(G42:I42),AJ20),\"---\")","v":"---"},{"$f":"TSR!J41","v":"---"}]
["Indirect Tensile Strength Testing"]
[{"$f":"\"(P) Load, \" & IF(AG3=\"US\",\"lbf\",\"N\")","v":"(P) Load, lbf"},"---",null,null,null,"---",null,null,null,"---","---"]
[{"$f":"\"Dry strength, St, \" & IF(AG3=\"US\",\"psi\",\"kPa\")","v":"Dry strength, St, psi"},"---",{"$f":"IF($AG$3=\"US\",2*C44/(3.1415*C15/25.4*C14/25.4),2000*C44/(3.1415*C15*C14))","v":{"$error":"#DIV/0!"}},{"$f":"IF($AG$3=\"US\",2*D44/(3.1415*D15/25.4*D14/25.4),2000*D44/(3.1415*D15*D14))","v":{"$error":"#DIV/0!"}},{"$f":"IF($AG$3=\"US\",2*E44/(3.1415*E15/25.4*E14/25.4),2000*E44/(3.1415*E15*E14))","v":{"$error":"#DIV/0!"}},{"$f":"IFERROR(IF($AG$14=\"Raw Data\",AVERAGE(C45:E45),AH21),\"---\")","v":"---"},"---","---","---","---",{"$f":"TSR!F44","v":"---"}]
[{"$f":"\"Wet strength, St, \" & IF(AG3=\"US\",\"psi\",\"kPa\")","v":"Wet strength, St, psi"},{"$f":"IF(ISNUMBER(AH11),AG11 & \" \" & FIXED(AH11,0),\"---\")","v":"≥ 60"},"---","---","---","---",{"$f":"IF($AG$3=\"US\",2*G44/(3.1415*G15/25.4*G14/25.4),2000*G44/(3.1415*G15*G14))","v":{"$error":"#DIV/0!"}},{"$f":"IF($AG$3=\"US\",2*H44/(3.1415*H15/25.4*H14/25.4),2000*H44/(3.1415*H15*H14))","v":{"$error":"#DIV/0!"}},{"$f":"IF($AG$3=\"US\",2*I44/(3.1415*I15/25.4*I14/25.4),2000*I44/(3.1415*I15*I14))","v":{"$error":"#DIV/0!"}},{"$f":"IFERROR(IF($AG$14=\"Raw Data\",AVERAGE(G46:I46),AJ21),\"---\")","v":"---"},{"$f":"TSR!J45","v":"---"}]
["Visual Moisture Damage (0 to 5 rating)","---","---","---","---","---",null,null,null,"---","---"]
["Broken Aggregate (0 to 5 rating)","---","---","---","---","---",null,null,null,"---","---"]
["Tensile strength ratio, TSR, %",{"$f":"IF(ISNUMBER(AH10),AG10 & \" \" & FIXED(AH10,0),\"---\")","v":"≥ 75"},{"$f":"IFERROR(IF(AND($AG$14=\"Results\",ISNUMBER(AH22)),AH22,J46/F45*100),\"---\")","v":"---"},null,null,null,null,null,null,null,{"$f":"TSR!C48","v":"---"}]
[]
["Comments:"]
[]
[]
[]
["Thomas Carr, Andrew Guillotte",null,null,null,"Ben C. Cox, PhD, PE"]
["ASPHALT MIXTURE DESIGN TECHNICIAN",null,null,null,"SENIOR RESEARCH ENGINEER"]

{"sheet":"Gradation (MDV)","index":22,"n_rows":59,"n_cols":37,"rows_kept":59,"cut":false,"hidden":true,"merged":[[34,12,34,21],[49,0,50,10],[36,21,37,21],[36,13,37,13],[36,12,37,12],[36,14,36,15],[36,16,36,17],[1,26,1,36],[2,0,2,10],[2,12,2,22],[3,0,4,0],[3,12,4,12],[4,26,4,27],[4,28,4,29],[3,13,3,16],[19,12,20,12],[19,13,20,13],[5,26,5,27],[5,28,5,29],[6,26,6,27],[6,28,6,29],[18,12,18,22],[19,19,20,19],[19,20,20,20],[19,21,20,21],[19,22,20,22],[19,14,20,14],[19,15,20,15],[19,16,20,16],[19,17,20,17],[19,18,20,18]]}
["Aggregate Blending Worksheet"]
[null,null,null,null,null,null,null,null,null,null,null,null,null,null,null,null,null,null,null,null,null,null,null,null,null,null,"Form Data"]
["Trial Blends",null,null,null,null,null,null,null,null,null,null,null,"Individual Stockpile Gradations",null,null,null,null,null,null,null,null,null,null,null,null,null,"Blend","Blend 1","Blend 2","Blend 3","Blend 4","Blend 5","Blend 6","Blend 7","Blend 8","Blend 9","Blend 10"]
["Stockpile \nName","Blend 1","Blend 2","Blend 3","Blend 4","Blend 5","Blend 6","Blend 7","Blend 8","Blend 9","Blend 10",null,"Sieve\nSize","Aggregate Sample 1",null,null,null,null,null,null,null,null,null,null,null,null,"Plot? (Y?)",true,false,false,false,false,true,false,false,false,false]
[null,null,null,null,null,null,null,null,null,null,null,null,null,{"$f":"'JMF Summary (MDV)'!B11","v":0},{"$f":"'JMF Summary (MDV)'!C11","v":0},{"$f":"'JMF Summary (MDV)'!D11","v":0},{"$f":"'JMF Summary (MDV)'!E11","v":0},null,null,null,null,null,null,null,null,null,"Gradation",null,{"$f":"'JMF Summary (MDV)'!G3","v":2}]
[{"$f":"N5","v":0},null,null,null,null,null,null,null,null,null,null,null,25,{"$f":"'JMF Summary (MDV)'!B16","v":0},{"$f":"'JMF Summary (MDV)'!C16","v":0},{"$f":"'JMF Summary (MDV)'!D16","v":0},{"$f":"'JMF Summary (MDV)'!E16","v":0},null,null,null,null,null,null,null,null,null,"Label",null,{"$f":"AA5 & \" \" & AC5","v":"Gradation 2"}]
[{"$f":"O5","v":0},null,null,null,null,null,null,null,null,null,null,null,19,{"$f":"'JMF Summary (MDV)'!B17","v":0},{"$f":"'JMF Summary (MDV)'!C17","v":0},{"$f":"'JMF Summary (MDV)'!D17","v":0},{"$f":"'JMF Summary (MDV)'!E17","v":0},null,null,null,null,null,null,null,null,null,"Label x value",null,{"$f":"IF($AC$5=1,4.257/2,IF($AC$5=2,3.762/2,IF($AC$5=3,3.116/2,\"---\")))","v":1.881}]
[{"$f":"P5","v":0},null,null,null,null,null,null,null,null,null,null,null,12.5,{"$f":"'JMF Summary (MDV)'!B18","v":0},{"$f":"'JMF Summary (MDV)'!C18","v":0},{"$f":"'JMF Summary (MDV)'!D18","v":0},{"$f":"'JMF Summary (MDV)'!E18","v":0},null,null,null,null,null,null,null,null,null,"Selected",6]
[{"$f":"Q5","v":0},null,null,null,null,null,null,null,null,null,null,null,9.5,{"$f":"'JMF Summary (MDV)'!B19","v":0},{"$f":"'JMF Summary (MDV)'!C19","v":0},{"$f":"'JMF Summary (MDV)'!D19","v":0},{"$f":"'JMF Summary (MDV)'!E19","v":0}]
[{"$f":"R5","v":0},null,null,null,null,null,null,null,null,null,null,null,4.75,{"$f":"'JMF Summary (MDV)'!B20","v":0},{"$f":"'JMF Summary (MDV)'!C20","v":0},{"$f":"'JMF Summary (MDV)'!D20","v":0},{"$f":"'JMF Summary (MDV)'!E20","v":0},null,null,null,null,null,null,null,null,null,"Gradation 1 - 25 mm Max Size, 19 mm Nominal Max Size"]
[{"$f":"S5","v":0},null,null,null,null,null,null,null,null,null,null,null,2.36,{"$f":"'JMF Summary (MDV)'!B21","v":0},{"$f":"'JMF Summary (MDV)'!C21","v":0},{"$f":"'JMF Summary (MDV)'!D21","v":0},{"$f":"'JMF Summary (MDV)'!E21","v":0},null,null,null,null,null,null,null,null,null,null,null,null,null,"Restricted Zone"]
[{"$f":"T5","v":0},null,null,null,null,null,null,null,null,null,null,null,1.18,{"$f":"'JMF Summary (MDV)'!B22","v":0},{"$f":"'JMF Summary (MDV)'!C22","v":0},{"$f":"'JMF Summary (MDV)'!D22","v":0},{"$f":"'JMF Summary (MDV)'!E22","v":0},null,null,null,null,null,null,null,null,null,null,null,"Control Points",null,"Minimum","Maximum","Maximum","Optional","Optional"]
[{"$f":"U5","v":0},null,null,null,null,null,null,null,null,null,null,null,0.6,{"$f":"'JMF Summary (MDV)'!B23","v":0},{"$f":"'JMF Summary (MDV)'!C23","v":0},{"$f":"'JMF Summary (MDV)'!D23","v":0},{"$f":"'JMF Summary (MDV)'!E23","v":0},null,null,null,null,null,null,null,null,null,"Size",".45 Power","Minimum","Maximum","Boundary","Boundary","Density Line","Limit #1","Limit #2"]
[{"$f":"V5","v":0},null,null,null,null,null,null,null,null,null,null,null,0.3,{"$f":"'JMF Summary (MDV)'!B24","v":0},{"$f":"'JMF Summary (MDV)'!C24","v":0},{"$f":"'JMF Summary (MDV)'!D24","v":0},{"$f":"'JMF Summary (MDV)'!E24","v":0},null,null,null,null,null,null,null,null,null,25,{"$f":"POWER(AA14,0.45)","v":4.2566996126039234},{"$error":"#N/A"},100,null,null,100]
[{"$f":"W5","v":0},null,null,null,null,null,null,null,null,null,null,null,0.15,{"$f":"'JMF Summary (MDV)'!B25","v":0},{"$f":"'JMF Summary (MDV)'!C25","v":0},{"$f":"'JMF Summary (MDV)'!D25","v":0},{"$f":"'JMF Summary (MDV)'!E25","v":0},null,null,null,null,null,null,null,null,null,19,{"$f":"POWER(AA15,0.45)","v":3.7621761023862978},90,100]
["Total",{"$f":"SUM(B6:B15)","v":0},0,0,0,0,0,0,0,0,0,null,7.4999999999999997E-2,{"$f":"'JMF Summary (MDV)'!B26","v":0},{"$f":"'JMF Summary (MDV)'!C26","v":0},{"$f":"'JMF Summary (MDV)'!D26","v":0},{"$f":"'JMF Summary (MDV)'!E26","v":0},null,null,null,null,null,null,null,null,null,12.5,3.116086507375345,68,88,null,null,null,0,0]
["Plot?",null,null,null,null,null,null,null,null,null,null,null,null,null,null,null,null,null,null,null,null,null,null,null,null,null,9.5,2.754074108566122,60,82]
["Selected",null,null,null,null,null,null,null,null,null,null,null,null,null,null,null,null,null,null,null,null,null,null,null,null,null,4.75,2.0161002539629291,45,67]
[null,null,null,null,null,null,null,null,null,null,null,null,"Trial Blend Gradations",null,null,null,null,null,null,null,null,null,null,null,null,null,2.36,1.4716698795820382,32,54,47.2,47.2]
[null,null,null,null,null,null,null,null,null,null,null,null,"Sieve \nSize",{"$f":"IF(AB$4=TRUE,IF(ISBLANK(B5),B4,B5) & \" - On\",\"Off\")","v":"Blend 1 - On"},{"$f":"IF(AC$4=TRUE,IF(ISBLANK(C5),C4,C5) & \" - On\",\"Off\")","v":"Off"},"Off","Off","Off","Blend 6 - On","Off","Off","Off","Off",null,null,null,1.18,1.0773254099250416,22,44,31.6,37.6]
[null,null,null,null,null,null,null,null,null,null,null,null,null,null,null,null,null,null,null,null,null,null,null,null,null,null,0.6,0.79463568224020453,15,35,23.5,27.5]
[null,null,null,null,null,null,null,null,null,null,null,null,25,{"$f":"IF(AND(B$16>0,AB$4=TRUE),(B$6*$N6+B$7*$O6+B$8*$P6+B$9*$Q6+B$10*$R6+B$11*$S6+B$12*$T6+B$13*$U6+B$14*$V6+B$15*$W6)/100,NA())","v":{"$error":"#N/A"}},{"$f":"IF(AND(C$16>0,AC$4=TRUE),(C$6*$N6+C$7*$O6+C$8*$P6+C$9*$Q6+C$10*$R6+C$11*$S6+C$12*$T6+C$13*$U6+C$14*$V6+C$15*$W6)/100,NA())","v":{"$error":"#N/A"}},{"$f":"IF(AND(D$16>0,AD$4=TRUE),(D$6*$N6+D$7*$O6+D$8*$P6+D$9*$Q6+D$10*$R6+D$11*$S6+D$12*$T6+D$13*$U6+D$14*$V6+D$15*$W6)/100,NA())","v":{"$error":"#N/A"}},{"$f":"IF(AND(E$16>0,AE$4=TRUE),(E$6*$N6+E$7*$O6+E$8*$P6+E$9*$Q6+E$10*$R6+E$11*$S6+E$12*$T6+E$13*$U6+E$14*$V6+E$15*$W6)/100,NA())","v":{"$error":"#N/A"}},{"$f":"IF(AND(F$16>0,AF$4=TRUE),(F$6*$N6+F$7*$O6+F$8*$P6+F$9*$Q6+F$10*$R6+F$11*$S6+F$12*$T6+F$13*$U6+F$14*$V6+F$15*$W6)/100,NA())","v":{"$error":"#N/A"}},{"$f":"IF(AND(G$16>0,AG$4=TRUE),(G$6*$N6+G$7*$O6+G$8*$P6+G$9*$Q6+G$10*$R6+G$11*$S6+G$12*$T6+G$13*$U6+G$14*$V6+G$15*$W6)/100,NA())","v":{"$error":"#N/A"}},{"$f":"IF(AND(H$16>0,AH$4=TRUE),(H$6*$N6+H$7*$O6+H$8*$P6+H$9*$Q6+H$10*$R6+H$11*$S6+H$12*$T6+H$13*$U6+H$14*$V6+H$15*$W6)/100,NA())","v":{"$error":"#N/A"}},{"$f":"IF(AND(I$16>0,AI$4=TRUE),(I$6*$N6+I$7*$O6+I$8*$P6+I$9*$Q6+I$10*$R6+I$11*$S6+I$12*$T6+I$13*$U6+I$14*$V6+I$15*$W6)/100,NA())","v":{"$error":"#N/A"}},{"$f":"IF(AND(J$16>0,AJ$4=TRUE),(J$6*$N6+J$7*$O6+J$8*$P6+J$9*$Q6+J$10*$R6+J$11*$S6+J$12*$T6+J$13*$U6+J$14*$V6+J$15*$W6)/100,NA())","v":{"$error":"#N/A"}},{"$f":"IF(AND(K$16>0,AK$4=TRUE),(K$6*$N6+K$7*$O6+K$8*$P6+K$9*$Q6+K$10*$R6+K$11*$S6+K$12*$T6+K$13*$U6+K$14*$V6+K$15*$W6)/100,NA())","v":{"$error":"#N/A"}},null,null,null,0.3,0.58170736792793831,9,25,18.7,18.7]
[null,null,null,null,null,null,null,null,null,null,null,null,19,{"$error":"#N/A"},{"$error":"#N/A"},{"$error":"#N/A"},{"$error":"#N/A"},{"$error":"#N/A"},{"$error":"#N/A"},{"$error":"#N/A"},{"$error":"#N/A"},{"$error":"#N/A"},{"$error":"#N/A"},null,null,null,0.15,0.42583471830473674,6,18]
[null,null,null,null,null,null,null,null,null,null,null,null,12.5,{"$error":"#N/A"},{"$error":"#N/A"},{"$error":"#N/A"},{"$error":"#N/A"},{"$error":"#N/A"},{"$error":"#N/A"},{"$error":"#N/A"},{"$error":"#N/A"},{"$error":"#N/A"},{"$error":"#N/A"},null,null,null,7.4999999999999997E-2,0.31172925995349998,3,6,null,null,null,0,0]
[null,null,null,null,null,null,null,null,null,null,null,null,9.5,{"$error":"#N/A"},{"$error":"#N/A"},{"$error":"#N/A"},{"$error":"#N/A"},{"$error":"#N/A"},{"$error":"#N/A"},{"$error":"#N/A"},{"$error":"#N/A"},{"$error":"#N/A"},{"$error":"#N/A"},null,null,null,0,0,null,null,null,null,0]
[null,null,null,null,null,null,null,null,null,null,null,null,4.75,{"$error":"#N/A"},{"$error":"#N/A"},{"$error":"#N/A"},{"$error":"#N/A"},{"$error":"#N/A"},{"$error":"#N/A"},{"$error":"#N/A"},{"$error":"#N/A"},{"$error":"#N/A"},{"$error":"#N/A"}]
[null,null,null,null,null,null,null,null,null,null,null,null,2.36,{"$error":"#N/A"},{"$error":"#N/A"},{"$error":"#N/A"},{"$error":"#N/A"},{"$error":"#N/A"},{"$error":"#N/A"},{"$error":"#N/A"},{"$error":"#N/A"},{"$error":"#N/A"},{"$error":"#N/A"},null,null,null,"Gradation 2 - 19 mm Max Size, 12.5 mm Nominal Max Size"]
[null,null,null,null,null,null,null,null,null,null,null,null,1.18,{"$error":"#N/A"},{"$error":"#N/A"},{"$error":"#N/A"},{"$error":"#N/A"},{"$error":"#N/A"},{"$error":"#N/A"},{"$error":"#N/A"},{"$error":"#N/A"},{"$error":"#N/A"},{"$error":"#N/A"},null,null,null,null,null,null,null,"Restricted Zone"]
[null,null,null,null,null,null,null,null,null,null,null,null,0.6,{"$error":"#N/A"},{"$error":"#N/A"},{"$error":"#N/A"},{"$error":"#N/A"},{"$error":"#N/A"},{"$error":"#N/A"},{"$error":"#N/A"},{"$error":"#N/A"},{"$error":"#N/A"},{"$error":"#N/A"},null,null,null,null,null,"Control Points",null,"Minimum","Maximum","Maximum","Optional","Optional"]
[null,null,null,null,null,null,null,null,null,null,null,null,0.3,{"$error":"#N/A"},{"$error":"#N/A"},{"$error":"#N/A"},{"$error":"#N/A"},{"$error":"#N/A"},{"$error":"#N/A"},{"$error":"#N/A"},{"$error":"#N/A"},{"$error":"#N/A"},{"$error":"#N/A"},null,null,null,"Size",".45 Power","Minimum","Maximum","Boundary","Boundary","Density Line","Limit #1","Limit #2"]
[null,null,null,null,null,null,null,null,null,null,null,null,0.15,{"$error":"#N/A"},{"$error":"#N/A"},{"$error":"#N/A"},{"$error":"#N/A"},{"$error":"#N/A"},{"$error":"#N/A"},{"$error":"#N/A"},{"$error":"#N/A"},{"$error":"#N/A"},{"$error":"#N/A"},null,null,null,25,{"$f":"POWER(AA31,0.45)","v":4.2566996126039234},{"$error":"#N/A"},{"$error":"#N/A"}]
[null,null,null,null,null,null,null,null,null,null,null,null,7.4999999999999997E-2,{"$error":"#N/A"},{"$error":"#N/A"},{"$error":"#N/A"},{"$error":"#N/A"},{"$error":"#N/A"},{"$error":"#N/A"},{"$error":"#N/A"},{"$error":"#N/A"},{"$error":"#N/A"},{"$error":"#N/A"},null,null,null,19,{"$f":"POWER(AA32,0.45)","v":3.7621761023862978},{"$error":"#N/A"},100,null,null,100]
[null,null,null,null,null,null,null,null,null,null,null,null,null,null,null,null,null,null,null,null,null,null,null,null,null,null,12.5,3.116086507375345,90,100,null,null,null,0,0]
[null,null,null,null,null,null,null,null,null,null,null,null,null,null,null,null,null,null,null,null,null,null,null,null,null,null,9.5,2.754074108566122,69,89]
[null,null,null,null,null,null,null,null,null,null,null,null,"Power 0.45 Plot Data",null,null,null,null,null,null,null,null,null,null,null,null,null,4.75,2.0161002539629291,53,73]
[null,null,null,null,null,null,null,null,null,null,null,null,{"$f":"IF($AC$5=1,AA10,IF($AC$5=2,AA27,IF($AC$5=3,AA44,\"---\")))","v":"Gradation 2 - 19 mm Max Size, 12.5 mm Nominal Max Size"},null,null,null,null,null,null,null,null,null,null,null,null,null,2.36,1.4716698795820382,38,60,47.2,47.2]
[null,null,null,null,null,null,null,null,null,null,null,null,"Size, \nmm","0.45 Power","Control Points",null,"Restricted Zone",null,"Maximum","Optional","Optional","Selected Gradation",null,null,null,null,1.18,1.0773254099250416,26,48,31.6,37.6]
[null,null,null,null,null,null,null,null,null,null,null,null,null,null,"Minimum","Maximum","Minimum","Maximum","Density Line","Limit #1","Limit #2",null,null,null,null,null,0.6,0.79463568224020453,18,38,23.5,27.5]
[null,null,null,null,null,null,null,null,null,null,null,null,25,{"$f":"IF(OR($AC$5=2,$AC$5=3),#N/A,POWER(M39,0.45))","v":{"$error":"#N/A"}},{"$f":"IF($AC$5=1,IF(ISBLANK(AC14),\"\",AC14),IF($AC$5=2,IF(ISBLANK(AC31),\"\",AC31),IF($AC$5=3,IF(ISBLANK(AC48),\"\",AC48),\"---\")))","v":{"$error":"#N/A"}},{"$error":"#N/A"},"","",{"$f":"IF($AC$5=1,IF(ISBLANK(AG14),#N/A,AG14),IF($AC$5=2,IF(ISBLANK(AG31),#N/A,AG31),IF($AC$5=3,IF(ISBLANK(AG48),#N/A,AG48),\"---\")))","v":{"$error":"#N/A"}},{"$f":"IF($AC$5=1,IF(ISBLANK(AH14),\"\",AH14),IF($AC$5=2,IF(ISBLANK(AH31),\"\",AH31),IF($AC$5=3,IF(ISBLANK(AH48),\"\",AH48),\"---\")))","v":""},{"$f":"IF($AC$5=1,IF(ISBLANK(AI14),\"\",AI14),IF($AC$5=2,IF(ISBLANK(AI31),\"\",AI31),IF($AC$5=3,IF(ISBLANK(AI48),\"\",AI48),\"---\")))","v":""},{"$f":"INDEX(N22:W22,,$AB$8)","v":{"$error":"#N/A"}},null,null,null,null,0.3,0.58170736792793831,11,27,18.7,18.7]
[null,null,null,null,null,null,null,null,null,null,null,null,19,{"$f":"IF($AC$5=3,#N/A,POWER(M40,0.45))","v":3.7621761023862978},{"$error":"#N/A"},100,"","",100,"","",{"$f":"INDEX(N23:W23,,$AB$8)","v":{"$error":"#N/A"}},null,null,null,null,0.15,0.42583471830473674,6,18]
[null,null,null,null,null,null,null,null,null,null,null,null,12.5,{"$f":"POWER(M41,0.45)","v":3.116086507375345},90,100,"","",{"$error":"#N/A"},0,0,{"$f":"INDEX(N24:W24,,$AB$8)","v":{"$error":"#N/A"}},null,null,null,null,7.4999999999999997E-2,0.31172925995349998,3,6,null,null,null,0,0]
[null,null,null,null,null,null,null,null,null,null,null,null,9.5,2.754074108566122,{"$f":"IF($AC$5=1,IF(ISBLANK(AC17),\"\",AC17),IF($AC$5=2,IF(ISBLANK(AC34),\"\",AC34),IF($AC$5=3,IF(ISBLANK(AC51),\"\",AC51),\"---\")))","v":69},{"$f":"IF($AC$5=1,IF(ISBLANK(AD17),\"\",AD17),IF($AC$5=2,IF(ISBLANK(AD34),\"\",AD34),IF($AC$5=3,IF(ISBLANK(AD51),\"\",AD51),\"---\")))","v":89},null,null,{"$error":"#N/A"},"","",{"$f":"INDEX(N25:W25,,$AB$8)","v":{"$error":"#N/A"}},null,null,null,null,0,0,null,null,null,null,0]
[null,null,null,null,null,null,null,null,null,null,null,null,4.75,2.0161002539629291,53,73,null,null,{"$error":"#N/A"},"","",{"$f":"INDEX(N26:W26,,$AB$8)","v":{"$error":"#N/A"}}]
[null,null,null,null,null,null,null,null,null,null,null,null,2.36,1.4716698795820382,38,60,null,null,{"$error":"#N/A"},"","",{"$f":"INDEX(N27:W27,,$AB$8)","v":{"$error":"#N/A"}},null,null,null,null,"Gradation 3 - 12.5 mm Max Size, 9.5 mm Nominal Max Size"]
[null,null,null,null,null,null,null,null,null,null,null,null,1.18,1.0773254099250416,26,48,null,null,{"$error":"#N/A"},"","",{"$f":"INDEX(N28:W28,,$AB$8)","v":{"$error":"#N/A"}},null,null,null,null,null,null,null,null,"Restricted Zone"]
[null,null,null,null,null,null,null,null,null,null,null,null,0.6,0.79463568224020453,18,38,null,null,{"$error":"#N/A"},"","",{"$f":"INDEX(N29:W29,,$AB$8)","v":{"$error":"#N/A"}},null,null,null,null,null,null,"Control Points",null,"Minimum","Maximum","Maximum","Optional","Optional"]
[null,null,null,null,null,null,null,null,null,null,null,null,0.3,0.58170736792793831,11,27,null,null,{"$error":"#N/A"},"","",{"$f":"INDEX(N30:W30,,$AB$8)","v":{"$error":"#N/A"}},null,null,null,null,"Size",".45 Power","Minimum","Maximum","Boundary","Boundary","Density Line","Limit #1","Limit #2"]
[null,null,null,null,null,null,null,null,null,null,null,null,0.15,0.42583471830473674,6,18,null,null,{"$error":"#N/A"},"","",{"$f":"INDEX(N31:W31,,$AB$8)","v":{"$error":"#N/A"}},null,null,null,null,25,{"$f":"POWER(AA48,0.45)","v":4.2566996126039234},{"$error":"#N/A"},{"$error":"#N/A"}]
[null,null,null,null,null,null,null,null,null,null,null,null,7.4999999999999997E-2,0.31172925995349998,3,6,{"$f":"IF($AC$5=1,IF(ISBLANK(AE24),\"\",AE24),IF($AC$5=2,IF(ISBLANK(AE41),\"\",AE41),IF($AC$5=3,IF(ISBLANK(AE58),\"\",AE58),\"---\")))","v":""},{"$f":"IF($AC$5=1,IF(ISBLANK(AF24),\"\",AF24),IF($AC$5=2,IF(ISBLANK(AF41),\"\",AF41),IF($AC$5=3,IF(ISBLANK(AF58),\"\",AF58),\"---\")))","v":""},{"$error":"#N/A"},0,0,{"$f":"INDEX(N32:W32,,$AB$8)","v":{"$error":"#N/A"}},null,null,null,null,19,{"$f":"POWER(AA49,0.45)","v":3.7621761023862978},{"$error":"#N/A"},{"$error":"#N/A"}]
["Note: This worksheet may be used if helpful but is not required for submittal. Use the JMF Summary Sheet to input proposed aggregate gradations and blend proportions.",null,null,null,null,null,null,null,null,null,null,null,0,0,"","",{"$f":"IF($AC$5=1,IF(ISBLANK(AE25),\"\",AE25),IF($AC$5=2,IF(ISBLANK(AE42),\"\",AE42),IF($AC$5=3,IF(ISBLANK(AE59),\"\",AE59),\"---\")))","v":""},{"$f":"IF($AC$5=1,IF(ISBLANK(AF25),\"\",AF25),IF($AC$5=2,IF(ISBLANK(AF42),\"\",AF42),IF($AC$5=3,IF(ISBLANK(AF59),\"\",AF59),\"---\")))","v":""},{"$f":"IF($AC$5=1,IF(ISBLANK(AG25),\"\",AG25),IF($AC$5=2,IF(ISBLANK(AG42),\"\",AG42),IF($AC$5=3,IF(ISBLANK(AG59),\"\",AG59),\"---\")))","v":0},"","",null,null,null,null,null,12.5,3.116086507375345,{"$error":"#N/A"},100,null,null,100,0,0]
[null,null,null,null,null,null,null,null,null,null,null,null,null,null,null,null,null,null,null,null,null,null,null,null,null,null,9.5,2.754074108566122,90,100]
[null,null,null,null,null,null,null,null,null,null,null,null,null,null,null,null,null,null,null,null,null,null,null,null,null,null,4.75,2.0161002539629291,58,78]
[null,null,null,null,null,null,null,null,null,null,null,null,null,null,null,null,null,null,null,null,null,null,null,null,null,null,2.36,1.4716698795820382,40,60,47.2,47.2]
[null,null,null,null,null,null,null,null,null,null,null,null,null,null,null,null,null,null,null,null,null,null,null,null,null,null,1.18,1.0773254099250416,28,48,31.6,37.6]
[null,null,null,null,null,null,null,null,null,null,null,null,null,null,null,null,null,null,null,null,null,null,null,null,null,null,0.6,0.79463568224020453,18,38,23.5,27.5]
[null,null,null,null,null,null,null,null,null,null,null,null,null,null,null,null,null,null,null,null,null,null,null,null,null,null,0.3,0.58170736792793831,11,27,18.7,18.7]
[null,null,null,null,null,null,null,null,null,null,null,null,null,null,null,null,null,null,null,null,null,null,null,null,null,null,0.15,0.42583471830473674,6,18]
[null,null,null,null,null,null,null,null,null,null,null,null,null,null,null,null,null,null,null,null,null,null,null,null,null,null,7.4999999999999997E-2,0.31172925995349998,3,6,null,null,null,0,0]
[null,null,null,null,null,null,null,null,null,null,null,null,null,null,null,null,null,null,null,null,null,null,null,null,null,null,0,0,null,null,null,null,0]

{"sheet":"Agg - Coarse (MDV)","index":23,"n_rows":82,"n_cols":44,"rows_kept":82,"cut":false,"hidden":true,"merged":[[70,0,75,0],[74,13,74,14],[74,15,74,16],[80,0,80,3],[80,6,80,12],[81,0,81,3],[81,6,81,12],[70,15,70,16],[71,1,71,2],[72,1,72,2],[73,1,73,2],[74,1,74,2],[74,3,74,4],[74,5,74,6],[74,7,74,8],[74,9,74,10],[74,11,74,12],[75,1,75,2],[75,3,75,4],[75,5,75,6],[75,7,75,8],[75,9,75,10],[75,11,75,12],[75,13,75,14],[75,15,75,16],[67,5,67,6],[67,7,67,8],[67,9,67,10],[67,11,67,12],[67,13,67,14],[67,15,67,16],[68,13,68,14],[68,15,68,16],[70,1,70,2],[70,3,70,4],[70,5,70,6],[70,7,70,8],[70,9,70,10],[70,11,70,12],[70,13,70,14],[68,1,68,2],[68,3,68,4],[68,5,68,6],[68,7,68,8],[68,9,68,10],[68,11,68,12],[62,1,67,1],[62,3,62,4],[62,5,62,6],[62,7,62,8],[62,9,62,10],[62,11,62,12],[56,13,56,14],[56,15,56,16],[61,3,61,4],[61,5,61,6],[61,7,61,8],[61,9,61,10],[61,11,61,12],[61,13,61,14],[61,15,61,16],[56,1,61,1],[56,3,56,4],[56,5,56,6],[56,7,56,8],[56,9,56,10],[56,11,56,12],[62,13,62,14],[62,15,62,16],[67,3,67,4],[50,13,50,14],[50,15,50,16],[55,3,55,4],[55,5,55,6],[55,7,55,8],[55,9,55,10],[55,11,55,12],[55,13,55,14],[55,15,55,16],[44,13,44,14],[44,15,44,16],[49,3,49,4],[49,5,49,6],[49,7,49,8],[49,9,49,10],[49,11,49,12],[49,13,49,14],[49,15,49,16],[44,1,49,1],[44,3,44,4],[44,5,44,6],[44,7,44,8],[44,9,44,10],[44,11,44,12],[50,1,55,1],[50,3,50,4],[50,5,50,6],[50,7,50,8],[50,9,50,10],[50,11,50,12],[41,11,41,12],[41,13,41,14],[41,15,41,16],[43,1,43,2],[43,3,43,4],[43,5,43,6],[43,7,43,8],[43,9,43,10],[43,11,43,12],[43,13,43,14],[43,15,43,16],[39,1,39,2],[36,1,36,2],[36,3,36,4],[36,5,36,6],[36,7,36,8],[36,9,36,10],[40,1,40,2],[41,1,41,2],[41,3,41,4],[41,5,41,6],[41,7,41,8],[41,9,41,10],[29,15,29,16],[24,1,28,1],[33,15,33,16],[34,1,34,2],[34,3,34,4],[34,5,34,6],[34,7,34,8],[34,9,34,10],[34,11,34,12],[34,13,34,14],[34,15,34,16],[33,3,33,4],[33,5,33,6],[33,7,33,8],[33,9,33,10],[33,11,33,12],[33,13,33,14],[24,15,24,16],[24,36,24,37],[25,36,25,37],[26,36,26,37],[28,3,28,4],[28,5,28,6],[28,7,28,8],[28,9,28,10],[28,11,28,12],[24,3,24,4],[24,5,24,6],[24,7,24,8],[24,9,24,10],[24,11,24,12],[28,13,28,14],[28,15,28,16],[22,36,22,37],[23,3,23,4],[23,5,23,6],[23,7,23,8],[23,9,23,10],[23,11,23,12],[23,13,23,14],[23,15,23,16],[23,36,23,37],[19,34,19,43],[20,34,21,34],[20,35,21,35],[20,36,21,37],[20,38,21,38],[20,39,21,39],[20,40,21,40],[20,41,21,41],[20,42,21,42],[20,43,21,43],[17,1,17,2],[11,13,11,14],[11,15,11,16],[12,1,12,2],[13,1,13,2],[14,1,14,2],[15,1,15,2],[18,15,18,16],[19,1,23,1],[19,3,19,4],[19,5,19,6],[19,7,19,8],[19,9,19,10],[19,11,19,12],[19,13,19,14],[19,15,19,16],[18,1,18,2],[18,3,18,4],[18,5,18,6],[18,7,18,8],[18,9,18,10],[18,11,18,12],[18,13,18,14],[9,13,9,14],[9,15,9,16],[10,0,10,2],[11,1,11,2],[11,3,11,4],[11,5,11,6],[11,7,11,8],[11,9,11,10],[11,11,11,12],[9,0,9,2],[9,3,9,4],[9,5,9,6],[9,7,9,8],[9,9,9,10],[9,11,9,12],[11,0,17,0],[16,13,16,14],[16,15,16,16],[16,1,16,2],[16,3,16,4],[16,5,16,6],[16,7,16,8],[16,9,16,10],[16,11,16,12],[7,34,7,38],[8,0,8,2],[8,3,8,4],[8,5,8,6],[8,7,8,8],[8,9,8,10],[8,11,8,12],[8,13,8,14],[8,15,8,16],[6,13,6,14],[6,15,6,16],[7,0,7,2],[7,3,7,4],[7,5,7,6],[7,7,7,8],[7,9,7,10],[7,11,7,12],[7,13,7,14],[7,15,7,16],[6,0,6,2],[6,3,6,4],[6,5,6,6],[6,7,6,8],[6,9,6,10],[6,11,6,12],[4,1,4,2],[4,4,4,5],[4,6,4,7],[4,9,4,12],[4,34,4,40],[5,36,5,40],[2,1,2,2],[2,4,2,5],[2,6,2,7],[2,9,2,12],[3,1,3,2],[3,4,3,5],[3,6,3,7],[3,9,3,12],[18,0,35,0],[17,3,17,4],[17,5,17,6],[17,7,17,8],[17,9,17,10],[17,11,17,12],[17,13,17,14],[17,15,17,16],[35,1,35,2],[35,3,35,4],[35,5,35,6],[35,7,35,8],[35,9,35,10],[35,11,35,12],[35,13,35,14],[35,15,35,16],[24,13,24,14],[29,1,33,1],[29,3,29,4],[29,5,29,6],[29,7,29,8],[29,9,29,10],[29,11,29,12],[29,13,29,14],[43,0,69,0],[36,0,42,0],[77,2,78,17],[42,1,42,2],[42,3,42,4],[42,5,42,6],[42,7,42,8],[42,9,42,10],[42,11,42,12],[42,13,42,14],[42,15,42,16],[69,1,69,2],[69,3,69,4],[69,5,69,6],[69,7,69,8],[69,9,69,10],[69,11,69,12],[69,13,69,14],[69,15,69,16],[36,11,36,12],[36,13,36,14],[36,15,36,16],[37,1,37,2],[38,1,38,2]]}
["UFGS 32 12 15.13 Coarse Aggregate Properties"]
[]
["Mix ID",{"$f":"'JMF Summary (MDV)'!B3","v":"TNF-M1A"},null,null,"Gradation",null,{"$f":"'JMF Summary (MDV)'!G3","v":2},null,null,"ASTM C88 Sulfate Solution"]
["Date",{"$f":"'JMF Summary (MDV)'!B4","v":"---"},null,null,"Compaction",null,{"$f":"'JMF Summary (MDV)'!G4","v":"75 Gyr"}]
["Project",{"$f":"'JMF Summary (MDV)'!B5","v":"Tinian North Field"},null,null,"Binder Grade",null,{"$f":"'JMF Summary (MDV)'!G5","v":"PG 64-22"},null,null,null,null,null,null,null,null,null,null,null,null,null,null,null,null,null,null,null,null,null,null,null,null,null,null,null,"Form Data"]
[null,null,null,null,null,null,null,null,null,null,null,null,null,null,null,null,null,null,null,null,null,null,null,null,null,null,null,null,null,null,null,null,null,null,"Procedure",2,"(1 = Magnesium Sulfate, 2 = Sodium Sulfate)"]
["Aggregate ID",null,null,{"$f":"IF(ISBLANK('JMF Summary (MDV)'!B11),\"---\",'JMF Summary (MDV)'!B11)","v":"---"},null,{"$f":"IF(ISBLANK('JMF Summary (MDV)'!C11),\"---\",'JMF Summary (MDV)'!C11)","v":"---"},null,{"$f":"IF(ISBLANK('JMF Summary (MDV)'!D11),\"---\",'JMF Summary (MDV)'!D11)","v":"---"},null,{"$f":"IF(ISBLANK('JMF Summary (MDV)'!E11),\"---\",'JMF Summary (MDV)'!E11)","v":"---"},null,{"$f":"IF(ISBLANK('JMF Summary (MDV)'!G11),\"---\",'JMF Summary (MDV)'!G11)","v":"---"},null,{"$f":"IF(ISBLANK('JMF Summary (MDV)'!H11),\"---\",'JMF Summary (MDV)'!H11)","v":"---"},null,{"$f":"IF(ISBLANK('JMF Summary (MDV)'!I11),\"---\",'JMF Summary (MDV)'!I11)","v":"---"},null,"Limits"]
["Percent of Agg Blend, %",null,null,{"$f":"IF(ISBLANK('JMF Summary (MDV)'!B15),\"---\",'JMF Summary (MDV)'!B15)","v":"---"},null,{"$f":"IF(ISBLANK('JMF Summary (MDV)'!C15),\"---\",'JMF Summary (MDV)'!C15)","v":"---"},null,{"$f":"IF(ISBLANK('JMF Summary (MDV)'!D15),\"---\",'JMF Summary (MDV)'!D15)","v":"---"},null,{"$f":"IF(ISBLANK('JMF Summary (MDV)'!E15),\"---\",'JMF Summary (MDV)'!E15)","v":"---"},null,{"$f":"IF(ISBLANK('JMF Summary (MDV)'!G15),\"---\",'JMF Summary (MDV)'!G15)","v":"---"},null,{"$f":"IF(ISBLANK('JMF Summary (MDV)'!H15),\"---\",'JMF Summary (MDV)'!H15)","v":"---"},null,{"$f":"IF(ISBLANK('JMF Summary (MDV)'!I15),\"---\",'JMF Summary (MDV)'!I15)","v":"---"},null,"---",null,null,null,null,null,null,null,null,null,null,null,null,null,null,null,null,"Specification Limits"]
["Percent Passing No. 4, %",null,null,{"$f":"IF(ISBLANK('JMF Summary (MDV)'!B20),\"---\",'JMF Summary (MDV)'!B20)","v":"---"},null,{"$f":"IF(ISBLANK('JMF Summary (MDV)'!C20),\"---\",'JMF Summary (MDV)'!C20)","v":"---"},null,{"$f":"IF(ISBLANK('JMF Summary (MDV)'!D20),\"---\",'JMF Summary (MDV)'!D20)","v":"---"},null,{"$f":"IF(ISBLANK('JMF Summary (MDV)'!E20),\"---\",'JMF Summary (MDV)'!E20)","v":"---"},null,{"$f":"IF(ISBLANK('JMF Summary (MDV)'!G20),\"---\",'JMF Summary (MDV)'!G20)","v":"---"},null,{"$f":"IF(ISBLANK('JMF Summary (MDV)'!H20),\"---\",'JMF Summary (MDV)'!H20)","v":"---"},null,{"$f":"IF(ISBLANK('JMF Summary (MDV)'!I20),\"---\",'JMF Summary (MDV)'!I20)","v":"---"},null,"---",null,null,null,null,null,null,null,null,null,null,null,null,null,null,null,null,"Property","Operator","Limit 1",null,"Limit 2"]
["Aggregate Size Class",null,null,{"$f":"IF(ISNUMBER(D9),IF(D9<25,\"Coarse\",IF(D9>75,\"Fine\",\"Intermediate\")),\"---\")","v":"---"},null,{"$f":"IF(ISNUMBER(F9),IF(F9<25,\"Coarse\",IF(F9>75,\"Fine\",\"Intermediate\")),\"---\")","v":"---"},null,{"$f":"IF(ISNUMBER(H9),IF(H9<25,\"Coarse\",IF(H9>75,\"Fine\",\"Intermediate\")),\"---\")","v":"---"},null,{"$f":"IF(ISNUMBER(J9),IF(J9<25,\"Coarse\",IF(J9>75,\"Fine\",\"Intermediate\")),\"---\")","v":"---"},null,{"$f":"IF(ISNUMBER(L9),IF(L9<25,\"Coarse\",IF(L9>75,\"Fine\",\"Intermediate\")),\"---\")","v":"---"},null,{"$f":"IF(ISNUMBER(N9),IF(N9<25,\"Coarse\",IF(N9>75,\"Fine\",\"Intermediate\")),\"---\")","v":"---"},null,{"$f":"IF(ISNUMBER(P9),IF(P9<25,\"Coarse\",IF(P9>75,\"Fine\",\"Intermediate\")),\"---\")","v":"---"},null,"---",null,null,null,null,null,null,null,null,null,null,null,null,null,null,null,null,"LA Abrasion, %",{"$f":"'JMF Summary (MDV)'!AG15","v":"≤"},{"$f":"IF('JMF Summary (MDV)'!AH15<>0,'JMF Summary (MDV)'!AH15,\"---\")","v":40}," - "]
["Replicate",null,null,1,2,1,2,1,2,1,2,1,2,1,2,1,2,"---",null,null,null,null,null,null,null,null,null,null,null,null,null,null,null,null,"Sodium Sulfate Soundness, %",{"$f":"'JMF Summary (MDV)'!AG16","v":"≤"},{"$f":"IF('JMF Summary (MDV)'!AH16<>0,'JMF Summary (MDV)'!AH16,\"---\")","v":12}," - "]
["C131 LA Abrasion","Date Tested",null,null,null,null,null,null,null,null,null,null,null,null,null,null,null,"---",null,null,null,null,null,null,null,null,null,null,null,null,null,null,null,null,"Magnesium Sulfate Soundness, %",{"$f":"'JMF Summary (MDV)'!AG16","v":"≤"},{"$f":"IF('JMF Summary (MDV)'!AH17<>0,'JMF Summary (MDV)'!AH17,\"---\")","v":18}," - "]
[null,"Grading",null,null,null,null,null,null,null,null,null,null,null,null,null,null,null,"---",null,null,null,null,null,null,null,null,null,null,null,null,null,null,null,null,"Selected Sulfate Soundness, %",{"$f":"'JMF Summary (MDV)'!AG17","v":"≤"},{"$f":"IF(AJ6=1,AK12,AK11)","v":12}," - "]
[null,"Wt Original Test Sample, g",null,null,null,null,null,null,null,null,null,null,null,null,null,null,null,"---",null,null,null,null,null,null,null,null,null,null,null,null,null,null,null,null,"Fractured Faces, %",{"$f":"'JMF Summary (MDV)'!AG18","v":"≥"},{"$f":"IF('JMF Summary (MDV)'!AH18<>0,'JMF Summary (MDV)'!AH18,\"---\")","v":75}," - "]
[null,"Wt Final Test Sample, g",null,null,null,null,null,null,null,null,null,null,null,null,null,null,null,"---",null,null,null,null,null,null,null,null,null,null,null,null,null,null,null,null,"F&E, %",{"$f":"'JMF Summary (MDV)'!AG19","v":"≤"},{"$f":"IF('JMF Summary (MDV)'!AH19<>0,'JMF Summary (MDV)'!AH19,\"---\")","v":5}," - "]
[null,"LA Abrasion Loss, %",null,{"$f":"IFERROR(ROUND((D14-D15)/D14*100,0),\"---\")","v":"---"},{"$f":"IFERROR(ROUND((E14-E15)/E14*100,0),\"---\")","v":"---"},"---","---","---","---","---","---","---","---","---","---","---","---","---",null,null,null,null,null,null,null,null,null,null,null,null,null,null,null,null,"Clay Lumps, %",{"$f":"'JMF Summary (MDV)'!AG20","v":"≤"},{"$f":"IF('JMF Summary (MDV)'!AH20<>0,'JMF Summary (MDV)'!AH20,\"---\")","v":0.3}," - "]
[null,"Avg LA Abrasion Loss, %",null,{"$f":"IF(OR(D$10=\"Fine\",D$10=\"---\"),\"---\",IFERROR(ROUND(IF(AJ23=\"Raw Data\",AVERAGE(D16:E16),AK23),0),\"---\"))","v":"---"},null,{"$f":"IF(OR(F$10=\"Fine\",F$10=\"---\"),\"---\",IFERROR(ROUND(IF(AJ23=\"Raw Data\",AVERAGE(F16:G16),AM23),0),\"---\"))","v":"---"},null,{"$f":"IF(OR(H$10=\"Fine\",H$10=\"---\"),\"---\",IFERROR(ROUND(IF(AJ23=\"Raw Data\",AVERAGE(H16:I16),AN23),0),\"---\"))","v":"---"},null,{"$f":"IF(OR(J$10=\"Fine\",J$10=\"---\"),\"---\",IFERROR(ROUND(IF(AJ23=\"Raw Data\",AVERAGE(J16:K16),AO23),0),\"---\"))","v":"---"},null,{"$f":"IF(OR(L$10=\"Fine\",L$10=\"---\"),\"---\",IFERROR(ROUND(IF(AJ23=\"Raw Data\",AVERAGE(L16:M16),AP23),0),\"---\"))","v":"---"},null,{"$f":"IF(OR(N$10=\"Fine\",N$10=\"---\"),\"---\",IFERROR(ROUND(IF(AJ23=\"Raw Data\",AVERAGE(N16:O16),AQ23),0),\"---\"))","v":"---"},null,{"$f":"IF(OR(P$10=\"Fine\",P$10=\"---\"),\"---\",IFERROR(ROUND(IF(AJ23=\"Raw Data\",AVERAGE(P16:Q16),AR23),0),\"---\"))","v":"---"},null,{"$f":"IF(ISNUMBER(AK10),AJ10 & \" \" & FIXED(AK10,0),\"---\")","v":"≤ 40"}]
[null,"KTR Result",null,{"$f":"'Agg - Coarse'!D17","v":"---"},null,{"$f":"'Agg - Coarse'!F17","v":"---"},null,{"$f":"'Agg - Coarse'!H17","v":"---"},null,{"$f":"'Agg - Coarse'!J17","v":"---"},null,{"$f":"'Agg - Coarse'!L17","v":"---"},null,{"$f":"'Agg - Coarse'!N17","v":"---"},null,{"$f":"'Agg - Coarse'!P17","v":"---"},null,"---"]
[{"$f":"IF(AJ5=1,\"C88 Magnesium Sulfate Soundness\",\"C88 Sodium Sulfate Soundness\")","v":"C88 Sodium Sulfate Soundness"},"Date Tested",null,null,null,null,null,null,null,null,null,null,null,null,null,null,null,"---"]
[null,"1-1/2\" to 3/4\"","Size Fraction, % of +#4",{"$f":"IFERROR(('JMF Summary (MDV)'!B16-'JMF Summary (MDV)'!B17)/(100-D9)*100,\"---\")","v":"---"},null,{"$f":"IFERROR(('JMF Summary (MDV)'!C16-'JMF Summary (MDV)'!C17)/(100-F9)*100,\"---\")","v":"---"},null,{"$f":"IFERROR(('JMF Summary (MDV)'!D16-'JMF Summary (MDV)'!D17)/(100-H9)*100,\"---\")","v":"---"},null,{"$f":"IFERROR(('JMF Summary (MDV)'!E16-'JMF Summary (MDV)'!E17)/(100-J9)*100,\"---\")","v":"---"},null,{"$f":"IFERROR(('JMF Summary (MDV)'!G16-'JMF Summary (MDV)'!G17)/(100-L9)*100,\"---\")","v":"---"},null,{"$f":"IFERROR(('JMF Summary (MDV)'!H16-'JMF Summary (MDV)'!H17)/(100-N9)*100,\"---\")","v":"---"},null,{"$f":"IFERROR(('JMF Summary (MDV)'!I16-'JMF Summary (MDV)'!I17)/(100-P9)*100,\"---\")","v":"---"},null,"---",null,null,null,null,null,null,null,null,null,null,null,null,null,null,null,null,"Raw Data Override (admin user only)"]
[null,null,"Wt Original Test Sample, g",null,null,null,null,null,null,null,null,null,null,null,null,null,null,"---",null,null,null,null,null,null,null,null,null,null,null,null,null,null,null,null,"Parameter & Value by Agg ID","Input Type",{"$f":"D7","v":"---"},null,{"$f":"F7","v":"---"},{"$f":"H7","v":"---"},{"$f":"J7","v":"---"},{"$f":"L7","v":"---"},{"$f":"N7","v":"---"},{"$f":"P7","v":"---"}]
[null,null,"Wt Retained, No #, g",null,null,null,null,null,null,null,null,null,null,null,null,null,null,"---"]
[null,null,"Percent Passing, %",{"$f":"IFERROR((D21-D22)/(D21)*100,\"---\")","v":"---"},"---","---","---","---","---","---","---","---","---","---","---","---","---","---",null,null,null,null,null,null,null,null,null,null,null,null,null,null,null,null,"C131 Avg LA Abrasion Loss, %","Raw Data"]
[null,null,"Avg Percent Passing, %",{"$f":"IFERROR(AVERAGE(D23:E23),\"---\")","v":"---"},null,{"$f":"IFERROR(AVERAGE(F23:G23),\"---\")","v":"---"},null,{"$f":"IFERROR(AVERAGE(H23:I23),\"---\")","v":"---"},null,{"$f":"IFERROR(AVERAGE(J23:K23),\"---\")","v":"---"},null,{"$f":"IFERROR(AVERAGE(L23:M23),\"---\")","v":"---"},null,{"$f":"IFERROR(AVERAGE(N23:O23),\"---\")","v":"---"},null,{"$f":"IFERROR(AVERAGE(P23:Q23),\"---\")","v":"---"},null,"---",null,null,null,null,null,null,null,null,null,null,null,null,null,null,null,null,"C88 Weighted Mass Loss, %","Raw Data"]
[null,"3/4\" to 3/8\"","Size Fraction, % of +#4",{"$f":"IFERROR(('JMF Summary (MDV)'!B17-'JMF Summary (MDV)'!B19)/(100-D9)*100,\"---\")","v":"---"},null,{"$f":"IFERROR(('JMF Summary (MDV)'!C17-'JMF Summary (MDV)'!C19)/(100-F9)*100,\"---\")","v":"---"},null,{"$f":"IFERROR(('JMF Summary (MDV)'!D17-'JMF Summary (MDV)'!D19)/(100-H9)*100,\"---\")","v":"---"},null,{"$f":"IFERROR(('JMF Summary (MDV)'!E17-'JMF Summary (MDV)'!E19)/(100-J9)*100,\"---\")","v":"---"},null,{"$f":"IFERROR(('JMF Summary (MDV)'!G17-'JMF Summary (MDV)'!G19)/(100-L9)*100,\"---\")","v":"---"},null,{"$f":"IFERROR(('JMF Summary (MDV)'!H17-'JMF Summary (MDV)'!H19)/(100-N9)*100,\"---\")","v":"---"},null,{"$f":"IFERROR(('JMF Summary (MDV)'!I17-'JMF Summary (MDV)'!I19)/(100-P9)*100,\"---\")","v":"---"},null,"---",null,null,null,null,null,null,null,null,null,null,null,null,null,null,null,null,"D5821 Avg Two Fractured Faces, %","Raw Data"]
[null,null,"Wt Original Test Sample, g",null,null,null,null,null,null,null,null,null,null,null,null,null,null,"---",null,null,null,null,null,null,null,null,null,null,null,null,null,null,null,null,"D4791 Weighted Avg F&E (5:1), %","Raw Data"]
[null,null,"Wt Retained, No #, g",null,null,null,null,null,null,null,null,null,null,null,null,null,null,"---",null,null,null,null,null,null,null,null,null,null,null,null,null,null,null,null,"C142 Avg Clay Lumps, %","Raw Data"]
[null,null,"Percent Passing, %",{"$f":"IFERROR((D26-D27)/(D26)*100,\"---\")","v":"---"},"---","---","---","---","---","---","---","---","---","---","---","---","---","---"]
[null,null,"Avg Percent Passing, %",{"$f":"IFERROR(AVERAGE(D28:E28),\"---\")","v":"---"},null,{"$f":"IFERROR(AVERAGE(F28:G28),\"---\")","v":"---"},null,{"$f":"IFERROR(AVERAGE(H28:I28),\"---\")","v":"---"},null,{"$f":"IFERROR(AVERAGE(J28:K28),\"---\")","v":"---"},null,{"$f":"IFERROR(AVERAGE(L28:M28),\"---\")","v":"---"},null,{"$f":"IFERROR(AVERAGE(N28:O28),\"---\")","v":"---"},null,{"$f":"IFERROR(AVERAGE(P28:Q28),\"---\")","v":"---"},null,"---"]
[null,"3/8\" to #4","Size Fraction, % of +#4",{"$f":"IFERROR(('JMF Summary (MDV)'!B19-'JMF Summary (MDV)'!B20)/(100-D9)*100,\"---\")","v":"---"},null,{"$f":"IFERROR(('JMF Summary (MDV)'!C19-'JMF Summary (MDV)'!C20)/(100-F9)*100,\"---\")","v":"---"},null,{"$f":"IFERROR(('JMF Summary (MDV)'!D19-'JMF Summary (MDV)'!D20)/(100-H9)*100,\"---\")","v":"---"},null,{"$f":"IFERROR(('JMF Summary (MDV)'!E19-'JMF Summary (MDV)'!E20)/(100-J9)*100,\"---\")","v":"---"},null,{"$f":"IFERROR(('JMF Summary (MDV)'!G19-'JMF Summary (MDV)'!G20)/(100-L9)*100,\"---\")","v":"---"},null,{"$f":"IFERROR(('JMF Summary (MDV)'!H19-'JMF Summary (MDV)'!H20)/(100-N9)*100,\"---\")","v":"---"},null,{"$f":"IFERROR(('JMF Summary (MDV)'!I19-'JMF Summary (MDV)'!I20)/(100-P9)*100,\"---\")","v":"---"},null,"---"]
[null,null,"Wt Original Test Sample, g",null,null,null,null,null,null,null,null,null,null,null,null,null,null,"---"]
[null,null,"Wt Retained, No #, g",null,null,null,null,null,null,null,null,null,null,null,null,null,null,"---"]
[null,null,"Percent Passing, %",{"$f":"IFERROR((D31-D32)/(D31)*100,\"---\")","v":"---"},"---","---","---","---","---","---","---","---","---","---","---","---","---","---"]
[null,null,"Avg Percent Passing, %",{"$f":"IFERROR(AVERAGE(D33:E33),\"---\")","v":"---"},null,{"$f":"IFERROR(AVERAGE(F33:G33),\"---\")","v":"---"},null,{"$f":"IFERROR(AVERAGE(H33:I33),\"---\")","v":"---"},null,{"$f":"IFERROR(AVERAGE(J33:K33),\"---\")","v":"---"},null,{"$f":"IFERROR(AVERAGE(L33:M33),\"---\")","v":"---"},null,{"$f":"IFERROR(AVERAGE(N33:O33),\"---\")","v":"---"},null,{"$f":"IFERROR(AVERAGE(P33:Q33),\"---\")","v":"---"},null,"---"]
[null,"Weighted Mass Loss, %",null,{"$f":"IF(OR(D$10=\"Fine\",D$10=\"---\"),\"---\",IFERROR(ROUND(IF(AJ24=\"Raw Data\",IF(D20<5,D20/100*D29,D20/100*D24)+IF(D25<5,D25/100*AVERAGE(D24,D34),D25/100*D29)+IF(D30<5,D30/100*D29,D30/100*D34),AK24),0),\"---\"))","v":"---"},null,{"$f":"IF(OR(F$10=\"Fine\",F$10=\"---\"),\"---\",IFERROR(ROUND(IF(AJ24=\"Raw Data\",IF(F20<5,F20/100*F29,F20/100*F24)+IF(F25<5,F25/100*AVERAGE(F24,F34),F25/100*F29)+IF(F30<5,F30/100*F29,F30/100*F34),AM24),0),\"---\"))","v":"---"},null,{"$f":"IF(OR(H$10=\"Fine\",H$10=\"---\"),\"---\",IFERROR(ROUND(IF(AJ24=\"Raw Data\",IF(H20<5,H20/100*H29,H20/100*H24)+IF(H25<5,H25/100*AVERAGE(H24,H34),H25/100*H29)+IF(H30<5,H30/100*H29,H30/100*H34),AN24),0),\"---\"))","v":"---"},null,{"$f":"IF(OR(J$10=\"Fine\",J$10=\"---\"),\"---\",IFERROR(ROUND(IF(AJ24=\"Raw Data\",IF(J20<5,J20/100*J29,J20/100*J24)+IF(J25<5,J25/100*AVERAGE(J24,J34),J25/100*J29)+IF(J30<5,J30/100*J29,J30/100*J34),AO24),0),\"---\"))","v":"---"},null,{"$f":"IF(OR(L$10=\"Fine\",L$10=\"---\"),\"---\",IFERROR(IF(AJ24=\"Raw Data\",ROUND(IF(L20<5,L20/100*L29,L20/100*L24)+IF(L25<5,L25/100*AVERAGE(L24,L34),L25/100*L29)+IF(L30<5,L30/100*L29,L30/100*L34),AP24),0),\"---\"))","v":"---"},null,{"$f":"IF(OR(N$10=\"Fine\",N$10=\"---\"),\"---\",IFERROR(ROUND(IF(AJ24=\"Raw Data\",IF(N20<5,N20/100*N29,N20/100*N24)+IF(N25<5,N25/100*AVERAGE(N24,N34),N25/100*N29)+IF(N30<5,N30/100*N29,N30/100*N34),AQ24),0),\"---\"))","v":"---"},null,{"$f":"IF(OR(P$10=\"Fine\",P$10=\"---\"),\"---\",IFERROR(ROUND(IF(AJ24=\"Raw Data\",IF(P20<5,P20/100*P29,P20/100*P24)+IF(P25<5,P25/100*AVERAGE(P24,P34),P25/100*P29)+IF(P30<5,P30/100*P29,P30/100*P34),AR24),0),\"---\"))","v":"---"},null,{"$f":"IF(AJ6=1,IF(ISNUMBER(AK13),AJ13 & \" \" & FIXED(AK13,0),\"---\"),IF(ISNUMBER(AK11),AJ11 & \" \" & FIXED(AK11,0),\"---\"))","v":"≤ 12"}]
[null,"KTR Result",null,{"$f":"'Agg - Coarse'!D34","v":"---"},null,{"$f":"'Agg - Coarse'!F34","v":"---"},null,{"$f":"'Agg - Coarse'!H34","v":"---"},null,{"$f":"'Agg - Coarse'!J34","v":"---"},null,{"$f":"'Agg - Coarse'!L34","v":"---"},null,{"$f":"'Agg - Coarse'!N34","v":"---"},null,{"$f":"'Agg - Coarse'!P34","v":"---"},null,"---"]
["D5821 Fractured Faces","Date Tested",null,null,null,null,null,null,null,null,null,null,null,null,null,null,null,"---"]
[null,"Wt Original Test Sample, g",null,null,null,null,null,null,null,null,null,null,null,null,null,null,null,"---"]
[null,"Wt 2+ Fractured Faces, g",null,null,null,null,null,null,null,null,null,null,null,null,null,null,null,"---"]
[null,"Wt Remaining Particles, g",null,{"$f":"IFERROR(IF(ISNUMBER(D38),D38-D39,\"---\"),\"---\")","v":"---"},"---","---","---","---","---","---","---","---","---","---","---","---","---","---"]
[null,"Two Fractured Faces, %",null,{"$f":"IFERROR((D39)/(D39+D40)*100,\"---\")","v":"---"},"---","---","---","---","---","---","---","---","---","---","---","---","---","---"]
[null,"Avg Two Fractured Faces, %",null,{"$f":"IF(OR(D$10=\"Fine\",D$10=\"---\"),\"---\",IFERROR(ROUND(IF(AJ25=\"Raw Data\",AVERAGE(D41:E41),AK25),0),\"---\"))","v":"---"},null,{"$f":"IF(OR(F$10=\"Fine\",F$10=\"---\"),\"---\",IFERROR(ROUND(IF(AJ25=\"Raw Data\",AVERAGE(F41:G41),AM25),0),\"---\"))","v":"---"},null,{"$f":"IF(OR(H$10=\"Fine\",H$10=\"---\"),\"---\",IFERROR(ROUND(IF(AJ25=\"Raw Data\",AVERAGE(H41:I41),AN25),0),\"---\"))","v":"---"},null,{"$f":"IF(OR(J$10=\"Fine\",J$10=\"---\"),\"---\",IFERROR(ROUND(IF(AJ25=\"Raw Data\",AVERAGE(J41:K41),AO25),0),\"---\"))","v":"---"},null,{"$f":"IF(OR(L$10=\"Fine\",L$10=\"---\"),\"---\",IFERROR(ROUND(IF(AJ25=\"Raw Data\",AVERAGE(L41:M41),AP25),0),\"---\"))","v":"---"},null,{"$f":"IF(OR(N$10=\"Fine\",N$10=\"---\"),\"---\",IFERROR(ROUND(IF(AJ25=\"Raw Data\",AVERAGE(N41:O41),AQ25),0),\"---\"))","v":"---"},null,{"$f":"IF(OR(P$10=\"Fine\",P$10=\"---\"),\"---\",IFERROR(ROUND(IF(AJ25=\"Raw Data\",AVERAGE(P41:Q41),AR25),0),\"---\"))","v":"---"},null,{"$f":"IF(ISNUMBER(AK14),AJ14 & \" \" & FIXED(AK14,0),\"---\")","v":"≥ 75"}]
[null,"KTR Result",null,{"$f":"'Agg - Coarse'!D40","v":"---"},null,{"$f":"'Agg - Coarse'!F40","v":"---"},null,{"$f":"'Agg - Coarse'!H40","v":"---"},null,{"$f":"'Agg - Coarse'!J40","v":"---"},null,{"$f":"'Agg - Coarse'!L40","v":"---"},null,{"$f":"'Agg - Coarse'!N40","v":"---"},null,{"$f":"'Agg - Coarse'!P40","v":"---"},null,"---"]
["D4791 \nFlat & Elongated, Method B (5:1)","Date Tested",null,null,null,null,null,null,null,null,null,null,null,null,null,null,null,"---"]
[null,"1\" to 3/4\"","Size Fraction, % of Agg",{"$f":"IFERROR('JMF Summary (MDV)'!B16-'JMF Summary (MDV)'!B17,\"---\")","v":0},null,{"$f":"IFERROR('JMF Summary (MDV)'!C16-'JMF Summary (MDV)'!C17,\"---\")","v":0},null,{"$f":"IFERROR('JMF Summary (MDV)'!D16-'JMF Summary (MDV)'!D17,\"---\")","v":0},null,{"$f":"IFERROR('JMF Summary (MDV)'!E16-'JMF Summary (MDV)'!E17,\"---\")","v":0},null,{"$f":"IFERROR('JMF Summary (MDV)'!G16-'JMF Summary (MDV)'!G17,\"---\")","v":0},null,{"$f":"IFERROR('JMF Summary (MDV)'!H16-'JMF Summary (MDV)'!H17,\"---\")","v":0},null,{"$f":"IFERROR('JMF Summary (MDV)'!I16-'JMF Summary (MDV)'!I17,\"---\")","v":0},null,"---"]
[null,null,"No. Particles",null,null,null,null,null,null,null,null,null,null,null,null,null,null,"---"]
[null,null,"Wt Original Test Sample, g",null,null,null,null,null,null,null,null,null,null,null,null,null,null,"---"]
[null,null,"Wt Flat & Elongated (5:1), g",null,null,null,null,null,null,null,null,null,null,null,null,null,null,"---"]
[null,null,"Flat & Elongated (5:1), %",{"$f":"IFERROR((D48)/(D47)*100,\"---\")","v":"---"},"---","---","---","---","---","---","---","---","---","---","---","---","---","---"]
[null,null,"Avg F&E (5:1), %",{"$f":"IFERROR(AVERAGE(D49:E49),\"---\")","v":"---"},null,{"$f":"IFERROR(AVERAGE(F49:G49),\"---\")","v":"---"},null,{"$f":"IFERROR(AVERAGE(H49:I49),\"---\")","v":"---"},null,{"$f":"IFERROR(AVERAGE(J49:K49),\"---\")","v":"---"},null,{"$f":"IFERROR(AVERAGE(L49:M49),\"---\")","v":"---"},null,{"$f":"IFERROR(AVERAGE(N49:O49),\"---\")","v":"---"},null,{"$f":"IFERROR(AVERAGE(P49:Q49),\"---\")","v":"---"},null,"---"]
[null,"3/4\" to 1/2\"","Size Fraction, % of Agg",{"$f":"IFERROR('JMF Summary (MDV)'!B17-'JMF Summary (MDV)'!B18,\"---\")","v":0},null,{"$f":"IFERROR('JMF Summary (MDV)'!C17-'JMF Summary (MDV)'!C18,\"---\")","v":0},null,{"$f":"IFERROR('JMF Summary (MDV)'!D17-'JMF Summary (MDV)'!D18,\"---\")","v":0},null,{"$f":"IFERROR('JMF Summary (MDV)'!E17-'JMF Summary (MDV)'!E18,\"---\")","v":0},null,{"$f":"IFERROR('JMF Summary (MDV)'!G17-'JMF Summary (MDV)'!G18,\"---\")","v":0},null,{"$f":"IFERROR('JMF Summary (MDV)'!H17-'JMF Summary (MDV)'!H18,\"---\")","v":0},null,{"$f":"IFERROR('JMF Summary (MDV)'!I17-'JMF Summary (MDV)'!I18,\"---\")","v":0},null,"---"]
[null,null,"No. Particles",null,null,null,null,null,null,null,null,null,null,null,null,null,null,"---"]
[null,null,"Wt Original Test Sample, g",null,null,null,null,null,null,null,null,null,null,null,null,null,null,"---"]
[null,null,"Wt Flat & Elongated (5:1), g",null,null,null,null,null,null,null,null,null,null,null,null,null,null,"---"]
[null,null,"Flat & Elongated (5:1), %",{"$f":"IFERROR((D54)/(D53)*100,\"---\")","v":"---"},"---","---","---","---","---","---","---","---","---","---","---","---","---","---"]
[null,null,"Avg F&E (5:1), %",{"$f":"IFERROR(AVERAGE(D55:E55),\"---\")","v":"---"},null,{"$f":"IFERROR(AVERAGE(F55:G55),\"---\")","v":"---"},null,{"$f":"IFERROR(AVERAGE(H55:I55),\"---\")","v":"---"},null,{"$f":"IFERROR(AVERAGE(J55:K55),\"---\")","v":"---"},null,{"$f":"IFERROR(AVERAGE(L55:M55),\"---\")","v":"---"},null,{"$f":"IFERROR(AVERAGE(N55:O55),\"---\")","v":"---"},null,{"$f":"IFERROR(AVERAGE(P55:Q55),\"---\")","v":"---"},null,"---"]
[null,"1/2\" to 3/8\"","Size Fraction, % of Agg",{"$f":"IFERROR('JMF Summary (MDV)'!B18-'JMF Summary (MDV)'!B19,\"---\")","v":0},null,{"$f":"IFERROR('JMF Summary (MDV)'!C18-'JMF Summary (MDV)'!C19,\"---\")","v":0},null,{"$f":"IFERROR('JMF Summary (MDV)'!D18-'JMF Summary (MDV)'!D19,\"---\")","v":0},null,{"$f":"IFERROR('JMF Summary (MDV)'!E18-'JMF Summary (MDV)'!E19,\"---\")","v":0},null,{"$f":"IFERROR('JMF Summary (MDV)'!G18-'JMF Summary (MDV)'!G19,\"---\")","v":0},null,{"$f":"IFERROR('JMF Summary (MDV)'!H18-'JMF Summary (MDV)'!H19,\"---\")","v":0},null,{"$f":"IFERROR('JMF Summary (MDV)'!I18-'JMF Summary (MDV)'!I19,\"---\")","v":0},null,"---"]
[null,null,"No. Particles",null,null,null,null,null,null,null,null,null,null,null,null,null,null,"---"]
[null,null,"Wt Original Test Sample, g",null,null,null,null,null,null,null,null,null,null,null,null,null,null,"---"]
[null,null,"Wt Flat & Elongated (5:1), g",null,null,null,null,null,null,null,null,null,null,null,null,null,null,"---"]
[null,null,"Flat & Elongated (5:1), %",{"$f":"IFERROR((D60)/(D59)*100,\"---\")","v":"---"},"---","---","---","---","---","---","---","---","---","---","---","---","---","---"]
[null,null,"Avg F&E (5:1), %",{"$f":"IFERROR(AVERAGE(D61:E61),\"---\")","v":"---"},null,{"$f":"IFERROR(AVERAGE(F61:G61),\"---\")","v":"---"},null,{"$f":"IFERROR(AVERAGE(H61:I61),\"---\")","v":"---"},null,{"$f":"IFERROR(AVERAGE(J61:K61),\"---\")","v":"---"},null,{"$f":"IFERROR(AVERAGE(L61:M61),\"---\")","v":"---"},null,{"$f":"IFERROR(AVERAGE(N61:O61),\"---\")","v":"---"},null,{"$f":"IFERROR(AVERAGE(P61:Q61),\"---\")","v":"---"},null,"---"]
[null,"3/8\" to #4","Size Fraction, % of Agg",{"$f":"IFERROR('JMF Summary (MDV)'!B19-'JMF Summary (MDV)'!B20,\"---\")","v":0},null,{"$f":"IFERROR('JMF Summary (MDV)'!C19-'JMF Summary (MDV)'!C20,\"---\")","v":0},null,{"$f":"IFERROR('JMF Summary (MDV)'!D19-'JMF Summary (MDV)'!D20,\"---\")","v":0},null,{"$f":"IFERROR('JMF Summary (MDV)'!E19-'JMF Summary (MDV)'!E20,\"---\")","v":0},null,{"$f":"IFERROR('JMF Summary (MDV)'!G19-'JMF Summary (MDV)'!G20,\"---\")","v":0},null,{"$f":"IFERROR('JMF Summary (MDV)'!H19-'JMF Summary (MDV)'!H20,\"---\")","v":0},null,{"$f":"IFERROR('JMF Summary (MDV)'!I19-'JMF Summary (MDV)'!I20,\"---\")","v":0},null,"---"]
[null,null,"No. Particles",null,null,null,null,null,null,null,null,null,null,null,null,null,null,"---"]
[null,null,"Wt Original Test Sample, g",null,null,null,null,null,null,null,null,null,null,null,null,null,null,"---"]
[null,null,"Wt Flat & Elongated (5:1), g",null,null,null,null,null,null,null,null,null,null,null,null,null,null,"---"]
[null,null,"Flat & Elongated (5:1), %",{"$f":"IFERROR((D66)/(D65)*100,\"---\")","v":"---"},"---","---","---","---","---","---","---","---","---","---","---","---","---","---"]
[null,null,"Avg F&E (5:1), %",{"$f":"IFERROR(AVERAGE(D67:E67),\"---\")","v":"---"},null,{"$f":"IFERROR(AVERAGE(F67:G67),\"---\")","v":"---"},null,{"$f":"IFERROR(AVERAGE(H67:I67),\"---\")","v":"---"},null,{"$f":"IFERROR(AVERAGE(J67:K67),\"---\")","v":"---"},null,{"$f":"IFERROR(AVERAGE(L67:M67),\"---\")","v":"---"},null,{"$f":"IFERROR(AVERAGE(N67:O67),\"---\")","v":"---"},null,{"$f":"IFERROR(AVERAGE(P67:Q67),\"---\")","v":"---"},null,"---"]
[null,"Weighted Avg F&E (5:1), %",null,{"$f":"IF(OR(D$10=\"---\",D$10=\"Fine\"),\"---\",IFERROR(IF(AJ26=\"Raw Data\",IF(D45<10,0,D45/100*D50)+IF(D51<10,0,D51/100*D56)+IF(D57<10,0,D57/100*D62)+IF(D63<10,0,D63/100*D68),AK26),\"---\"))","v":"---"},null,{"$f":"IF(OR(F$10=\"---\",F$10=\"Fine\"),\"---\",IFERROR(IF(AJ26=\"Raw Data\",IF(F45<10,0,F45/100*F50)+IF(F51<10,0,F51/100*F56)+IF(F57<10,0,F57/100*F62)+IF(F63<10,0,F63/100*F68),AM26),\"---\"))","v":"---"},null,{"$f":"IF(OR(H$10=\"---\",H$10=\"Fine\"),\"---\",IFERROR(IF(AJ26=\"Raw Data\",IF(H45<10,0,H45/100*H50)+IF(H51<10,0,H51/100*H56)+IF(H57<10,0,H57/100*H62)+IF(H63<10,0,H63/100*H68),AN26),\"---\"))","v":"---"},null,{"$f":"IF(OR(J$10=\"---\",J$10=\"Fine\"),\"---\",IFERROR(IF(AJ26=\"Raw Data\",IF(J45<10,0,J45/100*J50)+IF(J51<10,0,J51/100*J56)+IF(J57<10,0,J57/100*J62)+IF(J63<10,0,J63/100*J68),AO26),\"---\"))","v":"---"},null,{"$f":"IF(OR(L$10=\"---\",L$10=\"Fine\"),\"---\",IFERROR(IF(AJ26=\"Raw Data\",IF(L45<10,0,L45/100*L50)+IF(L51<10,0,L51/100*L56)+IF(L57<10,0,L57/100*L62)+IF(L63<10,0,L63/100*L68),AP26),\"---\"))","v":"---"},null,{"$f":"IF(OR(N$10=\"---\",N$10=\"Fine\"),\"---\",IFERROR(IF(AJ26=\"Raw Data\",IF(N45<10,0,N45/100*N50)+IF(N51<10,0,N51/100*N56)+IF(N57<10,0,N57/100*N62)+IF(N63<10,0,N63/100*N68),AQ26),\"---\"))","v":"---"},null,{"$f":"IF(OR(P$10=\"---\",P$10=\"Fine\"),\"---\",IFERROR(IF(AJ26=\"Raw Data\",IF(P45<10,0,P45/100*P50)+IF(P51<10,0,P51/100*P56)+IF(P57<10,0,P57/100*P62)+IF(P63<10,0,P63/100*P68),AR26),\"---\"))","v":"---"},null,{"$f":"IF(ISNUMBER(AK15),AJ15 & \" \" & FIXED(AK15,0),\"---\")","v":"≤ 5"}]
[null,"KTR Result",null,{"$f":"'Agg - Coarse'!D66","v":"---"},null,{"$f":"'Agg - Coarse'!F66","v":"---"},null,{"$f":"'Agg - Coarse'!H66","v":"---"},null,{"$f":"'Agg - Coarse'!J66","v":"---"},null,{"$f":"'Agg - Coarse'!L66","v":"---"},null,{"$f":"'Agg - Coarse'!N66","v":"---"},null,{"$f":"'Agg - Coarse'!P66","v":"---"},null,"---"]
["C142 Clay Lumps","Date Tested",null,null,null,null,null,null,null,null,null,null,null,null,null,null,null,"---"]
[null,"Wt Original Test Sample, g",null,null,null,null,null,null,null,null,null,null,null,null,null,null,null,"---"]
[null,"Wt Retained, No. 8 Sieve, g",null,null,null,null,null,null,null,null,null,null,null,null,null,null,null,"---"]
[null,"Clay Lumps & Friable Particles, %",null,{"$f":"IFERROR((D72-D73)/D72*100,\"---\")","v":"---"},"---","---","---","---","---","---","---","---","---",{"$f":"IFERROR((N72-N73)/N72*100,\"---\")","v":"---"},"---","---","---","---"]
[null,"Avg Clay Lumps, %",null,{"$f":"IF(OR(D$10=\"Fine\",D$10=\"---\"),\"---\",IFERROR(ROUND(IF(AJ27=\"Raw Data\",AVERAGE(D74:E74),AK27),1),\"---\"))","v":"---"},null,{"$f":"IF(OR(F$10=\"Fine\",F$10=\"---\"),\"---\",IFERROR(ROUND(IF(AJ27=\"Raw Data\",AVERAGE(F74:G74),AM27),1),\"---\"))","v":"---"},null,{"$f":"IF(OR(H$10=\"Fine\",H$10=\"---\"),\"---\",IFERROR(ROUND(IF(AJ27=\"Raw Data\",AVERAGE(H74:I74),AN27),1),\"---\"))","v":"---"},null,{"$f":"IF(OR(J$10=\"Fine\",J$10=\"---\"),\"---\",IFERROR(ROUND(IF(AJ27=\"Raw Data\",AVERAGE(J74:K74),AO27),1),\"---\"))","v":"---"},null,{"$f":"IF(OR(L$10=\"Fine\",L$10=\"---\"),\"---\",IFERROR(ROUND(IF(AJ27=\"Raw Data\",AVERAGE(L74:M74),AP27),1),\"---\"))","v":"---"},null,{"$f":"IF(OR(N$10=\"Fine\",N$10=\"---\"),\"---\",IFERROR(ROUND(IF(AJ27=\"Raw Data\",AVERAGE(N74:O74),AQ27),1),\"---\"))","v":"---"},null,{"$f":"IF(OR(P$10=\"Fine\",P$10=\"---\"),\"---\",IFERROR(ROUND(IF(AJ27=\"Raw Data\",AVERAGE(P74:Q74),AR27),1),\"---\"))","v":"---"},null,{"$f":"IF(ISNUMBER(AK16),AJ16 & \" \" & FIXED(AK16,1),\"---\")","v":"≤ 0.3"}]
[null,"KTR Result",null,{"$f":"'Agg - Coarse'!D71","v":"---"},null,{"$f":"'Agg - Coarse'!F71","v":"---"},null,{"$f":"'Agg - Coarse'!H71","v":"---"},null,{"$f":"'Agg - Coarse'!J71","v":"---"},null,{"$f":"'Agg - Coarse'!L71","v":"---"},null,{"$f":"'Agg - Coarse'!N71","v":"---"},null,{"$f":"'Agg - Coarse'!P71","v":"---"},null,"---"]
[]
["Comments:"]
[]
[]
[null,null,null,null,null,null,"Ben C. Cox, PhD, PE"]
["AGGREGATE TECHNICIAN",null,null,null,null,null,"SENIOR RESEARCH ENGINEER"]

{"sheet":"Agg - Fine (MDV)","index":24,"n_rows":46,"n_cols":47,"rows_kept":46,"cut":false,"hidden":true,"merged":[[45,0,45,3],[45,6,45,13],[32,2,32,3],[32,4,32,5],[32,6,32,7],[32,8,32,9],[32,10,32,11],[32,12,32,13],[26,2,26,3],[26,4,26,5],[26,6,26,7],[26,8,26,9],[26,10,26,11],[26,12,26,13],[35,1,36,18],[32,14,32,15],[32,16,32,17],[44,0,44,3],[44,6,44,13],[25,0,33,0],[23,38,24,39],[23,40,24,40],[26,14,26,15],[26,16,26,17],[25,35,25,36],[25,38,25,39],[26,35,26,36],[26,38,26,39],[27,35,27,36],[27,38,27,39],[19,0,24,0],[22,35,22,46],[25,2,25,3],[25,4,25,5],[25,6,25,7],[25,8,25,9],[25,10,25,11],[25,12,25,13],[23,2,23,3],[23,4,23,5],[23,6,23,7],[23,8,23,9],[23,10,23,11],[23,12,23,13],[23,41,24,41],[23,42,24,42],[23,43,24,43],[23,44,24,44],[23,45,24,45],[23,46,24,46],[25,14,25,15],[25,16,25,17],[23,35,24,36],[23,37,24,37],[19,2,19,3],[19,4,19,5],[19,6,19,7],[19,8,19,9],[19,10,19,11],[19,12,19,13],[19,14,19,15],[19,16,19,17],[23,14,23,15],[23,16,23,17],[15,35,15,39],[17,2,17,3],[17,4,17,5],[17,6,17,7],[17,8,17,9],[17,10,17,11],[17,12,17,13],[17,14,17,15],[17,16,17,17],[12,2,12,3],[12,4,12,5],[12,6,12,7],[12,8,12,9],[12,10,12,11],[12,12,12,13],[12,14,12,15],[12,16,12,17],[12,0,18,0],[18,2,18,3],[18,4,18,5],[18,6,18,7],[18,8,18,9],[18,10,18,11],[18,12,18,13],[18,14,18,15],[18,16,18,17],[9,12,9,13],[9,14,9,15],[9,16,9,17],[10,0,10,1],[11,0,11,1],[11,2,11,3],[11,4,11,5],[11,6,11,7],[11,8,11,9],[11,10,11,11],[9,0,9,1],[9,2,9,3],[9,4,9,5],[9,6,9,7],[9,8,9,9],[9,10,9,11],[11,12,11,13],[11,14,11,15],[11,16,11,17],[8,0,8,1],[8,2,8,3],[8,4,8,5],[8,6,8,7],[8,8,8,9],[8,10,8,11],[8,12,8,13],[8,14,8,15],[8,16,8,17],[2,3,2,4],[2,5,2,6],[3,3,3,4],[3,5,3,6],[4,3,4,4],[4,5,4,6],[6,14,6,15],[6,16,6,17],[7,0,7,1],[7,2,7,3],[7,4,7,5],[7,6,7,7],[7,8,7,9],[7,10,7,11],[7,12,7,13],[7,14,7,15],[6,2,6,3],[6,4,6,5],[6,6,6,7],[6,8,6,9],[6,10,6,11],[6,12,6,13],[7,16,7,17],[24,2,24,3],[24,4,24,5],[24,6,24,7],[24,8,24,9],[24,10,24,11],[24,12,24,13],[24,14,24,15],[24,16,24,17],[33,2,33,3],[33,4,33,5],[33,6,33,7],[33,8,33,9],[33,10,33,11],[33,12,33,13],[33,14,33,15],[33,16,33,17]]}
["UFGS 32 12 15.13 Fine Aggregate Properties"]
[]
["Mix ID",{"$f":"'JMF Summary (MDV)'!B3","v":"TNF-M1A"},null,"Gradation",null,{"$f":"'JMF Summary (MDV)'!G3","v":2}]
["Date",{"$f":"'JMF Summary (MDV)'!B4","v":"---"},null,"Compaction",null,{"$f":"'JMF Summary (MDV)'!G4","v":"75 Gyr"}]
["Project",{"$f":"'JMF Summary (MDV)'!B5","v":"Tinian North Field"},null,"Binder Grade",null,{"$f":"'JMF Summary (MDV)'!G5","v":"PG 64-22"}]
[]
["Aggregate ID",null,{"$f":"IF(ISBLANK('JMF Summary (MDV)'!B11),\"---\",'JMF Summary (MDV)'!B11)","v":"---"},null,{"$f":"IF(ISBLANK('JMF Summary (MDV)'!C11),\"---\",'JMF Summary (MDV)'!C11)","v":"---"},null,{"$f":"IF(ISBLANK('JMF Summary (MDV)'!D11),\"---\",'JMF Summary (MDV)'!D11)","v":"---"},null,{"$f":"IF(ISBLANK('JMF Summary (MDV)'!E11),\"---\",'JMF Summary (MDV)'!E11)","v":"---"},null,{"$f":"IF(ISBLANK('JMF Summary (MDV)'!G11),\"---\",'JMF Summary (MDV)'!G11)","v":"---"},null,{"$f":"IF(ISBLANK('JMF Summary (MDV)'!H11),\"---\",'JMF Summary (MDV)'!H11)","v":"---"},null,{"$f":"IF(ISBLANK('JMF Summary (MDV)'!I11),\"---\",'JMF Summary (MDV)'!I11)","v":"---"},null,"Blend",null,"Limits",null,null,null,null,null,null,null,null,null,null,null,null,null,null,null,null,"Form Data"]
["Percent of Agg Blend, %",null,{"$f":"IF(ISBLANK('JMF Summary (MDV)'!B15),\"---\",'JMF Summary (MDV)'!B15)","v":"---"},null,{"$f":"IF(ISBLANK('JMF Summary (MDV)'!C15),\"---\",'JMF Summary (MDV)'!C15)","v":"---"},null,{"$f":"IF(ISBLANK('JMF Summary (MDV)'!D15),\"---\",'JMF Summary (MDV)'!D15)","v":"---"},null,{"$f":"IF(ISBLANK('JMF Summary (MDV)'!E15),\"---\",'JMF Summary (MDV)'!E15)","v":"---"},null,{"$f":"IF(ISBLANK('JMF Summary (MDV)'!G15),\"---\",'JMF Summary (MDV)'!G15)","v":"---"},null,{"$f":"IF(ISBLANK('JMF Summary (MDV)'!H15),\"---\",'JMF Summary (MDV)'!H15)","v":"---"},null,{"$f":"IF(ISBLANK('JMF Summary (MDV)'!I15),\"---\",'JMF Summary (MDV)'!I15)","v":"---"},null,"---",null,"---",null,null,null,null,null,null,null,null,null,null,null,null,null,null,null,null,"Agg 1",false,{"$f":"IF(AK8,\"Natural Sand\",\"---\")","v":"---"}]
["Percent Passing No. 4, %",null,{"$f":"IF(ISBLANK('JMF Summary (MDV)'!B20),\"---\",'JMF Summary (MDV)'!B20)","v":"---"},null,{"$f":"IF(ISBLANK('JMF Summary (MDV)'!C20),\"---\",'JMF Summary (MDV)'!C20)","v":"---"},null,{"$f":"IF(ISBLANK('JMF Summary (MDV)'!D20),\"---\",'JMF Summary (MDV)'!D20)","v":"---"},null,{"$f":"IF(ISBLANK('JMF Summary (MDV)'!E20),\"---\",'JMF Summary (MDV)'!E20)","v":"---"},null,{"$f":"IF(ISBLANK('JMF Summary (MDV)'!G20),\"---\",'JMF Summary (MDV)'!G20)","v":"---"},null,{"$f":"IF(ISBLANK('JMF Summary (MDV)'!H20),\"---\",'JMF Summary (MDV)'!H20)","v":"---"},null,{"$f":"IF(ISBLANK('JMF Summary (MDV)'!I20),\"---\",'JMF Summary (MDV)'!I20)","v":"---"},null,"---",null,"---",null,null,null,null,null,null,null,null,null,null,null,null,null,null,null,null,"Agg 2",false,"---"]
["Aggregate Size Class",null,{"$f":"IF(ISNUMBER(C9),IF(C9<25,\"Coarse\",IF(C9>75,\"Fine\",\"Intermediate\")),\"---\")","v":"---"},null,{"$f":"IF(ISNUMBER(E9),IF(E9<25,\"Coarse\",IF(E9>75,\"Fine\",\"Intermediate\")),\"---\")","v":"---"},null,{"$f":"IF(ISNUMBER(G9),IF(G9<25,\"Coarse\",IF(G9>75,\"Fine\",\"Intermediate\")),\"---\")","v":"---"},null,{"$f":"IF(ISNUMBER(I9),IF(I9<25,\"Coarse\",IF(I9>75,\"Fine\",\"Intermediate\")),\"---\")","v":"---"},null,{"$f":"IF(ISNUMBER(K9),IF(K9<25,\"Coarse\",IF(K9>75,\"Fine\",\"Intermediate\")),\"---\")","v":"---"},null,{"$f":"IF(ISNUMBER(M9),IF(M9<25,\"Coarse\",IF(M9>75,\"Fine\",\"Intermediate\")),\"---\")","v":"---"},null,{"$f":"IF(ISNUMBER(O9),IF(O9<25,\"Coarse\",IF(O9>75,\"Fine\",\"Intermediate\")),\"---\")","v":"---"},null,"---",null,"---",null,null,null,null,null,null,null,null,null,null,null,null,null,null,null,null,"Agg 3",false,"---"]
["Replicate",null,1,2,1,2,1,2,1,2,1,2,1,2,1,2,1,2,"---",null,null,null,null,null,null,null,null,null,null,null,null,null,null,null,null,"Agg 4",false,"---"]
["Natural Sand (Report)",null,null,null,null,null,null,null,null,null,null,null,null,null,null,null,{"$f":"IFERROR(IF(AK8,C8,0)+IF(AK9,E8,0)+IF(AK10,G8,0)+IF(AK11,I8,0)+IF(AK12,K8,0)+IF(AK13,M8,0)+IF(AK14,O8,0),\"---\")","v":0},null,{"$f":"IF(ISNUMBER(AL18),AK18 & \" \" & FIXED(AL18,0),\"---\")","v":"≤ 15"},null,null,null,null,null,null,null,null,null,null,null,null,null,null,null,null,"Agg 5",false,"---"]
["D2419 Sand Equivalency","Date Tested",null,null,null,null,null,null,null,null,null,null,null,null,null,null,null,null,null,null,null,null,null,null,null,null,null,null,null,null,null,null,null,null,null,"Agg 6",false,"---"]
[null,"Agitation Method",null,null,null,null,"H","H","H","H",null,null,null,null,null,null,null,null,"---",null,null,null,null,null,null,null,null,null,null,null,null,null,null,null,null,"Agg 7",false,"---"]
[null,"Clay Reading",null,null,null,null,null,null,null,null,null,null,null,null,null,null,null,null,"---"]
[null,"Sand Reading",null,null,null,null,null,null,null,null,null,null,null,null,null,null,null,null,"---",null,null,null,null,null,null,null,null,null,null,null,null,null,null,null,null,"Specification Limits"]
[null,"Sand Equivalent",{"$f":"IFERROR(ROUNDUP(C16/C15*100,0),\"---\")","v":"---"},{"$f":"IFERROR(ROUNDUP(D16/D15*100,0),\"---\")","v":"---"},{"$f":"IFERROR(ROUNDUP(E16/E15*100,0),\"---\")","v":"---"},"---","---","---","---","---","---","---","---","---","---","---",{"$f":"IFERROR((Q15-Q16)/Q15*100,\"---\")","v":"---"},{"$f":"IFERROR((R15-R16)/R15*100,\"---\")","v":"---"},"---",null,null,null,null,null,null,null,null,null,null,null,null,null,null,null,null,"Property","Operator","Limit 1",null,"Limit 2"]
[null,"Avg Sand Equivalency",{"$f":"IF(OR(C$10=\"---\",C$10=\"Coarse\"),\"---\",IFERROR(ROUNDUP(IF(AL26=\"Raw Data\",AVERAGE(C17:D17),AM26),0),\"---\"))","v":"---"},null,{"$f":"IF(OR(E$10=\"---\",E$10=\"Coarse\"),\"---\",IFERROR(ROUNDUP(IF(AL26=\"Raw Data\",AVERAGE(E17:F17),AO26),0),\"---\"))","v":"---"},null,{"$f":"IF(OR(G$10=\"---\",G$10=\"Coarse\"),\"---\",IFERROR(ROUNDUP(IF(AL26=\"Raw Data\",AVERAGE(G17:H17),AP26),0),\"---\"))","v":"---"},null,{"$f":"IF(OR(I$10=\"---\",I$10=\"Coarse\"),\"---\",IFERROR(ROUNDUP(IF(AL26=\"Raw Data\",AVERAGE(I17:J17),AQ26),0),\"---\"))","v":"---"},null,{"$f":"IF(OR(K$10=\"---\",K$10=\"Coarse\"),\"---\",IFERROR(ROUNDUP(IF(AL26=\"Raw Data\",AVERAGE(K17:L17),AR26),0),\"---\"))","v":"---"},null,{"$f":"IF(OR(M$10=\"---\",M$10=\"Coarse\"),\"---\",IFERROR(ROUNDUP(IF(AL26=\"Raw Data\",AVERAGE(M17:N17),AS26),0),\"---\"))","v":"---"},null,{"$f":"IF(OR(O$10=\"---\",O$10=\"Coarse\"),\"---\",IFERROR(ROUNDUP(IF(AL26=\"Raw Data\",AVERAGE(O17:P17),AT26),0),\"---\"))","v":"---"},null,{"$f":"IFERROR(ROUNDUP(IF(AND(ISNUMBER(AU26),AL26=\"Results\"),AU26,AVERAGE(Q17:R17)),0),\"---\")","v":"---"},null,{"$f":"IF(ISNUMBER(AL19),AK19 & \" \" & FIXED(AL19,0),\"---\")","v":"> 45"},null,null,null,null,null,null,null,null,null,null,null,null,null,null,null,null,"Natural Sand",{"$f":"'JMF Summary (MDV)'!AG21","v":"≤"},{"$f":"IF('JMF Summary (MDV)'!AH21<>0,'JMF Summary (MDV)'!AH21,\"---\")","v":15}]
[null,"KTR Result",{"$f":"'Agg - Fine'!C18","v":"---"},null,{"$f":"'Agg - Fine'!E18","v":"---"},null,{"$f":"'Agg - Fine'!G18","v":"---"},null,{"$f":"'Agg - Fine'!I18","v":"---"},null,{"$f":"'Agg - Fine'!K18","v":"---"},null,{"$f":"'Agg - Fine'!M18","v":"---"},null,{"$f":"'Agg - Fine'!O18","v":"---"},null,{"$f":"'Agg - Fine'!Q18","v":"---"},null,"---",null,null,null,null,null,null,null,null,null,null,null,null,null,null,null,null,"Sand Equivalency",{"$f":"'JMF Summary (MDV)'!AG22","v":">"},{"$f":"IF('JMF Summary (MDV)'!AH22<>0,'JMF Summary (MDV)'!AH22,\"---\")","v":45}," - "]
["C142 Clay Lumps","Date Tested",null,null,null,null,null,null,null,null,null,null,null,null,null,null,null,null,null,null,null,null,null,null,null,null,null,null,null,null,null,null,null,null,null,"FAA, %",{"$f":"'JMF Summary (MDV)'!AG23","v":">"},{"$f":"IF('JMF Summary (MDV)'!AH23<>0,'JMF Summary (MDV)'!AH23,\"---\")","v":45}," - "]
[null,"Wt Original Test Sample, g",null,null,null,null,null,null,null,null,null,null,null,null,null,null,null,null,"---",null,null,null,null,null,null,null,null,null,null,null,null,null,null,null,null,"Clay Lumps, %",{"$f":"'JMF Summary (MDV)'!AG24","v":"≤"},{"$f":"IF('JMF Summary (MDV)'!AH24<>0,'JMF Summary (MDV)'!AH24,\"---\")","v":0.3}," - "]
[null,"Wt Retained, No. 20 Sieve, g",null,null,null,null,null,null,null,null,null,null,null,null,null,null,null,null,"---"]
[null,"Clay Lumps, %",{"$f":"IFERROR((C21-C22)/C21*100,\"---\")","v":"---"},"---","---","---","---","---","---","---","---","---","---","---","---","---","---","---","---",null,null,null,null,null,null,null,null,null,null,null,null,null,null,null,null,"Raw Data Override (admin user only)"]
[null,"Avg Clay Lumps, %",{"$f":"IF(OR(C$10=\"---\",C$10=\"Coarse\"),\"---\",IFERROR(ROUND(IF(AL27=\"Raw Data\",AVERAGE(C23:D23),AM27),1),\"---\"))","v":"---"},null,{"$f":"IF(OR(E$10=\"---\",E$10=\"Coarse\"),\"---\",IFERROR(ROUND(IF(AL27=\"Raw Data\",AVERAGE(E23:F23),AO27),1),\"---\"))","v":"---"},null,{"$f":"IF(OR(G$10=\"---\",G$10=\"Coarse\"),\"---\",IFERROR(ROUND(IF(AL27=\"Raw Data\",AVERAGE(G23:H23),AP27),1),\"---\"))","v":"---"},null,{"$f":"IF(OR(I$10=\"---\",I$10=\"Coarse\"),\"---\",IFERROR(ROUND(IF(AL27=\"Raw Data\",AVERAGE(I23:J23),AQ27),1),\"---\"))","v":"---"},null,{"$f":"IF(OR(K$10=\"---\",K$10=\"Coarse\"),\"---\",IFERROR(ROUND(IF(AL27=\"Raw Data\",AVERAGE(K23:L23),AR27),1),\"---\"))","v":"---"},null,{"$f":"IF(OR(M$10=\"---\",M$10=\"Coarse\"),\"---\",IFERROR(ROUND(IF(AL27=\"Raw Data\",AVERAGE(M23:N23),AS27),1),\"---\"))","v":"---"},null,{"$f":"IF(OR(O$10=\"---\",O$10=\"Coarse\"),\"---\",IFERROR(ROUND(IF(AL27=\"Raw Data\",AVERAGE(O23:P23),AT27),1),\"---\"))","v":"---"},null,{"$f":"IFERROR(ROUND(IF(AND(ISNUMBER(AU27),AL27=\"Results\"),AU27,AVERAGE(Q23:R23)),1),\"---\")","v":"---"},null,{"$f":"IF(ISNUMBER(AL21),AK21 & \" \" & FIXED(AL21,1),\"---\")","v":"≤ 0.3"},null,null,null,null,null,null,null,null,null,null,null,null,null,null,null,null,"Parameter & Value by Agg ID",null,"Input Type",{"$f":"C7","v":"---"},null,{"$f":"E7","v":"---"},{"$f":"G7","v":"---"},{"$f":"I7","v":"---"},{"$f":"K7","v":"---"},{"$f":"M7","v":"---"},{"$f":"O7","v":"---"},{"$f":"Q7","v":"Blend"}]
[null,"KTR Result",{"$f":"'Agg - Fine'!C23","v":"---"},null,{"$f":"'Agg - Fine'!E23","v":"---"},null,{"$f":"'Agg - Fine'!G23","v":"---"},null,{"$f":"'Agg - Fine'!I23","v":"---"},null,{"$f":"'Agg - Fine'!K23","v":"---"},null,{"$f":"'Agg - Fine'!M23","v":"---"},null,{"$f":"'Agg - Fine'!O23","v":"---"},null,{"$f":"'Agg - Fine'!Q23","v":"---"},null,"---"]
["C1252 Uncompacted Void Content, Method A (FAA)","Date Tested",null,null,null,null,null,null,null,null,null,null,null,null,null,null,null,null,"---",null,null,null,null,null,null,null,null,null,null,null,null,null,null,null,null,"D2419 Avg Sand Equivalency",null,"Raw Data"]
[null,"Gsb, Blend Passing No. 4",null,null,null,null,null,null,null,null,null,null,null,null,null,null,{"$f":"IFERROR('Agg Gsb (MDV)'!Q47,\"---\")","v":"---"},null,"---",null,null,null,null,null,null,null,null,null,null,null,null,null,null,null,null,"C142 Avg Clay Lumps, %",null,"Raw Data"]
[null,"Volume of Measure, mL",null,null,null,null,null,null,null,null,null,null,null,null,null,null,null,null,"---",null,null,null,null,null,null,null,null,null,null,null,null,null,null,null,null,"C1252 Avg FAA, %",null,"Raw Data"]
[null,"Wt Agg, Test Run 1, g",null,null,null,null,null,null,null,null,null,null,null,null,null,null,null,null,"---"]
[null,"Wt Agg, Test Run 2, g",null,null,null,null,null,null,null,null,null,null,null,null,null,null,null,null,"---"]
[null,"FAA, Test Run 1, %",{"$f":"IFERROR((C$26-(C29/$C$25))/C$26*100,\"---\")","v":"---"},{"$f":"IFERROR((D$26-(D29/$C$25))/D$26*100,\"---\")","v":"---"},{"$f":"IFERROR((E$26-(E29/$E$25))/E$26*100,\"---\")","v":"---"},{"$f":"IFERROR((F$26-(F29/$E$25))/F$26*100,\"---\")","v":"---"},{"$f":"IFERROR((G$26-(G29/$G$25))/G$26*100,\"---\")","v":"---"},{"$f":"IFERROR((H$26-(H29/$G$25))/H$26*100,\"---\")","v":"---"},{"$f":"IFERROR((I$26-(I29/$I$25))/I$26*100,\"---\")","v":"---"},{"$f":"IFERROR((J$26-(J29/$I$25))/J$26*100,\"---\")","v":"---"},{"$f":"IFERROR((K$26-(K29/$K$25))/K$26*100,\"---\")","v":"---"},{"$f":"IFERROR((L$26-(L29/$K$25))/L$26*100,\"---\")","v":"---"},{"$f":"IFERROR((M$26-(M29/$M$25))/M$26*100,\"---\")","v":"---"},{"$f":"IFERROR((N$26-(N29/$M$25))/N$26*100,\"---\")","v":"---"},{"$f":"IFERROR((O$26-(O29/$O$25))/O$26*100,\"---\")","v":"---"},{"$f":"IFERROR((P$26-(P29/$O$25))/P$26*100,\"---\")","v":"---"},{"$f":"IFERROR((Q$28-(Q29/$Q$27))/Q$28*100,\"---\")","v":"---"},{"$f":"IFERROR((R$28-(R29/$Q$27))/R$28*100,\"---\")","v":"---"},"---"]
[null,"FAA, Test Run 2, %",{"$f":"IFERROR((C$26-(C30/$C$25))/C$26*100,\"---\")","v":"---"},{"$f":"IFERROR((D$26-(D30/$C$25))/D$26*100,\"---\")","v":"---"},{"$f":"IFERROR((E$26-(E30/$E$25))/E$26*100,\"---\")","v":"---"},{"$f":"IFERROR((F$26-(F30/$E$25))/F$26*100,\"---\")","v":"---"},{"$f":"IFERROR((G$26-(G30/$G$25))/G$26*100,\"---\")","v":"---"},{"$f":"IFERROR((H$26-(H30/$G$25))/H$26*100,\"---\")","v":"---"},{"$f":"IFERROR((I$26-(I30/$I$25))/I$26*100,\"---\")","v":"---"},{"$f":"IFERROR((J$26-(J30/$I$25))/J$26*100,\"---\")","v":"---"},{"$f":"IFERROR((K$26-(K30/$K$25))/K$26*100,\"---\")","v":"---"},{"$f":"IFERROR((L$26-(L30/$K$25))/L$26*100,\"---\")","v":"---"},{"$f":"IFERROR((M$26-(M30/$M$25))/M$26*100,\"---\")","v":"---"},{"$f":"IFERROR((N$26-(N30/$M$25))/N$26*100,\"---\")","v":"---"},{"$f":"IFERROR((O$26-(O30/$O$25))/O$26*100,\"---\")","v":"---"},{"$f":"IFERROR((P$26-(P30/$O$25))/P$26*100,\"---\")","v":"---"},{"$f":"IFERROR((Q$28-(Q30/$Q$27))/Q$28*100,\"---\")","v":"---"},{"$f":"IFERROR((R$28-(R30/$Q$27))/R$28*100,\"---\")","v":"---"},"---"]
[null,"Avg FAA, %",{"$f":"IF(OR(C$10=\"---\",C$10=\"Coarse\"),\"---\",IFERROR(IF(AL28=\"Raw Data\",AVERAGE(C32:D32),AM28),\"---\"))","v":"---"},null,{"$f":"IF(OR(E$10=\"---\",E$10=\"Coarse\"),\"---\",IFERROR(IF(AL28=\"Raw Data\",AVERAGE(E32:F32),AO28),\"---\"))","v":"---"},null,{"$f":"IF(OR(G$10=\"---\",G$10=\"Coarse\"),\"---\",IFERROR(IF(AL28=\"Raw Data\",AVERAGE(G32:H32),AP28),\"---\"))","v":"---"},null,{"$f":"IF(OR(I$10=\"---\",I$10=\"Coarse\"),\"---\",IFERROR(IF(AL28=\"Raw Data\",AVERAGE(I32:J32),AQ28),\"---\"))","v":"---"},null,{"$f":"IF(OR(K$10=\"---\",K$10=\"Coarse\"),\"---\",IFERROR(IF(AL28=\"Raw Data\",AVERAGE(K32:L32),AR28),\"---\"))","v":"---"},null,{"$f":"IF(OR(M$10=\"---\",M$10=\"Coarse\"),\"---\",IFERROR(IF(AL28=\"Raw Data\",AVERAGE(M32:N32),AS28),\"---\"))","v":"---"},null,{"$f":"IF(OR(O$10=\"---\",O$10=\"Coarse\"),\"---\",IFERROR(IF(AL28=\"Raw Data\",AVERAGE(O32:P32),AT28),\"---\"))","v":"---"},null,{"$f":"IFERROR(ROUND(IF(AND(ISNUMBER(AU28),AL28=\"Results\"),AU28,AVERAGE(Q31:R32)),1),\"---\")","v":"---"},null,{"$f":"IF(ISNUMBER(AL20),AK20 & \" \" & FIXED(AL20,1),\"---\")","v":"> 45.0"}]
[null,"KTR Result",{"$f":"'Agg - Fine'!C31","v":"---"},null,{"$f":"'Agg - Fine'!E31","v":"---"},null,{"$f":"'Agg - Fine'!G31","v":"---"},null,{"$f":"'Agg - Fine'!I31","v":"---"},null,{"$f":"'Agg - Fine'!K31","v":"---"},null,{"$f":"'Agg - Fine'!M31","v":"---"},null,{"$f":"'Agg - Fine'!O31","v":"---"},null,{"$f":"'Agg - Fine'!Q31","v":"---"},null,"---"]
[]
["Comments:"]
[]
[]
[]
[]
[]
[]
[]
[]
["Andrew Guillotte, Cameron Cooksey",null,null,null,null,null,"Ben C. Cox, PhD, PE"]
["AGGREGATE TECHNICIAN",null,null,null,null,null,"SENIOR RESEARCH ENGINEER"]

{"sheet":"Agg Gsb (MDV)","index":25,"n_rows":51,"n_cols":42,"rows_kept":51,"cut":false,"hidden":true,"merged":[[50,0,50,2],[50,5,50,11],[46,0,46,1],[46,2,46,3],[46,4,46,5],[46,6,46,7],[46,8,46,9],[46,10,46,11],[40,4,40,5],[40,6,40,7],[40,8,40,9],[40,10,40,11],[41,0,43,0],[41,2,41,3],[41,4,41,5],[41,6,41,7],[41,8,41,9],[41,10,41,11],[42,2,42,3],[42,4,42,5],[42,6,42,7],[42,8,42,9],[42,10,42,11],[43,2,43,3],[40,12,40,13],[46,12,46,13],[46,14,46,15],[49,0,49,2],[49,5,49,11],[44,0,44,16],[45,0,45,1],[45,2,45,3],[45,4,45,5],[45,6,45,7],[45,8,45,9],[45,10,45,11],[45,12,45,13],[45,14,45,15],[41,12,41,13],[41,14,41,15],[42,12,42,13],[42,14,42,15],[43,4,43,5],[43,6,43,7],[43,8,43,9],[43,10,43,11],[43,12,43,13],[43,14,43,15],[39,4,39,5],[39,6,39,7],[39,8,39,9],[39,10,39,11],[39,12,39,13],[39,14,39,15],[37,14,37,15],[38,0,40,0],[38,2,38,3],[38,4,38,5],[38,6,38,7],[38,8,38,9],[38,10,38,11],[38,12,38,13],[38,14,38,15],[39,2,39,3],[37,2,37,3],[37,4,37,5],[37,6,37,7],[37,8,37,9],[37,10,37,11],[37,12,37,13],[40,14,40,15],[40,2,40,3],[36,4,36,5],[36,6,36,7],[36,8,36,9],[36,10,36,11],[36,12,36,13],[36,14,36,15],[35,2,35,3],[35,4,35,5],[35,6,35,7],[35,8,35,9],[35,10,35,11],[35,12,35,13],[34,4,34,5],[34,6,34,7],[34,8,34,9],[34,10,34,11],[34,12,34,13],[34,14,34,15],[22,14,22,15],[23,0,37,0],[33,2,33,3],[33,4,33,5],[33,6,33,7],[33,8,33,9],[33,10,33,11],[33,12,33,13],[33,14,33,15],[34,2,34,3],[22,2,22,3],[22,4,22,5],[22,6,22,7],[22,8,22,9],[22,10,22,11],[22,12,22,13],[35,14,35,15],[36,2,36,3],[21,10,21,11],[21,12,21,13],[21,14,21,15],[20,2,20,3],[20,4,20,5],[20,6,20,7],[20,8,20,9],[20,10,20,11],[20,12,20,13],[11,0,11,1],[11,33,11,34],[12,0,22,0],[12,33,12,34],[13,33,13,34],[18,2,18,3],[18,4,18,5],[18,6,18,7],[18,8,18,9],[18,10,18,11],[18,12,18,13],[18,14,18,15],[19,2,19,3],[19,4,19,5],[19,6,19,7],[19,8,19,9],[19,10,19,11],[19,12,19,13],[19,14,19,15],[20,14,20,15],[21,2,21,3],[21,4,21,5],[21,6,21,7],[21,8,21,9],[9,39,10,39],[9,40,10,40],[9,41,10,41],[10,0,10,1],[10,2,10,3],[10,4,10,5],[10,6,10,7],[10,8,10,9],[10,10,10,11],[9,12,9,13],[9,14,9,15],[9,33,10,34],[9,35,10,35],[9,36,10,36],[9,37,10,37],[10,12,10,13],[10,14,10,15],[9,0,9,1],[9,2,9,3],[9,4,9,5],[9,6,9,7],[9,8,9,9],[9,10,9,11],[8,0,8,1],[8,2,8,3],[8,4,8,5],[8,6,8,7],[8,8,8,9],[8,10,8,11],[8,12,8,13],[8,14,8,15],[9,38,10,38],[7,0,7,1],[7,2,7,3],[7,4,7,5],[7,6,7,7],[7,8,7,9],[7,10,7,11],[7,12,7,13],[7,14,7,15],[7,33,7,41],[4,33,4,40],[5,35,5,40],[6,0,6,1],[6,2,6,3],[6,4,6,5],[6,6,6,7],[6,8,6,9],[6,10,6,11],[6,12,6,13],[6,14,6,15],[2,3,2,4],[2,5,2,6],[2,8,2,12],[2,14,2,16],[3,3,3,4],[3,5,3,6],[3,8,3,12],[3,14,3,16],[4,3,4,4],[4,5,4,6],[4,8,4,12]]}
["ASTM C127 and C128 Aggregate Specific Gravity"]
[]
["Mix ID",{"$f":"'JMF Summary (MDV)'!B3","v":"TNF-M1A"},null,"Gradation",null,{"$f":"'JMF Summary (MDV)'!G3","v":2},null,null,"ASTM C128 Procedure",null,null,null,null,null,"Date Tested"]
["Date",{"$f":"'JMF Summary (MDV)'!B4","v":"---"},null,"Compaction",null,{"$f":"'JMF Summary (MDV)'!G4","v":"75 Gyr"},null,null,null,null,null,null,null,null,"2025-04-15"]
["Project",{"$f":"'JMF Summary (MDV)'!B5","v":"Tinian North Field"},null,"Binder Grade",null,{"$f":"'JMF Summary (MDV)'!G5","v":"PG 64-22"},null,null,null,null,null,null,null,null,null,null,null,null,null,null,null,null,null,null,null,null,null,null,null,null,null,null,null,"Form Data"]
[null,null,null,null,null,null,null,null,null,null,null,null,null,null,null,null,null,null,null,null,null,null,null,null,null,null,null,null,null,null,null,null,null,"Procedure",1,"(1 = Gravimetric (Pycnometer), 2 = Volumetric (Le Chatelier Flask))"]
["Aggregate ID",null,{"$f":"IF(ISBLANK('JMF Summary (MDV)'!B11),\"---\",'JMF Summary (MDV)'!B11)","v":"---"},null,{"$f":"IF(ISBLANK('JMF Summary (MDV)'!C11),\"---\",'JMF Summary (MDV)'!C11)","v":"---"},null,{"$f":"IF(ISBLANK('JMF Summary (MDV)'!D11),\"---\",'JMF Summary (MDV)'!D11)","v":"---"},null,{"$f":"IF(ISBLANK('JMF Summary (MDV)'!E11),\"---\",'JMF Summary (MDV)'!E11)","v":"---"},null,{"$f":"IF(ISBLANK('JMF Summary (MDV)'!G11),\"---\",'JMF Summary (MDV)'!G11)","v":"---"},null,{"$f":"IF(ISBLANK('JMF Summary (MDV)'!H11),\"---\",'JMF Summary (MDV)'!H11)","v":"---"},null,{"$f":"IF(ISBLANK('JMF Summary (MDV)'!I11),\"---\",'JMF Summary (MDV)'!I11)","v":"---"},null,"Blend"]
["Percent of Agg Blend, %",null,{"$f":"IF(ISBLANK('JMF Summary (MDV)'!B15),\"---\",'JMF Summary (MDV)'!B15)","v":"---"},null,{"$f":"IF(ISBLANK('JMF Summary (MDV)'!C15),\"---\",'JMF Summary (MDV)'!C15)","v":"---"},null,{"$f":"IF(ISBLANK('JMF Summary (MDV)'!D15),\"---\",'JMF Summary (MDV)'!D15)","v":"---"},null,{"$f":"IF(ISBLANK('JMF Summary (MDV)'!E15),\"---\",'JMF Summary (MDV)'!E15)","v":"---"},null,{"$f":"IF(ISBLANK('JMF Summary (MDV)'!G15),\"---\",'JMF Summary (MDV)'!G15)","v":"---"},null,{"$f":"IF(ISBLANK('JMF Summary (MDV)'!H15),\"---\",'JMF Summary (MDV)'!H15)","v":"---"},null,{"$f":"IF(ISBLANK('JMF Summary (MDV)'!I15),\"---\",'JMF Summary (MDV)'!I15)","v":"---"},null,{"$f":"SUM(C8:P8)","v":0},null,null,null,null,null,null,null,null,null,null,null,null,null,null,null,null,"Raw Data Override (admin user only)"]
["Percent Passing No. 4, %",null,{"$f":"IF(ISBLANK('JMF Summary (MDV)'!B20),\"---\",'JMF Summary (MDV)'!B20)","v":"---"},null,{"$f":"IF(ISBLANK('JMF Summary (MDV)'!C20),\"---\",'JMF Summary (MDV)'!C20)","v":"---"},null,{"$f":"IF(ISBLANK('JMF Summary (MDV)'!D20),\"---\",'JMF Summary (MDV)'!D20)","v":"---"},null,{"$f":"IF(ISBLANK('JMF Summary (MDV)'!E20),\"---\",'JMF Summary (MDV)'!E20)","v":"---"},null,{"$f":"IF(ISBLANK('JMF Summary (MDV)'!G20),\"---\",'JMF Summary (MDV)'!G20)","v":"---"},null,{"$f":"IF(ISBLANK('JMF Summary (MDV)'!H20),\"---\",'JMF Summary (MDV)'!H20)","v":"---"},null,{"$f":"IF(ISBLANK('JMF Summary (MDV)'!I20),\"---\",'JMF Summary (MDV)'!I20)","v":"---"},null,{"$f":"IF(ISBLANK('JMF Summary (MDV)'!J20),\"---\",'JMF Summary (MDV)'!J20)","v":0},null,null,null,null,null,null,null,null,null,null,null,null,null,null,null,null,"Input Type","Raw Data"]
["Aggregate Size Class",null,{"$f":"IF(ISNUMBER(C9),IF(C9<25,\"Coarse\",IF(C9>75,\"Fine\",\"Intermediate\")),\"---\")","v":"---"},null,{"$f":"IF(ISNUMBER(E9),IF(E9<25,\"Coarse\",IF(E9>75,\"Fine\",\"Intermediate\")),\"---\")","v":"---"},null,{"$f":"IF(ISNUMBER(G9),IF(G9<25,\"Coarse\",IF(G9>75,\"Fine\",\"Intermediate\")),\"---\")","v":"---"},null,{"$f":"IF(ISNUMBER(I9),IF(I9<25,\"Coarse\",IF(I9>75,\"Fine\",\"Intermediate\")),\"---\")","v":"---"},null,{"$f":"IF(ISNUMBER(K9),IF(K9<25,\"Coarse\",IF(K9>75,\"Fine\",\"Intermediate\")),\"---\")","v":"---"},null,{"$f":"IF(ISNUMBER(M9),IF(M9<25,\"Coarse\",IF(M9>75,\"Fine\",\"Intermediate\")),\"---\")","v":"---"},null,{"$f":"IF(ISNUMBER(O9),IF(O9<25,\"Coarse\",IF(O9>75,\"Fine\",\"Intermediate\")),\"---\")","v":"---"},null,"---",null,null,null,null,null,null,null,null,null,null,null,null,null,null,null,null,"Parameter & Value by Agg ID",null,{"$f":"C7","v":"---"},{"$f":"E7","v":"---"},{"$f":"G7","v":"---"},{"$f":"I7","v":"---"},{"$f":"K7","v":"---"},{"$f":"M7","v":"---"},{"$f":"O7","v":"---"}]
["Governing Standard(s)1",null,{"$f":"IF(ISNUMBER(C9),IF(C9<25,\"C127\",IF(C9>75,\"C128\",\"C127 & C128\")),\"---\")","v":"---"},null,{"$f":"IF(ISNUMBER(E9),IF(E9<25,\"C127\",IF(E9>75,\"C128\",\"C127 & C128\")),\"---\")","v":"---"},null,{"$f":"IF(ISNUMBER(G9),IF(G9<25,\"C127\",IF(G9>75,\"C128\",\"C127 & C128\")),\"---\")","v":"---"},null,{"$f":"IF(ISNUMBER(I9),IF(I9<25,\"C127\",IF(I9>75,\"C128\",\"C127 & C128\")),\"---\")","v":"---"},null,{"$f":"IF(ISNUMBER(K9),IF(K9<25,\"C127\",IF(K9>75,\"C128\",\"C127 & C128\")),\"---\")","v":"---"},null,{"$f":"IF(ISNUMBER(M9),IF(M9<25,\"C127\",IF(M9>75,\"C128\",\"C127 & C128\")),\"---\")","v":"---"},null,{"$f":"IF(ISNUMBER(O9),IF(O9<25,\"C127\",IF(O9>75,\"C128\",\"C127 & C128\")),\"---\")","v":"---"},null,"---"]
["Replicate",null,1,2,1,2,1,2,1,2,1,2,1,2,1,2,"---",null,null,null,null,null,null,null,null,null,null,null,null,null,null,null,null,"Gsa"]
["ASTM C127","Wt OD Sample in Air, g (A)",null,null,null,null,null,null,null,null,null,null,null,null,null,null,"---",null,null,null,null,null,null,null,null,null,null,null,null,null,null,null,null,"Gsb"]
[null,"Wt SSD Sample in Air, g (B)",null,null,null,null,null,null,null,null,null,null,null,null,null,null,"---",null,null,null,null,null,null,null,null,null,null,null,null,null,null,null,null,"Abs, %"]
[null,"Wt Sub. Sample in Water, g (C) ",null,null,null,null,null,null,null,null,null,null,null,null,null,null,"---"]
[null,"Gsa",{"$f":"IFERROR(C13/(C13-C15),\"---\")","v":"---"},"---","---","---","---","---","---","---","---","---","---","---","---","---","---"]
[null,"Gsb",{"$f":"IFERROR(C13/(C14-C15),\"---\")","v":"---"},"---","---","---","---","---","---","---","---","---","---","---","---","---","---"]
[null,"Abs, %",{"$f":"IFERROR((C14-C13)/C13*100,\"---\")","v":"---"},{"$f":"IFERROR((D14-D13)/D13*100,\"---\")","v":"---"},"---","---","---","---","---","---","---","---","---","---","---","---","---"]
[null,"Gsa Difference",{"$f":"IFERROR(ABS(C16-D16),\"---\")","v":"---"},null,{"$f":"IFERROR(ABS(E16-F16),\"---\")","v":"---"},null,{"$f":"IFERROR(ABS(G16-H16),\"---\")","v":"---"},null,{"$f":"IFERROR(ABS(I16-J16),\"---\")","v":"---"},null,{"$f":"IFERROR(ABS(K16-L16),\"---\")","v":"---"},null,{"$f":"IFERROR(ABS(M16-N16),\"---\")","v":"---"},null,{"$f":"IFERROR(ABS(O16-P16),\"---\")","v":"---"},null,"---"]
[null,"Gsb Difference",{"$f":"IFERROR(ABS(C17-D17),\"---\")","v":"---"},null,{"$f":"IFERROR(ABS(E17-F17),\"---\")","v":"---"},null,{"$f":"IFERROR(ABS(G17-H17),\"---\")","v":"---"},null,{"$f":"IFERROR(ABS(I17-J17),\"---\")","v":"---"},null,{"$f":"IFERROR(ABS(K17-L17),\"---\")","v":"---"},null,{"$f":"IFERROR(ABS(M17-N17),\"---\")","v":"---"},null,{"$f":"IFERROR(ABS(O17-P17),\"---\")","v":"---"},null,"---"]
[null,"Avg Gsa",{"$f":"IFERROR(AVERAGE(C16:D16),\"---\")","v":"---"},null,{"$f":"IFERROR(AVERAGE(E16:F16),\"---\")","v":"---"},null,{"$f":"IFERROR(AVERAGE(G16:H16),\"---\")","v":"---"},null,{"$f":"IFERROR(AVERAGE(I16:J16),\"---\")","v":"---"},null,{"$f":"IFERROR(AVERAGE(K16:L16),\"---\")","v":"---"},null,{"$f":"IFERROR(AVERAGE(M16:N16),\"---\")","v":"---"},null,{"$f":"IFERROR(AVERAGE(O16:P16),\"---\")","v":"---"},null,"---"]
[null,"Avg Gsb",{"$f":"IFERROR(AVERAGE(C17:D17),\"---\")","v":"---"},null,{"$f":"IFERROR(AVERAGE(E17:F17),\"---\")","v":"---"},null,{"$f":"IFERROR(AVERAGE(G17:H17),\"---\")","v":"---"},null,{"$f":"IFERROR(AVERAGE(I17:J17),\"---\")","v":"---"},null,{"$f":"IFERROR(AVERAGE(K17:L17),\"---\")","v":"---"},null,{"$f":"IFERROR(AVERAGE(M17:N17),\"---\")","v":"---"},null,{"$f":"IFERROR(AVERAGE(O17:P17),\"---\")","v":"---"},null,"---"]
[null,"Avg Abs, %",{"$f":"IFERROR(AVERAGE(C18:D18),\"---\")","v":"---"},null,{"$f":"IFERROR(AVERAGE(E18:F18),\"---\")","v":"---"},null,{"$f":"IFERROR(AVERAGE(G18:H18),\"---\")","v":"---"},null,{"$f":"IFERROR(AVERAGE(I18:J18),\"---\")","v":"---"},null,{"$f":"IFERROR(AVERAGE(K18:L18),\"---\")","v":"---"},null,{"$f":"IFERROR(AVERAGE(M18:N18),\"---\")","v":"---"},null,{"$f":"IFERROR(AVERAGE(O18:P18),\"---\")","v":"---"},null,"---"]
["ASTM C128","Wt OD Sample, g (A)",null,null,null,null,null,null,null,null,null,null,null,null,null,null,"---"]
[null,"Wt Pycn. + Water, g (B)",null,null,null,null,null,null,null,null,null,null,null,null,null,null,"---"]
[null,"Wt Pycn. + Sample + Water, g (C) ",null,null,null,null,null,null,null,null,null,null,null,null,null,null,"---"]
[null,"Wt SSD Sample, g (S)",null,null,null,null,null,null,null,null,null,null,null,null,null,null,"---"]
[null,"Wt Le Chatelier SSD Sample, g (S1)",null,null,null,null,null,null,null,null,null,null,null,null,null,null,"---"]
[null,"Water Level Reading, Initial, mL (R1)",null,null,null,null,null,null,null,null,null,null,null,null,null,null,"---"]
[null,"Water Level Reading, Final, mL (R2)",null,null,null,null,null,null,null,null,null,null,null,null,null,null,"---"]
[null,"Gsa",{"$f":"IFERROR(IF($AI$6=1,C24/(C25+C24-C26),C32/(1-C33*C32/100)),\"---\")","v":"---"},"---","---","---","---","---","---","---","---","---","---","---","---","---","---"]
[null,"Gsb",{"$f":"IFERROR(IF($AI$6=1,C24/(C25+C27-C26),(C28*C24/C27)/(0.9775*(C30-C29))),\"---\")","v":"---"},"---","---","---","---","---","---","---","---","---","---","---","---","---","---"]
[null,"Abs, %",{"$f":"IFERROR((C27-C24)/C24*100,\"---\")","v":"---"},"---",{"$f":"IFERROR((E27-E24)/E24*100,\"---\")","v":"---"},"---","---","---","---","---","---","---","---","---","---","---","---"]
[null,"Gsa Difference",{"$f":"IFERROR(ABS(C31-D31),\"---\")","v":"---"},null,{"$f":"IFERROR(ABS(E31-F31),\"---\")","v":"---"},null,{"$f":"IFERROR(ABS(G31-H31),\"---\")","v":"---"},null,{"$f":"IFERROR(ABS(I31-J31),\"---\")","v":"---"},null,{"$f":"IFERROR(ABS(K31-L31),\"---\")","v":"---"},null,{"$f":"IFERROR(ABS(M31-N31),\"---\")","v":"---"},null,{"$f":"IFERROR(ABS(O31-P31),\"---\")","v":"---"},null,"---"]
[null,"Gsb Difference",{"$f":"IFERROR(ABS(C32-D32),\"---\")","v":"---"},null,{"$f":"IFERROR(ABS(E32-F32),\"---\")","v":"---"},null,{"$f":"IFERROR(ABS(G32-H32),\"---\")","v":"---"},null,{"$f":"IFERROR(ABS(I32-J32),\"---\")","v":"---"},null,{"$f":"IFERROR(ABS(K32-L32),\"---\")","v":"---"},null,{"$f":"IFERROR(ABS(M32-N32),\"---\")","v":"---"},null,{"$f":"IFERROR(ABS(O32-P32),\"---\")","v":"---"},null,"---"]
[null,"Avg Gsa",{"$f":"IFERROR(AVERAGE(C31:D31),\"---\")","v":"---"},null,{"$f":"IFERROR(AVERAGE(E31:F31),\"---\")","v":"---"},null,{"$f":"IFERROR(AVERAGE(G31:H31),\"---\")","v":"---"},null,{"$f":"IFERROR(AVERAGE(I31:J31),\"---\")","v":"---"},null,{"$f":"IFERROR(AVERAGE(K31:L31),\"---\")","v":"---"},null,{"$f":"IFERROR(AVERAGE(M31:N31),\"---\")","v":"---"},null,{"$f":"IFERROR(AVERAGE(O31:P31),\"---\")","v":"---"},null,"---"]
[null,"Avg Gsb",{"$f":"IFERROR(AVERAGE(C32:D32),\"---\")","v":"---"},null,{"$f":"IFERROR(AVERAGE(E32:F32),\"---\")","v":"---"},null,{"$f":"IFERROR(AVERAGE(G32:H32),\"---\")","v":"---"},null,{"$f":"IFERROR(AVERAGE(I32:J32),\"---\")","v":"---"},null,{"$f":"IFERROR(AVERAGE(K32:L32),\"---\")","v":"---"},null,{"$f":"IFERROR(AVERAGE(M32:N32),\"---\")","v":"---"},null,{"$f":"IFERROR(AVERAGE(O32:P32),\"---\")","v":"---"},null,"---"]
[null,"Avg Abs, %",{"$f":"IFERROR(AVERAGE(C33:D33),\"---\")","v":"---"},null,{"$f":"IFERROR(AVERAGE(E33:F33),\"---\")","v":"---"},null,{"$f":"IFERROR(AVERAGE(G33:H33),\"---\")","v":"---"},null,{"$f":"IFERROR(AVERAGE(I33:J33),\"---\")","v":"---"},null,{"$f":"IFERROR(AVERAGE(K33:L33),\"---\")","v":"---"},null,{"$f":"IFERROR(AVERAGE(M33:N33),\"---\")","v":"---"},null,{"$f":"IFERROR(AVERAGE(O33:P33),\"---\")","v":"---"},null,"---"]
["Combined","Gsa",{"$f":"IFERROR(IF(ISNUMBER(C9),IF($AI$9=\"Raw Data\",IF(C9<25,C21,IF(C9>75,C36,1/((100-C9)/100/C21+C9/100/C36))),AJ12),\"---\"),\"---\")","v":"---"},null,{"$f":"IFERROR(IF(ISNUMBER(E9),IF($AI$9=\"Raw Data\",IF(E9<25,E21,IF(E9>75,E36,1/((100-E9)/100/E21+E9/100/E36))),AK12),\"---\"),\"---\")","v":"---"},null,{"$f":"IFERROR(IF(ISNUMBER(G9),IF($AI$9=\"Raw Data\",IF(G9<25,G21,IF(G9>75,G36,1/((100-G9)/100/G21+G9/100/G36))),AL12),\"---\"),\"---\")","v":"---"},null,{"$f":"IFERROR(IF(ISNUMBER(I9),IF($AI$9=\"Raw Data\",IF(I9<25,I21,IF(I9>75,I36,1/((100-I9)/100/I21+I9/100/I36))),AM12),\"---\"),\"---\")","v":"---"},null,{"$f":"IFERROR(IF(ISNUMBER(K9),IF($AI$9=\"Raw Data\",IF(K9<25,K21,IF(K9>75,K36,1/((100-K9)/100/K21+K9/100/K36))),AN12),\"---\"),\"---\")","v":"---"},null,{"$f":"IFERROR(IF(ISNUMBER(M9),IF($AI$9=\"Raw Data\",IF(M9<25,M21,IF(M9>75,M36,1/((100-M9)/100/M21+M9/100/M36))),AO12),\"---\"),\"---\")","v":"---"},null,{"$f":"IFERROR(IF(ISNUMBER(O9),IF($AI$9=\"Raw Data\",IF(O9<25,O21,IF(O9>75,O36,1/((100-O9)/100/O21+O9/100/O36))),AP12),\"---\"),\"---\")","v":"---"},null,{"$f":"IFERROR(1/(IFERROR($C$8/$Q$8/C39,0)+IFERROR($E$8/$Q$8/E39,0)+IFERROR($I$8/$Q$8/I39,0)+IFERROR($G$8/$Q$8/G39,0)+IFERROR($K$8/$Q$8/K39,0)+IFERROR($M$8/$Q$8/M39,0)+IFERROR($O$8/$Q$8/O39,0)),\"---\")","v":"---"}]
[null,"Gsb",{"$f":"IFERROR(IF(ISNUMBER(C9),IF($AI$9=\"Raw Data\",IF(C9<25,C22,IF(C9>75,C37,1/((100-C9)/100/C22+C9/100/C37))),AJ13),\"---\"),\"---\")","v":"---"},null,{"$f":"IFERROR(IF(ISNUMBER(E9),IF($AI$9=\"Raw Data\",IF(E9<25,E22,IF(E9>75,E37,1/((100-E9)/100/E22+E9/100/E37))),AK13),\"---\"),\"---\")","v":"---"},null,{"$f":"IFERROR(IF(ISNUMBER(G9),IF($AI$9=\"Raw Data\",IF(G9<25,G22,IF(G9>75,G37,1/((100-G9)/100/G22+G9/100/G37))),AL13),\"---\"),\"---\")","v":"---"},null,{"$f":"IFERROR(IF(ISNUMBER(I9),IF($AI$9=\"Raw Data\",IF(I9<25,I22,IF(I9>75,I37,1/((100-I9)/100/I22+I9/100/I37))),AM13),\"---\"),\"---\")","v":"---"},null,{"$f":"IFERROR(IF(ISNUMBER(K9),IF($AI$9=\"Raw Data\",IF(K9<25,K22,IF(K9>75,K37,1/((100-K9)/100/K22+K9/100/K37))),AN13),\"---\"),\"---\")","v":"---"},null,{"$f":"IFERROR(IF(ISNUMBER(M9),IF($AI$9=\"Raw Data\",IF(M9<25,M22,IF(M9>75,M37,1/((100-M9)/100/M22+M9/100/M37))),AO13),\"---\"),\"---\")","v":"---"},null,{"$f":"IFERROR(IF(ISNUMBER(O9),IF($AI$9=\"Raw Data\",IF(O9<25,O22,IF(O9>75,O37,1/((100-O9)/100/O22+O9/100/O37))),AP13),\"---\"),\"---\")","v":"---"},null,{"$f":"IFERROR(1/(IFERROR($C$8/$Q$8/C40,0)+IFERROR($E$8/$Q$8/E40,0)+IFERROR($I$8/$Q$8/I40,0)+IFERROR($G$8/$Q$8/G40,0)+IFERROR($K$8/$Q$8/K40,0)+IFERROR($M$8/$Q$8/M40,0)+IFERROR($O$8/$Q$8/O40,0)),\"---\")","v":"---"}]
[null,"Abs, %",{"$f":"IFERROR(IF(ISNUMBER(C9),IF($AI$9=\"Raw Data\",IF(C9<25,C23,IF(C9>75,C38,(100-C9)/100*C23+C9/100*C38)),AJ14),\"---\"),\"---\")","v":"---"},null,{"$f":"IFERROR(IF(ISNUMBER(E9),IF($AI$9=\"Raw Data\",IF(E9<25,E23,IF(E9>75,E38,(100-E9)/100*E23+E9/100*E38)),AK14),\"---\"),\"---\")","v":"---"},null,{"$f":"IFERROR(IF(ISNUMBER(G9),IF($AI$9=\"Raw Data\",IF(G9<25,G23,IF(G9>75,G38,(100-G9)/100*G23+G9/100*G38)),AL14),\"---\"),\"---\")","v":"---"},null,{"$f":"IFERROR(IF(ISNUMBER(I9),IF($AI$9=\"Raw Data\",IF(I9<25,I23,IF(I9>75,I38,(100-I9)/100*I23+I9/100*I38)),AM14),\"---\"),\"---\")","v":"---"},null,{"$f":"IFERROR(IF(ISNUMBER(K9),IF($AI$9=\"Raw Data\",IF(K9<25,K23,IF(K9>75,K38,(100-K9)/100*K23+K9/100*K38)),AN14),\"---\"),\"---\")","v":"---"},null,{"$f":"IFERROR(IF(ISNUMBER(M9),IF($AI$9=\"Raw Data\",IF(M9<25,M23,IF(M9>75,M38,(100-M9)/100*M23+M9/100*M38)),AO14),\"---\"),\"---\")","v":"---"},null,{"$f":"IFERROR(IF(ISNUMBER(O9),IF($AI$9=\"Raw Data\",IF(O9<25,O23,IF(O9>75,O38,(100-O9)/100*O23+O9/100*O38)),AP14),\"---\"),\"---\")","v":"---"},null,{"$f":"IFERROR((IFERROR($C$8/$Q$8*C41,0)+IFERROR($E$8/$Q$8*E41,0)+IFERROR($I$8/$Q$8*I41,0)+IFERROR($G$8/$Q$8*G41,0)+IFERROR($K$8/$Q$8*K41,0)+IFERROR($M$8/$Q$8*M41,0)+IFERROR($O$8/$Q$8*O41,0)),\"---\")","v":0}]
["KTR","Gsa",{"$f":"'Agg Gsb'!C39","v":"---"},null,{"$f":"'Agg Gsb'!E39","v":"---"},null,{"$f":"'Agg Gsb'!G39","v":"---"},null,{"$f":"'Agg Gsb'!I39","v":"---"},null,{"$f":"'Agg Gsb'!K39","v":"---"},null,{"$f":"'Agg Gsb'!M39","v":"---"},null,{"$f":"'Agg Gsb'!O39","v":"---"},null,{"$f":"'Agg Gsb'!Q39","v":"---"}]
[null,"Gsb",{"$f":"'Agg Gsb'!C40","v":"---"},null,{"$f":"'Agg Gsb'!E40","v":"---"},null,{"$f":"'Agg Gsb'!G40","v":"---"},null,{"$f":"'Agg Gsb'!I40","v":"---"},null,{"$f":"'Agg Gsb'!K40","v":"---"},null,{"$f":"'Agg Gsb'!M40","v":"---"},null,{"$f":"'Agg Gsb'!O40","v":"---"},null,{"$f":"'Agg Gsb'!Q40","v":"---"}]
[null,"Abs, %",{"$f":"'Agg Gsb'!C41","v":"---"},null,{"$f":"'Agg Gsb'!E41","v":"---"},null,{"$f":"'Agg Gsb'!G41","v":"---"},null,{"$f":"'Agg Gsb'!I41","v":"---"},null,{"$f":"'Agg Gsb'!K41","v":"---"},null,{"$f":"'Agg Gsb'!M41","v":"---"},null,{"$f":"'Agg Gsb'!O41","v":"---"},null,{"$f":"'Agg Gsb'!Q41","v":0}]
["Specific Gravity Calculation for ASTM C1252 Fine Aggregate Angularity"]
["Percent of Minus No. 4 Fraction, %",null,{"$f":"IFERROR((C8/100*C9)/$Q$46*100,\"---\")","v":"---"},null,{"$f":"IFERROR((E8/100*E9)/$Q$46*100,\"---\")","v":"---"},null,{"$f":"IFERROR((G8/100*G9)/$Q$46*100,\"---\")","v":"---"},null,{"$f":"IFERROR((I8/100*I9)/$Q$46*100,\"---\")","v":"---"},null,{"$f":"IFERROR((K8/100*K9)/$Q$46*100,\"---\")","v":"---"},null,{"$f":"IFERROR((M8/100*M9)/$Q$46*100,\"---\")","v":"---"},null,{"$f":"IFERROR((O8/100*O9)/$Q$46*100,\"---\")","v":"---"},null,{"$f":"IFERROR(C8/100*C9,0)+IFERROR(E8/100*E9,0)+IFERROR(G8/100*G9,0)+IFERROR(I8/100*I9,0)+IFERROR(K8/100*K9,0)+IFERROR(M8/100*M9,0)+IFERROR(O8/100*O9,0)","v":0}]
["Combined Gsb for FAA Calculation",null,"---",null,"---",null,"---",null,"---",null,"---",null,"---",null,"---",null,{"$f":"IFERROR(1/(IFERROR($C$46/SUM($C$46:$P$46)/C40,0)+IFERROR($E$46/SUM($C$46:$P$46)/E40,0)+IFERROR($I$46/SUM($C$46:$P$46)/I40,0)+IFERROR($G$46/SUM($C$46:$P$46)/G40,0)+IFERROR($K$46/SUM($C$46:$P$46)/K40,0)+IFERROR($M$46/SUM($C$46:$P$46)/M40,0)+IFERROR($O$46/SUM($C$46:$P$46)/O40,0)),\"---\")","v":"---"}]
["1 ASTM C127 is required if percent passing No. 4 sieve is less than 25%; ASTM C128 is required if percent passing No. 4 sieve is greater than 75%; otherwise, both are required."]
[]
["Cameron Cooksey",null,null,null,null,"Ben C. Cox, PhD, PE"]
["AGGREGATE TECHNICIAN",null,null,null,null,"SENIOR RESEARCH ENGINEER"]

{"sheet":"Binder Report (MDV)","index":26,"n_rows":56,"n_cols":78,"rows_kept":56,"cut":false,"hidden":true,"merged":[[37,0,37,2],[38,0,38,2],[55,0,55,2],[55,4,55,6],[46,3,47,3],[46,4,47,4],[47,0,47,2],[51,1,52,6],[54,0,54,2],[54,4,54,6],[48,0,48,2],[48,3,49,3],[48,4,49,4],[49,0,49,2],[46,0,46,2],[39,3,40,3],[39,4,40,4],[40,0,40,2],[41,0,41,2],[42,0,42,2],[42,3,44,3],[42,4,44,4],[43,0,43,2],[44,0,44,2],[39,0,39,2],[35,0,35,2],[36,0,36,2],[23,0,23,2],[23,29,23,30],[33,0,33,3],[24,0,24,2],[25,0,25,2],[26,0,26,2],[26,3,27,3],[29,0,29,2],[30,0,30,2],[31,0,31,2],[26,4,27,4],[27,0,27,2],[34,0,34,2],[28,0,28,7],[22,0,22,2],[18,0,18,2],[14,0,14,2],[15,0,15,2],[16,0,16,2],[17,0,17,2],[11,31,11,36],[18,29,18,33],[19,0,21,1],[19,3,21,3],[19,4,21,4],[13,0,13,7],[8,5,8,6],[8,29,8,36],[9,0,9,2],[9,31,9,36],[10,0,10,2],[10,31,10,36],[1,66,1,67],[2,1,2,2],[2,5,2,6],[2,34,2,36],[3,1,3,2],[3,5,3,6],[3,34,3,36],[32,0,32,7],[45,0,45,7],[1,29,1,30],[1,34,1,36],[4,1,4,2],[4,5,4,6],[4,34,4,36],[12,0,12,2],[12,31,12,36],[5,1,5,2],[5,5,5,6],[5,34,5,36],[6,1,6,2],[6,5,6,6],[8,0,8,2],[8,3,8,4]]}
["UFGS 32 12 15.13 Asphalt Binder Analysis Report",null,null,null,null,null,null,null,null,null,null,null,null,null,null,null,null,null,null,null,null,null,null,null,null,null,null,null,null,null,null,null,null,null,null,null,null,null,null,null,null,null,null,null,null,null,null,null,null,null,null,null,null,null,null,null,null,null,null,null,null,null,null,null,null,null,null,null,null,null,null,null,"MSCR Grade Data",null,null,null,"Custom Grade Data"]
[null,null,null,null,null,null,null,null,null,null,null,null,null,null,null,null,null,null,null,null,null,null,null,null,null,null,null,null,null,"General Mix Information",null,null,null,"PEN","ASTM D946",null,null,null,null,null,null,"Grade Specifications",null,null,null,null,null,null,null,null,null,null,null,null,null,null,null,null,null,null,null,null,null,null,null,null,"PG Grade Data",null,null,null,null,null,{"$f":"MID(BS12,4,2)","v":"64"},"HPG",null,null,58,"HPG"]
["Mix ID",{"$f":"'JMF Summary (MDV)'!B3","v":"TNF-M1A"},null,null,"Gradation",{"$f":"'JMF Summary (MDV)'!G3","v":2},null,null,null,null,null,null,null,null,null,null,null,null,null,null,null,null,null,null,null,null,null,null,null,"Binder Grading",{"$f":"'JMF Summary (MDV)'!AG8","v":"PG"},null,null,"AC","ASTM D3381 Table 1",null,null,null,null,null,null,{"$f":"IF(AP4=\"Custom Specification\",\"Custom\",IF(RIGHT(F5,3)=\"pen\",AI2,IF(LEFT(F5,2)=\"AC\",AI3,IF(LEFT(F5,2)=\"AR\",AI4,IF(LEFT(F5,2)=\"PG\",IF(MID(F5,6,1)=\"-\",AI5,AI6),\"---\")))))","v":"Custom"},null,null,null,null,null,null,null,null,null,null,null,null,null,null,null,null,null,null,null,null,null,null,null,null,{"$f":"MID(BN12,4,2)","v":"64"},"HPG",null,null,null,null,{"$f":"(BU2+BU4)/2+4","v":47},"IPG",null,null,16,"IPG"]
["Date",{"$f":"'JMF Summary (MDV)'!B4","v":"---"},null,null,"Compaction",{"$f":"'JMF Summary (MDV)'!G4","v":"75 Gyr"},null,null,null,null,null,null,null,null,null,null,null,null,null,null,null,null,null,null,null,null,null,null,null,"Binder Grade",{"$f":"'JMF Summary (MDV)'!AG9","v":"PG 64-22"},null,null,"AR","ASTM D3381 Table 2",null,null,null,null,null,null,"Custom Specification",null,null,null,null,null,null,null,null,null,null,null,null,null,null,null,null,null,null,null,null,null,null,null,null,{"$f":"(BO3+BO5)/2+4","v":25},"IPG",null,null,null,null,{"$f":"MID(BS12,7,3)","v":"22"},"LPG",null,null,-34,"LPG"]
["Project",{"$f":"'JMF Summary (MDV)'!B5","v":"Tinian North Field"},null,null,"Binder Grade",{"$f":"'JMF Summary (MDV)'!G5","v":"PG 64-22"},null,null,null,null,null,null,null,null,null,null,null,null,null,null,null,null,null,null,null,null,null,null,null,"Climatic Grade",{"$f":"'JMF Summary (MDV)'!AG10","v":"PG 64-22"},null,null,"PG","ASTM D6373",null,null,null,null,null,null,null,null,null,null,null,null,null,null,null,null,null,null,null,null,null,null,null,null,null,null,null,null,null,null,null,{"$f":"RIGHT(BN12,3)","v":"-22"},"LPG",null,null,null,null,{"$f":"MID(BS12,6,1)&IF(BU6=\"---\",\"\",\"(\" & BU6 & \")\")","v":"-"},"MSCR",null,null,"E","MSCR"]
["Producer",{"$f":"'JMF Summary (MDV)'!B6","v":"Fluor / Tigerbrain"},null,null,"Anti-Strip",{"$f":"IF(ISBLANK('JMF Summary (MDV)'!C37),\"---\",FIXED('JMF Summary (MDV)'!B37*100,2) & \"% \" & 'JMF Summary (MDV)'!C37)","v":"---"},null,null,null,null,null,null,null,null,null,null,null,null,null,null,null,null,null,null,null,null,null,null,null,"PG+ Test",{"$f":"'JMF Summary (MDV)'!AG11","v":"None"},null,null,"MSCR","ASTM D8239",null,null,null,null,null,null,null,null,null,null,null,null,null,null,null,null,null,null,null,null,null,null,null,null,null,null,null,null,null,null,null,{"$f":"MID(AE5,4,2)","v":"64"},"Climate HPG",null,null,null,null,{"$f":"IF(RIGHT(BS12,2)=\"HP\",\"HP\",\"---\")","v":"---"},"High Polymer?",null,null,"---","High Polymer?"]
["Mix Designer",{"$f":"'JMF Summary (MDV)'!B7","v":"USACE ERDC"},null,null,"WMA",{"$f":"IF(ISBLANK('JMF Summary (MDV)'!C38),\"---\",FIXED('JMF Summary (MDV)'!B38*100,2) & \"% \" & 'JMF Summary (MDV)'!C38)","v":"---"},null,null,null,null,null,null,null,null,null,null,null,null,null,null,null,null,null,null,null,null,null,null,null,null,null,null,null,null,null,null,null,null,null,null,null,null,null,null,null,null,null,null,null,null,null,null,null,null,null,null,null,null,null,null,null,null,null,null,null,null,{"$f":"BO3-BO5","v":86},"UTI",null,null,null,null,{"$f":"MID(AE5,4,2)","v":"64"},"Climate HPG",null,null,52,"Climate HPG"]
[null,null,null,null,null,null,null,null,null,null,null,null,null,null,null,null,null,null,null,null,null,null,null,null,null,null,null,null,null,null,null,null,null,null,null,null,null,null,null,null,null,null,null,null,null,null,null,null,null,null,null,null,null,null,null,null,null,null,null,null,null,null,null,null,null,null,{"$f":"IF(BO7<92,\"UTI<92\",IF(BO7=92,\"UTI=92\",\"UTI>92\"))","v":"UTI<92"},null,null,null,null,null,{"$f":"(BU7+BU9)/2+4","v":25},"Climate IPG",null,null,16,"Climate IPG"]
["Supplier Recommended Temperature Ranges",null,null,"Min - Max, °C",null,"Min - Max, °F",null,null,null,null,null,null,null,null,null,null,null,null,null,null,null,null,null,null,null,null,null,null,null,"Form Data",null,null,null,null,null,null,null,null,null,null,null,null,null,null,null,null,null,null,null,null,null,null,null,null,null,null,null,null,null,null,null,null,null,null,null,null,null,null,null,null,null,null,{"$f":"RIGHT(AE5,3)","v":"-22"},"Climate LPG",null,null,-28,"Climate LPG"]
["Mixing Temperature Range",null,null,null,null,320,330,null,null,null,null,null,null,null,null,null,null,null,null,null,null,null,null,null,null,null,null,null,null,"Anti-Strip",false,"(True = additive included in binder for binder analysis)"]
["Compaction Temperature Range",null,null,null,null,295,305,null,null,null,null,null,null,null,null,null,null,null,null,null,null,null,null,null,null,null,null,null,null,"WMA",false,"(True = additive included in binder for binder analysis)",null,null,null,null,null,null,null,null,null,null,"ASTM D946",null,null,null,null,null,null,"ASTM D3381 Table 1",null,null,null,null,null,null,null,"ASTM D3381 Table 3",null,null,null,null,null,null,"ASTM D6373",null,null,null,null,"ASTM D8239",null,null,null,null,null,null,"Custom"]
[null,null,null,null,null,null,null,null,null,null,null,null,null,null,null,null,null,null,null,null,null,null,null,null,null,null,null,null,null,"Pass/Fail",false,"(True = passes grade requirements)",null,null,null,null,null,null,null,null,null,null,"PEN",{"$f":"F5","v":"PG 64-22"},null,null,null,null,null,"AC",{"$f":"F5","v":"PG 64-22"},null,null,null,null,null,null,"AR",{"$f":"F5","v":"PG 64-22"},null,null,null,null,null,"PG",{"$f":"F5","v":"PG 64-22"},null,null,null,"MSCR",{"$f":"F5","v":"PG 64-22"},null,null,null,null,null,null,{"$f":"F5","v":"PG 64-22"}]
["Property",null,null,"Test Temp.","ASTM Standard","Specification","Result","KTR",null,null,null,null,null,null,null,null,null,null,null,null,null,null,null,null,null,null,null,null,null,"PMB",1,"(1 = polymer modified, 2 = not polymer modified)",null,null,null,null,null,null,null,null,null,null,"Temps","Selected Specs","40-50 PEN","60-70 PEN","85-100 PEN","120-150 PEN","200-300 PEN","Temps","Selected Specs","AC-2.5","AC-5","AC-10","AC-20","AC-30","AC-40","Temps","Selected Specs","AR-1000","AR-2000","AR-4000","AR-8000","AR-16000","Temps","Selected Specs","UTI<92","UTI=92","UTI>92","Temps","Selected Specs","S","H","V","E","E(HP)","Temps","Selected Specs"]
["Original Binder",null,null,null,null,null,null,null,null,null,null,null,null,null,null,null,null,null,null,null,null,null,null,null,null,null,null,null,null,null,null,null,null,null,null,null,null,null,null,null,null,"Original Binder"]
["Specific Gravity",null,null,{"$f":"IF($AP$3=$AQ$11,AQ15,IF($AP$3=$AX$11,AX15,IF($AP$3=$BF$11,BF15,IF($AP$3=$BM$11,BM15,IF($AP$3=$BR$11,BR15,IF($AP$3=$BY$11,BY15,\"---\"))))))","v":"25°C"},"D70",{"$f":"IF($AP$3=$AQ$11,AR15,IF($AP$3=$AX$11,AY15,IF($AP$3=$BF$11,BG15,IF($AP$3=$BM$11,BN15,IF($AP$3=$BR$11,BS15,IF($AP$3=$BY$11,BZ15,\"---\"))))))","v":"Report"},null,{"$f":"IF(ISBLANK('Binder Report'!G15),\"\",'Binder Report'!G15)","v":""},null,null,null,null,null,null,null,null,null,null,null,null,null,null,null,null,null,null,null,null,null,null,{"$f":"\"This asphalt binder meets \" & AP3 & \" requirements for the grade of \" & F5 & \".\"","v":"This asphalt binder meets Custom requirements for the grade of PG 64-22."},null,null,null,null,null,null,null,null,null,null,"SG","15.6°C",{"$f":"IF(ISBLANK(INDEX(AS15:AW15,1,MATCH($AR$12,$AS$13:$AW$13,0))),\"---\",INDEX(AS15:AW15,1,MATCH($AR$12,$AS$13:$AW$13,0)))","v":{"$error":"#N/A"}},"Report","Report","Report","Report","Report","15.6°C",{"$f":"IF(ISBLANK(INDEX(AZ15:BE15,1,MATCH($AY$12,$AZ$13:$BE$13,0))),\"---\",INDEX(AZ15:BE15,1,MATCH($AY$12,$AZ$13:$BE$13,0)))","v":{"$error":"#N/A"}},"Report","Report","Report","Report","Report","Report","15.6°C",{"$f":"IF(ISBLANK(INDEX(BH15:BL15,1,MATCH($BG$12,$BH$13:$BL$13,0))),\"---\",INDEX(BH15:BL15,1,MATCH($BG$12,$BH$13:$BL$13,0)))","v":{"$error":"#N/A"}},"Report","Report","Report","Report","Report","15.6°C",{"$f":"IF(ISBLANK(INDEX(BO15:BQ15,1,MATCH($BO$8,$BO$13:$BQ$13,0))),\"---\",INDEX(BO15:BQ15,1,MATCH($BO$8,$BO$13:$BQ$13,0)))","v":"Report"},"Report","Report","Report","15.6°C",{"$f":"IF(ISBLANK(INDEX(BT15:BX15,1,MATCH($BU$5,$BT$13:$BX$13,0))),\"---\",INDEX(BT15:BX15,1,MATCH($BU$5,$BT$13:$BX$13,0)))","v":{"$error":"#N/A"}},"Report","Report","Report","Report","Report","25°C","Report"]
["Flash Point, °C",null,null,null,"D92",{"$f":"IF($AP$3=$AQ$11,AR16,IF($AP$3=$AX$11,AY16,IF($AP$3=$BF$11,BG16,IF($AP$3=$BM$11,BN16,IF($AP$3=$BR$11,BS16,IF($AP$3=$BY$11,BZ16,\"---\"))))))","v":"230 min"},null,{"$f":"IF(ISBLANK('Binder Report'!G16),\"\",'Binder Report'!G16)","v":""},null,null,null,null,null,null,null,null,null,null,null,null,null,null,null,null,null,null,null,null,null,"This asphalt binder          is           is not polymer-modified according to ASTM D7405.",null,null,null,null,null,null,null,null,null,null,null,"Flash Point","---",{"$error":"#N/A"},"230 min","230 min","230 min","230 min","230 min","---",{"$error":"#N/A"},"165 min","175 min","220 min","230 min","230 min","230 min","---",{"$f":"IF(ISBLANK(INDEX(BH15:BX15,1,MATCH($AY$12,$AZ$13:$BE$13,0))),\"---\",INDEX(BH15:BX15,1,MATCH($AY$12,$AZ$13:$BE$13,0)))","v":{"$error":"#N/A"}},"205 min","220 min","225 min","230 min","240 min","---","230 min","230 min","230 min","230 min","---",{"$error":"#N/A"},"230 min","230 min","230 min","230 min","230 min","---","230 min"]
["Penetration, dmm",null,null,{"$f":"IF($AP$3=$AQ$11,AQ17,IF($AP$3=$AX$11,AX17,IF($AP$3=$BF$11,BF17,IF($AP$3=$BM$11,BM17,IF($AP$3=$BR$11,BR17,IF($AP$3=$BY$11,BY17,\"---\"))))))","v":"25°C"},"D5","n/a",null,{"$f":"IF(ISBLANK('Binder Report'!G17),\"\",'Binder Report'!G17)","v":""},null,null,null,null,null,null,null,null,null,null,null,null,null,null,null,null,null,null,null,null,null,null,null,null,null,null,null,null,null,null,null,null,null,"Pen","25°C",{"$error":"#N/A"},"40 to 50","60 to 70","85 to 100","120 to 150","200 to 300","25°C",{"$error":"#N/A"},"200 min","120 min","70 min","40 min","30 min","20 min","25°C",{"$error":"#N/A"},"Report","Report","Report","Report","Report","25°C","n/a","n/a","n/a","n/a","25°C",{"$error":"#N/A"},"n/a","n/a","n/a","n/a","n/a","25°C","n/a"]
["Ductility (5 cm/min), cm",null,null,{"$f":"IF($AP$3=$AQ$11,AQ18,IF($AP$3=$AX$11,AX18,IF($AP$3=$BF$11,BF18,IF($AP$3=$BM$11,BM18,IF($AP$3=$BR$11,BR18,IF($AP$3=$BY$11,BY18,\"---\"))))))","v":"25°C"},"D113","n/a",null,{"$f":"IF(ISBLANK('Binder Report'!G18),\"\",'Binder Report'!G18)","v":""},null,null,null,null,null,null,null,null,null,null,null,null,null,null,null,null,null,null,null,null,null,null,null,null,null,null,null,null,null,null,null,null,null,"Ductility","25°C",{"$error":"#N/A"},"100 min","100 min","100 min","100 min","100 min","25°C",{"$error":"#N/A"},"n/a","n/a","n/a","n/a","n/a","n/a","25°C",{"$error":"#N/A"},"n/a","n/a","n/a","n/a","n/a","25°C","n/a","n/a","n/a","n/a","25°C",{"$error":"#N/A"},"n/a","n/a","n/a","n/a","n/a","25°C","n/a"]
["Softening Point, °C",null,null,null,"D36","n/a",null,{"$f":"IF(ISBLANK('Binder Report'!G19),\"\",'Binder Report'!G19)","v":""},null,null,null,null,null,null,null,null,null,null,null,null,null,null,null,null,null,null,null,null,null,"Specification Limits",null,null,null,null,null,null,null,null,null,null,null,"SP","---",{"$error":"#N/A"},"n/a","n/a","n/a","n/a","n/a","---",{"$error":"#N/A"},"n/a","n/a","n/a","n/a","n/a","n/a","---",{"$error":"#N/A"},"n/a","n/a","n/a","n/a","n/a","---","n/a","n/a","n/a","n/a","---",{"$error":"#N/A"},"n/a","n/a","n/a","n/a","n/a","---","n/a"]
["Separation Index",null,"Top 1/3, G*/sinδ, kPa",{"$f":"IF($AP$3=$AQ$11,AQ20,IF($AP$3=$AX$11,AX20,IF($AP$3=$BF$11,BF20,IF($AP$3=$BM$11,BM20,IF($AP$3=$BR$11,BR20,IF($AP$3=$BY$11,BY20,\"---\"))))))","v":"25°C"},"D7173 / \nD7175","n/a",null,{"$f":"IF(ISBLANK('Binder Report'!G20),\"\",'Binder Report'!G20)","v":""},null,null,null,null,null,null,null,null,null,null,null,null,null,null,null,null,null,null,null,null,null,"Property","Operator","Limit 1",null,"Limit 2",null,null,null,null,null,null,null,"Separation Top 1/3","25°C",{"$error":"#N/A"},"n/a","n/a","n/a","n/a","n/a","25°C",{"$error":"#N/A"},"n/a","n/a","n/a","n/a","n/a","n/a","25°C",{"$error":"#N/A"},"n/a","n/a","n/a","n/a","n/a","25°C","n/a","n/a","n/a","n/a","25°C",{"$error":"#N/A"},"n/a","n/a","n/a","n/a","n/a","25°C","n/a"]
[null,null,"Bottom 1/3, G*/sinδ, kPa",null,null,"n/a",null,{"$f":"IF(ISBLANK('Binder Report'!G21),\"\",'Binder Report'!G21)","v":""},null,null,null,null,null,null,null,null,null,null,null,null,null,null,null,null,null,null,null,null,null,"Elastic Recovery, %",{"$f":"'JMF Summary (MDV)'!AG36","v":"≥"},{"$f":"IF('JMF Summary (MDV)'!AH36<>0,'JMF Summary (MDV)'!AH36,\"---\")","v":"---"}," - ",null,null,null,null,null,null,null,null,"Separation Bottom 1/3","25°C",{"$error":"#N/A"},"n/a","n/a","n/a","n/a","n/a","25°C",{"$error":"#N/A"},"n/a","n/a","n/a","n/a","n/a","n/a","25°C",{"$error":"#N/A"},"n/a","n/a","n/a","n/a","n/a","25°C","n/a","n/a","n/a","n/a","25°C",{"$error":"#N/A"},"n/a","n/a","n/a","n/a","n/a","25°C","n/a"]
[null,null,"Difference, %",null,null,"n/a",null,{"$f":"IF(ISBLANK('Binder Report'!G22),\"\",'Binder Report'!G22)","v":""},null,null,null,null,null,null,null,null,null,null,null,null,null,null,null,null,null,null,null,null,null,null,null,null,null,null,null,null,null,null,null,null,null,"Separation Diff, %","25°C",{"$error":"#N/A"},"n/a","n/a","n/a","n/a","n/a","25°C",{"$error":"#N/A"},"n/a","n/a","n/a","n/a","n/a","n/a","25°C",{"$error":"#N/A"},"n/a","n/a","n/a","n/a","n/a","25°C","n/a","n/a","n/a","n/a","25°C",{"$error":"#N/A"},"n/a","n/a","n/a","n/a","10 max","25°C","n/a"]
["Solubility in TCE",null,null,null,"D2042","n/a",null,{"$f":"IF(ISBLANK('Binder Report'!G23),\"\",'Binder Report'!G23)","v":""},null,null,null,null,null,null,null,null,null,null,null,null,null,null,null,null,null,null,null,null,null,null,null,null,null,null,null,null,null,null,null,null,null,"Solubility","---",{"$error":"#N/A"},"99.0 min","99.0 min","99.0 min","99.0 min","99.0 min","---",{"$error":"#N/A"},"99.0 min","99.0 min","99.0 min","99.0 min","99.0 min","99.0 min","---",{"$error":"#N/A"},"99.0 min","99.0 min","99.0 min","99.0 min","99.0 min","---","n/a","n/a","n/a","n/a","---",{"$error":"#N/A"},"n/a","n/a","n/a","n/a","n/a","---","n/a"]
["Viscosity (Vacuum Capillary Viscometer), Pa·s",null,null,{"$f":"IF($AP$3=$AQ$11,AQ24,IF($AP$3=$AX$11,AX24,IF($AP$3=$BF$11,BF24,IF($AP$3=$BM$11,BM24,IF($AP$3=$BR$11,BR24,IF($AP$3=$BY$11,BY24,\"---\"))))))","v":"60°C"},"D2171","n/a",null,{"$f":"IF(ISBLANK('Binder Report'!G24),\"\",'Binder Report'!G24)","v":""},null,null,null,null,null,null,null,null,null,null,null,null,null,null,null,null,null,null,null,null,null,"MSCR Plot Data",null,null,null,null,null,null,null,null,null,null,null,"Vacuum Visc","60°C",{"$error":"#N/A"},"n/a","n/a","n/a","n/a","n/a","60°C",{"$error":"#N/A"},"25 ± 5","50 ± 10","100 ± 20","200 ± 40","300 ± 60","400 ± 80","60°C",{"$error":"#N/A"},"n/a","n/a","n/a","n/a","n/a","60°C","n/a","n/a","n/a","n/a","60°C",{"$error":"#N/A"},"n/a","n/a","n/a","n/a","n/a","60°C","n/a"]
["Viscosity (Kinematic Viscometer), mm2/s",null,null,{"$f":"IF($AP$3=$AQ$11,AQ25,IF($AP$3=$AX$11,AX25,IF($AP$3=$BF$11,BF25,IF($AP$3=$BM$11,BM25,IF($AP$3=$BR$11,BR25,IF($AP$3=$BY$11,BY25,\"---\"))))))","v":"135°C"},"D2170","n/a",null,{"$f":"IF(ISBLANK('Binder Report'!G25),\"\",'Binder Report'!G25)","v":""},null,null,null,null,null,null,null,null,null,null,null,null,null,null,null,null,null,null,null,null,null,"Jnr","%R",null,null,null,null,null,null,null,null,null,null,"Kinematic Visc","135°C",{"$error":"#N/A"},"n/a","n/a","n/a","n/a","n/a","135°C",{"$error":"#N/A"},"80 min","110 min","150 min","210 min","250 min","300 min","135°C",{"$error":"#N/A"},"n/a","n/a","n/a","n/a","n/a","135°C","n/a","n/a","n/a","n/a","135°C",{"$error":"#N/A"},"n/a","n/a","n/a","n/a","n/a","135°C","n/a"]
["Viscosity (Rotational Viscometer), Pa·s",null,null,{"$f":"IF($AP$3=$AQ$11,AQ26,IF($AP$3=$AX$11,AX26,IF($AP$3=$BF$11,BF26,IF($AP$3=$BM$11,BM26,IF($AP$3=$BR$11,BR26,IF($AP$3=$BY$11,BY26,\"---\"))))))","v":"135°C"},"D4402","3 max",null,{"$f":"IF(ISBLANK('Binder Report'!G26),\"\",'Binder Report'!G26)","v":""},null,null,null,null,null,null,null,null,null,null,null,null,null,null,null,null,null,null,null,null,null,1E-3,55,null,null,null,null,null,null,null,null,null,null,"Rotational Visc","135°C",{"$error":"#N/A"},"n/a","n/a","n/a","n/a","n/a","135°C",{"$error":"#N/A"},"n/a","n/a","n/a","n/a","n/a","n/a","135°C",{"$error":"#N/A"},"n/a","n/a","n/a","n/a","n/a","135°C","3 max","3 max","3 max","3 max","135°C",{"$error":"#N/A"},"3 max","3 max","3 max","3 max","5 max","135°C","3 max"]
["Dynamic Shear G*/sinδ (10 rad/sec), kPa",null,null,{"$f":"IF($AP$3=$AQ$11,AQ27,IF($AP$3=$AX$11,AX27,IF($AP$3=$BF$11,BF27,IF($AP$3=$BM$11,BM27,IF($AP$3=$BR$11,BR27,IF($AP$3=$BY$11,BY27,\"---\"))))))","v":"58°C"},"D7175","1.00 min",null,{"$f":"IF(ISBLANK('Binder Report'!G27),\"\",'Binder Report'!G27)","v":""},null,null,null,null,null,null,null,null,null,null,null,null,null,null,null,null,null,null,null,null,null,0.1,55,null,null,null,null,null,null,null,null,null,null,"G*/sinδ","---",{"$error":"#N/A"},"n/a","n/a","n/a","n/a","n/a","---",{"$error":"#N/A"},"n/a","n/a","n/a","n/a","n/a","n/a","---",{"$error":"#N/A"},"n/a","n/a","n/a","n/a","n/a",{"$f":"$BO$3 & \"°C\"","v":"64°C"},"1.00 min","1.00 min","1.00 min","1.00 min",{"$f":"$BU$2 & \"°C\"","v":"64°C"},{"$error":"#N/A"},"1.00 min","1.00 min","1.00 min","1.00 min","1.00 min",{"$f":"$BY$2 & \"°C\"","v":"58°C"},"1.00 min"]
["Phase Angle, °",null,null,null,null,"Report",null,{"$f":"IF(ISBLANK('Binder Report'!G28),\"\",'Binder Report'!G28)","v":""},null,null,null,null,null,null,null,null,null,null,null,null,null,null,null,null,null,null,null,null,null,0.13,{"$f":"29.371*(AD28)^-0.2633","v":50.259417239439877},null,null,null,null,null,null,null,null,null,null,"δ","---",{"$error":"#N/A"},"n/a","n/a","n/a","n/a","n/a","---",{"$error":"#N/A"},"n/a","n/a","n/a","n/a","n/a","n/a","---",{"$error":"#N/A"},"n/a","n/a","n/a","n/a","n/a",{"$f":"$BO$3 & \"°C\"","v":"64°C"},"Report","Report","Report","Report",{"$f":"$BU$2 & \"°C\"","v":"64°C"},{"$error":"#N/A"},"Report","Report","Report","Report","Report",{"$f":"$BY$2 & \"°C\"","v":"58°C"},"Report"]
["Thin Film Oven (TFO) Residue (ASTM D1754)",null,null,null,null,null,null,null,null,null,null,null,null,null,null,null,null,null,null,null,null,null,null,null,null,null,null,null,null,0.2,44.870151451562108,null,null,null,null,null,null,null,null,null,null,"TFO Residue"]
["Retained Penetration, % of Original Penetration",null,null,{"$f":"IF($AP$3=$AQ$11,AQ30,IF($AP$3=$AX$11,AX30,IF($AP$3=$BF$11,BF30,IF($AP$3=$BM$11,BM30,IF($AP$3=$BR$11,BR30,IF($AP$3=$BY$11,BY30,\"---\"))))))","v":"25°C"},"D5","n/a",null,{"$f":"IF(ISBLANK('Binder Report'!G30),\"\",'Binder Report'!G30)","v":""},null,null,null,null,null,null,null,null,null,null,null,null,null,null,null,null,null,null,null,null,null,0.3,40.326702087525703,null,null,null,null,null,null,null,null,null,null,"Ret Pen","25°C",{"$f":"IF(ISBLANK(INDEX(AS30:AW30,1,MATCH($AR$12,$AS$13:$AW$13,0))),\"---\",INDEX(AS30:AW30,1,MATCH($AR$12,$AS$13:$AW$13,0)))","v":{"$error":"#N/A"}},"55 min","52 min","47 min","42 min","37 min","25°C",{"$f":"IF(ISBLANK(INDEX(AZ30:BE30,1,MATCH($AY$12,$AZ$13:$BE$13,0))),\"---\",INDEX(AZ30:BE30,1,MATCH($AY$12,$AZ$13:$BE$13,0)))","v":{"$error":"#N/A"}},"n/a","n/a","n/a","n/a","n/a","n/a","25°C",{"$f":"IF(ISBLANK(INDEX(BH29:BX29,1,MATCH($AY$12,$AZ$13:$BE$13,0))),\"---\",INDEX(BH29:BX29,1,MATCH($AY$12,$AZ$13:$BE$13,0)))","v":{"$error":"#N/A"}},"n/a","n/a","n/a","n/a","n/a","25°C",{"$f":"IF(ISBLANK(INDEX(BO30:BQ30,1,MATCH($BO$8,$BO$13:$BQ$13,0))),\"---\",INDEX(BO30:BQ30,1,MATCH($BO$8,$BO$13:$BQ$13,0)))","v":"n/a"},"n/a","n/a","n/a","25°C",{"$f":"IF(ISBLANK(INDEX(BT30:BX30,1,MATCH($BU$5,$BT$13:$BX$13,0))),\"---\",INDEX(BT30:BX30,1,MATCH($BU$5,$BT$13:$BX$13,0)))","v":{"$error":"#N/A"}},"n/a","n/a","n/a","n/a","n/a","25°C","n/a"]
["Ductility (5 cm/min), cm",null,null,{"$f":"IF($AP$3=$AQ$11,AQ31,IF($AP$3=$AX$11,AX31,IF($AP$3=$BF$11,BF31,IF($AP$3=$BM$11,BM31,IF($AP$3=$BR$11,BR31,IF($AP$3=$BY$11,BY31,\"---\"))))))","v":"25°C"},"D113","n/a",null,{"$f":"IF(ISBLANK('Binder Report'!G31),\"\",'Binder Report'!G31)","v":""},null,null,null,null,null,null,null,null,null,null,null,null,null,null,null,null,null,null,null,null,null,0.4,37.384909836092433,null,null,null,null,null,null,null,null,null,null,"Ductility","25°C",{"$f":"IF(ISBLANK(INDEX(AS31:AW31,1,MATCH($AR$12,$AS$13:$AW$13,0))),\"---\",INDEX(AS31:AW31,1,MATCH($AR$12,$AS$13:$AW$13,0)))","v":{"$error":"#N/A"}},"n/a","50 min","75 min","100 min","100 min","25°C",{"$f":"IF(ISBLANK(INDEX(AZ31:BE31,1,MATCH($AY$12,$AZ$13:$BE$13,0))),\"---\",INDEX(AZ31:BE31,1,MATCH($AY$12,$AZ$13:$BE$13,0)))","v":{"$error":"#N/A"}},"100 min","100 min","50 min","20 min","15 min","10 min","25°C",{"$f":"IF(ISBLANK(INDEX(BH30:BX30,1,MATCH($AY$12,$AZ$13:$BE$13,0))),\"---\",INDEX(BH30:BX30,1,MATCH($AY$12,$AZ$13:$BE$13,0)))","v":{"$error":"#N/A"}},"100 min","100 min","50 min","20 min","15 min","25°C",{"$f":"IF(ISBLANK(INDEX(BO31:BQ31,1,MATCH($BO$8,$BO$13:$BQ$13,0))),\"---\",INDEX(BO31:BQ31,1,MATCH($BO$8,$BO$13:$BQ$13,0)))","v":"n/a"},"n/a","n/a","n/a","25°C",{"$f":"IF(ISBLANK(INDEX(BT31:BX31,1,MATCH($BU$5,$BT$13:$BX$13,0))),\"---\",INDEX(BT31:BX31,1,MATCH($BU$5,$BT$13:$BX$13,0)))","v":{"$error":"#N/A"}},"n/a","n/a","n/a","n/a","n/a","25°C","n/a"]
["Viscosity (Vacuum Capillary Viscometer), Pa·s",null,null,{"$f":"IF($AP$3=$AQ$11,AQ32,IF($AP$3=$AX$11,AX32,IF($AP$3=$BF$11,BF32,IF($AP$3=$BM$11,BM32,IF($AP$3=$BR$11,BR32,IF($AP$3=$BY$11,BY32,\"---\"))))))","v":"60°C"},"D2171","n/a",null,{"$f":"IF(ISBLANK('Binder Report'!G32),\"\",'Binder Report'!G32)","v":""},null,null,null,null,null,null,null,null,null,null,null,null,null,null,null,null,null,null,null,null,null,0.5,35.251689092252704,null,null,null,null,null,null,null,null,null,null,"Vacuum Visc","60°C",{"$f":"IF(ISBLANK(INDEX(AS32:AW32,1,MATCH($AR$12,$AS$13:$AW$13,0))),\"---\",INDEX(AS32:AW32,1,MATCH($AR$12,$AS$13:$AW$13,0)))","v":{"$error":"#N/A"}},"n/a","n/a","n/a","n/a","n/a","60°C",{"$f":"IF(ISBLANK(INDEX(AZ32:BE32,1,MATCH($AY$12,$AZ$13:$BE$13,0))),\"---\",INDEX(AZ32:BE32,1,MATCH($AY$12,$AZ$13:$BE$13,0)))","v":{"$error":"#N/A"}},"125 max","250 max","500 max","1000 max","1500 max","2000 max","60°C",{"$f":"IF(ISBLANK(INDEX(BH31:BX31,1,MATCH($AY$12,$AZ$13:$BE$13,0))),\"---\",INDEX(BH31:BX31,1,MATCH($AY$12,$AZ$13:$BE$13,0)))","v":{"$error":"#N/A"}},"125 max","250 max","500 max","1000 max","1500 max","60°C",{"$f":"IF(ISBLANK(INDEX(BO32:BQ32,1,MATCH($BO$8,$BO$13:$BQ$13,0))),\"---\",INDEX(BO32:BQ32,1,MATCH($BO$8,$BO$13:$BQ$13,0)))","v":"n/a"},"n/a","n/a","n/a","60°C",{"$f":"IF(ISBLANK(INDEX(BT32:BX32,1,MATCH($BU$5,$BT$13:$BX$13,0))),\"---\",INDEX(BT32:BX32,1,MATCH($BU$5,$BT$13:$BX$13,0)))","v":{"$error":"#N/A"}},"n/a","n/a","n/a","n/a","n/a","60°C","n/a"]
["Rolling Thin Film Oven (RTFO) Residue (ASTM D2872)",null,null,null,null,null,null,null,null,null,null,null,null,null,null,null,null,null,null,null,null,null,null,null,null,null,null,null,null,0.6,33.599398993707275,null,null,null,null,null,null,null,null,null,null,"RTFO Residue"]
["Mass Change, % (mass loss is reported as a negative value)",null,null,null,"D2872","1.00 max",null,{"$f":"IF(ISBLANK('Binder Report'!G34),\"\",'Binder Report'!G34)","v":""},null,null,null,null,null,null,null,null,null,null,null,null,null,null,null,null,null,null,null,null,null,0.7,32.262975574496444,null,null,null,null,null,null,null,null,null,null,"Mass Change",null,{"$f":"IF(ISBLANK(INDEX(AS34:AW34,1,MATCH($AR$12,$AS$13:$AW$13,0))),\"---\",INDEX(AS34:AW34,1,MATCH($AR$12,$AS$13:$AW$13,0)))","v":{"$error":"#N/A"}},"n/a","n/a","n/a","n/a","n/a",null,{"$f":"IF(ISBLANK(INDEX(AZ34:BE34,1,MATCH($AY$12,$AZ$13:$BE$13,0))),\"---\",INDEX(AZ34:BE34,1,MATCH($AY$12,$AZ$13:$BE$13,0)))","v":{"$error":"#N/A"}},"n/a","n/a","n/a","n/a","n/a","n/a",null,{"$f":"IF(ISBLANK(INDEX(BH33:BX33,1,MATCH($AY$12,$AZ$13:$BE$13,0))),\"---\",INDEX(BH33:BX33,1,MATCH($AY$12,$AZ$13:$BE$13,0)))","v":{"$error":"#N/A"}},"n/a","n/a","n/a","n/a","n/a",null,{"$f":"IF(ISBLANK(INDEX(BO34:BQ34,1,MATCH($BO$8,$BO$13:$BQ$13,0))),\"---\",INDEX(BO34:BQ34,1,MATCH($BO$8,$BO$13:$BQ$13,0)))","v":"1.00 max"},"1.00 max","1.00 max","1.00 max",null,{"$f":"IF(ISBLANK(INDEX(BT34:BX34,1,MATCH($BU$5,$BT$13:$BX$13,0))),\"---\",INDEX(BT34:BX34,1,MATCH($BU$5,$BT$13:$BX$13,0)))","v":{"$error":"#N/A"}},"1.00 max","1.00 max","1.00 max","1.00 max","1.00 max",null,"1.00 max"]
["Viscosity (Vacuum Capillary Viscometer), Pa·s",null,null,{"$f":"IF($AP$3=$AQ$11,AQ35,IF($AP$3=$AX$11,AX35,IF($AP$3=$BF$11,BF35,IF($AP$3=$BM$11,BM35,IF($AP$3=$BR$11,BR35,IF($AP$3=$BY$11,BY35,\"---\"))))))","v":"60°C"},"D2171","n/a",null,{"$f":"IF(ISBLANK('Binder Report'!G35),\"\",'Binder Report'!G35)","v":""},null,null,null,null,null,null,null,null,null,null,null,null,null,null,null,null,null,null,null,null,null,0.8,31.14835671908801,null,null,null,null,null,null,null,null,null,null,"Vacuum Visc","60°C",{"$error":"#N/A"},"n/a","n/a","n/a","n/a","n/a","60°C",{"$error":"#N/A"},"n/a","n/a","n/a","n/a","n/a","n/a","60°C",{"$error":"#N/A"},"100 ± 25","200 ± 50","400 ± 100","800 ± 200","1600 ± 400","60°C","n/a","n/a","n/a","n/a","60°C",{"$error":"#N/A"},"n/a","n/a","n/a","n/a","n/a","60°C","n/a"]
["Viscosity (Kinematic Viscometer), mm2/s",null,null,"135°C","D2170","n/a",null,{"$f":"IF(ISBLANK('Binder Report'!G36),\"\",'Binder Report'!G36)","v":""},null,null,null,null,null,null,null,null,null,null,null,null,null,null,null,null,null,null,null,null,null,0.9,30.197200359393317,null,null,null,null,null,null,null,null,null,null,"Kinematic Visc","135°C",{"$error":"#N/A"},"n/a","n/a","n/a","n/a","n/a","135°C",{"$error":"#N/A"},"n/a","n/a","n/a","n/a","n/a","n/a","135°C",{"$error":"#N/A"},"140 min","200 min","275 min","400 min","550 min","135°C","n/a","n/a","n/a","n/a","135°C",{"$error":"#N/A"},"n/a","n/a","n/a","n/a","n/a","135°C","n/a"]
["Penetration, dmm",null,null,"25°C","D5","n/a",null,{"$f":"IF(ISBLANK('Binder Report'!G37),\"\",'Binder Report'!G37)","v":""},null,null,null,null,null,null,null,null,null,null,null,null,null,null,null,null,null,null,null,null,null,1,29.370999999999999,null,null,null,null,null,null,null,null,null,null,"Pen","25°C",{"$error":"#N/A"},"n/a","n/a","n/a","n/a","n/a","25°C",{"$error":"#N/A"},"n/a","n/a","n/a","n/a","n/a","n/a","25°C",{"$error":"#N/A"},"65 min","40 min","25 min","20 min","20 min","25°C","n/a","n/a","n/a","n/a","25°C",{"$error":"#N/A"},"n/a","n/a","n/a","n/a","n/a","25°C","n/a"]
["Retained Penetration, % of Original Penetration",null,null,"25°C","D5","n/a",null,{"$f":"IF(ISBLANK('Binder Report'!G38),\"\",'Binder Report'!G38)","v":""},null,null,null,null,null,null,null,null,null,null,null,null,null,null,null,null,null,null,null,null,null,1.1000000000000001,28.643101322701579,null,null,null,null,null,null,null,null,null,null,"Ret Pen","25°C",{"$error":"#N/A"},"n/a","n/a","n/a","n/a","n/a","25°C",{"$error":"#N/A"},"n/a","n/a","n/a","n/a","n/a","n/a","25°C",{"$error":"#N/A"},"n/a","40 min","45 min","50 min","52 min","25°C","n/a","n/a","n/a","n/a","25°C",{"$error":"#N/A"},"n/a","n/a","n/a","n/a","n/a","25°C","n/a"]
["Ductility (5 cm/min), cm",null,null,"25°C","D113","n/a",null,{"$f":"IF(ISBLANK('Binder Report'!G39),\"\",'Binder Report'!G39)","v":""},null,null,null,null,null,null,null,null,null,null,null,null,null,null,null,null,null,null,null,null,null,1.2,27.994345044335958,null,null,null,null,null,null,null,null,null,null,"Ductility","25°C",{"$error":"#N/A"},"n/a","n/a","n/a","n/a","n/a","25°C",{"$error":"#N/A"},"n/a","n/a","n/a","n/a","n/a","n/a","25°C",{"$error":"#N/A"},"100 min","100 min","75 min","75 min","75 min","25°C","n/a","n/a","n/a","n/a","25°C",{"$error":"#N/A"},"n/a","n/a","n/a","n/a","n/a","25°C","n/a"]
["Dynamic Shear G*/sinδ (10 rad/sec), kPa",null,null,"58°C","D7175","2.20 min",null,{"$f":"IF(ISBLANK('Binder Report'!G40),\"\",'Binder Report'!G40)","v":""},null,null,null,null,null,null,null,null,null,null,null,null,null,null,null,null,null,null,null,null,null,1.3,27.410530987018923,null,null,null,null,null,null,null,null,null,null,"G*/sinδ","---",{"$error":"#N/A"},"n/a","n/a","n/a","n/a","n/a","---",{"$error":"#N/A"},"n/a","n/a","n/a","n/a","n/a","n/a","---",{"$error":"#N/A"},"n/a","n/a","n/a","n/a","n/a",{"$f":"$BO$3 & \"°C\"","v":"64°C"},"2.20 min","2.20 min","2.20 min","2.20 min","---",{"$error":"#N/A"},"n/a","n/a","n/a","n/a","n/a",{"$f":"$BY$2 & \"°C\"","v":"58°C"},"2.20 min"]
["Phase Angle, °",null,null,null,null,"Report",null,{"$f":"IF(ISBLANK('Binder Report'!G41),\"\",'Binder Report'!G41)","v":""},null,null,null,null,null,null,null,null,null,null,null,null,null,null,null,null,null,null,null,null,null,1.4,26.880863867790918,null,null,null,null,null,null,null,null,null,null,"δ","---",{"$error":"#N/A"},"n/a","n/a","n/a","n/a","n/a","---",{"$error":"#N/A"},"n/a","n/a","n/a","n/a","n/a","n/a","---",{"$error":"#N/A"},"n/a","n/a","n/a","n/a","n/a",{"$f":"$BO$3 & \"°C\"","v":"64°C"},"Report","Report","Report","Report","---",{"$error":"#N/A"},"n/a","n/a","n/a","n/a","n/a",{"$f":"$BY$2 & \"°C\"","v":"58°C"},"Report"]
["Elastic Recovery, %",null,null,{"$f":"IF($AP$3=$AQ$11,AQ42,IF($AP$3=$AX$11,AX42,IF($AP$3=$BF$11,BF42,IF($AP$3=$BM$11,BM42,IF($AP$3=$BR$11,BR42,IF($AP$3=$BY$11,BY42,\"---\"))))))","v":"25°C"},"D6084 Proc. B","n/a",null,{"$f":"IF(ISBLANK('Binder Report'!G42),\"\",'Binder Report'!G42)","v":""},null,null,null,null,null,null,null,null,null,null,null,null,null,null,null,null,null,null,null,null,null,1.5,26.396959419478009,null,null,null,null,null,null,null,null,null,null,"ER","25°C",{"$error":"#N/A"},{"$f":"IF($AE$6=\"Elastic Recovery\",$AF$21 & \" min\",\"n/a\")","v":"n/a"},{"$f":"IF($AE$6=\"Elastic Recovery\",$AF$21 & \" min\",\"n/a\")","v":"n/a"},{"$f":"IF($AE$6=\"Elastic Recovery\",$AF$21 & \" min\",\"n/a\")","v":"n/a"},{"$f":"IF($AE$6=\"Elastic Recovery\",$AF$21 & \" min\",\"n/a\")","v":"n/a"},{"$f":"IF($AE$6=\"Elastic Recovery\",$AF$21 & \" min\",\"n/a\")","v":"n/a"},"25°C",{"$error":"#N/A"},{"$f":"IF($AE$6=\"Elastic Recovery\",$AF$21 & \" min\",\"n/a\")","v":"n/a"},"n/a","n/a","n/a","n/a","n/a","25°C",{"$error":"#N/A"},{"$f":"IF($AE$6=\"Elastic Recovery\",$AF$21 & \" min\",\"n/a\")","v":"n/a"},{"$f":"IF($AE$6=\"Elastic Recovery\",$AF$21 & \" min\",\"n/a\")","v":"n/a"},{"$f":"IF($AE$6=\"Elastic Recovery\",$AF$21 & \" min\",\"n/a\")","v":"n/a"},{"$f":"IF($AE$6=\"Elastic Recovery\",$AF$21 & \" min\",\"n/a\")","v":"n/a"},{"$f":"IF($AE$6=\"Elastic Recovery\",$AF$21 & \" min\",\"n/a\")","v":"n/a"},"25°C","n/a",{"$f":"IF($AE$6=\"Elastic Recovery\",$AF$21 & \" min\",\"n/a\")","v":"n/a"},{"$f":"IF($AE$6=\"Elastic Recovery\",$AF$21 & \" min\",\"n/a\")","v":"n/a"},{"$f":"IF($AE$6=\"Elastic Recovery\",$AF$21 & \" min\",\"n/a\")","v":"n/a"},"25°C",{"$error":"#N/A"},{"$f":"IF($AE$6=\"Elastic Recovery\",$AF$21 & \" min\",\"n/a\")","v":"n/a"},{"$f":"IF($AE$6=\"Elastic Recovery\",$AF$21 & \" min\",\"n/a\")","v":"n/a"},{"$f":"IF($AE$6=\"Elastic Recovery\",$AF$21 & \" min\",\"n/a\")","v":"n/a"},{"$f":"IF($AE$6=\"Elastic Recovery\",$AF$21 & \" min\",\"n/a\")","v":"n/a"},{"$f":"IF($AE$6=\"Elastic Recovery\",$AF$21 & \" min\",\"n/a\")","v":"n/a"},"25°C","n/a"]
["MSCR Jnr (3.2 kPa), 1/kPa",null,null,{"$f":"IF($AP$3=$AQ$11,AQ43,IF($AP$3=$AX$11,AX43,IF($AP$3=$BF$11,BF43,IF($AP$3=$BM$11,BM43,IF($AP$3=$BR$11,BR43,IF($AP$3=$BY$11,BY43,\"---\"))))))","v":"58°C"},"D7405 / AASHTO R92","0.25 max",null,{"$f":"IF(ISBLANK('Binder Report'!G43),\"\",'Binder Report'!G43)","v":""},null,null,null,null,null,null,null,null,null,null,null,null,null,null,null,null,null,null,null,null,null,1.6,25.952185803130583,null,null,null,null,null,null,null,null,null,null,"Jnr","---",{"$error":"#N/A"},"n/a","n/a","n/a","n/a","n/a","---",{"$error":"#N/A"},"n/a","n/a","n/a","n/a","n/a","n/a","---",{"$error":"#N/A"},"n/a","n/a","n/a","n/a","n/a",{"$f":"$BO$6 & \"°C\"","v":"64°C"},"n/a","n/a","n/a","n/a",{"$f":"$BU$2 & \"°C\"","v":"64°C"},{"$error":"#N/A"},"4.5 max","2.0 max","1.0 max","0.5 max","0.5 max",{"$f":"$BY$2 & \"°C\"","v":"58°C"},"0.25 max"]
["MSCR Jnr, diff, %",null,null,null,null,"n/a",null,{"$f":"IF(ISBLANK('Binder Report'!G44),\"\",'Binder Report'!G44)","v":""},null,null,null,null,null,null,null,null,null,null,null,null,null,null,null,null,null,null,null,null,null,1.7,25.541213788494026,null,null,null,null,null,null,null,null,null,null,"Jnr, diff","---",{"$error":"#N/A"},"n/a","n/a","n/a","n/a","n/a","---",{"$error":"#N/A"},"n/a","n/a","n/a","n/a","n/a","n/a","---",{"$error":"#N/A"},"n/a","n/a","n/a","n/a","n/a",{"$f":"$BO$6 & \"°C\"","v":"64°C"},"n/a","n/a","n/a","n/a",{"$f":"$BU$2 & \"°C\"","v":"64°C"},{"$error":"#N/A"},"75 max","75 max","75 max","n/a","n/a",{"$f":"$BY$2 & \"°C\"","v":"58°C"},"n/a"]
["MSCR Percent Recovery (3.2 kPa), %",null,null,null,null,"85 min",null,{"$f":"IF(ISBLANK('Binder Report'!G45),\"\",'Binder Report'!G45)","v":""},null,null,null,null,null,null,null,null,null,null,null,null,null,null,null,null,null,null,null,null,null,2,25,null,null,null,null,null,null,null,null,null,null,"%Rec","---",{"$error":"#N/A"},"n/a","n/a","n/a","n/a","n/a","---",{"$error":"#N/A"},"n/a","n/a","n/a","n/a","n/a","n/a","---",{"$error":"#N/A"},"n/a","n/a","n/a","n/a","n/a",{"$f":"$BO$6 & \"°C\"","v":"64°C"},{"$f":"IF($AE$6=\"Percent Recovery\",IF(ISBLANK(INDEX(BO45:BQ45,1,MATCH($BO$8,$BO$13:$BQ$13,0))),\"---\",INDEX(BO45:BQ45,1,MATCH($BO$8,$BO$13:$BQ$13,0))),\"n/a\")","v":"n/a"},"n/a","55 min","75 min",{"$f":"$BU$2 & \"°C\"","v":"64°C"},{"$error":"#N/A"},"Report","Report","Report","75 min","90 min",{"$f":"$BY$2 & \"°C\"","v":"58°C"},"85 min"]
["Pressure Aging Vessel (PAV) Residue, 100°C, 2.1 MPa, 20 hr (ASTM D6521)",null,null,null,null,null,null,null,null,null,null,null,null,null,null,null,null,null,null,null,null,null,null,null,null,null,null,null,null,2,0,null,null,null,null,null,null,null,null,null,null,"PAV Residue"]
["Dynamic Shear G*sinδ (10 rad/sec), kPa",null,null,{"$f":"IF($AP$3=$AQ$11,AQ47,IF($AP$3=$AX$11,AX47,IF($AP$3=$BF$11,BF47,IF($AP$3=$BM$11,BM47,IF($AP$3=$BR$11,BR47,IF($AP$3=$BY$11,BY47,\"---\"))))))","v":"16°C"},"D7175","n/a",null,{"$f":"IF(ISBLANK('Binder Report'!G47),\"\",'Binder Report'!G47)","v":""},null,null,null,null,null,null,null,null,null,null,null,null,null,null,null,null,null,null,null,null,null,null,null,null,null,null,null,null,null,null,null,null,null,"G*sinδ","---",{"$f":"IF(ISBLANK(INDEX(AS47:AW47,1,MATCH($AR$12,$AS$13:$AW$13,0))),\"---\",INDEX(AS47:AW47,1,MATCH($AR$12,$AS$13:$AW$13,0)))","v":{"$error":"#N/A"}},"n/a","n/a","n/a","n/a","n/a","---",{"$f":"IF(ISBLANK(INDEX(AZ47:BE47,1,MATCH($AY$12,$AZ$13:$BE$13,0))),\"---\",INDEX(AZ47:BE47,1,MATCH($AY$12,$AZ$13:$BE$13,0)))","v":{"$error":"#N/A"}},"n/a","n/a","n/a","n/a","n/a","n/a","---",{"$f":"IF(ISBLANK(INDEX(BH46:BX46,1,MATCH($AY$12,$AZ$13:$BE$13,0))),\"---\",INDEX(BH46:BX46,1,MATCH($AY$12,$AZ$13:$BE$13,0)))","v":{"$error":"#N/A"}},"n/a","n/a","n/a","n/a","n/a",{"$f":"$BO$4 & \"°C\"","v":"25°C"},{"$f":"IF(ISBLANK(INDEX(BO47:BQ47,1,MATCH($BO$8,$BO$13:$BQ$13,0))),\"---\",INDEX(BO47:BQ47,1,MATCH($BO$8,$BO$13:$BQ$13,0)))","v":"6000 max"},"6000 max","6000 max","6000 max",{"$f":"IF($BU$6=\"HP\",$BU$8,$BU$3) & \"°C\"","v":"47°C"},{"$f":"IF(ISBLANK(INDEX(BT47:BX47,1,MATCH($BU$5,$BT$13:$BX$13,0))),\"---\",INDEX(BT47:BX47,1,MATCH($BU$5,$BT$13:$BX$13,0)))","v":{"$error":"#N/A"}},"6000 max","6000 max","6000 max","6000 max","6000 max",{"$f":"IF($BY$6=\"HP\",$BY$8,$BY$3) & \"°C\"","v":"16°C"},"n/a"]
["Phase Angle, °",null,null,null,null,"n/a",null,{"$f":"IF(ISBLANK('Binder Report'!G48),\"\",'Binder Report'!G48)","v":""},null,null,null,null,null,null,null,null,null,null,null,null,null,null,null,null,null,null,null,null,null,null,null,null,null,null,null,null,null,null,null,null,null,"δ","---",{"$f":"IF(ISBLANK(INDEX(AS48:AW48,1,MATCH($AR$12,$AS$13:$AW$13,0))),\"---\",INDEX(AS48:AW48,1,MATCH($AR$12,$AS$13:$AW$13,0)))","v":{"$error":"#N/A"}},"n/a","n/a","n/a","n/a","n/a","---",{"$f":"IF(ISBLANK(INDEX(AZ48:BE48,1,MATCH($AY$12,$AZ$13:$BE$13,0))),\"---\",INDEX(AZ48:BE48,1,MATCH($AY$12,$AZ$13:$BE$13,0)))","v":{"$error":"#N/A"}},"n/a","n/a","n/a","n/a","n/a","n/a","---",{"$f":"IF(ISBLANK(INDEX(BH47:BX47,1,MATCH($AY$12,$AZ$13:$BE$13,0))),\"---\",INDEX(BH47:BX47,1,MATCH($AY$12,$AZ$13:$BE$13,0)))","v":{"$error":"#N/A"}},"n/a","n/a","n/a","n/a","n/a",{"$f":"$BO$4 & \"°C\"","v":"25°C"},{"$f":"IF(ISBLANK(INDEX(BO48:BQ48,1,MATCH($BO$8,$BO$13:$BQ$13,0))),\"---\",INDEX(BO48:BQ48,1,MATCH($BO$8,$BO$13:$BQ$13,0)))","v":"42 min"},"42 min","42 min","42 min",{"$f":"IF($BU$6=\"HP\",$BU$8,$BU$3) & \"°C\"","v":"47°C"},{"$f":"IF(ISBLANK(INDEX(BT48:BX48,1,MATCH($BU$5,$BT$13:$BX$13,0))),\"---\",INDEX(BT48:BX48,1,MATCH($BU$5,$BT$13:$BX$13,0)))","v":{"$error":"#N/A"}},"42 min","42 min","42 min","Report","Report",{"$f":"IF($BY$6=\"HP\",$BY$8,$BY$3) & \"°C\"","v":"16°C"},"n/a"]
["Creep Stiffness, 60 sec, MPa ",null,null,{"$f":"IF($AP$3=$AQ$11,AQ49,IF($AP$3=$AX$11,AX49,IF($AP$3=$BF$11,BF49,IF($AP$3=$BM$11,BM49,IF($AP$3=$BR$11,BR49,IF($AP$3=$BY$11,BY49,\"---\"))))))","v":"-24°C"},"D6648","300 max",null,{"$f":"IF(ISBLANK('Binder Report'!G49),\"\",'Binder Report'!G49)","v":""},null,null,null,null,null,null,null,null,null,null,null,null,null,null,null,null,null,null,null,null,null,null,null,null,null,null,null,null,null,null,null,null,null,"S","---",{"$f":"IF(ISBLANK(INDEX(AS49:AW49,1,MATCH($AR$12,$AS$13:$AW$13,0))),\"---\",INDEX(AS49:AW49,1,MATCH($AR$12,$AS$13:$AW$13,0)))","v":{"$error":"#N/A"}},"n/a","n/a","n/a","n/a","n/a","---",{"$f":"IF(ISBLANK(INDEX(AZ49:BE49,1,MATCH($AY$12,$AZ$13:$BE$13,0))),\"---\",INDEX(AZ49:BE49,1,MATCH($AY$12,$AZ$13:$BE$13,0)))","v":{"$error":"#N/A"}},"n/a","n/a","n/a","n/a","n/a","n/a","---",{"$f":"IF(ISBLANK(INDEX(BH48:BX48,1,MATCH($AY$12,$AZ$13:$BE$13,0))),\"---\",INDEX(BH48:BX48,1,MATCH($AY$12,$AZ$13:$BE$13,0)))","v":{"$error":"#N/A"}},"n/a","n/a","n/a","n/a","n/a",{"$f":"$BO$5+10 & \"°C\"","v":"-12°C"},{"$f":"IF(ISBLANK(INDEX(BO49:BQ49,1,MATCH($BO$8,$BO$13:$BQ$13,0))),\"---\",INDEX(BO49:BQ49,1,MATCH($BO$8,$BO$13:$BQ$13,0)))","v":"300 max"},"300 max","300 max","300 max",{"$f":"$BU$4+10 & \"°C\"","v":"32°C"},{"$f":"IF(ISBLANK(INDEX(BT49:BX49,1,MATCH($BU$5,$BT$13:$BX$13,0))),\"---\",INDEX(BT49:BX49,1,MATCH($BU$5,$BT$13:$BX$13,0)))","v":{"$error":"#N/A"}},"300 max","300 max","300 max","300 max","300 max",{"$f":"$BY$4+10 & \"°C\"","v":"-24°C"},"300 max"]
["Creep m-value, 60 sec",null,null,null,null,"0.300 min",null,{"$f":"IF(ISBLANK('Binder Report'!G50),\"\",'Binder Report'!G50)","v":""},null,null,null,null,null,null,null,null,null,null,null,null,null,null,null,null,null,null,null,null,null,null,null,null,null,null,null,null,null,null,null,null,null,"m","---",{"$f":"IF(ISBLANK(INDEX(AS50:AW50,1,MATCH($AR$12,$AS$13:$AW$13,0))),\"---\",INDEX(AS50:AW50,1,MATCH($AR$12,$AS$13:$AW$13,0)))","v":{"$error":"#N/A"}},"n/a","n/a","n/a","n/a","n/a","---",{"$f":"IF(ISBLANK(INDEX(AZ50:BE50,1,MATCH($AY$12,$AZ$13:$BE$13,0))),\"---\",INDEX(AZ50:BE50,1,MATCH($AY$12,$AZ$13:$BE$13,0)))","v":{"$error":"#N/A"}},"n/a","n/a","n/a","n/a","n/a","n/a","---",{"$f":"IF(ISBLANK(INDEX(BH49:BX49,1,MATCH($AY$12,$AZ$13:$BE$13,0))),\"---\",INDEX(BH49:BX49,1,MATCH($AY$12,$AZ$13:$BE$13,0)))","v":{"$error":"#N/A"}},"n/a","n/a","n/a","n/a","n/a",{"$f":"$BO$5+10 & \"°C\"","v":"-12°C"},{"$f":"IF(ISBLANK(INDEX(BO50:BQ50,1,MATCH($BO$8,$BO$13:$BQ$13,0))),\"---\",INDEX(BO50:BQ50,1,MATCH($BO$8,$BO$13:$BQ$13,0)))","v":"0.300 min"},"0.300 min","0.300 min","0.300 min",{"$f":"$BU$4+10 & \"°C\"","v":"32°C"},{"$f":"IF(ISBLANK(INDEX(BT50:BX50,1,MATCH($BU$5,$BT$13:$BX$13,0))),\"---\",INDEX(BT50:BX50,1,MATCH($BU$5,$BT$13:$BX$13,0)))","v":{"$error":"#N/A"}},"0.300 min","0.300 min","0.300 min","0.300 min","0.300 min",{"$f":"$BY$4+10 & \"°C\"","v":"-24°C"},"0.300 min"]
[]
["Comments:"]
[]
[]
["Aaron Brannan",null,null,null,"Ben C. Cox, PhD, PE"]
["ASPHALT BINDER TECHNICIAN",null,null,null,"SENIOR RESEARCH ENGINEER"]